BEGIN:VCALENDAR
VERSION:2.0
PRODID:-//AFLabs urnik izvoz - fmf//aflabs.si//SI
DTSTAMP:20260421T212943Z
NAME:UL FMF urnik
REFRESH-INTERVAL:PT1H
SOURCE:https://urnik.fmf.uni-lj.si/teacher/24?day=2024-06-10&export=1
URL:https://urnik.fmf.uni-lj.si/teacher/24?day=2024-06-10&export=1
X-PUBLISHED-TTL:PT1H
X-WR-CALNAME:UL FMF urnik
X-WR-TIMEZONE:Europe/Ljubljana
BEGIN:VTIMEZONE
TZID:Europe/Ljubljana
BEGIN:DAYLIGHT
DTSTART:20260329T020000
RDATE:20260329T020000
RDATE:20270328T020000
TZNAME:CEST
TZOFFSETFROM:+0100
TZOFFSETTO:+0200
END:DAYLIGHT
BEGIN:STANDARD
DTSTART:20261025T030000
RDATE:20261025T030000
RDATE:20271031T030000
TZNAME:CET
TZOFFSETFROM:+0200
TZOFFSETTO:+0100
END:STANDARD
END:VTIMEZONE
BEGIN:VEVENT
SUMMARY:REZ FM ()\, Vaje (V)
DTSTART;TZID=Europe/Ljubljana:20240506T100000
DTEND;TZID=Europe/Ljubljana:20240506T120000
DTSTAMP:20260421T212943Z
UID:fmf-AFLABS-URNIK:premaknjeno-srecanje:135842
CATEGORIES:Entry,Standard
COLOR:darkgreen
DESCRIPTION:Predmet: REZ FM ()\, Vaje (V)\nLetniki: \nIzvajalci: Darja Gov
 ekar-Leban\nProstor: 1.01
LOCATION:1.01
ORGANIZER:Darja Govekar-Leban
RELATED-TO:fmf-AFLABS-URNIK:srecanje:10662
X-WR-TIMEZONE:Europe/Ljubljana
END:VEVENT
BEGIN:VEVENT
SUMMARY:REZ FM ()\, Vaje (V)
DTSTART;TZID=Europe/Ljubljana:20240513T100000
DTEND;TZID=Europe/Ljubljana:20240513T120000
DTSTAMP:20260421T212943Z
UID:fmf-AFLABS-URNIK:premaknjeno-srecanje:135843
CATEGORIES:Entry,Standard
COLOR:darkgreen
DESCRIPTION:Predmet: REZ FM ()\, Vaje (V)\nLetniki: \nIzvajalci: Darja Gov
 ekar-Leban\nProstor: 1.01
LOCATION:1.01
ORGANIZER:Darja Govekar-Leban
RELATED-TO:fmf-AFLABS-URNIK:srecanje:10662
X-WR-TIMEZONE:Europe/Ljubljana
END:VEVENT
BEGIN:VEVENT
SUMMARY:REZ FM ()\, Vaje (V)
DTSTART;TZID=Europe/Ljubljana:20240520T100000
DTEND;TZID=Europe/Ljubljana:20240520T120000
DTSTAMP:20260421T212943Z
UID:fmf-AFLABS-URNIK:premaknjeno-srecanje:135844
CATEGORIES:Entry,Standard
COLOR:darkgreen
DESCRIPTION:Predmet: REZ FM ()\, Vaje (V)\nLetniki: \nIzvajalci: Darja Gov
 ekar-Leban\nProstor: 1.01
LOCATION:1.01
ORGANIZER:Darja Govekar-Leban
RELATED-TO:fmf-AFLABS-URNIK:srecanje:10662
X-WR-TIMEZONE:Europe/Ljubljana
END:VEVENT
BEGIN:VEVENT
SUMMARY:REZ FM ()\, Vaje (V)
DTSTART;TZID=Europe/Ljubljana:20240527T100000
DTEND;TZID=Europe/Ljubljana:20240527T120000
DTSTAMP:20260421T212943Z
UID:fmf-AFLABS-URNIK:premaknjeno-srecanje:135845
CATEGORIES:Entry,Standard
COLOR:darkgreen
DESCRIPTION:Predmet: REZ FM ()\, Vaje (V)\nLetniki: \nIzvajalci: Darja Gov
 ekar-Leban\nProstor: 1.01
LOCATION:1.01
ORGANIZER:Darja Govekar-Leban
RELATED-TO:fmf-AFLABS-URNIK:srecanje:10662
X-WR-TIMEZONE:Europe/Ljubljana
END:VEVENT
BEGIN:VEVENT
SUMMARY:REZ FM ()\, Vaje (V)
DTSTART;TZID=Europe/Ljubljana:20240507T080000
DTEND;TZID=Europe/Ljubljana:20240507T100000
DTSTAMP:20260421T212943Z
UID:fmf-AFLABS-URNIK:premaknjeno-srecanje:136755
CATEGORIES:Entry,Standard
COLOR:darkgreen
DESCRIPTION:Predmet: REZ FM ()\, Vaje (V)\nLetniki: \nIzvajalci: Darja Gov
 ekar-Leban\nProstor: P.02
LOCATION:P.02
ORGANIZER:Darja Govekar-Leban
RELATED-TO:fmf-AFLABS-URNIK:srecanje:10764
X-WR-TIMEZONE:Europe/Ljubljana
END:VEVENT
BEGIN:VEVENT
SUMMARY:REZ FM ()\, Vaje (V)
DTSTART;TZID=Europe/Ljubljana:20240514T080000
DTEND;TZID=Europe/Ljubljana:20240514T100000
DTSTAMP:20260421T212943Z
UID:fmf-AFLABS-URNIK:premaknjeno-srecanje:136756
CATEGORIES:Entry,Standard
COLOR:darkgreen
DESCRIPTION:Predmet: REZ FM ()\, Vaje (V)\nLetniki: \nIzvajalci: Darja Gov
 ekar-Leban\nProstor: P.02
LOCATION:P.02
ORGANIZER:Darja Govekar-Leban
RELATED-TO:fmf-AFLABS-URNIK:srecanje:10764
X-WR-TIMEZONE:Europe/Ljubljana
END:VEVENT
BEGIN:VEVENT
SUMMARY:REZ FM ()\, Vaje (V)
DTSTART;TZID=Europe/Ljubljana:20240521T080000
DTEND;TZID=Europe/Ljubljana:20240521T100000
DTSTAMP:20260421T212943Z
UID:fmf-AFLABS-URNIK:premaknjeno-srecanje:136757
CATEGORIES:Entry,Standard
COLOR:darkgreen
DESCRIPTION:Predmet: REZ FM ()\, Vaje (V)\nLetniki: \nIzvajalci: Darja Gov
 ekar-Leban\nProstor: P.02
LOCATION:P.02
ORGANIZER:Darja Govekar-Leban
RELATED-TO:fmf-AFLABS-URNIK:srecanje:10764
X-WR-TIMEZONE:Europe/Ljubljana
END:VEVENT
BEGIN:VEVENT
SUMMARY:REZ FM ()\, Vaje (V)
DTSTART;TZID=Europe/Ljubljana:20240528T080000
DTEND;TZID=Europe/Ljubljana:20240528T100000
DTSTAMP:20260421T212943Z
UID:fmf-AFLABS-URNIK:premaknjeno-srecanje:136758
CATEGORIES:Entry,Standard
COLOR:darkgreen
DESCRIPTION:Predmet: REZ FM ()\, Vaje (V)\nLetniki: \nIzvajalci: Darja Gov
 ekar-Leban\nProstor: P.02
LOCATION:P.02
ORGANIZER:Darja Govekar-Leban
RELATED-TO:fmf-AFLABS-URNIK:srecanje:10764
X-WR-TIMEZONE:Europe/Ljubljana
END:VEVENT
BEGIN:VEVENT
SUMMARY:Diferencialne enačbe (APF-2\, APM-2)\, Vaje (V)
DTSTART;TZID=Europe/Ljubljana:20240508T140000
DTEND;TZID=Europe/Ljubljana:20240508T160000
DTSTAMP:20260421T212943Z
UID:fmf-AFLABS-URNIK:premaknjeno-srecanje:133435
ATTENDEE:2. letnik (APM)
ATTENDEE:2. letnik (Aplikativna fizika)
CATEGORIES:Entry,Standard
COLOR:darkgreen
DESCRIPTION:Predmet: Diferencialne enačbe (APF-2\, APM-2)\, Vaje (V)\nLet
 niki: 2. letnik (Aplikativna fizika)\, 2. letnik (APM)\nIzvajalci: Darja G
 ovekar-Leban\nProstor: 2.05
LOCATION:2.05
ORGANIZER:Darja Govekar-Leban
RELATED-TO:fmf-AFLABS-URNIK:srecanje:10821
X-WR-TIMEZONE:Europe/Ljubljana
END:VEVENT
BEGIN:VEVENT
SUMMARY:Diferencialne enačbe (APF-2\, APM-2)\, Vaje (V)
DTSTART;TZID=Europe/Ljubljana:20240515T140000
DTEND;TZID=Europe/Ljubljana:20240515T160000
DTSTAMP:20260421T212943Z
UID:fmf-AFLABS-URNIK:premaknjeno-srecanje:133436
ATTENDEE:2. letnik (APM)
ATTENDEE:2. letnik (Aplikativna fizika)
CATEGORIES:Entry,Standard
COLOR:darkgreen
DESCRIPTION:Predmet: Diferencialne enačbe (APF-2\, APM-2)\, Vaje (V)\nLet
 niki: 2. letnik (Aplikativna fizika)\, 2. letnik (APM)\nIzvajalci: Darja G
 ovekar-Leban\nProstor: 2.05
LOCATION:2.05
ORGANIZER:Darja Govekar-Leban
RELATED-TO:fmf-AFLABS-URNIK:srecanje:10821
X-WR-TIMEZONE:Europe/Ljubljana
END:VEVENT
BEGIN:VEVENT
SUMMARY:Diferencialne enačbe (APF-2\, APM-2)\, Vaje (V)
DTSTART;TZID=Europe/Ljubljana:20240522T140000
DTEND;TZID=Europe/Ljubljana:20240522T160000
DTSTAMP:20260421T212943Z
UID:fmf-AFLABS-URNIK:premaknjeno-srecanje:133437
ATTENDEE:2. letnik (APM)
ATTENDEE:2. letnik (Aplikativna fizika)
CATEGORIES:Entry,Standard
COLOR:darkgreen
DESCRIPTION:Predmet: Diferencialne enačbe (APF-2\, APM-2)\, Vaje (V)\nLet
 niki: 2. letnik (Aplikativna fizika)\, 2. letnik (APM)\nIzvajalci: Darja G
 ovekar-Leban\nProstor: 2.05
LOCATION:2.05
ORGANIZER:Darja Govekar-Leban
RELATED-TO:fmf-AFLABS-URNIK:srecanje:10821
X-WR-TIMEZONE:Europe/Ljubljana
END:VEVENT
BEGIN:VEVENT
SUMMARY:Diferencialne enačbe (APF-2\, APM-2)\, Vaje (V)
DTSTART;TZID=Europe/Ljubljana:20240529T140000
DTEND;TZID=Europe/Ljubljana:20240529T160000
DTSTAMP:20260421T212943Z
UID:fmf-AFLABS-URNIK:premaknjeno-srecanje:133438
ATTENDEE:2. letnik (APM)
ATTENDEE:2. letnik (Aplikativna fizika)
CATEGORIES:Entry,Standard
COLOR:darkgreen
DESCRIPTION:Predmet: Diferencialne enačbe (APF-2\, APM-2)\, Vaje (V)\nLet
 niki: 2. letnik (Aplikativna fizika)\, 2. letnik (APM)\nIzvajalci: Darja G
 ovekar-Leban\nProstor: 2.05
LOCATION:2.05
ORGANIZER:Darja Govekar-Leban
RELATED-TO:fmf-AFLABS-URNIK:srecanje:10821
X-WR-TIMEZONE:Europe/Ljubljana
END:VEVENT
BEGIN:VEVENT
SUMMARY:1 izpit
DTSTART;TZID=Europe/Ljubljana:20240506T080000
DTEND;TZID=Europe/Ljubljana:20240506T100000
DTSTAMP:20260421T212943Z
UID:fmf-AFLABS-URNIK:rezervacija:16315
ATTENDEE:3. letnik (APM)
CATEGORIES:Reservation
COLOR:royalblue
DESCRIPTION:Predmeti: Parcialne diferencialne enačbe (APM-3)\nLetniki: 3.
  letnik (APM)\nIzvajalci: Darja Govekar-Leban\nProstori: 3.07
LOCATION:3.07
ORGANIZER:Darja Govekar-Leban
X-WR-TIMEZONE:Europe/Ljubljana
END:VEVENT
BEGIN:VEVENT
SUMMARY:1. izpit DE
DTSTART;TZID=Europe/Ljubljana:20240617T100000
DTEND;TZID=Europe/Ljubljana:20240617T120000
DTSTAMP:20260421T212943Z
UID:fmf-AFLABS-URNIK:rezervacija:16532
ATTENDEE:2. letnik (APM)
ATTENDEE:2. letnik (Aplikativna fizika)
CATEGORIES:Reservation
COLOR:royalblue
DESCRIPTION:Predmeti: Diferencialne enačbe (APF-2\, APM-2)\nLetniki: 2. l
 etnik (Aplikativna fizika)\, 2. letnik (APM)\nIzvajalci: Darja Govekar-Leb
 an\nProstori: 2.02
LOCATION:2.02
ORGANIZER:Darja Govekar-Leban
X-WR-TIMEZONE:Europe/Ljubljana
END:VEVENT
BEGIN:VEVENT
SUMMARY:2. izpit PDE(PRA)
DTSTART;TZID=Europe/Ljubljana:20240621T080000
DTEND;TZID=Europe/Ljubljana:20240621T100000
DTSTAMP:20260421T212943Z
UID:fmf-AFLABS-URNIK:rezervacija:16571
ATTENDEE:3. letnik (APM)
CATEGORIES:Reservation
COLOR:royalblue
DESCRIPTION:Predmeti: Parcialne diferencialne enačbe (APM-3)\nLetniki: 3.
  letnik (APM)\nIzvajalci: Darja Govekar-Leban\nProstori: 2.02
LOCATION:2.02
ORGANIZER:Darja Govekar-Leban
X-WR-TIMEZONE:Europe/Ljubljana
END:VEVENT
BEGIN:VEVENT
SUMMARY:2. kol Mat 2
DTSTART;TZID=Europe/Ljubljana:20240604T120000
DTEND;TZID=Europe/Ljubljana:20240604T140000
DTSTAMP:20260421T212943Z
UID:fmf-AFLABS-URNIK:rezervacija:16575
CATEGORIES:Reservation
COLOR:royalblue
DESCRIPTION:Predmeti: MAT 2 (FKKT) ()\nLetniki: \nIzvajalci: Darja Govekar
 -Leban\nProstori: 2.05
LOCATION:2.05
ORGANIZER:Darja Govekar-Leban
X-WR-TIMEZONE:Europe/Ljubljana
END:VEVENT
BEGIN:VEVENT
SUMMARY:Izpit
DTSTART;TZID=Europe/Ljubljana:20240627T100000
DTEND;TZID=Europe/Ljubljana:20240627T120000
DTSTAMP:20260421T212943Z
UID:fmf-AFLABS-URNIK:rezervacija:17331
CATEGORIES:Reservation
COLOR:royalblue
DESCRIPTION:Predmeti: MAT 1 (FKKT) ()\nLetniki: \nIzvajalci: Darja Govekar
 -Leban\nProstori: 2.02
LOCATION:2.02
ORGANIZER:Darja Govekar-Leban
X-WR-TIMEZONE:Europe/Ljubljana
END:VEVENT
END:VCALENDAR
