BEGIN:VCALENDAR
VERSION:2.0
PRODID:-//AFLabs urnik izvoz - fmf//aflabs.si//SI
DTSTAMP:20260425T121837Z
NAME:UL FMF urnik
REFRESH-INTERVAL:PT1H
SOURCE:https://urnik.fmf.uni-lj.si/teacher/255?day=2020-04-06&export=1
URL:https://urnik.fmf.uni-lj.si/teacher/255?day=2020-04-06&export=1
X-PUBLISHED-TTL:PT1H
X-WR-CALNAME:UL FMF urnik
X-WR-TIMEZONE:Europe/Ljubljana
BEGIN:VTIMEZONE
TZID:Europe/Ljubljana
BEGIN:DAYLIGHT
DTSTART:20260329T020000
RDATE:20260329T020000
RDATE:20270328T020000
TZNAME:CEST
TZOFFSETFROM:+0100
TZOFFSETTO:+0200
END:DAYLIGHT
BEGIN:STANDARD
DTSTART:20261025T030000
RDATE:20261025T030000
RDATE:20271031T030000
TZNAME:CET
TZOFFSETFROM:+0200
TZOFFSETTO:+0100
END:STANDARD
END:VTIMEZONE
BEGIN:VEVENT
SUMMARY:Teorija osnovnih delcev in jedra (FIZ-M1\, FIZ-M2)\, Predavanja (P
 )
DTSTART;TZID=Europe/Ljubljana:20200218T100000
DTEND;TZID=Europe/Ljubljana:20200218T130000
DTSTAMP:20260425T121837Z
UID:fmf-AFLABS-URNIK:premaknjeno-srecanje:109911
ATTENDEE:1. letnik (Fizika, 2. stopnja)
ATTENDEE:2. letnik (Fizika, 2. stopnja)
CATEGORIES:Entry,Standard
COLOR:darkgreen
DESCRIPTION:Predmet: Teorija osnovnih delcev in jedra (FIZ-M1\, FIZ-M2)\, 
 Predavanja (P)\nLetniki: 1. letnik (Fizika\, 2. stopnja)\, 2. letnik (Fizi
 ka\, 2. stopnja)\nIzvajalci: Svjetlana Fajfer\nProstor: F3
LOCATION:F3
ORGANIZER:Svjetlana Fajfer
RELATED-TO:fmf-AFLABS-URNIK:srecanje:4476
X-WR-TIMEZONE:Europe/Ljubljana
END:VEVENT
BEGIN:VEVENT
SUMMARY:Teorija osnovnih delcev in jedra (FIZ-M1\, FIZ-M2)\, Predavanja (P
 )
DTSTART;TZID=Europe/Ljubljana:20200225T100000
DTEND;TZID=Europe/Ljubljana:20200225T130000
DTSTAMP:20260425T121837Z
UID:fmf-AFLABS-URNIK:premaknjeno-srecanje:109912
ATTENDEE:1. letnik (Fizika, 2. stopnja)
ATTENDEE:2. letnik (Fizika, 2. stopnja)
CATEGORIES:Entry,Standard
COLOR:darkgreen
DESCRIPTION:Predmet: Teorija osnovnih delcev in jedra (FIZ-M1\, FIZ-M2)\, 
 Predavanja (P)\nLetniki: 1. letnik (Fizika\, 2. stopnja)\, 2. letnik (Fizi
 ka\, 2. stopnja)\nIzvajalci: Svjetlana Fajfer\nProstor: F3
LOCATION:F3
ORGANIZER:Svjetlana Fajfer
RELATED-TO:fmf-AFLABS-URNIK:srecanje:4476
X-WR-TIMEZONE:Europe/Ljubljana
END:VEVENT
BEGIN:VEVENT
SUMMARY:Teorija osnovnih delcev in jedra (FIZ-M1\, FIZ-M2)\, Predavanja (P
 )
DTSTART;TZID=Europe/Ljubljana:20200303T100000
DTEND;TZID=Europe/Ljubljana:20200303T130000
DTSTAMP:20260425T121837Z
UID:fmf-AFLABS-URNIK:premaknjeno-srecanje:109913
ATTENDEE:1. letnik (Fizika, 2. stopnja)
ATTENDEE:2. letnik (Fizika, 2. stopnja)
CATEGORIES:Entry,Standard
COLOR:darkgreen
DESCRIPTION:Predmet: Teorija osnovnih delcev in jedra (FIZ-M1\, FIZ-M2)\, 
 Predavanja (P)\nLetniki: 1. letnik (Fizika\, 2. stopnja)\, 2. letnik (Fizi
 ka\, 2. stopnja)\nIzvajalci: Svjetlana Fajfer\nProstor: F3
LOCATION:F3
ORGANIZER:Svjetlana Fajfer
RELATED-TO:fmf-AFLABS-URNIK:srecanje:4476
X-WR-TIMEZONE:Europe/Ljubljana
END:VEVENT
BEGIN:VEVENT
SUMMARY:Teorija osnovnih delcev in jedra (FIZ-M1\, FIZ-M2)\, Predavanja (P
 )
DTSTART;TZID=Europe/Ljubljana:20200310T100000
DTEND;TZID=Europe/Ljubljana:20200310T130000
DTSTAMP:20260425T121837Z
UID:fmf-AFLABS-URNIK:premaknjeno-srecanje:109914
ATTENDEE:1. letnik (Fizika, 2. stopnja)
ATTENDEE:2. letnik (Fizika, 2. stopnja)
CATEGORIES:Entry,Standard
COLOR:darkgreen
DESCRIPTION:Predmet: Teorija osnovnih delcev in jedra (FIZ-M1\, FIZ-M2)\, 
 Predavanja (P)\nLetniki: 1. letnik (Fizika\, 2. stopnja)\, 2. letnik (Fizi
 ka\, 2. stopnja)\nIzvajalci: Svjetlana Fajfer\nProstor: F3
LOCATION:F3
ORGANIZER:Svjetlana Fajfer
RELATED-TO:fmf-AFLABS-URNIK:srecanje:4476
X-WR-TIMEZONE:Europe/Ljubljana
END:VEVENT
BEGIN:VEVENT
SUMMARY:Teorija osnovnih delcev in jedra (FIZ-M1\, FIZ-M2)\, Predavanja (P
 )
DTSTART;TZID=Europe/Ljubljana:20200317T100000
DTEND;TZID=Europe/Ljubljana:20200317T130000
DTSTAMP:20260425T121837Z
UID:fmf-AFLABS-URNIK:premaknjeno-srecanje:109915
ATTENDEE:1. letnik (Fizika, 2. stopnja)
ATTENDEE:2. letnik (Fizika, 2. stopnja)
CATEGORIES:Entry,Standard
COLOR:darkgreen
DESCRIPTION:Predmet: Teorija osnovnih delcev in jedra (FIZ-M1\, FIZ-M2)\, 
 Predavanja (P)\nLetniki: 1. letnik (Fizika\, 2. stopnja)\, 2. letnik (Fizi
 ka\, 2. stopnja)\nIzvajalci: Svjetlana Fajfer\nProstor: F3
LOCATION:F3
ORGANIZER:Svjetlana Fajfer
RELATED-TO:fmf-AFLABS-URNIK:srecanje:4476
X-WR-TIMEZONE:Europe/Ljubljana
END:VEVENT
BEGIN:VEVENT
SUMMARY:Teorija osnovnih delcev in jedra (FIZ-M1\, FIZ-M2)\, Predavanja (P
 )
DTSTART;TZID=Europe/Ljubljana:20200324T100000
DTEND;TZID=Europe/Ljubljana:20200324T130000
DTSTAMP:20260425T121837Z
UID:fmf-AFLABS-URNIK:premaknjeno-srecanje:109916
ATTENDEE:1. letnik (Fizika, 2. stopnja)
ATTENDEE:2. letnik (Fizika, 2. stopnja)
CATEGORIES:Entry,Standard
COLOR:darkgreen
DESCRIPTION:Predmet: Teorija osnovnih delcev in jedra (FIZ-M1\, FIZ-M2)\, 
 Predavanja (P)\nLetniki: 1. letnik (Fizika\, 2. stopnja)\, 2. letnik (Fizi
 ka\, 2. stopnja)\nIzvajalci: Svjetlana Fajfer\nProstor: F3
LOCATION:F3
ORGANIZER:Svjetlana Fajfer
RELATED-TO:fmf-AFLABS-URNIK:srecanje:4476
X-WR-TIMEZONE:Europe/Ljubljana
END:VEVENT
BEGIN:VEVENT
SUMMARY:Teorija osnovnih delcev in jedra (FIZ-M1\, FIZ-M2)\, Predavanja (P
 )
DTSTART;TZID=Europe/Ljubljana:20200331T100000
DTEND;TZID=Europe/Ljubljana:20200331T130000
DTSTAMP:20260425T121837Z
UID:fmf-AFLABS-URNIK:premaknjeno-srecanje:109917
ATTENDEE:1. letnik (Fizika, 2. stopnja)
ATTENDEE:2. letnik (Fizika, 2. stopnja)
CATEGORIES:Entry,Standard
COLOR:darkgreen
DESCRIPTION:Predmet: Teorija osnovnih delcev in jedra (FIZ-M1\, FIZ-M2)\, 
 Predavanja (P)\nLetniki: 1. letnik (Fizika\, 2. stopnja)\, 2. letnik (Fizi
 ka\, 2. stopnja)\nIzvajalci: Svjetlana Fajfer\nProstor: F3
LOCATION:F3
ORGANIZER:Svjetlana Fajfer
RELATED-TO:fmf-AFLABS-URNIK:srecanje:4476
X-WR-TIMEZONE:Europe/Ljubljana
END:VEVENT
BEGIN:VEVENT
SUMMARY:Teorija osnovnih delcev in jedra (FIZ-M1\, FIZ-M2)\, Predavanja (P
 )
DTSTART;TZID=Europe/Ljubljana:20200407T100000
DTEND;TZID=Europe/Ljubljana:20200407T130000
DTSTAMP:20260425T121837Z
UID:fmf-AFLABS-URNIK:premaknjeno-srecanje:109918
ATTENDEE:1. letnik (Fizika, 2. stopnja)
ATTENDEE:2. letnik (Fizika, 2. stopnja)
CATEGORIES:Entry,Standard
COLOR:darkgreen
DESCRIPTION:Predmet: Teorija osnovnih delcev in jedra (FIZ-M1\, FIZ-M2)\, 
 Predavanja (P)\nLetniki: 1. letnik (Fizika\, 2. stopnja)\, 2. letnik (Fizi
 ka\, 2. stopnja)\nIzvajalci: Svjetlana Fajfer\nProstor: F3
LOCATION:F3
ORGANIZER:Svjetlana Fajfer
RELATED-TO:fmf-AFLABS-URNIK:srecanje:4476
X-WR-TIMEZONE:Europe/Ljubljana
END:VEVENT
BEGIN:VEVENT
SUMMARY:Teorija osnovnih delcev in jedra (FIZ-M1\, FIZ-M2)\, Predavanja (P
 )
DTSTART;TZID=Europe/Ljubljana:20200414T100000
DTEND;TZID=Europe/Ljubljana:20200414T130000
DTSTAMP:20260425T121837Z
UID:fmf-AFLABS-URNIK:premaknjeno-srecanje:109919
ATTENDEE:1. letnik (Fizika, 2. stopnja)
ATTENDEE:2. letnik (Fizika, 2. stopnja)
CATEGORIES:Entry,Standard
COLOR:darkgreen
DESCRIPTION:Predmet: Teorija osnovnih delcev in jedra (FIZ-M1\, FIZ-M2)\, 
 Predavanja (P)\nLetniki: 1. letnik (Fizika\, 2. stopnja)\, 2. letnik (Fizi
 ka\, 2. stopnja)\nIzvajalci: Svjetlana Fajfer\nProstor: F3
LOCATION:F3
ORGANIZER:Svjetlana Fajfer
RELATED-TO:fmf-AFLABS-URNIK:srecanje:4476
X-WR-TIMEZONE:Europe/Ljubljana
END:VEVENT
BEGIN:VEVENT
SUMMARY:Teorija osnovnih delcev in jedra (FIZ-M1\, FIZ-M2)\, Predavanja (P
 )
DTSTART;TZID=Europe/Ljubljana:20200421T100000
DTEND;TZID=Europe/Ljubljana:20200421T130000
DTSTAMP:20260425T121837Z
UID:fmf-AFLABS-URNIK:premaknjeno-srecanje:109920
ATTENDEE:1. letnik (Fizika, 2. stopnja)
ATTENDEE:2. letnik (Fizika, 2. stopnja)
CATEGORIES:Entry,Standard
COLOR:darkgreen
DESCRIPTION:Predmet: Teorija osnovnih delcev in jedra (FIZ-M1\, FIZ-M2)\, 
 Predavanja (P)\nLetniki: 1. letnik (Fizika\, 2. stopnja)\, 2. letnik (Fizi
 ka\, 2. stopnja)\nIzvajalci: Svjetlana Fajfer\nProstor: F3
LOCATION:F3
ORGANIZER:Svjetlana Fajfer
RELATED-TO:fmf-AFLABS-URNIK:srecanje:4476
X-WR-TIMEZONE:Europe/Ljubljana
END:VEVENT
BEGIN:VEVENT
SUMMARY:Teorija osnovnih delcev in jedra (FIZ-M1\, FIZ-M2)\, Predavanja (P
 )
DTSTART;TZID=Europe/Ljubljana:20200428T100000
DTEND;TZID=Europe/Ljubljana:20200428T130000
DTSTAMP:20260425T121837Z
UID:fmf-AFLABS-URNIK:premaknjeno-srecanje:109921
ATTENDEE:1. letnik (Fizika, 2. stopnja)
ATTENDEE:2. letnik (Fizika, 2. stopnja)
CATEGORIES:Entry,Standard
COLOR:darkgreen
DESCRIPTION:Predmet: Teorija osnovnih delcev in jedra (FIZ-M1\, FIZ-M2)\, 
 Predavanja (P)\nLetniki: 1. letnik (Fizika\, 2. stopnja)\, 2. letnik (Fizi
 ka\, 2. stopnja)\nIzvajalci: Svjetlana Fajfer\nProstor: F3
LOCATION:F3
ORGANIZER:Svjetlana Fajfer
RELATED-TO:fmf-AFLABS-URNIK:srecanje:4476
X-WR-TIMEZONE:Europe/Ljubljana
END:VEVENT
BEGIN:VEVENT
SUMMARY:Teorija osnovnih delcev in jedra (FIZ-M1\, FIZ-M2)\, Predavanja (P
 )
DTSTART;TZID=Europe/Ljubljana:20200505T100000
DTEND;TZID=Europe/Ljubljana:20200505T130000
DTSTAMP:20260425T121837Z
UID:fmf-AFLABS-URNIK:premaknjeno-srecanje:109922
ATTENDEE:1. letnik (Fizika, 2. stopnja)
ATTENDEE:2. letnik (Fizika, 2. stopnja)
CATEGORIES:Entry,Standard
COLOR:darkgreen
DESCRIPTION:Predmet: Teorija osnovnih delcev in jedra (FIZ-M1\, FIZ-M2)\, 
 Predavanja (P)\nLetniki: 1. letnik (Fizika\, 2. stopnja)\, 2. letnik (Fizi
 ka\, 2. stopnja)\nIzvajalci: Svjetlana Fajfer\nProstor: F3
LOCATION:F3
ORGANIZER:Svjetlana Fajfer
RELATED-TO:fmf-AFLABS-URNIK:srecanje:4476
X-WR-TIMEZONE:Europe/Ljubljana
END:VEVENT
BEGIN:VEVENT
SUMMARY:Teorija osnovnih delcev in jedra (FIZ-M1\, FIZ-M2)\, Predavanja (P
 )
DTSTART;TZID=Europe/Ljubljana:20200512T100000
DTEND;TZID=Europe/Ljubljana:20200512T130000
DTSTAMP:20260425T121837Z
UID:fmf-AFLABS-URNIK:premaknjeno-srecanje:109923
ATTENDEE:1. letnik (Fizika, 2. stopnja)
ATTENDEE:2. letnik (Fizika, 2. stopnja)
CATEGORIES:Entry,Standard
COLOR:darkgreen
DESCRIPTION:Predmet: Teorija osnovnih delcev in jedra (FIZ-M1\, FIZ-M2)\, 
 Predavanja (P)\nLetniki: 1. letnik (Fizika\, 2. stopnja)\, 2. letnik (Fizi
 ka\, 2. stopnja)\nIzvajalci: Svjetlana Fajfer\nProstor: F3
LOCATION:F3
ORGANIZER:Svjetlana Fajfer
RELATED-TO:fmf-AFLABS-URNIK:srecanje:4476
X-WR-TIMEZONE:Europe/Ljubljana
END:VEVENT
BEGIN:VEVENT
SUMMARY:Teorija osnovnih delcev in jedra (FIZ-M1\, FIZ-M2)\, Predavanja (P
 )
DTSTART;TZID=Europe/Ljubljana:20200519T100000
DTEND;TZID=Europe/Ljubljana:20200519T130000
DTSTAMP:20260425T121837Z
UID:fmf-AFLABS-URNIK:premaknjeno-srecanje:109924
ATTENDEE:1. letnik (Fizika, 2. stopnja)
ATTENDEE:2. letnik (Fizika, 2. stopnja)
CATEGORIES:Entry,Standard
COLOR:darkgreen
DESCRIPTION:Predmet: Teorija osnovnih delcev in jedra (FIZ-M1\, FIZ-M2)\, 
 Predavanja (P)\nLetniki: 1. letnik (Fizika\, 2. stopnja)\, 2. letnik (Fizi
 ka\, 2. stopnja)\nIzvajalci: Svjetlana Fajfer\nProstor: F3
LOCATION:F3
ORGANIZER:Svjetlana Fajfer
RELATED-TO:fmf-AFLABS-URNIK:srecanje:4476
X-WR-TIMEZONE:Europe/Ljubljana
END:VEVENT
BEGIN:VEVENT
SUMMARY:Teorija osnovnih delcev in jedra (FIZ-M1\, FIZ-M2)\, Predavanja (P
 )
DTSTART;TZID=Europe/Ljubljana:20200526T100000
DTEND;TZID=Europe/Ljubljana:20200526T130000
DTSTAMP:20260425T121837Z
UID:fmf-AFLABS-URNIK:premaknjeno-srecanje:109925
ATTENDEE:1. letnik (Fizika, 2. stopnja)
ATTENDEE:2. letnik (Fizika, 2. stopnja)
CATEGORIES:Entry,Standard
COLOR:darkgreen
DESCRIPTION:Predmet: Teorija osnovnih delcev in jedra (FIZ-M1\, FIZ-M2)\, 
 Predavanja (P)\nLetniki: 1. letnik (Fizika\, 2. stopnja)\, 2. letnik (Fizi
 ka\, 2. stopnja)\nIzvajalci: Svjetlana Fajfer\nProstor: F3
LOCATION:F3
ORGANIZER:Svjetlana Fajfer
RELATED-TO:fmf-AFLABS-URNIK:srecanje:4476
X-WR-TIMEZONE:Europe/Ljubljana
END:VEVENT
BEGIN:VEVENT
SUMMARY:Teorija osnovnih delcev in jedra (FIZ-M1\, FIZ-M2)\, Vaje (V)
DTSTART;TZID=Europe/Ljubljana:20200218T130000
DTEND;TZID=Europe/Ljubljana:20200218T140000
DTSTAMP:20260425T121837Z
UID:fmf-AFLABS-URNIK:premaknjeno-srecanje:110019
ATTENDEE:1. letnik (Fizika, 2. stopnja)
ATTENDEE:2. letnik (Fizika, 2. stopnja)
CATEGORIES:Entry,Standard
COLOR:darkgreen
DESCRIPTION:Predmet: Teorija osnovnih delcev in jedra (FIZ-M1\, FIZ-M2)\, 
 Vaje (V)\nLetniki: 1. letnik (Fizika\, 2. stopnja)\, 2. letnik (Fizika\, 2
 . stopnja)\nIzvajalci: Svjetlana Fajfer\nProstor: F3
LOCATION:F3
ORGANIZER:Svjetlana Fajfer
RELATED-TO:fmf-AFLABS-URNIK:srecanje:4477
X-WR-TIMEZONE:Europe/Ljubljana
END:VEVENT
BEGIN:VEVENT
SUMMARY:Teorija osnovnih delcev in jedra (FIZ-M1\, FIZ-M2)\, Vaje (V)
DTSTART;TZID=Europe/Ljubljana:20200225T130000
DTEND;TZID=Europe/Ljubljana:20200225T140000
DTSTAMP:20260425T121837Z
UID:fmf-AFLABS-URNIK:premaknjeno-srecanje:110020
ATTENDEE:1. letnik (Fizika, 2. stopnja)
ATTENDEE:2. letnik (Fizika, 2. stopnja)
CATEGORIES:Entry,Standard
COLOR:darkgreen
DESCRIPTION:Predmet: Teorija osnovnih delcev in jedra (FIZ-M1\, FIZ-M2)\, 
 Vaje (V)\nLetniki: 1. letnik (Fizika\, 2. stopnja)\, 2. letnik (Fizika\, 2
 . stopnja)\nIzvajalci: Svjetlana Fajfer\nProstor: F3
LOCATION:F3
ORGANIZER:Svjetlana Fajfer
RELATED-TO:fmf-AFLABS-URNIK:srecanje:4477
X-WR-TIMEZONE:Europe/Ljubljana
END:VEVENT
BEGIN:VEVENT
SUMMARY:Teorija osnovnih delcev in jedra (FIZ-M1\, FIZ-M2)\, Vaje (V)
DTSTART;TZID=Europe/Ljubljana:20200303T130000
DTEND;TZID=Europe/Ljubljana:20200303T140000
DTSTAMP:20260425T121837Z
UID:fmf-AFLABS-URNIK:premaknjeno-srecanje:110021
ATTENDEE:1. letnik (Fizika, 2. stopnja)
ATTENDEE:2. letnik (Fizika, 2. stopnja)
CATEGORIES:Entry,Standard
COLOR:darkgreen
DESCRIPTION:Predmet: Teorija osnovnih delcev in jedra (FIZ-M1\, FIZ-M2)\, 
 Vaje (V)\nLetniki: 1. letnik (Fizika\, 2. stopnja)\, 2. letnik (Fizika\, 2
 . stopnja)\nIzvajalci: Svjetlana Fajfer\nProstor: F3
LOCATION:F3
ORGANIZER:Svjetlana Fajfer
RELATED-TO:fmf-AFLABS-URNIK:srecanje:4477
X-WR-TIMEZONE:Europe/Ljubljana
END:VEVENT
BEGIN:VEVENT
SUMMARY:Teorija osnovnih delcev in jedra (FIZ-M1\, FIZ-M2)\, Vaje (V)
DTSTART;TZID=Europe/Ljubljana:20200310T130000
DTEND;TZID=Europe/Ljubljana:20200310T140000
DTSTAMP:20260425T121837Z
UID:fmf-AFLABS-URNIK:premaknjeno-srecanje:110022
ATTENDEE:1. letnik (Fizika, 2. stopnja)
ATTENDEE:2. letnik (Fizika, 2. stopnja)
CATEGORIES:Entry,Standard
COLOR:darkgreen
DESCRIPTION:Predmet: Teorija osnovnih delcev in jedra (FIZ-M1\, FIZ-M2)\, 
 Vaje (V)\nLetniki: 1. letnik (Fizika\, 2. stopnja)\, 2. letnik (Fizika\, 2
 . stopnja)\nIzvajalci: Svjetlana Fajfer\nProstor: F3
LOCATION:F3
ORGANIZER:Svjetlana Fajfer
RELATED-TO:fmf-AFLABS-URNIK:srecanje:4477
X-WR-TIMEZONE:Europe/Ljubljana
END:VEVENT
BEGIN:VEVENT
SUMMARY:Teorija osnovnih delcev in jedra (FIZ-M1\, FIZ-M2)\, Vaje (V)
DTSTART;TZID=Europe/Ljubljana:20200317T130000
DTEND;TZID=Europe/Ljubljana:20200317T140000
DTSTAMP:20260425T121837Z
UID:fmf-AFLABS-URNIK:premaknjeno-srecanje:110023
ATTENDEE:1. letnik (Fizika, 2. stopnja)
ATTENDEE:2. letnik (Fizika, 2. stopnja)
CATEGORIES:Entry,Standard
COLOR:darkgreen
DESCRIPTION:Predmet: Teorija osnovnih delcev in jedra (FIZ-M1\, FIZ-M2)\, 
 Vaje (V)\nLetniki: 1. letnik (Fizika\, 2. stopnja)\, 2. letnik (Fizika\, 2
 . stopnja)\nIzvajalci: Svjetlana Fajfer\nProstor: F3
LOCATION:F3
ORGANIZER:Svjetlana Fajfer
RELATED-TO:fmf-AFLABS-URNIK:srecanje:4477
X-WR-TIMEZONE:Europe/Ljubljana
END:VEVENT
BEGIN:VEVENT
SUMMARY:Teorija osnovnih delcev in jedra (FIZ-M1\, FIZ-M2)\, Vaje (V)
DTSTART;TZID=Europe/Ljubljana:20200324T130000
DTEND;TZID=Europe/Ljubljana:20200324T140000
DTSTAMP:20260425T121837Z
UID:fmf-AFLABS-URNIK:premaknjeno-srecanje:110024
ATTENDEE:1. letnik (Fizika, 2. stopnja)
ATTENDEE:2. letnik (Fizika, 2. stopnja)
CATEGORIES:Entry,Standard
COLOR:darkgreen
DESCRIPTION:Predmet: Teorija osnovnih delcev in jedra (FIZ-M1\, FIZ-M2)\, 
 Vaje (V)\nLetniki: 1. letnik (Fizika\, 2. stopnja)\, 2. letnik (Fizika\, 2
 . stopnja)\nIzvajalci: Svjetlana Fajfer\nProstor: F3
LOCATION:F3
ORGANIZER:Svjetlana Fajfer
RELATED-TO:fmf-AFLABS-URNIK:srecanje:4477
X-WR-TIMEZONE:Europe/Ljubljana
END:VEVENT
BEGIN:VEVENT
SUMMARY:Teorija osnovnih delcev in jedra (FIZ-M1\, FIZ-M2)\, Vaje (V)
DTSTART;TZID=Europe/Ljubljana:20200331T130000
DTEND;TZID=Europe/Ljubljana:20200331T140000
DTSTAMP:20260425T121837Z
UID:fmf-AFLABS-URNIK:premaknjeno-srecanje:110025
ATTENDEE:1. letnik (Fizika, 2. stopnja)
ATTENDEE:2. letnik (Fizika, 2. stopnja)
CATEGORIES:Entry,Standard
COLOR:darkgreen
DESCRIPTION:Predmet: Teorija osnovnih delcev in jedra (FIZ-M1\, FIZ-M2)\, 
 Vaje (V)\nLetniki: 1. letnik (Fizika\, 2. stopnja)\, 2. letnik (Fizika\, 2
 . stopnja)\nIzvajalci: Svjetlana Fajfer\nProstor: F3
LOCATION:F3
ORGANIZER:Svjetlana Fajfer
RELATED-TO:fmf-AFLABS-URNIK:srecanje:4477
X-WR-TIMEZONE:Europe/Ljubljana
END:VEVENT
BEGIN:VEVENT
SUMMARY:Teorija osnovnih delcev in jedra (FIZ-M1\, FIZ-M2)\, Vaje (V)
DTSTART;TZID=Europe/Ljubljana:20200407T130000
DTEND;TZID=Europe/Ljubljana:20200407T140000
DTSTAMP:20260425T121837Z
UID:fmf-AFLABS-URNIK:premaknjeno-srecanje:110026
ATTENDEE:1. letnik (Fizika, 2. stopnja)
ATTENDEE:2. letnik (Fizika, 2. stopnja)
CATEGORIES:Entry,Standard
COLOR:darkgreen
DESCRIPTION:Predmet: Teorija osnovnih delcev in jedra (FIZ-M1\, FIZ-M2)\, 
 Vaje (V)\nLetniki: 1. letnik (Fizika\, 2. stopnja)\, 2. letnik (Fizika\, 2
 . stopnja)\nIzvajalci: Svjetlana Fajfer\nProstor: F3
LOCATION:F3
ORGANIZER:Svjetlana Fajfer
RELATED-TO:fmf-AFLABS-URNIK:srecanje:4477
X-WR-TIMEZONE:Europe/Ljubljana
END:VEVENT
BEGIN:VEVENT
SUMMARY:Teorija osnovnih delcev in jedra (FIZ-M1\, FIZ-M2)\, Vaje (V)
DTSTART;TZID=Europe/Ljubljana:20200414T130000
DTEND;TZID=Europe/Ljubljana:20200414T140000
DTSTAMP:20260425T121837Z
UID:fmf-AFLABS-URNIK:premaknjeno-srecanje:110027
ATTENDEE:1. letnik (Fizika, 2. stopnja)
ATTENDEE:2. letnik (Fizika, 2. stopnja)
CATEGORIES:Entry,Standard
COLOR:darkgreen
DESCRIPTION:Predmet: Teorija osnovnih delcev in jedra (FIZ-M1\, FIZ-M2)\, 
 Vaje (V)\nLetniki: 1. letnik (Fizika\, 2. stopnja)\, 2. letnik (Fizika\, 2
 . stopnja)\nIzvajalci: Svjetlana Fajfer\nProstor: F3
LOCATION:F3
ORGANIZER:Svjetlana Fajfer
RELATED-TO:fmf-AFLABS-URNIK:srecanje:4477
X-WR-TIMEZONE:Europe/Ljubljana
END:VEVENT
BEGIN:VEVENT
SUMMARY:Teorija osnovnih delcev in jedra (FIZ-M1\, FIZ-M2)\, Vaje (V)
DTSTART;TZID=Europe/Ljubljana:20200421T130000
DTEND;TZID=Europe/Ljubljana:20200421T140000
DTSTAMP:20260425T121837Z
UID:fmf-AFLABS-URNIK:premaknjeno-srecanje:110028
ATTENDEE:1. letnik (Fizika, 2. stopnja)
ATTENDEE:2. letnik (Fizika, 2. stopnja)
CATEGORIES:Entry,Standard
COLOR:darkgreen
DESCRIPTION:Predmet: Teorija osnovnih delcev in jedra (FIZ-M1\, FIZ-M2)\, 
 Vaje (V)\nLetniki: 1. letnik (Fizika\, 2. stopnja)\, 2. letnik (Fizika\, 2
 . stopnja)\nIzvajalci: Svjetlana Fajfer\nProstor: F3
LOCATION:F3
ORGANIZER:Svjetlana Fajfer
RELATED-TO:fmf-AFLABS-URNIK:srecanje:4477
X-WR-TIMEZONE:Europe/Ljubljana
END:VEVENT
BEGIN:VEVENT
SUMMARY:Teorija osnovnih delcev in jedra (FIZ-M1\, FIZ-M2)\, Vaje (V)
DTSTART;TZID=Europe/Ljubljana:20200428T130000
DTEND;TZID=Europe/Ljubljana:20200428T140000
DTSTAMP:20260425T121837Z
UID:fmf-AFLABS-URNIK:premaknjeno-srecanje:110029
ATTENDEE:1. letnik (Fizika, 2. stopnja)
ATTENDEE:2. letnik (Fizika, 2. stopnja)
CATEGORIES:Entry,Standard
COLOR:darkgreen
DESCRIPTION:Predmet: Teorija osnovnih delcev in jedra (FIZ-M1\, FIZ-M2)\, 
 Vaje (V)\nLetniki: 1. letnik (Fizika\, 2. stopnja)\, 2. letnik (Fizika\, 2
 . stopnja)\nIzvajalci: Svjetlana Fajfer\nProstor: F3
LOCATION:F3
ORGANIZER:Svjetlana Fajfer
RELATED-TO:fmf-AFLABS-URNIK:srecanje:4477
X-WR-TIMEZONE:Europe/Ljubljana
END:VEVENT
BEGIN:VEVENT
SUMMARY:Teorija osnovnih delcev in jedra (FIZ-M1\, FIZ-M2)\, Vaje (V)
DTSTART;TZID=Europe/Ljubljana:20200505T130000
DTEND;TZID=Europe/Ljubljana:20200505T140000
DTSTAMP:20260425T121837Z
UID:fmf-AFLABS-URNIK:premaknjeno-srecanje:110030
ATTENDEE:1. letnik (Fizika, 2. stopnja)
ATTENDEE:2. letnik (Fizika, 2. stopnja)
CATEGORIES:Entry,Standard
COLOR:darkgreen
DESCRIPTION:Predmet: Teorija osnovnih delcev in jedra (FIZ-M1\, FIZ-M2)\, 
 Vaje (V)\nLetniki: 1. letnik (Fizika\, 2. stopnja)\, 2. letnik (Fizika\, 2
 . stopnja)\nIzvajalci: Svjetlana Fajfer\nProstor: F3
LOCATION:F3
ORGANIZER:Svjetlana Fajfer
RELATED-TO:fmf-AFLABS-URNIK:srecanje:4477
X-WR-TIMEZONE:Europe/Ljubljana
END:VEVENT
BEGIN:VEVENT
SUMMARY:Teorija osnovnih delcev in jedra (FIZ-M1\, FIZ-M2)\, Vaje (V)
DTSTART;TZID=Europe/Ljubljana:20200512T130000
DTEND;TZID=Europe/Ljubljana:20200512T140000
DTSTAMP:20260425T121837Z
UID:fmf-AFLABS-URNIK:premaknjeno-srecanje:110031
ATTENDEE:1. letnik (Fizika, 2. stopnja)
ATTENDEE:2. letnik (Fizika, 2. stopnja)
CATEGORIES:Entry,Standard
COLOR:darkgreen
DESCRIPTION:Predmet: Teorija osnovnih delcev in jedra (FIZ-M1\, FIZ-M2)\, 
 Vaje (V)\nLetniki: 1. letnik (Fizika\, 2. stopnja)\, 2. letnik (Fizika\, 2
 . stopnja)\nIzvajalci: Svjetlana Fajfer\nProstor: F3
LOCATION:F3
ORGANIZER:Svjetlana Fajfer
RELATED-TO:fmf-AFLABS-URNIK:srecanje:4477
X-WR-TIMEZONE:Europe/Ljubljana
END:VEVENT
BEGIN:VEVENT
SUMMARY:Teorija osnovnih delcev in jedra (FIZ-M1\, FIZ-M2)\, Vaje (V)
DTSTART;TZID=Europe/Ljubljana:20200519T130000
DTEND;TZID=Europe/Ljubljana:20200519T140000
DTSTAMP:20260425T121837Z
UID:fmf-AFLABS-URNIK:premaknjeno-srecanje:110032
ATTENDEE:1. letnik (Fizika, 2. stopnja)
ATTENDEE:2. letnik (Fizika, 2. stopnja)
CATEGORIES:Entry,Standard
COLOR:darkgreen
DESCRIPTION:Predmet: Teorija osnovnih delcev in jedra (FIZ-M1\, FIZ-M2)\, 
 Vaje (V)\nLetniki: 1. letnik (Fizika\, 2. stopnja)\, 2. letnik (Fizika\, 2
 . stopnja)\nIzvajalci: Svjetlana Fajfer\nProstor: F3
LOCATION:F3
ORGANIZER:Svjetlana Fajfer
RELATED-TO:fmf-AFLABS-URNIK:srecanje:4477
X-WR-TIMEZONE:Europe/Ljubljana
END:VEVENT
BEGIN:VEVENT
SUMMARY:Teorija osnovnih delcev in jedra (FIZ-M1\, FIZ-M2)\, Vaje (V)
DTSTART;TZID=Europe/Ljubljana:20200526T130000
DTEND;TZID=Europe/Ljubljana:20200526T140000
DTSTAMP:20260425T121837Z
UID:fmf-AFLABS-URNIK:premaknjeno-srecanje:110033
ATTENDEE:1. letnik (Fizika, 2. stopnja)
ATTENDEE:2. letnik (Fizika, 2. stopnja)
CATEGORIES:Entry,Standard
COLOR:darkgreen
DESCRIPTION:Predmet: Teorija osnovnih delcev in jedra (FIZ-M1\, FIZ-M2)\, 
 Vaje (V)\nLetniki: 1. letnik (Fizika\, 2. stopnja)\, 2. letnik (Fizika\, 2
 . stopnja)\nIzvajalci: Svjetlana Fajfer\nProstor: F3
LOCATION:F3
ORGANIZER:Svjetlana Fajfer
RELATED-TO:fmf-AFLABS-URNIK:srecanje:4477
X-WR-TIMEZONE:Europe/Ljubljana
END:VEVENT
END:VCALENDAR
