BEGIN:VCALENDAR
VERSION:2.0
PRODID:-//AFLabs urnik izvoz - fmf//aflabs.si//SI
DTSTAMP:20260423T033433Z
NAME:UL FMF urnik
REFRESH-INTERVAL:PT1H
SOURCE:https://urnik.fmf.uni-lj.si/teacher/255?day=2021-05-17&export=1
URL:https://urnik.fmf.uni-lj.si/teacher/255?day=2021-05-17&export=1
X-PUBLISHED-TTL:PT1H
X-WR-CALNAME:UL FMF urnik
X-WR-TIMEZONE:Europe/Ljubljana
BEGIN:VTIMEZONE
TZID:Europe/Ljubljana
BEGIN:DAYLIGHT
DTSTART:20260329T020000
RDATE:20260329T020000
RDATE:20270328T020000
TZNAME:CEST
TZOFFSETFROM:+0100
TZOFFSETTO:+0200
END:DAYLIGHT
BEGIN:STANDARD
DTSTART:20261025T030000
RDATE:20261025T030000
RDATE:20271031T030000
TZNAME:CET
TZOFFSETFROM:+0200
TZOFFSETTO:+0100
END:STANDARD
END:VTIMEZONE
BEGIN:VEVENT
SUMMARY:Teorija osnovnih delcev in jedra (FIZ-M1\, FIZ-M2)\, Predavanja (P
 )
DTSTART;TZID=Europe/Ljubljana:20210216T100000
DTEND;TZID=Europe/Ljubljana:20210216T130000
DTSTAMP:20260423T033433Z
UID:fmf-AFLABS-URNIK:premaknjeno-srecanje:109926
ATTENDEE:1. letnik (Fizika, 2. stopnja)
ATTENDEE:2. letnik (Fizika, 2. stopnja)
CATEGORIES:Entry,Standard
COLOR:darkgreen
DESCRIPTION:Predmet: Teorija osnovnih delcev in jedra (FIZ-M1\, FIZ-M2)\, 
 Predavanja (P)\nLetniki: 1. letnik (Fizika\, 2. stopnja)\, 2. letnik (Fizi
 ka\, 2. stopnja)\nIzvajalci: Svjetlana Fajfer\nProstor: F5
LOCATION:F5
ORGANIZER:Svjetlana Fajfer
RELATED-TO:fmf-AFLABS-URNIK:srecanje:5927
X-WR-TIMEZONE:Europe/Ljubljana
END:VEVENT
BEGIN:VEVENT
SUMMARY:Teorija osnovnih delcev in jedra (FIZ-M1\, FIZ-M2)\, Predavanja (P
 )
DTSTART;TZID=Europe/Ljubljana:20210223T100000
DTEND;TZID=Europe/Ljubljana:20210223T130000
DTSTAMP:20260423T033433Z
UID:fmf-AFLABS-URNIK:premaknjeno-srecanje:109927
ATTENDEE:1. letnik (Fizika, 2. stopnja)
ATTENDEE:2. letnik (Fizika, 2. stopnja)
CATEGORIES:Entry,Standard
COLOR:darkgreen
DESCRIPTION:Predmet: Teorija osnovnih delcev in jedra (FIZ-M1\, FIZ-M2)\, 
 Predavanja (P)\nLetniki: 1. letnik (Fizika\, 2. stopnja)\, 2. letnik (Fizi
 ka\, 2. stopnja)\nIzvajalci: Svjetlana Fajfer\nProstor: F5
LOCATION:F5
ORGANIZER:Svjetlana Fajfer
RELATED-TO:fmf-AFLABS-URNIK:srecanje:5927
X-WR-TIMEZONE:Europe/Ljubljana
END:VEVENT
BEGIN:VEVENT
SUMMARY:Teorija osnovnih delcev in jedra (FIZ-M1\, FIZ-M2)\, Predavanja (P
 )
DTSTART;TZID=Europe/Ljubljana:20210302T100000
DTEND;TZID=Europe/Ljubljana:20210302T130000
DTSTAMP:20260423T033433Z
UID:fmf-AFLABS-URNIK:premaknjeno-srecanje:109928
ATTENDEE:1. letnik (Fizika, 2. stopnja)
ATTENDEE:2. letnik (Fizika, 2. stopnja)
CATEGORIES:Entry,Standard
COLOR:darkgreen
DESCRIPTION:Predmet: Teorija osnovnih delcev in jedra (FIZ-M1\, FIZ-M2)\, 
 Predavanja (P)\nLetniki: 1. letnik (Fizika\, 2. stopnja)\, 2. letnik (Fizi
 ka\, 2. stopnja)\nIzvajalci: Svjetlana Fajfer\nProstor: F5
LOCATION:F5
ORGANIZER:Svjetlana Fajfer
RELATED-TO:fmf-AFLABS-URNIK:srecanje:5927
X-WR-TIMEZONE:Europe/Ljubljana
END:VEVENT
BEGIN:VEVENT
SUMMARY:Teorija osnovnih delcev in jedra (FIZ-M1\, FIZ-M2)\, Predavanja (P
 )
DTSTART;TZID=Europe/Ljubljana:20210309T100000
DTEND;TZID=Europe/Ljubljana:20210309T130000
DTSTAMP:20260423T033433Z
UID:fmf-AFLABS-URNIK:premaknjeno-srecanje:109929
ATTENDEE:1. letnik (Fizika, 2. stopnja)
ATTENDEE:2. letnik (Fizika, 2. stopnja)
CATEGORIES:Entry,Standard
COLOR:darkgreen
DESCRIPTION:Predmet: Teorija osnovnih delcev in jedra (FIZ-M1\, FIZ-M2)\, 
 Predavanja (P)\nLetniki: 1. letnik (Fizika\, 2. stopnja)\, 2. letnik (Fizi
 ka\, 2. stopnja)\nIzvajalci: Svjetlana Fajfer\nProstor: F5
LOCATION:F5
ORGANIZER:Svjetlana Fajfer
RELATED-TO:fmf-AFLABS-URNIK:srecanje:5927
X-WR-TIMEZONE:Europe/Ljubljana
END:VEVENT
BEGIN:VEVENT
SUMMARY:Teorija osnovnih delcev in jedra (FIZ-M1\, FIZ-M2)\, Predavanja (P
 )
DTSTART;TZID=Europe/Ljubljana:20210316T100000
DTEND;TZID=Europe/Ljubljana:20210316T130000
DTSTAMP:20260423T033433Z
UID:fmf-AFLABS-URNIK:premaknjeno-srecanje:109930
ATTENDEE:1. letnik (Fizika, 2. stopnja)
ATTENDEE:2. letnik (Fizika, 2. stopnja)
CATEGORIES:Entry,Standard
COLOR:darkgreen
DESCRIPTION:Predmet: Teorija osnovnih delcev in jedra (FIZ-M1\, FIZ-M2)\, 
 Predavanja (P)\nLetniki: 1. letnik (Fizika\, 2. stopnja)\, 2. letnik (Fizi
 ka\, 2. stopnja)\nIzvajalci: Svjetlana Fajfer\nProstor: F5
LOCATION:F5
ORGANIZER:Svjetlana Fajfer
RELATED-TO:fmf-AFLABS-URNIK:srecanje:5927
X-WR-TIMEZONE:Europe/Ljubljana
END:VEVENT
BEGIN:VEVENT
SUMMARY:Teorija osnovnih delcev in jedra (FIZ-M1\, FIZ-M2)\, Predavanja (P
 )
DTSTART;TZID=Europe/Ljubljana:20210323T100000
DTEND;TZID=Europe/Ljubljana:20210323T130000
DTSTAMP:20260423T033433Z
UID:fmf-AFLABS-URNIK:premaknjeno-srecanje:109931
ATTENDEE:1. letnik (Fizika, 2. stopnja)
ATTENDEE:2. letnik (Fizika, 2. stopnja)
CATEGORIES:Entry,Standard
COLOR:darkgreen
DESCRIPTION:Predmet: Teorija osnovnih delcev in jedra (FIZ-M1\, FIZ-M2)\, 
 Predavanja (P)\nLetniki: 1. letnik (Fizika\, 2. stopnja)\, 2. letnik (Fizi
 ka\, 2. stopnja)\nIzvajalci: Svjetlana Fajfer\nProstor: F5
LOCATION:F5
ORGANIZER:Svjetlana Fajfer
RELATED-TO:fmf-AFLABS-URNIK:srecanje:5927
X-WR-TIMEZONE:Europe/Ljubljana
END:VEVENT
BEGIN:VEVENT
SUMMARY:Teorija osnovnih delcev in jedra (FIZ-M1\, FIZ-M2)\, Predavanja (P
 )
DTSTART;TZID=Europe/Ljubljana:20210330T100000
DTEND;TZID=Europe/Ljubljana:20210330T130000
DTSTAMP:20260423T033433Z
UID:fmf-AFLABS-URNIK:premaknjeno-srecanje:109932
ATTENDEE:1. letnik (Fizika, 2. stopnja)
ATTENDEE:2. letnik (Fizika, 2. stopnja)
CATEGORIES:Entry,Standard
COLOR:darkgreen
DESCRIPTION:Predmet: Teorija osnovnih delcev in jedra (FIZ-M1\, FIZ-M2)\, 
 Predavanja (P)\nLetniki: 1. letnik (Fizika\, 2. stopnja)\, 2. letnik (Fizi
 ka\, 2. stopnja)\nIzvajalci: Svjetlana Fajfer\nProstor: F5
LOCATION:F5
ORGANIZER:Svjetlana Fajfer
RELATED-TO:fmf-AFLABS-URNIK:srecanje:5927
X-WR-TIMEZONE:Europe/Ljubljana
END:VEVENT
BEGIN:VEVENT
SUMMARY:Teorija osnovnih delcev in jedra (FIZ-M1\, FIZ-M2)\, Predavanja (P
 )
DTSTART;TZID=Europe/Ljubljana:20210406T100000
DTEND;TZID=Europe/Ljubljana:20210406T130000
DTSTAMP:20260423T033433Z
UID:fmf-AFLABS-URNIK:premaknjeno-srecanje:109933
ATTENDEE:1. letnik (Fizika, 2. stopnja)
ATTENDEE:2. letnik (Fizika, 2. stopnja)
CATEGORIES:Entry,Standard
COLOR:darkgreen
DESCRIPTION:Predmet: Teorija osnovnih delcev in jedra (FIZ-M1\, FIZ-M2)\, 
 Predavanja (P)\nLetniki: 1. letnik (Fizika\, 2. stopnja)\, 2. letnik (Fizi
 ka\, 2. stopnja)\nIzvajalci: Svjetlana Fajfer\nProstor: F5
LOCATION:F5
ORGANIZER:Svjetlana Fajfer
RELATED-TO:fmf-AFLABS-URNIK:srecanje:5927
X-WR-TIMEZONE:Europe/Ljubljana
END:VEVENT
BEGIN:VEVENT
SUMMARY:Teorija osnovnih delcev in jedra (FIZ-M1\, FIZ-M2)\, Predavanja (P
 )
DTSTART;TZID=Europe/Ljubljana:20210413T100000
DTEND;TZID=Europe/Ljubljana:20210413T130000
DTSTAMP:20260423T033433Z
UID:fmf-AFLABS-URNIK:premaknjeno-srecanje:109934
ATTENDEE:1. letnik (Fizika, 2. stopnja)
ATTENDEE:2. letnik (Fizika, 2. stopnja)
CATEGORIES:Entry,Standard
COLOR:darkgreen
DESCRIPTION:Predmet: Teorija osnovnih delcev in jedra (FIZ-M1\, FIZ-M2)\, 
 Predavanja (P)\nLetniki: 1. letnik (Fizika\, 2. stopnja)\, 2. letnik (Fizi
 ka\, 2. stopnja)\nIzvajalci: Svjetlana Fajfer\nProstor: F5
LOCATION:F5
ORGANIZER:Svjetlana Fajfer
RELATED-TO:fmf-AFLABS-URNIK:srecanje:5927
X-WR-TIMEZONE:Europe/Ljubljana
END:VEVENT
BEGIN:VEVENT
SUMMARY:Teorija osnovnih delcev in jedra (FIZ-M1\, FIZ-M2)\, Predavanja (P
 )
DTSTART;TZID=Europe/Ljubljana:20210420T100000
DTEND;TZID=Europe/Ljubljana:20210420T130000
DTSTAMP:20260423T033433Z
UID:fmf-AFLABS-URNIK:premaknjeno-srecanje:109935
ATTENDEE:1. letnik (Fizika, 2. stopnja)
ATTENDEE:2. letnik (Fizika, 2. stopnja)
CATEGORIES:Entry,Standard
COLOR:darkgreen
DESCRIPTION:Predmet: Teorija osnovnih delcev in jedra (FIZ-M1\, FIZ-M2)\, 
 Predavanja (P)\nLetniki: 1. letnik (Fizika\, 2. stopnja)\, 2. letnik (Fizi
 ka\, 2. stopnja)\nIzvajalci: Svjetlana Fajfer\nProstor: F5
LOCATION:F5
ORGANIZER:Svjetlana Fajfer
RELATED-TO:fmf-AFLABS-URNIK:srecanje:5927
X-WR-TIMEZONE:Europe/Ljubljana
END:VEVENT
BEGIN:VEVENT
SUMMARY:Teorija osnovnih delcev in jedra (FIZ-M1\, FIZ-M2)\, Predavanja (P
 )
DTSTART;TZID=Europe/Ljubljana:20210427T100000
DTEND;TZID=Europe/Ljubljana:20210427T130000
DTSTAMP:20260423T033433Z
UID:fmf-AFLABS-URNIK:premaknjeno-srecanje:109936
ATTENDEE:1. letnik (Fizika, 2. stopnja)
ATTENDEE:2. letnik (Fizika, 2. stopnja)
CATEGORIES:Entry,Standard
COLOR:darkgreen
DESCRIPTION:Predmet: Teorija osnovnih delcev in jedra (FIZ-M1\, FIZ-M2)\, 
 Predavanja (P)\nLetniki: 1. letnik (Fizika\, 2. stopnja)\, 2. letnik (Fizi
 ka\, 2. stopnja)\nIzvajalci: Svjetlana Fajfer\nProstor: F5
LOCATION:F5
ORGANIZER:Svjetlana Fajfer
RELATED-TO:fmf-AFLABS-URNIK:srecanje:5927
X-WR-TIMEZONE:Europe/Ljubljana
END:VEVENT
BEGIN:VEVENT
SUMMARY:Teorija osnovnih delcev in jedra (FIZ-M1\, FIZ-M2)\, Predavanja (P
 )
DTSTART;TZID=Europe/Ljubljana:20210504T100000
DTEND;TZID=Europe/Ljubljana:20210504T130000
DTSTAMP:20260423T033433Z
UID:fmf-AFLABS-URNIK:premaknjeno-srecanje:109937
ATTENDEE:1. letnik (Fizika, 2. stopnja)
ATTENDEE:2. letnik (Fizika, 2. stopnja)
CATEGORIES:Entry,Standard
COLOR:darkgreen
DESCRIPTION:Predmet: Teorija osnovnih delcev in jedra (FIZ-M1\, FIZ-M2)\, 
 Predavanja (P)\nLetniki: 1. letnik (Fizika\, 2. stopnja)\, 2. letnik (Fizi
 ka\, 2. stopnja)\nIzvajalci: Svjetlana Fajfer\nProstor: F5
LOCATION:F5
ORGANIZER:Svjetlana Fajfer
RELATED-TO:fmf-AFLABS-URNIK:srecanje:5927
X-WR-TIMEZONE:Europe/Ljubljana
END:VEVENT
BEGIN:VEVENT
SUMMARY:Teorija osnovnih delcev in jedra (FIZ-M1\, FIZ-M2)\, Predavanja (P
 )
DTSTART;TZID=Europe/Ljubljana:20210511T100000
DTEND;TZID=Europe/Ljubljana:20210511T130000
DTSTAMP:20260423T033433Z
UID:fmf-AFLABS-URNIK:premaknjeno-srecanje:109938
ATTENDEE:1. letnik (Fizika, 2. stopnja)
ATTENDEE:2. letnik (Fizika, 2. stopnja)
CATEGORIES:Entry,Standard
COLOR:darkgreen
DESCRIPTION:Predmet: Teorija osnovnih delcev in jedra (FIZ-M1\, FIZ-M2)\, 
 Predavanja (P)\nLetniki: 1. letnik (Fizika\, 2. stopnja)\, 2. letnik (Fizi
 ka\, 2. stopnja)\nIzvajalci: Svjetlana Fajfer\nProstor: F5
LOCATION:F5
ORGANIZER:Svjetlana Fajfer
RELATED-TO:fmf-AFLABS-URNIK:srecanje:5927
X-WR-TIMEZONE:Europe/Ljubljana
END:VEVENT
BEGIN:VEVENT
SUMMARY:Teorija osnovnih delcev in jedra (FIZ-M1\, FIZ-M2)\, Predavanja (P
 )
DTSTART;TZID=Europe/Ljubljana:20210518T100000
DTEND;TZID=Europe/Ljubljana:20210518T130000
DTSTAMP:20260423T033433Z
UID:fmf-AFLABS-URNIK:premaknjeno-srecanje:109939
ATTENDEE:1. letnik (Fizika, 2. stopnja)
ATTENDEE:2. letnik (Fizika, 2. stopnja)
CATEGORIES:Entry,Standard
COLOR:darkgreen
DESCRIPTION:Predmet: Teorija osnovnih delcev in jedra (FIZ-M1\, FIZ-M2)\, 
 Predavanja (P)\nLetniki: 1. letnik (Fizika\, 2. stopnja)\, 2. letnik (Fizi
 ka\, 2. stopnja)\nIzvajalci: Svjetlana Fajfer\nProstor: F5
LOCATION:F5
ORGANIZER:Svjetlana Fajfer
RELATED-TO:fmf-AFLABS-URNIK:srecanje:5927
X-WR-TIMEZONE:Europe/Ljubljana
END:VEVENT
BEGIN:VEVENT
SUMMARY:Teorija osnovnih delcev in jedra (FIZ-M1\, FIZ-M2)\, Predavanja (P
 )
DTSTART;TZID=Europe/Ljubljana:20210525T100000
DTEND;TZID=Europe/Ljubljana:20210525T130000
DTSTAMP:20260423T033433Z
UID:fmf-AFLABS-URNIK:premaknjeno-srecanje:109940
ATTENDEE:1. letnik (Fizika, 2. stopnja)
ATTENDEE:2. letnik (Fizika, 2. stopnja)
CATEGORIES:Entry,Standard
COLOR:darkgreen
DESCRIPTION:Predmet: Teorija osnovnih delcev in jedra (FIZ-M1\, FIZ-M2)\, 
 Predavanja (P)\nLetniki: 1. letnik (Fizika\, 2. stopnja)\, 2. letnik (Fizi
 ka\, 2. stopnja)\nIzvajalci: Svjetlana Fajfer\nProstor: F5
LOCATION:F5
ORGANIZER:Svjetlana Fajfer
RELATED-TO:fmf-AFLABS-URNIK:srecanje:5927
X-WR-TIMEZONE:Europe/Ljubljana
END:VEVENT
BEGIN:VEVENT
SUMMARY:Teorija osnovnih delcev in jedra (FIZ-M1\, FIZ-M2)\, Seminar (S)
DTSTART;TZID=Europe/Ljubljana:20210216T130000
DTEND;TZID=Europe/Ljubljana:20210216T140000
DTSTAMP:20260423T033433Z
UID:fmf-AFLABS-URNIK:premaknjeno-srecanje:109973
ATTENDEE:1. letnik (Fizika, 2. stopnja)
ATTENDEE:2. letnik (Fizika, 2. stopnja)
CATEGORIES:Entry,Standard
COLOR:darkgreen
DESCRIPTION:Predmet: Teorija osnovnih delcev in jedra (FIZ-M1\, FIZ-M2)\, 
 Seminar (S)\nLetniki: 1. letnik (Fizika\, 2. stopnja)\, 2. letnik (Fizika\
 , 2. stopnja)\nIzvajalci: Svjetlana Fajfer\nProstor: F5
LOCATION:F5
ORGANIZER:Svjetlana Fajfer
RELATED-TO:fmf-AFLABS-URNIK:srecanje:5928
X-WR-TIMEZONE:Europe/Ljubljana
END:VEVENT
BEGIN:VEVENT
SUMMARY:Teorija osnovnih delcev in jedra (FIZ-M1\, FIZ-M2)\, Seminar (S)
DTSTART;TZID=Europe/Ljubljana:20210223T130000
DTEND;TZID=Europe/Ljubljana:20210223T140000
DTSTAMP:20260423T033433Z
UID:fmf-AFLABS-URNIK:premaknjeno-srecanje:109974
ATTENDEE:1. letnik (Fizika, 2. stopnja)
ATTENDEE:2. letnik (Fizika, 2. stopnja)
CATEGORIES:Entry,Standard
COLOR:darkgreen
DESCRIPTION:Predmet: Teorija osnovnih delcev in jedra (FIZ-M1\, FIZ-M2)\, 
 Seminar (S)\nLetniki: 1. letnik (Fizika\, 2. stopnja)\, 2. letnik (Fizika\
 , 2. stopnja)\nIzvajalci: Svjetlana Fajfer\nProstor: F5
LOCATION:F5
ORGANIZER:Svjetlana Fajfer
RELATED-TO:fmf-AFLABS-URNIK:srecanje:5928
X-WR-TIMEZONE:Europe/Ljubljana
END:VEVENT
BEGIN:VEVENT
SUMMARY:Teorija osnovnih delcev in jedra (FIZ-M1\, FIZ-M2)\, Seminar (S)
DTSTART;TZID=Europe/Ljubljana:20210302T130000
DTEND;TZID=Europe/Ljubljana:20210302T140000
DTSTAMP:20260423T033433Z
UID:fmf-AFLABS-URNIK:premaknjeno-srecanje:109975
ATTENDEE:1. letnik (Fizika, 2. stopnja)
ATTENDEE:2. letnik (Fizika, 2. stopnja)
CATEGORIES:Entry,Standard
COLOR:darkgreen
DESCRIPTION:Predmet: Teorija osnovnih delcev in jedra (FIZ-M1\, FIZ-M2)\, 
 Seminar (S)\nLetniki: 1. letnik (Fizika\, 2. stopnja)\, 2. letnik (Fizika\
 , 2. stopnja)\nIzvajalci: Svjetlana Fajfer\nProstor: F5
LOCATION:F5
ORGANIZER:Svjetlana Fajfer
RELATED-TO:fmf-AFLABS-URNIK:srecanje:5928
X-WR-TIMEZONE:Europe/Ljubljana
END:VEVENT
BEGIN:VEVENT
SUMMARY:Teorija osnovnih delcev in jedra (FIZ-M1\, FIZ-M2)\, Seminar (S)
DTSTART;TZID=Europe/Ljubljana:20210309T130000
DTEND;TZID=Europe/Ljubljana:20210309T140000
DTSTAMP:20260423T033433Z
UID:fmf-AFLABS-URNIK:premaknjeno-srecanje:109976
ATTENDEE:1. letnik (Fizika, 2. stopnja)
ATTENDEE:2. letnik (Fizika, 2. stopnja)
CATEGORIES:Entry,Standard
COLOR:darkgreen
DESCRIPTION:Predmet: Teorija osnovnih delcev in jedra (FIZ-M1\, FIZ-M2)\, 
 Seminar (S)\nLetniki: 1. letnik (Fizika\, 2. stopnja)\, 2. letnik (Fizika\
 , 2. stopnja)\nIzvajalci: Svjetlana Fajfer\nProstor: F5
LOCATION:F5
ORGANIZER:Svjetlana Fajfer
RELATED-TO:fmf-AFLABS-URNIK:srecanje:5928
X-WR-TIMEZONE:Europe/Ljubljana
END:VEVENT
BEGIN:VEVENT
SUMMARY:Teorija osnovnih delcev in jedra (FIZ-M1\, FIZ-M2)\, Seminar (S)
DTSTART;TZID=Europe/Ljubljana:20210316T130000
DTEND;TZID=Europe/Ljubljana:20210316T140000
DTSTAMP:20260423T033433Z
UID:fmf-AFLABS-URNIK:premaknjeno-srecanje:109977
ATTENDEE:1. letnik (Fizika, 2. stopnja)
ATTENDEE:2. letnik (Fizika, 2. stopnja)
CATEGORIES:Entry,Standard
COLOR:darkgreen
DESCRIPTION:Predmet: Teorija osnovnih delcev in jedra (FIZ-M1\, FIZ-M2)\, 
 Seminar (S)\nLetniki: 1. letnik (Fizika\, 2. stopnja)\, 2. letnik (Fizika\
 , 2. stopnja)\nIzvajalci: Svjetlana Fajfer\nProstor: F5
LOCATION:F5
ORGANIZER:Svjetlana Fajfer
RELATED-TO:fmf-AFLABS-URNIK:srecanje:5928
X-WR-TIMEZONE:Europe/Ljubljana
END:VEVENT
BEGIN:VEVENT
SUMMARY:Teorija osnovnih delcev in jedra (FIZ-M1\, FIZ-M2)\, Seminar (S)
DTSTART;TZID=Europe/Ljubljana:20210323T130000
DTEND;TZID=Europe/Ljubljana:20210323T140000
DTSTAMP:20260423T033433Z
UID:fmf-AFLABS-URNIK:premaknjeno-srecanje:109978
ATTENDEE:1. letnik (Fizika, 2. stopnja)
ATTENDEE:2. letnik (Fizika, 2. stopnja)
CATEGORIES:Entry,Standard
COLOR:darkgreen
DESCRIPTION:Predmet: Teorija osnovnih delcev in jedra (FIZ-M1\, FIZ-M2)\, 
 Seminar (S)\nLetniki: 1. letnik (Fizika\, 2. stopnja)\, 2. letnik (Fizika\
 , 2. stopnja)\nIzvajalci: Svjetlana Fajfer\nProstor: F5
LOCATION:F5
ORGANIZER:Svjetlana Fajfer
RELATED-TO:fmf-AFLABS-URNIK:srecanje:5928
X-WR-TIMEZONE:Europe/Ljubljana
END:VEVENT
BEGIN:VEVENT
SUMMARY:Teorija osnovnih delcev in jedra (FIZ-M1\, FIZ-M2)\, Seminar (S)
DTSTART;TZID=Europe/Ljubljana:20210330T130000
DTEND;TZID=Europe/Ljubljana:20210330T140000
DTSTAMP:20260423T033433Z
UID:fmf-AFLABS-URNIK:premaknjeno-srecanje:109979
ATTENDEE:1. letnik (Fizika, 2. stopnja)
ATTENDEE:2. letnik (Fizika, 2. stopnja)
CATEGORIES:Entry,Standard
COLOR:darkgreen
DESCRIPTION:Predmet: Teorija osnovnih delcev in jedra (FIZ-M1\, FIZ-M2)\, 
 Seminar (S)\nLetniki: 1. letnik (Fizika\, 2. stopnja)\, 2. letnik (Fizika\
 , 2. stopnja)\nIzvajalci: Svjetlana Fajfer\nProstor: F5
LOCATION:F5
ORGANIZER:Svjetlana Fajfer
RELATED-TO:fmf-AFLABS-URNIK:srecanje:5928
X-WR-TIMEZONE:Europe/Ljubljana
END:VEVENT
BEGIN:VEVENT
SUMMARY:Teorija osnovnih delcev in jedra (FIZ-M1\, FIZ-M2)\, Seminar (S)
DTSTART;TZID=Europe/Ljubljana:20210406T130000
DTEND;TZID=Europe/Ljubljana:20210406T140000
DTSTAMP:20260423T033433Z
UID:fmf-AFLABS-URNIK:premaknjeno-srecanje:109980
ATTENDEE:1. letnik (Fizika, 2. stopnja)
ATTENDEE:2. letnik (Fizika, 2. stopnja)
CATEGORIES:Entry,Standard
COLOR:darkgreen
DESCRIPTION:Predmet: Teorija osnovnih delcev in jedra (FIZ-M1\, FIZ-M2)\, 
 Seminar (S)\nLetniki: 1. letnik (Fizika\, 2. stopnja)\, 2. letnik (Fizika\
 , 2. stopnja)\nIzvajalci: Svjetlana Fajfer\nProstor: F5
LOCATION:F5
ORGANIZER:Svjetlana Fajfer
RELATED-TO:fmf-AFLABS-URNIK:srecanje:5928
X-WR-TIMEZONE:Europe/Ljubljana
END:VEVENT
BEGIN:VEVENT
SUMMARY:Teorija osnovnih delcev in jedra (FIZ-M1\, FIZ-M2)\, Seminar (S)
DTSTART;TZID=Europe/Ljubljana:20210413T130000
DTEND;TZID=Europe/Ljubljana:20210413T140000
DTSTAMP:20260423T033433Z
UID:fmf-AFLABS-URNIK:premaknjeno-srecanje:109981
ATTENDEE:1. letnik (Fizika, 2. stopnja)
ATTENDEE:2. letnik (Fizika, 2. stopnja)
CATEGORIES:Entry,Standard
COLOR:darkgreen
DESCRIPTION:Predmet: Teorija osnovnih delcev in jedra (FIZ-M1\, FIZ-M2)\, 
 Seminar (S)\nLetniki: 1. letnik (Fizika\, 2. stopnja)\, 2. letnik (Fizika\
 , 2. stopnja)\nIzvajalci: Svjetlana Fajfer\nProstor: F5
LOCATION:F5
ORGANIZER:Svjetlana Fajfer
RELATED-TO:fmf-AFLABS-URNIK:srecanje:5928
X-WR-TIMEZONE:Europe/Ljubljana
END:VEVENT
BEGIN:VEVENT
SUMMARY:Teorija osnovnih delcev in jedra (FIZ-M1\, FIZ-M2)\, Seminar (S)
DTSTART;TZID=Europe/Ljubljana:20210420T130000
DTEND;TZID=Europe/Ljubljana:20210420T140000
DTSTAMP:20260423T033433Z
UID:fmf-AFLABS-URNIK:premaknjeno-srecanje:109982
ATTENDEE:1. letnik (Fizika, 2. stopnja)
ATTENDEE:2. letnik (Fizika, 2. stopnja)
CATEGORIES:Entry,Standard
COLOR:darkgreen
DESCRIPTION:Predmet: Teorija osnovnih delcev in jedra (FIZ-M1\, FIZ-M2)\, 
 Seminar (S)\nLetniki: 1. letnik (Fizika\, 2. stopnja)\, 2. letnik (Fizika\
 , 2. stopnja)\nIzvajalci: Svjetlana Fajfer\nProstor: F5
LOCATION:F5
ORGANIZER:Svjetlana Fajfer
RELATED-TO:fmf-AFLABS-URNIK:srecanje:5928
X-WR-TIMEZONE:Europe/Ljubljana
END:VEVENT
BEGIN:VEVENT
SUMMARY:Teorija osnovnih delcev in jedra (FIZ-M1\, FIZ-M2)\, Seminar (S)
DTSTART;TZID=Europe/Ljubljana:20210427T130000
DTEND;TZID=Europe/Ljubljana:20210427T140000
DTSTAMP:20260423T033433Z
UID:fmf-AFLABS-URNIK:premaknjeno-srecanje:109983
ATTENDEE:1. letnik (Fizika, 2. stopnja)
ATTENDEE:2. letnik (Fizika, 2. stopnja)
CATEGORIES:Entry,Standard
COLOR:darkgreen
DESCRIPTION:Predmet: Teorija osnovnih delcev in jedra (FIZ-M1\, FIZ-M2)\, 
 Seminar (S)\nLetniki: 1. letnik (Fizika\, 2. stopnja)\, 2. letnik (Fizika\
 , 2. stopnja)\nIzvajalci: Svjetlana Fajfer\nProstor: F5
LOCATION:F5
ORGANIZER:Svjetlana Fajfer
RELATED-TO:fmf-AFLABS-URNIK:srecanje:5928
X-WR-TIMEZONE:Europe/Ljubljana
END:VEVENT
BEGIN:VEVENT
SUMMARY:Teorija osnovnih delcev in jedra (FIZ-M1\, FIZ-M2)\, Seminar (S)
DTSTART;TZID=Europe/Ljubljana:20210504T130000
DTEND;TZID=Europe/Ljubljana:20210504T140000
DTSTAMP:20260423T033433Z
UID:fmf-AFLABS-URNIK:premaknjeno-srecanje:109984
ATTENDEE:1. letnik (Fizika, 2. stopnja)
ATTENDEE:2. letnik (Fizika, 2. stopnja)
CATEGORIES:Entry,Standard
COLOR:darkgreen
DESCRIPTION:Predmet: Teorija osnovnih delcev in jedra (FIZ-M1\, FIZ-M2)\, 
 Seminar (S)\nLetniki: 1. letnik (Fizika\, 2. stopnja)\, 2. letnik (Fizika\
 , 2. stopnja)\nIzvajalci: Svjetlana Fajfer\nProstor: F5
LOCATION:F5
ORGANIZER:Svjetlana Fajfer
RELATED-TO:fmf-AFLABS-URNIK:srecanje:5928
X-WR-TIMEZONE:Europe/Ljubljana
END:VEVENT
BEGIN:VEVENT
SUMMARY:Teorija osnovnih delcev in jedra (FIZ-M1\, FIZ-M2)\, Seminar (S)
DTSTART;TZID=Europe/Ljubljana:20210511T130000
DTEND;TZID=Europe/Ljubljana:20210511T140000
DTSTAMP:20260423T033433Z
UID:fmf-AFLABS-URNIK:premaknjeno-srecanje:109985
ATTENDEE:1. letnik (Fizika, 2. stopnja)
ATTENDEE:2. letnik (Fizika, 2. stopnja)
CATEGORIES:Entry,Standard
COLOR:darkgreen
DESCRIPTION:Predmet: Teorija osnovnih delcev in jedra (FIZ-M1\, FIZ-M2)\, 
 Seminar (S)\nLetniki: 1. letnik (Fizika\, 2. stopnja)\, 2. letnik (Fizika\
 , 2. stopnja)\nIzvajalci: Svjetlana Fajfer\nProstor: F5
LOCATION:F5
ORGANIZER:Svjetlana Fajfer
RELATED-TO:fmf-AFLABS-URNIK:srecanje:5928
X-WR-TIMEZONE:Europe/Ljubljana
END:VEVENT
BEGIN:VEVENT
SUMMARY:Teorija osnovnih delcev in jedra (FIZ-M1\, FIZ-M2)\, Seminar (S)
DTSTART;TZID=Europe/Ljubljana:20210518T130000
DTEND;TZID=Europe/Ljubljana:20210518T140000
DTSTAMP:20260423T033433Z
UID:fmf-AFLABS-URNIK:premaknjeno-srecanje:109986
ATTENDEE:1. letnik (Fizika, 2. stopnja)
ATTENDEE:2. letnik (Fizika, 2. stopnja)
CATEGORIES:Entry,Standard
COLOR:darkgreen
DESCRIPTION:Predmet: Teorija osnovnih delcev in jedra (FIZ-M1\, FIZ-M2)\, 
 Seminar (S)\nLetniki: 1. letnik (Fizika\, 2. stopnja)\, 2. letnik (Fizika\
 , 2. stopnja)\nIzvajalci: Svjetlana Fajfer\nProstor: F5
LOCATION:F5
ORGANIZER:Svjetlana Fajfer
RELATED-TO:fmf-AFLABS-URNIK:srecanje:5928
X-WR-TIMEZONE:Europe/Ljubljana
END:VEVENT
BEGIN:VEVENT
SUMMARY:Teorija osnovnih delcev in jedra (FIZ-M1\, FIZ-M2)\, Seminar (S)
DTSTART;TZID=Europe/Ljubljana:20210525T130000
DTEND;TZID=Europe/Ljubljana:20210525T140000
DTSTAMP:20260423T033433Z
UID:fmf-AFLABS-URNIK:premaknjeno-srecanje:109987
ATTENDEE:1. letnik (Fizika, 2. stopnja)
ATTENDEE:2. letnik (Fizika, 2. stopnja)
CATEGORIES:Entry,Standard
COLOR:darkgreen
DESCRIPTION:Predmet: Teorija osnovnih delcev in jedra (FIZ-M1\, FIZ-M2)\, 
 Seminar (S)\nLetniki: 1. letnik (Fizika\, 2. stopnja)\, 2. letnik (Fizika\
 , 2. stopnja)\nIzvajalci: Svjetlana Fajfer\nProstor: F5
LOCATION:F5
ORGANIZER:Svjetlana Fajfer
RELATED-TO:fmf-AFLABS-URNIK:srecanje:5928
X-WR-TIMEZONE:Europe/Ljubljana
END:VEVENT
END:VCALENDAR
