BEGIN:VCALENDAR
VERSION:2.0
PRODID:-//AFLabs urnik izvoz - fmf//aflabs.si//SI
DTSTAMP:20260425T105857Z
NAME:UL FMF urnik
REFRESH-INTERVAL:PT1H
SOURCE:https://urnik.fmf.uni-lj.si/teacher/25?day=2020-09-14&export=1
URL:https://urnik.fmf.uni-lj.si/teacher/25?day=2020-09-14&export=1
X-PUBLISHED-TTL:PT1H
X-WR-CALNAME:UL FMF urnik
X-WR-TIMEZONE:Europe/Ljubljana
BEGIN:VTIMEZONE
TZID:Europe/Ljubljana
BEGIN:DAYLIGHT
DTSTART:20260329T020000
RDATE:20260329T020000
RDATE:20270328T020000
TZNAME:CEST
TZOFFSETFROM:+0100
TZOFFSETTO:+0200
END:DAYLIGHT
BEGIN:STANDARD
DTSTART:20261025T030000
RDATE:20261025T030000
RDATE:20271031T030000
TZNAME:CET
TZOFFSETFROM:+0200
TZOFFSETTO:+0100
END:STANDARD
END:VTIMEZONE
BEGIN:VEVENT
SUMMARY:Računalniško podprto (geometrijsko) oblikovanje (FM-M\, IŠRM-M\
 , MAT-M\, PM-5)\, Seminar (S)
DTSTART;TZID=Europe/Ljubljana:20201001T120000
DTEND;TZID=Europe/Ljubljana:20201001T150000
DTSTAMP:20260425T105857Z
UID:fmf-AFLABS-URNIK:premaknjeno-srecanje:94467
ATTENDEE:5. letnik (PM)
ATTENDEE:magistrski študij (FM)
ATTENDEE:magistrski študij (IŠRM)
ATTENDEE:magistrski študij (M)
CATEGORIES:Entry,Standard
COLOR:darkgreen
DESCRIPTION:Predmet: Računalniško podprto (geometrijsko) oblikovanje (FM
 -M\, IŠRM-M\, MAT-M\, PM-5)\, Seminar (S)\nLetniki: magistrski študij (F
 M)\, magistrski študij (IŠRM)\, magistrski študij (M)\, 5. letnik (PM)\
 nIzvajalci: Marjetka Knez\nProstor: 2.01
LOCATION:2.01
ORGANIZER:Marjetka Knez
RELATED-TO:fmf-AFLABS-URNIK:srecanje:5146
X-WR-TIMEZONE:Europe/Ljubljana
END:VEVENT
BEGIN:VEVENT
SUMMARY:Računalniško podprto (geometrijsko) oblikovanje (FM-M\, IŠRM-M\
 , MAT-M\, PM-5)\, Seminar (S)
DTSTART;TZID=Europe/Ljubljana:20201008T120000
DTEND;TZID=Europe/Ljubljana:20201008T150000
DTSTAMP:20260425T105857Z
UID:fmf-AFLABS-URNIK:premaknjeno-srecanje:94468
ATTENDEE:5. letnik (PM)
ATTENDEE:magistrski študij (FM)
ATTENDEE:magistrski študij (IŠRM)
ATTENDEE:magistrski študij (M)
CATEGORIES:Entry,Standard
COLOR:darkgreen
DESCRIPTION:Predmet: Računalniško podprto (geometrijsko) oblikovanje (FM
 -M\, IŠRM-M\, MAT-M\, PM-5)\, Seminar (S)\nLetniki: magistrski študij (F
 M)\, magistrski študij (IŠRM)\, magistrski študij (M)\, 5. letnik (PM)\
 nIzvajalci: Marjetka Knez\nProstor: 2.01
LOCATION:2.01
ORGANIZER:Marjetka Knez
RELATED-TO:fmf-AFLABS-URNIK:srecanje:5146
X-WR-TIMEZONE:Europe/Ljubljana
END:VEVENT
BEGIN:VEVENT
SUMMARY:Računalniško podprto (geometrijsko) oblikovanje (FM-M\, IŠRM-M\
 , MAT-M\, PM-5)\, Seminar (S)
DTSTART;TZID=Europe/Ljubljana:20201015T120000
DTEND;TZID=Europe/Ljubljana:20201015T150000
DTSTAMP:20260425T105857Z
UID:fmf-AFLABS-URNIK:premaknjeno-srecanje:94469
ATTENDEE:5. letnik (PM)
ATTENDEE:magistrski študij (FM)
ATTENDEE:magistrski študij (IŠRM)
ATTENDEE:magistrski študij (M)
CATEGORIES:Entry,Standard
COLOR:darkgreen
DESCRIPTION:Predmet: Računalniško podprto (geometrijsko) oblikovanje (FM
 -M\, IŠRM-M\, MAT-M\, PM-5)\, Seminar (S)\nLetniki: magistrski študij (F
 M)\, magistrski študij (IŠRM)\, magistrski študij (M)\, 5. letnik (PM)\
 nIzvajalci: Marjetka Knez\nProstor: 2.01
LOCATION:2.01
ORGANIZER:Marjetka Knez
RELATED-TO:fmf-AFLABS-URNIK:srecanje:5146
X-WR-TIMEZONE:Europe/Ljubljana
END:VEVENT
BEGIN:VEVENT
SUMMARY:NM (NTF) ()\, Predavanja (P)
DTSTART;TZID=Europe/Ljubljana:20201005T080000
DTEND;TZID=Europe/Ljubljana:20201005T100000
DTSTAMP:20260425T105857Z
UID:fmf-AFLABS-URNIK:premaknjeno-srecanje:75426
CATEGORIES:Entry,Standard
COLOR:darkgreen
DESCRIPTION:Predmet: NM (NTF) ()\, Predavanja (P)\nLetniki: \nIzvajalci: M
 arjetka Knez\nProstor: NTF
LOCATION:NTF
ORGANIZER:Marjetka Knez
RELATED-TO:fmf-AFLABS-URNIK:srecanje:5031
X-WR-TIMEZONE:Europe/Ljubljana
END:VEVENT
BEGIN:VEVENT
SUMMARY:NM (NTF) ()\, Predavanja (P)
DTSTART;TZID=Europe/Ljubljana:20201012T080000
DTEND;TZID=Europe/Ljubljana:20201012T100000
DTSTAMP:20260425T105857Z
UID:fmf-AFLABS-URNIK:premaknjeno-srecanje:75427
CATEGORIES:Entry,Standard
COLOR:darkgreen
DESCRIPTION:Predmet: NM (NTF) ()\, Predavanja (P)\nLetniki: \nIzvajalci: M
 arjetka Knez\nProstor: NTF
LOCATION:NTF
ORGANIZER:Marjetka Knez
RELATED-TO:fmf-AFLABS-URNIK:srecanje:5031
X-WR-TIMEZONE:Europe/Ljubljana
END:VEVENT
BEGIN:VEVENT
SUMMARY:NM (NTF) ()\, Predavanja (P)
DTSTART;TZID=Europe/Ljubljana:20201019T080000
DTEND;TZID=Europe/Ljubljana:20201019T100000
DTSTAMP:20260425T105857Z
UID:fmf-AFLABS-URNIK:premaknjeno-srecanje:75428
CATEGORIES:Entry,Standard
COLOR:darkgreen
DESCRIPTION:Predmet: NM (NTF) ()\, Predavanja (P)\nLetniki: \nIzvajalci: M
 arjetka Knez\nProstor: NTF
LOCATION:NTF
ORGANIZER:Marjetka Knez
RELATED-TO:fmf-AFLABS-URNIK:srecanje:5031
X-WR-TIMEZONE:Europe/Ljubljana
END:VEVENT
BEGIN:VEVENT
SUMMARY:NM (NTF) ()\, Predavanja (P)
DTSTART;TZID=Europe/Ljubljana:20201006T110000
DTEND;TZID=Europe/Ljubljana:20201006T130000
DTSTAMP:20260425T105857Z
UID:fmf-AFLABS-URNIK:premaknjeno-srecanje:75537
CATEGORIES:Entry,Standard
COLOR:darkgreen
DESCRIPTION:Predmet: NM (NTF) ()\, Predavanja (P)\nLetniki: \nIzvajalci: M
 arjetka Knez\nProstor: NTF
LOCATION:NTF
ORGANIZER:Marjetka Knez
RELATED-TO:fmf-AFLABS-URNIK:srecanje:5032
X-WR-TIMEZONE:Europe/Ljubljana
END:VEVENT
BEGIN:VEVENT
SUMMARY:NM (NTF) ()\, Predavanja (P)
DTSTART;TZID=Europe/Ljubljana:20201013T110000
DTEND;TZID=Europe/Ljubljana:20201013T130000
DTSTAMP:20260425T105857Z
UID:fmf-AFLABS-URNIK:premaknjeno-srecanje:75538
CATEGORIES:Entry,Standard
COLOR:darkgreen
DESCRIPTION:Predmet: NM (NTF) ()\, Predavanja (P)\nLetniki: \nIzvajalci: M
 arjetka Knez\nProstor: NTF
LOCATION:NTF
ORGANIZER:Marjetka Knez
RELATED-TO:fmf-AFLABS-URNIK:srecanje:5032
X-WR-TIMEZONE:Europe/Ljubljana
END:VEVENT
BEGIN:VEVENT
SUMMARY:Numerične metode 1 (APM-2)\, Predavanja (P)
DTSTART;TZID=Europe/Ljubljana:20201007T080000
DTEND;TZID=Europe/Ljubljana:20201007T100000
DTSTAMP:20260425T105857Z
UID:fmf-AFLABS-URNIK:premaknjeno-srecanje:77659
ATTENDEE:2. letnik (APM)
CATEGORIES:Entry,Standard
COLOR:darkgreen
DESCRIPTION:Predmet: Numerične metode 1 (APM-2)\, Predavanja (P)\nLetniki
 : 2. letnik (APM)\nIzvajalci: Marjetka Knez\nProstor: 3.06
LOCATION:3.06
ORGANIZER:Marjetka Knez
RELATED-TO:fmf-AFLABS-URNIK:srecanje:5046
X-WR-TIMEZONE:Europe/Ljubljana
END:VEVENT
BEGIN:VEVENT
SUMMARY:Numerične metode 1 (APM-2)\, Predavanja (P)
DTSTART;TZID=Europe/Ljubljana:20201014T080000
DTEND;TZID=Europe/Ljubljana:20201014T100000
DTSTAMP:20260425T105857Z
UID:fmf-AFLABS-URNIK:premaknjeno-srecanje:77660
ATTENDEE:2. letnik (APM)
CATEGORIES:Entry,Standard
COLOR:darkgreen
DESCRIPTION:Predmet: Numerične metode 1 (APM-2)\, Predavanja (P)\nLetniki
 : 2. letnik (APM)\nIzvajalci: Marjetka Knez\nProstor: 3.06
LOCATION:3.06
ORGANIZER:Marjetka Knez
RELATED-TO:fmf-AFLABS-URNIK:srecanje:5046
X-WR-TIMEZONE:Europe/Ljubljana
END:VEVENT
BEGIN:VEVENT
SUMMARY:Rezervacija
DTSTART;TZID=Europe/Ljubljana:20200817T100000
DTEND;TZID=Europe/Ljubljana:20200817T110000
DTSTAMP:20260425T105857Z
UID:fmf-AFLABS-URNIK:rezervacija:5927
ATTENDEE:2. letnik (FM)
ATTENDEE:3. letnik (IŠRM)
CATEGORIES:Reservation
COLOR:royalblue
DESCRIPTION:Predmeti: Numerične metode 2 (FM-2\, IŠRM-3)\nLetniki: 2. le
 tnik (FM)\, 3. letnik (IŠRM)\nIzvajalci: Marjetka Knez\nProstori: 2.04
LOCATION:2.04
ORGANIZER:Marjetka Knez
X-WR-TIMEZONE:Europe/Ljubljana
END:VEVENT
BEGIN:VEVENT
SUMMARY:Rezervacija
DTSTART;TZID=Europe/Ljubljana:20200903T090000
DTEND;TZID=Europe/Ljubljana:20200903T110000
DTSTAMP:20260425T105857Z
UID:fmf-AFLABS-URNIK:rezervacija:6206
CATEGORIES:Reservation
COLOR:royalblue
DESCRIPTION:Predmeti: \nLetniki: \nIzvajalci: Marjetka Knez\nProstori: 2.0
 3
LOCATION:2.03
ORGANIZER:Marjetka Knez
X-WR-TIMEZONE:Europe/Ljubljana
END:VEVENT
BEGIN:VEVENT
SUMMARY:Rezervacija
DTSTART;TZID=Europe/Ljubljana:20200904T120000
DTEND;TZID=Europe/Ljubljana:20200904T140000
DTSTAMP:20260425T105857Z
UID:fmf-AFLABS-URNIK:rezervacija:6258
CATEGORIES:Reservation
COLOR:royalblue
DESCRIPTION:Predmeti: \nLetniki: \nIzvajalci: Marjetka Knez\nProstori: 2.0
 1
LOCATION:2.01
ORGANIZER:Marjetka Knez
X-WR-TIMEZONE:Europe/Ljubljana
END:VEVENT
END:VCALENDAR
