BEGIN:VCALENDAR
VERSION:2.0
PRODID:-//AFLabs urnik izvoz - fmf//aflabs.si//SI
DTSTAMP:20260424T142059Z
NAME:UL FMF urnik
REFRESH-INTERVAL:PT1H
SOURCE:https://urnik.fmf.uni-lj.si/teacher/25?day=2021-01-25&export=1
URL:https://urnik.fmf.uni-lj.si/teacher/25?day=2021-01-25&export=1
X-PUBLISHED-TTL:PT1H
X-WR-CALNAME:UL FMF urnik
X-WR-TIMEZONE:Europe/Ljubljana
BEGIN:VTIMEZONE
TZID:Europe/Ljubljana
BEGIN:DAYLIGHT
DTSTART:20260329T020000
RDATE:20260329T020000
RDATE:20270328T020000
TZNAME:CEST
TZOFFSETFROM:+0100
TZOFFSETTO:+0200
END:DAYLIGHT
BEGIN:STANDARD
DTSTART:20261025T030000
RDATE:20261025T030000
RDATE:20271031T030000
TZNAME:CET
TZOFFSETFROM:+0200
TZOFFSETTO:+0100
END:STANDARD
END:VTIMEZONE
BEGIN:VEVENT
SUMMARY:NM (NTF) ()\, Predavanja (P)
DTSTART;TZID=Europe/Ljubljana:20201221T080000
DTEND;TZID=Europe/Ljubljana:20201221T100000
DTSTAMP:20260424T142059Z
UID:fmf-AFLABS-URNIK:premaknjeno-srecanje:75437
CATEGORIES:Entry,Standard
COLOR:darkgreen
DESCRIPTION:Predmet: NM (NTF) ()\, Predavanja (P)\nLetniki: \nIzvajalci: M
 arjetka Knez\nProstor: NTF
LOCATION:NTF
ORGANIZER:Marjetka Knez
RELATED-TO:fmf-AFLABS-URNIK:srecanje:5031
X-WR-TIMEZONE:Europe/Ljubljana
END:VEVENT
BEGIN:VEVENT
SUMMARY:NM (NTF) ()\, Predavanja (P)
DTSTART;TZID=Europe/Ljubljana:20201228T080000
DTEND;TZID=Europe/Ljubljana:20201228T100000
DTSTAMP:20260424T142059Z
UID:fmf-AFLABS-URNIK:premaknjeno-srecanje:75438
CATEGORIES:Entry,Standard
COLOR:darkgreen
DESCRIPTION:Predmet: NM (NTF) ()\, Predavanja (P)\nLetniki: \nIzvajalci: M
 arjetka Knez\nProstor: NTF
LOCATION:NTF
ORGANIZER:Marjetka Knez
RELATED-TO:fmf-AFLABS-URNIK:srecanje:5031
X-WR-TIMEZONE:Europe/Ljubljana
END:VEVENT
BEGIN:VEVENT
SUMMARY:NM (NTF) ()\, Predavanja (P)
DTSTART;TZID=Europe/Ljubljana:20210104T080000
DTEND;TZID=Europe/Ljubljana:20210104T100000
DTSTAMP:20260424T142059Z
UID:fmf-AFLABS-URNIK:premaknjeno-srecanje:75439
CATEGORIES:Entry,Standard
COLOR:darkgreen
DESCRIPTION:Predmet: NM (NTF) ()\, Predavanja (P)\nLetniki: \nIzvajalci: M
 arjetka Knez\nProstor: NTF
LOCATION:NTF
ORGANIZER:Marjetka Knez
RELATED-TO:fmf-AFLABS-URNIK:srecanje:5031
X-WR-TIMEZONE:Europe/Ljubljana
END:VEVENT
BEGIN:VEVENT
SUMMARY:NM (NTF) ()\, Predavanja (P)
DTSTART;TZID=Europe/Ljubljana:20210111T080000
DTEND;TZID=Europe/Ljubljana:20210111T100000
DTSTAMP:20260424T142059Z
UID:fmf-AFLABS-URNIK:premaknjeno-srecanje:75440
CATEGORIES:Entry,Standard
COLOR:darkgreen
DESCRIPTION:Predmet: NM (NTF) ()\, Predavanja (P)\nLetniki: \nIzvajalci: M
 arjetka Knez\nProstor: NTF
LOCATION:NTF
ORGANIZER:Marjetka Knez
RELATED-TO:fmf-AFLABS-URNIK:srecanje:5031
X-WR-TIMEZONE:Europe/Ljubljana
END:VEVENT
BEGIN:VEVENT
SUMMARY:NM (NTF) ()\, Predavanja (P)
DTSTART;TZID=Europe/Ljubljana:20201222T110000
DTEND;TZID=Europe/Ljubljana:20201222T130000
DTSTAMP:20260424T142059Z
UID:fmf-AFLABS-URNIK:premaknjeno-srecanje:75548
CATEGORIES:Entry,Standard
COLOR:darkgreen
DESCRIPTION:Predmet: NM (NTF) ()\, Predavanja (P)\nLetniki: \nIzvajalci: M
 arjetka Knez\nProstor: NTF
LOCATION:NTF
ORGANIZER:Marjetka Knez
RELATED-TO:fmf-AFLABS-URNIK:srecanje:5032
X-WR-TIMEZONE:Europe/Ljubljana
END:VEVENT
BEGIN:VEVENT
SUMMARY:NM (NTF) ()\, Predavanja (P)
DTSTART;TZID=Europe/Ljubljana:20201229T110000
DTEND;TZID=Europe/Ljubljana:20201229T130000
DTSTAMP:20260424T142059Z
UID:fmf-AFLABS-URNIK:premaknjeno-srecanje:75549
CATEGORIES:Entry,Standard
COLOR:darkgreen
DESCRIPTION:Predmet: NM (NTF) ()\, Predavanja (P)\nLetniki: \nIzvajalci: M
 arjetka Knez\nProstor: NTF
LOCATION:NTF
ORGANIZER:Marjetka Knez
RELATED-TO:fmf-AFLABS-URNIK:srecanje:5032
X-WR-TIMEZONE:Europe/Ljubljana
END:VEVENT
BEGIN:VEVENT
SUMMARY:NM (NTF) ()\, Predavanja (P)
DTSTART;TZID=Europe/Ljubljana:20210105T110000
DTEND;TZID=Europe/Ljubljana:20210105T130000
DTSTAMP:20260424T142059Z
UID:fmf-AFLABS-URNIK:premaknjeno-srecanje:75550
CATEGORIES:Entry,Standard
COLOR:darkgreen
DESCRIPTION:Predmet: NM (NTF) ()\, Predavanja (P)\nLetniki: \nIzvajalci: M
 arjetka Knez\nProstor: NTF
LOCATION:NTF
ORGANIZER:Marjetka Knez
RELATED-TO:fmf-AFLABS-URNIK:srecanje:5032
X-WR-TIMEZONE:Europe/Ljubljana
END:VEVENT
BEGIN:VEVENT
SUMMARY:NM (NTF) ()\, Predavanja (P)
DTSTART;TZID=Europe/Ljubljana:20210112T110000
DTEND;TZID=Europe/Ljubljana:20210112T130000
DTSTAMP:20260424T142059Z
UID:fmf-AFLABS-URNIK:premaknjeno-srecanje:75551
CATEGORIES:Entry,Standard
COLOR:darkgreen
DESCRIPTION:Predmet: NM (NTF) ()\, Predavanja (P)\nLetniki: \nIzvajalci: M
 arjetka Knez\nProstor: NTF
LOCATION:NTF
ORGANIZER:Marjetka Knez
RELATED-TO:fmf-AFLABS-URNIK:srecanje:5032
X-WR-TIMEZONE:Europe/Ljubljana
END:VEVENT
BEGIN:VEVENT
SUMMARY:Numerične metode 1 (APM-2)\, Predavanja (P)
DTSTART;TZID=Europe/Ljubljana:20201223T080000
DTEND;TZID=Europe/Ljubljana:20201223T100000
DTSTAMP:20260424T142059Z
UID:fmf-AFLABS-URNIK:premaknjeno-srecanje:77670
ATTENDEE:2. letnik (APM)
CATEGORIES:Entry,Standard
COLOR:darkgreen
DESCRIPTION:Predmet: Numerične metode 1 (APM-2)\, Predavanja (P)\nLetniki
 : 2. letnik (APM)\nIzvajalci: Marjetka Knez\nProstor: 3.06
LOCATION:3.06
ORGANIZER:Marjetka Knez
RELATED-TO:fmf-AFLABS-URNIK:srecanje:5046
X-WR-TIMEZONE:Europe/Ljubljana
END:VEVENT
BEGIN:VEVENT
SUMMARY:Numerične metode 1 (APM-2)\, Predavanja (P)
DTSTART;TZID=Europe/Ljubljana:20201230T080000
DTEND;TZID=Europe/Ljubljana:20201230T100000
DTSTAMP:20260424T142059Z
UID:fmf-AFLABS-URNIK:premaknjeno-srecanje:77671
ATTENDEE:2. letnik (APM)
CATEGORIES:Entry,Standard
COLOR:darkgreen
DESCRIPTION:Predmet: Numerične metode 1 (APM-2)\, Predavanja (P)\nLetniki
 : 2. letnik (APM)\nIzvajalci: Marjetka Knez\nProstor: 3.06
LOCATION:3.06
ORGANIZER:Marjetka Knez
RELATED-TO:fmf-AFLABS-URNIK:srecanje:5046
X-WR-TIMEZONE:Europe/Ljubljana
END:VEVENT
BEGIN:VEVENT
SUMMARY:Numerične metode 1 (APM-2)\, Predavanja (P)
DTSTART;TZID=Europe/Ljubljana:20210106T080000
DTEND;TZID=Europe/Ljubljana:20210106T100000
DTSTAMP:20260424T142059Z
UID:fmf-AFLABS-URNIK:premaknjeno-srecanje:77672
ATTENDEE:2. letnik (APM)
CATEGORIES:Entry,Standard
COLOR:darkgreen
DESCRIPTION:Predmet: Numerične metode 1 (APM-2)\, Predavanja (P)\nLetniki
 : 2. letnik (APM)\nIzvajalci: Marjetka Knez\nProstor: 3.06
LOCATION:3.06
ORGANIZER:Marjetka Knez
RELATED-TO:fmf-AFLABS-URNIK:srecanje:5046
X-WR-TIMEZONE:Europe/Ljubljana
END:VEVENT
BEGIN:VEVENT
SUMMARY:Numerične metode 1 (APM-2)\, Predavanja (P)
DTSTART;TZID=Europe/Ljubljana:20210113T080000
DTEND;TZID=Europe/Ljubljana:20210113T100000
DTSTAMP:20260424T142059Z
UID:fmf-AFLABS-URNIK:premaknjeno-srecanje:77673
ATTENDEE:2. letnik (APM)
CATEGORIES:Entry,Standard
COLOR:darkgreen
DESCRIPTION:Predmet: Numerične metode 1 (APM-2)\, Predavanja (P)\nLetniki
 : 2. letnik (APM)\nIzvajalci: Marjetka Knez\nProstor: 3.06
LOCATION:3.06
ORGANIZER:Marjetka Knez
RELATED-TO:fmf-AFLABS-URNIK:srecanje:5046
X-WR-TIMEZONE:Europe/Ljubljana
END:VEVENT
BEGIN:VEVENT
SUMMARY:Računalniško podprto (geometrijsko) oblikovanje (FM-M\, IŠRM-M\
 , MAT-M\, PM-5)\, Seminar (S)
DTSTART;TZID=Europe/Ljubljana:20201224T120000
DTEND;TZID=Europe/Ljubljana:20201224T150000
DTSTAMP:20260424T142059Z
UID:fmf-AFLABS-URNIK:premaknjeno-srecanje:94479
ATTENDEE:5. letnik (PM)
ATTENDEE:magistrski študij (FM)
ATTENDEE:magistrski študij (IŠRM)
ATTENDEE:magistrski študij (M)
CATEGORIES:Entry,Standard
COLOR:darkgreen
DESCRIPTION:Predmet: Računalniško podprto (geometrijsko) oblikovanje (FM
 -M\, IŠRM-M\, MAT-M\, PM-5)\, Seminar (S)\nLetniki: magistrski študij (F
 M)\, magistrski študij (IŠRM)\, magistrski študij (M)\, 5. letnik (PM)\
 nIzvajalci: Marjetka Knez\nProstor: 2.01
LOCATION:2.01
ORGANIZER:Marjetka Knez
RELATED-TO:fmf-AFLABS-URNIK:srecanje:5146
X-WR-TIMEZONE:Europe/Ljubljana
END:VEVENT
BEGIN:VEVENT
SUMMARY:Računalniško podprto (geometrijsko) oblikovanje (FM-M\, IŠRM-M\
 , MAT-M\, PM-5)\, Seminar (S)
DTSTART;TZID=Europe/Ljubljana:20201231T120000
DTEND;TZID=Europe/Ljubljana:20201231T150000
DTSTAMP:20260424T142059Z
UID:fmf-AFLABS-URNIK:premaknjeno-srecanje:94480
ATTENDEE:5. letnik (PM)
ATTENDEE:magistrski študij (FM)
ATTENDEE:magistrski študij (IŠRM)
ATTENDEE:magistrski študij (M)
CATEGORIES:Entry,Standard
COLOR:darkgreen
DESCRIPTION:Predmet: Računalniško podprto (geometrijsko) oblikovanje (FM
 -M\, IŠRM-M\, MAT-M\, PM-5)\, Seminar (S)\nLetniki: magistrski študij (F
 M)\, magistrski študij (IŠRM)\, magistrski študij (M)\, 5. letnik (PM)\
 nIzvajalci: Marjetka Knez\nProstor: 2.01
LOCATION:2.01
ORGANIZER:Marjetka Knez
RELATED-TO:fmf-AFLABS-URNIK:srecanje:5146
X-WR-TIMEZONE:Europe/Ljubljana
END:VEVENT
BEGIN:VEVENT
SUMMARY:Računalniško podprto (geometrijsko) oblikovanje (FM-M\, IŠRM-M\
 , MAT-M\, PM-5)\, Seminar (S)
DTSTART;TZID=Europe/Ljubljana:20210107T120000
DTEND;TZID=Europe/Ljubljana:20210107T150000
DTSTAMP:20260424T142059Z
UID:fmf-AFLABS-URNIK:premaknjeno-srecanje:94481
ATTENDEE:5. letnik (PM)
ATTENDEE:magistrski študij (FM)
ATTENDEE:magistrski študij (IŠRM)
ATTENDEE:magistrski študij (M)
CATEGORIES:Entry,Standard
COLOR:darkgreen
DESCRIPTION:Predmet: Računalniško podprto (geometrijsko) oblikovanje (FM
 -M\, IŠRM-M\, MAT-M\, PM-5)\, Seminar (S)\nLetniki: magistrski študij (F
 M)\, magistrski študij (IŠRM)\, magistrski študij (M)\, 5. letnik (PM)\
 nIzvajalci: Marjetka Knez\nProstor: 2.01
LOCATION:2.01
ORGANIZER:Marjetka Knez
RELATED-TO:fmf-AFLABS-URNIK:srecanje:5146
X-WR-TIMEZONE:Europe/Ljubljana
END:VEVENT
BEGIN:VEVENT
SUMMARY:Računalniško podprto (geometrijsko) oblikovanje (FM-M\, IŠRM-M\
 , MAT-M\, PM-5)\, Seminar (S)
DTSTART;TZID=Europe/Ljubljana:20210114T120000
DTEND;TZID=Europe/Ljubljana:20210114T150000
DTSTAMP:20260424T142059Z
UID:fmf-AFLABS-URNIK:premaknjeno-srecanje:94482
ATTENDEE:5. letnik (PM)
ATTENDEE:magistrski študij (FM)
ATTENDEE:magistrski študij (IŠRM)
ATTENDEE:magistrski študij (M)
CATEGORIES:Entry,Standard
COLOR:darkgreen
DESCRIPTION:Predmet: Računalniško podprto (geometrijsko) oblikovanje (FM
 -M\, IŠRM-M\, MAT-M\, PM-5)\, Seminar (S)\nLetniki: magistrski študij (F
 M)\, magistrski študij (IŠRM)\, magistrski študij (M)\, 5. letnik (PM)\
 nIzvajalci: Marjetka Knez\nProstor: 2.01
LOCATION:2.01
ORGANIZER:Marjetka Knez
RELATED-TO:fmf-AFLABS-URNIK:srecanje:5146
X-WR-TIMEZONE:Europe/Ljubljana
END:VEVENT
BEGIN:VEVENT
SUMMARY:Numerične metode 1 (APM-2)\, Predavanja (P)
DTSTART;TZID=Europe/Ljubljana:20210216T080000
DTEND;TZID=Europe/Ljubljana:20210216T100000
DTSTAMP:20260424T142059Z
UID:fmf-AFLABS-URNIK:premaknjeno-srecanje:77581
ATTENDEE:2. letnik (APM)
CATEGORIES:Entry,Standard
COLOR:darkgreen
DESCRIPTION:Predmet: Numerične metode 1 (APM-2)\, Predavanja (P)\nLetniki
 : 2. letnik (APM)\nIzvajalci: Marjetka Knez\nProstor: 3.11
LOCATION:3.11
ORGANIZER:Marjetka Knez
RELATED-TO:fmf-AFLABS-URNIK:srecanje:5778
X-WR-TIMEZONE:Europe/Ljubljana
END:VEVENT
BEGIN:VEVENT
SUMMARY:Numerične metode 1 (APM-2)\, Predavanja (P)
DTSTART;TZID=Europe/Ljubljana:20210223T080000
DTEND;TZID=Europe/Ljubljana:20210223T100000
DTSTAMP:20260424T142059Z
UID:fmf-AFLABS-URNIK:premaknjeno-srecanje:77582
ATTENDEE:2. letnik (APM)
CATEGORIES:Entry,Standard
COLOR:darkgreen
DESCRIPTION:Predmet: Numerične metode 1 (APM-2)\, Predavanja (P)\nLetniki
 : 2. letnik (APM)\nIzvajalci: Marjetka Knez\nProstor: 3.11
LOCATION:3.11
ORGANIZER:Marjetka Knez
RELATED-TO:fmf-AFLABS-URNIK:srecanje:5778
X-WR-TIMEZONE:Europe/Ljubljana
END:VEVENT
BEGIN:VEVENT
SUMMARY:Numerične metode 2 (FM-2\, IŠRM-3)\, Predavanja (P)
DTSTART;TZID=Europe/Ljubljana:20210216T100000
DTEND;TZID=Europe/Ljubljana:20210216T120000
DTSTAMP:20260424T142059Z
UID:fmf-AFLABS-URNIK:premaknjeno-srecanje:78271
ATTENDEE:2. letnik (FM)
ATTENDEE:3. letnik (IŠRM)
CATEGORIES:Entry,Standard
COLOR:darkgreen
DESCRIPTION:Predmet: Numerične metode 2 (FM-2\, IŠRM-3)\, Predavanja (P)
 \nLetniki: 2. letnik (FM)\, 3. letnik (IŠRM)\nIzvajalci: Marjetka Knez\nP
 rostor: 2.04
LOCATION:2.04
ORGANIZER:Marjetka Knez
RELATED-TO:fmf-AFLABS-URNIK:srecanje:5780
X-WR-TIMEZONE:Europe/Ljubljana
END:VEVENT
BEGIN:VEVENT
SUMMARY:Numerične metode 2 (FM-2\, IŠRM-3)\, Predavanja (P)
DTSTART;TZID=Europe/Ljubljana:20210223T100000
DTEND;TZID=Europe/Ljubljana:20210223T120000
DTSTAMP:20260424T142059Z
UID:fmf-AFLABS-URNIK:premaknjeno-srecanje:78272
ATTENDEE:2. letnik (FM)
ATTENDEE:3. letnik (IŠRM)
CATEGORIES:Entry,Standard
COLOR:darkgreen
DESCRIPTION:Predmet: Numerične metode 2 (FM-2\, IŠRM-3)\, Predavanja (P)
 \nLetniki: 2. letnik (FM)\, 3. letnik (IŠRM)\nIzvajalci: Marjetka Knez\nP
 rostor: 2.04
LOCATION:2.04
ORGANIZER:Marjetka Knez
RELATED-TO:fmf-AFLABS-URNIK:srecanje:5780
X-WR-TIMEZONE:Europe/Ljubljana
END:VEVENT
END:VCALENDAR
