BEGIN:VCALENDAR
VERSION:2.0
PRODID:-//AFLabs urnik izvoz - fmf//aflabs.si//SI
DTSTAMP:20260423T223410Z
NAME:UL FMF urnik
REFRESH-INTERVAL:PT1H
SOURCE:https://urnik.fmf.uni-lj.si/teacher/263?day=2021-06-28&export=1
URL:https://urnik.fmf.uni-lj.si/teacher/263?day=2021-06-28&export=1
X-PUBLISHED-TTL:PT1H
X-WR-CALNAME:UL FMF urnik
X-WR-TIMEZONE:Europe/Ljubljana
BEGIN:VTIMEZONE
TZID:Europe/Ljubljana
BEGIN:DAYLIGHT
DTSTART:20260329T020000
RDATE:20260329T020000
RDATE:20270328T020000
TZNAME:CEST
TZOFFSETFROM:+0100
TZOFFSETTO:+0200
END:DAYLIGHT
BEGIN:STANDARD
DTSTART:20261025T030000
RDATE:20261025T030000
RDATE:20271031T030000
TZNAME:CET
TZOFFSETFROM:+0200
TZOFFSETTO:+0100
END:STANDARD
END:VTIMEZONE
BEGIN:VEVENT
SUMMARY:Matematika s statistiko (FKKT) ()\, Vaje (V)
DTSTART;TZID=Europe/Ljubljana:20210524T150000
DTEND;TZID=Europe/Ljubljana:20210524T170000
DTSTAMP:20260423T223410Z
UID:fmf-AFLABS-URNIK:premaknjeno-srecanje:67382
CATEGORIES:Entry,Standard
COLOR:darkgreen
DESCRIPTION:Predmet: Matematika s statistiko (FKKT) ()\, Vaje (V)\nLetniki
 : \nIzvajalci: Leon Lampret\nProstor: FKKT
LOCATION:FKKT
ORGANIZER:Leon Lampret
RELATED-TO:fmf-AFLABS-URNIK:srecanje:6059
X-WR-TIMEZONE:Europe/Ljubljana
END:VEVENT
BEGIN:VEVENT
SUMMARY:Matematika s statistiko (FKKT) ()\, Vaje (V)
DTSTART;TZID=Europe/Ljubljana:20210531T150000
DTEND;TZID=Europe/Ljubljana:20210531T170000
DTSTAMP:20260423T223410Z
UID:fmf-AFLABS-URNIK:premaknjeno-srecanje:67383
CATEGORIES:Entry,Standard
COLOR:darkgreen
DESCRIPTION:Predmet: Matematika s statistiko (FKKT) ()\, Vaje (V)\nLetniki
 : \nIzvajalci: Leon Lampret\nProstor: FKKT
LOCATION:FKKT
ORGANIZER:Leon Lampret
RELATED-TO:fmf-AFLABS-URNIK:srecanje:6059
X-WR-TIMEZONE:Europe/Ljubljana
END:VEVENT
BEGIN:VEVENT
SUMMARY:Matematika s statistiko (FKKT) ()\, Vaje (V)
DTSTART;TZID=Europe/Ljubljana:20210524T170000
DTEND;TZID=Europe/Ljubljana:20210524T190000
DTSTAMP:20260423T223410Z
UID:fmf-AFLABS-URNIK:premaknjeno-srecanje:67414
CATEGORIES:Entry,Standard
COLOR:darkgreen
DESCRIPTION:Predmet: Matematika s statistiko (FKKT) ()\, Vaje (V)\nLetniki
 : \nIzvajalci: Leon Lampret\nProstor: FKKT
LOCATION:FKKT
ORGANIZER:Leon Lampret
RELATED-TO:fmf-AFLABS-URNIK:srecanje:6057
X-WR-TIMEZONE:Europe/Ljubljana
END:VEVENT
BEGIN:VEVENT
SUMMARY:Matematika s statistiko (FKKT) ()\, Vaje (V)
DTSTART;TZID=Europe/Ljubljana:20210531T170000
DTEND;TZID=Europe/Ljubljana:20210531T190000
DTSTAMP:20260423T223410Z
UID:fmf-AFLABS-URNIK:premaknjeno-srecanje:67415
CATEGORIES:Entry,Standard
COLOR:darkgreen
DESCRIPTION:Predmet: Matematika s statistiko (FKKT) ()\, Vaje (V)\nLetniki
 : \nIzvajalci: Leon Lampret\nProstor: FKKT
LOCATION:FKKT
ORGANIZER:Leon Lampret
RELATED-TO:fmf-AFLABS-URNIK:srecanje:6057
X-WR-TIMEZONE:Europe/Ljubljana
END:VEVENT
BEGIN:VEVENT
SUMMARY:Matematika 1 (APF-1\, APM-1)\, Vaje (V)
DTSTART;TZID=Europe/Ljubljana:20210525T120000
DTEND;TZID=Europe/Ljubljana:20210525T140000
DTSTAMP:20260423T223410Z
UID:fmf-AFLABS-URNIK:premaknjeno-srecanje:62507
ATTENDEE:1. letnik (APM)
ATTENDEE:1. letnik (Aplikativna fizika)
CATEGORIES:Entry,Standard
COLOR:darkgreen
DESCRIPTION:Predmet: Matematika 1 (APF-1\, APM-1)\, Vaje (V)\nLetniki: 1. 
 letnik (Aplikativna fizika)\, 1. letnik (APM)\nIzvajalci: Leon Lampret\nPr
 ostor: P.02
LOCATION:P.02
ORGANIZER:Leon Lampret
RELATED-TO:fmf-AFLABS-URNIK:srecanje:5703
X-WR-TIMEZONE:Europe/Ljubljana
END:VEVENT
BEGIN:VEVENT
SUMMARY:Analiza 2b (MAT-2\, PM-2)\, Vaje (V)
DTSTART;TZID=Europe/Ljubljana:20210527T070000
DTEND;TZID=Europe/Ljubljana:20210527T100000
DTSTAMP:20260423T223410Z
UID:fmf-AFLABS-URNIK:premaknjeno-srecanje:7766
ATTENDEE:2. letnik (M)
ATTENDEE:2. letnik (PM)
CATEGORIES:Entry,Standard
COLOR:darkgreen
DESCRIPTION:Predmet: Analiza 2b (MAT-2\, PM-2)\, Vaje (V)\nLetniki: 2. let
 nik (M)\, 2. letnik (PM)\nIzvajalci: Leon Lampret\nProstor: Na daljavo
LOCATION:Na daljavo
ORGANIZER:Leon Lampret
RELATED-TO:fmf-AFLABS-URNIK:srecanje:6039
X-WR-TIMEZONE:Europe/Ljubljana
END:VEVENT
BEGIN:VEVENT
SUMMARY:Matematika (FKKT) ()\, Vaje (V)
DTSTART;TZID=Europe/Ljubljana:20210527T150000
DTEND;TZID=Europe/Ljubljana:20210527T170000
DTSTAMP:20260423T223410Z
UID:fmf-AFLABS-URNIK:premaknjeno-srecanje:61695
CATEGORIES:Entry,Standard
COLOR:darkgreen
DESCRIPTION:Predmet: Matematika (FKKT) ()\, Vaje (V)\nLetniki: \nIzvajalci
 : Leon Lampret\nProstor: FKKT
LOCATION:FKKT
ORGANIZER:Leon Lampret
RELATED-TO:fmf-AFLABS-URNIK:srecanje:5698
X-WR-TIMEZONE:Europe/Ljubljana
END:VEVENT
BEGIN:VEVENT
SUMMARY:Matematika (FKKT) ()\, Vaje (V)
DTSTART;TZID=Europe/Ljubljana:20210527T170000
DTEND;TZID=Europe/Ljubljana:20210527T190000
DTSTAMP:20260423T223410Z
UID:fmf-AFLABS-URNIK:premaknjeno-srecanje:61726
CATEGORIES:Entry,Standard
COLOR:darkgreen
DESCRIPTION:Predmet: Matematika (FKKT) ()\, Vaje (V)\nLetniki: \nIzvajalci
 : Leon Lampret\nProstor: FKKT
LOCATION:FKKT
ORGANIZER:Leon Lampret
RELATED-TO:fmf-AFLABS-URNIK:srecanje:5697
X-WR-TIMEZONE:Europe/Ljubljana
END:VEVENT
BEGIN:VEVENT
SUMMARY:Matematika 1 (APF-1\, APM-1)\, Vaje (V)
DTSTART;TZID=Europe/Ljubljana:20210528T100000
DTEND;TZID=Europe/Ljubljana:20210528T120000
DTSTAMP:20260423T223410Z
UID:fmf-AFLABS-URNIK:premaknjeno-srecanje:62600
ATTENDEE:1. letnik (APM)
ATTENDEE:1. letnik (Aplikativna fizika)
CATEGORIES:Entry,Standard
COLOR:darkgreen
DESCRIPTION:Predmet: Matematika 1 (APF-1\, APM-1)\, Vaje (V)\nLetniki: 1. 
 letnik (Aplikativna fizika)\, 1. letnik (APM)\nIzvajalci: Leon Lampret\nPr
 ostor: P.02
LOCATION:P.02
ORGANIZER:Leon Lampret
RELATED-TO:fmf-AFLABS-URNIK:srecanje:5704
X-WR-TIMEZONE:Europe/Ljubljana
END:VEVENT
BEGIN:VEVENT
SUMMARY:Rezervacija
DTSTART;TZID=Europe/Ljubljana:20210609T100000
DTEND;TZID=Europe/Ljubljana:20210609T120000
DTSTAMP:20260423T223410Z
UID:fmf-AFLABS-URNIK:rezervacija:6798
CATEGORIES:Reservation
COLOR:royalblue
DESCRIPTION:Predmeti: \nLetniki: \nIzvajalci: Leon Lampret\nProstori: 2.05
LOCATION:2.05
ORGANIZER:Leon Lampret
X-WR-TIMEZONE:Europe/Ljubljana
END:VEVENT
END:VCALENDAR
