BEGIN:VCALENDAR
VERSION:2.0
PRODID:-//AFLabs urnik izvoz - fmf//aflabs.si//SI
DTSTAMP:20260426T042650Z
NAME:UL FMF urnik
REFRESH-INTERVAL:PT1H
SOURCE:https://urnik.fmf.uni-lj.si/teacher/263?day=2023-02-06&export=1
URL:https://urnik.fmf.uni-lj.si/teacher/263?day=2023-02-06&export=1
X-PUBLISHED-TTL:PT1H
X-WR-CALNAME:UL FMF urnik
X-WR-TIMEZONE:Europe/Ljubljana
BEGIN:VTIMEZONE
TZID:Europe/Ljubljana
BEGIN:DAYLIGHT
DTSTART:20260329T020000
RDATE:20260329T020000
RDATE:20270328T020000
TZNAME:CEST
TZOFFSETFROM:+0100
TZOFFSETTO:+0200
END:DAYLIGHT
BEGIN:STANDARD
DTSTART:20261025T030000
RDATE:20261025T030000
RDATE:20271031T030000
TZNAME:CET
TZOFFSETFROM:+0200
TZOFFSETTO:+0100
END:STANDARD
END:VTIMEZONE
BEGIN:VEVENT
SUMMARY:Matematika (FFA) ()\, Vaje (V)
DTSTART;TZID=Europe/Ljubljana:20230102T100000
DTEND;TZID=Europe/Ljubljana:20230102T120000
DTSTAMP:20260426T042650Z
UID:fmf-AFLABS-URNIK:premaknjeno-srecanje:61270
CATEGORIES:Entry,Standard
COLOR:darkgreen
DESCRIPTION:Predmet: Matematika (FFA) ()\, Vaje (V)\nLetniki: \nIzvajalci:
  Leon Lampret\nProstor: ILIRIJA
LOCATION:ILIRIJA
ORGANIZER:Leon Lampret
RELATED-TO:fmf-AFLABS-URNIK:srecanje:7768
X-WR-TIMEZONE:Europe/Ljubljana
END:VEVENT
BEGIN:VEVENT
SUMMARY:Matematika (FFA) ()\, Vaje (V)
DTSTART;TZID=Europe/Ljubljana:20230109T100000
DTEND;TZID=Europe/Ljubljana:20230109T120000
DTSTAMP:20260426T042650Z
UID:fmf-AFLABS-URNIK:premaknjeno-srecanje:61271
CATEGORIES:Entry,Standard
COLOR:darkgreen
DESCRIPTION:Predmet: Matematika (FFA) ()\, Vaje (V)\nLetniki: \nIzvajalci:
  Leon Lampret\nProstor: ILIRIJA
LOCATION:ILIRIJA
ORGANIZER:Leon Lampret
RELATED-TO:fmf-AFLABS-URNIK:srecanje:7768
X-WR-TIMEZONE:Europe/Ljubljana
END:VEVENT
BEGIN:VEVENT
SUMMARY:Matematika (FFA) ()\, Vaje (V)
DTSTART;TZID=Europe/Ljubljana:20230116T100000
DTEND;TZID=Europe/Ljubljana:20230116T120000
DTSTAMP:20260426T042650Z
UID:fmf-AFLABS-URNIK:premaknjeno-srecanje:61272
CATEGORIES:Entry,Standard
COLOR:darkgreen
DESCRIPTION:Predmet: Matematika (FFA) ()\, Vaje (V)\nLetniki: \nIzvajalci:
  Leon Lampret\nProstor: ILIRIJA
LOCATION:ILIRIJA
ORGANIZER:Leon Lampret
RELATED-TO:fmf-AFLABS-URNIK:srecanje:7768
X-WR-TIMEZONE:Europe/Ljubljana
END:VEVENT
BEGIN:VEVENT
SUMMARY:Matematika s statistiko (FKKT) ()\, Vaje (V)
DTSTART;TZID=Europe/Ljubljana:20230102T140000
DTEND;TZID=Europe/Ljubljana:20230102T160000
DTSTAMP:20260426T042650Z
UID:fmf-AFLABS-URNIK:premaknjeno-srecanje:67365
CATEGORIES:Entry,Standard
COLOR:darkgreen
DESCRIPTION:Predmet: Matematika s statistiko (FKKT) ()\, Vaje (V)\nLetniki
 : \nIzvajalci: Leon Lampret\nProstor: FKKT
LOCATION:FKKT
ORGANIZER:Leon Lampret
RELATED-TO:fmf-AFLABS-URNIK:srecanje:7807
X-WR-TIMEZONE:Europe/Ljubljana
END:VEVENT
BEGIN:VEVENT
SUMMARY:Matematika s statistiko (FKKT) ()\, Vaje (V)
DTSTART;TZID=Europe/Ljubljana:20230109T140000
DTEND;TZID=Europe/Ljubljana:20230109T160000
DTSTAMP:20260426T042650Z
UID:fmf-AFLABS-URNIK:premaknjeno-srecanje:67366
CATEGORIES:Entry,Standard
COLOR:darkgreen
DESCRIPTION:Predmet: Matematika s statistiko (FKKT) ()\, Vaje (V)\nLetniki
 : \nIzvajalci: Leon Lampret\nProstor: FKKT
LOCATION:FKKT
ORGANIZER:Leon Lampret
RELATED-TO:fmf-AFLABS-URNIK:srecanje:7807
X-WR-TIMEZONE:Europe/Ljubljana
END:VEVENT
BEGIN:VEVENT
SUMMARY:Matematika s statistiko (FKKT) ()\, Vaje (V)
DTSTART;TZID=Europe/Ljubljana:20230116T140000
DTEND;TZID=Europe/Ljubljana:20230116T160000
DTSTAMP:20260426T042650Z
UID:fmf-AFLABS-URNIK:premaknjeno-srecanje:67367
CATEGORIES:Entry,Standard
COLOR:darkgreen
DESCRIPTION:Predmet: Matematika s statistiko (FKKT) ()\, Vaje (V)\nLetniki
 : \nIzvajalci: Leon Lampret\nProstor: FKKT
LOCATION:FKKT
ORGANIZER:Leon Lampret
RELATED-TO:fmf-AFLABS-URNIK:srecanje:7807
X-WR-TIMEZONE:Europe/Ljubljana
END:VEVENT
BEGIN:VEVENT
SUMMARY:Matematika (FKKT) ()\, Vaje (V)
DTSTART;TZID=Europe/Ljubljana:20230103T140000
DTEND;TZID=Europe/Ljubljana:20230103T160000
DTSTAMP:20260426T042650Z
UID:fmf-AFLABS-URNIK:premaknjeno-srecanje:61617
CATEGORIES:Entry,Standard
COLOR:darkgreen
DESCRIPTION:Predmet: Matematika (FKKT) ()\, Vaje (V)\nLetniki: \nIzvajalci
 : Leon Lampret\nProstor: FKKT
LOCATION:FKKT
ORGANIZER:Leon Lampret
RELATED-TO:fmf-AFLABS-URNIK:srecanje:7771
X-WR-TIMEZONE:Europe/Ljubljana
END:VEVENT
BEGIN:VEVENT
SUMMARY:Matematika (FKKT) ()\, Vaje (V)
DTSTART;TZID=Europe/Ljubljana:20230110T140000
DTEND;TZID=Europe/Ljubljana:20230110T160000
DTSTAMP:20260426T042650Z
UID:fmf-AFLABS-URNIK:premaknjeno-srecanje:61618
CATEGORIES:Entry,Standard
COLOR:darkgreen
DESCRIPTION:Predmet: Matematika (FKKT) ()\, Vaje (V)\nLetniki: \nIzvajalci
 : Leon Lampret\nProstor: FKKT
LOCATION:FKKT
ORGANIZER:Leon Lampret
RELATED-TO:fmf-AFLABS-URNIK:srecanje:7771
X-WR-TIMEZONE:Europe/Ljubljana
END:VEVENT
BEGIN:VEVENT
SUMMARY:Matematika (FFA) ()\, Vaje (V)
DTSTART;TZID=Europe/Ljubljana:20230105T100000
DTEND;TZID=Europe/Ljubljana:20230105T120000
DTSTAMP:20260426T042650Z
UID:fmf-AFLABS-URNIK:premaknjeno-srecanje:61462
CATEGORIES:Entry,Standard
COLOR:darkgreen
DESCRIPTION:Predmet: Matematika (FFA) ()\, Vaje (V)\nLetniki: \nIzvajalci:
  Leon Lampret\nProstor: P2 (FFA)
LOCATION:P2 (FFA)
ORGANIZER:Leon Lampret
RELATED-TO:fmf-AFLABS-URNIK:srecanje:7770
X-WR-TIMEZONE:Europe/Ljubljana
END:VEVENT
BEGIN:VEVENT
SUMMARY:Matematika (FFA) ()\, Vaje (V)
DTSTART;TZID=Europe/Ljubljana:20230112T100000
DTEND;TZID=Europe/Ljubljana:20230112T120000
DTSTAMP:20260426T042650Z
UID:fmf-AFLABS-URNIK:premaknjeno-srecanje:61463
CATEGORIES:Entry,Standard
COLOR:darkgreen
DESCRIPTION:Predmet: Matematika (FFA) ()\, Vaje (V)\nLetniki: \nIzvajalci:
  Leon Lampret\nProstor: P2 (FFA)
LOCATION:P2 (FFA)
ORGANIZER:Leon Lampret
RELATED-TO:fmf-AFLABS-URNIK:srecanje:7770
X-WR-TIMEZONE:Europe/Ljubljana
END:VEVENT
BEGIN:VEVENT
SUMMARY:Matematika (FKKT) ()\, Vaje (V)
DTSTART;TZID=Europe/Ljubljana:20230105T120000
DTEND;TZID=Europe/Ljubljana:20230105T140000
DTSTAMP:20260426T042650Z
UID:fmf-AFLABS-URNIK:premaknjeno-srecanje:61679
CATEGORIES:Entry,Standard
COLOR:darkgreen
DESCRIPTION:Predmet: Matematika (FKKT) ()\, Vaje (V)\nLetniki: \nIzvajalci
 : Leon Lampret\nProstor: FKKT
LOCATION:FKKT
ORGANIZER:Leon Lampret
RELATED-TO:fmf-AFLABS-URNIK:srecanje:7772
X-WR-TIMEZONE:Europe/Ljubljana
END:VEVENT
BEGIN:VEVENT
SUMMARY:Matematika (FKKT) ()\, Vaje (V)
DTSTART;TZID=Europe/Ljubljana:20230112T120000
DTEND;TZID=Europe/Ljubljana:20230112T140000
DTSTAMP:20260426T042650Z
UID:fmf-AFLABS-URNIK:premaknjeno-srecanje:61680
CATEGORIES:Entry,Standard
COLOR:darkgreen
DESCRIPTION:Predmet: Matematika (FKKT) ()\, Vaje (V)\nLetniki: \nIzvajalci
 : Leon Lampret\nProstor: FKKT
LOCATION:FKKT
ORGANIZER:Leon Lampret
RELATED-TO:fmf-AFLABS-URNIK:srecanje:7772
X-WR-TIMEZONE:Europe/Ljubljana
END:VEVENT
BEGIN:VEVENT
SUMMARY:Matematika 1 (TV FKKT) ()\, Vaje (V)
DTSTART;TZID=Europe/Ljubljana:20230105T140000
DTEND;TZID=Europe/Ljubljana:20230105T160000
DTSTAMP:20260426T042650Z
UID:fmf-AFLABS-URNIK:premaknjeno-srecanje:63143
CATEGORIES:Entry,Standard
COLOR:darkgreen
DESCRIPTION:Predmet: Matematika 1 (TV FKKT) ()\, Vaje (V)\nLetniki: \nIzva
 jalci: Leon Lampret\nProstor: FKKT
LOCATION:FKKT
ORGANIZER:Leon Lampret
RELATED-TO:fmf-AFLABS-URNIK:srecanje:7777
X-WR-TIMEZONE:Europe/Ljubljana
END:VEVENT
BEGIN:VEVENT
SUMMARY:Matematika 1 (TV FKKT) ()\, Vaje (V)
DTSTART;TZID=Europe/Ljubljana:20230112T140000
DTEND;TZID=Europe/Ljubljana:20230112T160000
DTSTAMP:20260426T042650Z
UID:fmf-AFLABS-URNIK:premaknjeno-srecanje:63144
CATEGORIES:Entry,Standard
COLOR:darkgreen
DESCRIPTION:Predmet: Matematika 1 (TV FKKT) ()\, Vaje (V)\nLetniki: \nIzva
 jalci: Leon Lampret\nProstor: FKKT
LOCATION:FKKT
ORGANIZER:Leon Lampret
RELATED-TO:fmf-AFLABS-URNIK:srecanje:7777
X-WR-TIMEZONE:Europe/Ljubljana
END:VEVENT
BEGIN:VEVENT
SUMMARY:Matematika s statistiko (FKKT) ()\, Vaje (V)
DTSTART;TZID=Europe/Ljubljana:20230213T150000
DTEND;TZID=Europe/Ljubljana:20230213T170000
DTSTAMP:20260426T042650Z
UID:fmf-AFLABS-URNIK:premaknjeno-srecanje:67384
CATEGORIES:Entry,Standard
COLOR:darkgreen
DESCRIPTION:Predmet: Matematika s statistiko (FKKT) ()\, Vaje (V)\nLetniki
 : \nIzvajalci: Leon Lampret\nProstor: FKKT
LOCATION:FKKT
ORGANIZER:Leon Lampret
RELATED-TO:fmf-AFLABS-URNIK:srecanje:8527
X-WR-TIMEZONE:Europe/Ljubljana
END:VEVENT
BEGIN:VEVENT
SUMMARY:Matematika s statistiko (FKKT) ()\, Vaje (V)
DTSTART;TZID=Europe/Ljubljana:20230220T150000
DTEND;TZID=Europe/Ljubljana:20230220T170000
DTSTAMP:20260426T042650Z
UID:fmf-AFLABS-URNIK:premaknjeno-srecanje:67385
CATEGORIES:Entry,Standard
COLOR:darkgreen
DESCRIPTION:Predmet: Matematika s statistiko (FKKT) ()\, Vaje (V)\nLetniki
 : \nIzvajalci: Leon Lampret\nProstor: FKKT
LOCATION:FKKT
ORGANIZER:Leon Lampret
RELATED-TO:fmf-AFLABS-URNIK:srecanje:8527
X-WR-TIMEZONE:Europe/Ljubljana
END:VEVENT
BEGIN:VEVENT
SUMMARY:Matematika s statistiko (FKKT) ()\, Vaje (V)
DTSTART;TZID=Europe/Ljubljana:20230227T150000
DTEND;TZID=Europe/Ljubljana:20230227T170000
DTSTAMP:20260426T042650Z
UID:fmf-AFLABS-URNIK:premaknjeno-srecanje:67386
CATEGORIES:Entry,Standard
COLOR:darkgreen
DESCRIPTION:Predmet: Matematika s statistiko (FKKT) ()\, Vaje (V)\nLetniki
 : \nIzvajalci: Leon Lampret\nProstor: FKKT
LOCATION:FKKT
ORGANIZER:Leon Lampret
RELATED-TO:fmf-AFLABS-URNIK:srecanje:8527
X-WR-TIMEZONE:Europe/Ljubljana
END:VEVENT
BEGIN:VEVENT
SUMMARY:Matematika s statistiko (FKKT) ()\, Vaje (V)
DTSTART;TZID=Europe/Ljubljana:20230306T150000
DTEND;TZID=Europe/Ljubljana:20230306T170000
DTSTAMP:20260426T042650Z
UID:fmf-AFLABS-URNIK:premaknjeno-srecanje:67387
CATEGORIES:Entry,Standard
COLOR:darkgreen
DESCRIPTION:Predmet: Matematika s statistiko (FKKT) ()\, Vaje (V)\nLetniki
 : \nIzvajalci: Leon Lampret\nProstor: FKKT
LOCATION:FKKT
ORGANIZER:Leon Lampret
RELATED-TO:fmf-AFLABS-URNIK:srecanje:8527
X-WR-TIMEZONE:Europe/Ljubljana
END:VEVENT
BEGIN:VEVENT
SUMMARY:Matematika s statistiko (FKKT) ()\, Vaje (V)
DTSTART;TZID=Europe/Ljubljana:20230313T150000
DTEND;TZID=Europe/Ljubljana:20230313T170000
DTSTAMP:20260426T042650Z
UID:fmf-AFLABS-URNIK:premaknjeno-srecanje:67388
CATEGORIES:Entry,Standard
COLOR:darkgreen
DESCRIPTION:Predmet: Matematika s statistiko (FKKT) ()\, Vaje (V)\nLetniki
 : \nIzvajalci: Leon Lampret\nProstor: FKKT
LOCATION:FKKT
ORGANIZER:Leon Lampret
RELATED-TO:fmf-AFLABS-URNIK:srecanje:8527
X-WR-TIMEZONE:Europe/Ljubljana
END:VEVENT
BEGIN:VEVENT
SUMMARY:Matematika s statistiko (FKKT) ()\, Vaje (V)
DTSTART;TZID=Europe/Ljubljana:20230213T170000
DTEND;TZID=Europe/Ljubljana:20230213T190000
DTSTAMP:20260426T042650Z
UID:fmf-AFLABS-URNIK:premaknjeno-srecanje:67416
CATEGORIES:Entry,Standard
COLOR:darkgreen
DESCRIPTION:Predmet: Matematika s statistiko (FKKT) ()\, Vaje (V)\nLetniki
 : \nIzvajalci: Leon Lampret\nProstor: FKKT
LOCATION:FKKT
ORGANIZER:Leon Lampret
RELATED-TO:fmf-AFLABS-URNIK:srecanje:8528
X-WR-TIMEZONE:Europe/Ljubljana
END:VEVENT
BEGIN:VEVENT
SUMMARY:Matematika s statistiko (FKKT) ()\, Vaje (V)
DTSTART;TZID=Europe/Ljubljana:20230220T170000
DTEND;TZID=Europe/Ljubljana:20230220T190000
DTSTAMP:20260426T042650Z
UID:fmf-AFLABS-URNIK:premaknjeno-srecanje:67417
CATEGORIES:Entry,Standard
COLOR:darkgreen
DESCRIPTION:Predmet: Matematika s statistiko (FKKT) ()\, Vaje (V)\nLetniki
 : \nIzvajalci: Leon Lampret\nProstor: FKKT
LOCATION:FKKT
ORGANIZER:Leon Lampret
RELATED-TO:fmf-AFLABS-URNIK:srecanje:8528
X-WR-TIMEZONE:Europe/Ljubljana
END:VEVENT
BEGIN:VEVENT
SUMMARY:Matematika s statistiko (FKKT) ()\, Vaje (V)
DTSTART;TZID=Europe/Ljubljana:20230227T170000
DTEND;TZID=Europe/Ljubljana:20230227T190000
DTSTAMP:20260426T042650Z
UID:fmf-AFLABS-URNIK:premaknjeno-srecanje:67418
CATEGORIES:Entry,Standard
COLOR:darkgreen
DESCRIPTION:Predmet: Matematika s statistiko (FKKT) ()\, Vaje (V)\nLetniki
 : \nIzvajalci: Leon Lampret\nProstor: FKKT
LOCATION:FKKT
ORGANIZER:Leon Lampret
RELATED-TO:fmf-AFLABS-URNIK:srecanje:8528
X-WR-TIMEZONE:Europe/Ljubljana
END:VEVENT
BEGIN:VEVENT
SUMMARY:Matematika s statistiko (FKKT) ()\, Vaje (V)
DTSTART;TZID=Europe/Ljubljana:20230306T170000
DTEND;TZID=Europe/Ljubljana:20230306T190000
DTSTAMP:20260426T042650Z
UID:fmf-AFLABS-URNIK:premaknjeno-srecanje:67419
CATEGORIES:Entry,Standard
COLOR:darkgreen
DESCRIPTION:Predmet: Matematika s statistiko (FKKT) ()\, Vaje (V)\nLetniki
 : \nIzvajalci: Leon Lampret\nProstor: FKKT
LOCATION:FKKT
ORGANIZER:Leon Lampret
RELATED-TO:fmf-AFLABS-URNIK:srecanje:8528
X-WR-TIMEZONE:Europe/Ljubljana
END:VEVENT
BEGIN:VEVENT
SUMMARY:Matematika s statistiko (FKKT) ()\, Vaje (V)
DTSTART;TZID=Europe/Ljubljana:20230313T170000
DTEND;TZID=Europe/Ljubljana:20230313T190000
DTSTAMP:20260426T042650Z
UID:fmf-AFLABS-URNIK:premaknjeno-srecanje:67420
CATEGORIES:Entry,Standard
COLOR:darkgreen
DESCRIPTION:Predmet: Matematika s statistiko (FKKT) ()\, Vaje (V)\nLetniki
 : \nIzvajalci: Leon Lampret\nProstor: FKKT
LOCATION:FKKT
ORGANIZER:Leon Lampret
RELATED-TO:fmf-AFLABS-URNIK:srecanje:8528
X-WR-TIMEZONE:Europe/Ljubljana
END:VEVENT
BEGIN:VEVENT
SUMMARY:Matematika (FKKT) ()\, Vaje (V)
DTSTART;TZID=Europe/Ljubljana:20230216T150000
DTEND;TZID=Europe/Ljubljana:20230216T170000
DTSTAMP:20260426T042650Z
UID:fmf-AFLABS-URNIK:premaknjeno-srecanje:61696
CATEGORIES:Entry,Standard
COLOR:darkgreen
DESCRIPTION:Predmet: Matematika (FKKT) ()\, Vaje (V)\nLetniki: \nIzvajalci
 : Leon Lampret\nProstor: FKKT
LOCATION:FKKT
ORGANIZER:Leon Lampret
RELATED-TO:fmf-AFLABS-URNIK:srecanje:8504
X-WR-TIMEZONE:Europe/Ljubljana
END:VEVENT
BEGIN:VEVENT
SUMMARY:Matematika (FKKT) ()\, Vaje (V)
DTSTART;TZID=Europe/Ljubljana:20230223T150000
DTEND;TZID=Europe/Ljubljana:20230223T170000
DTSTAMP:20260426T042650Z
UID:fmf-AFLABS-URNIK:premaknjeno-srecanje:61697
CATEGORIES:Entry,Standard
COLOR:darkgreen
DESCRIPTION:Predmet: Matematika (FKKT) ()\, Vaje (V)\nLetniki: \nIzvajalci
 : Leon Lampret\nProstor: FKKT
LOCATION:FKKT
ORGANIZER:Leon Lampret
RELATED-TO:fmf-AFLABS-URNIK:srecanje:8504
X-WR-TIMEZONE:Europe/Ljubljana
END:VEVENT
BEGIN:VEVENT
SUMMARY:Matematika (FKKT) ()\, Vaje (V)
DTSTART;TZID=Europe/Ljubljana:20230302T150000
DTEND;TZID=Europe/Ljubljana:20230302T170000
DTSTAMP:20260426T042650Z
UID:fmf-AFLABS-URNIK:premaknjeno-srecanje:61698
CATEGORIES:Entry,Standard
COLOR:darkgreen
DESCRIPTION:Predmet: Matematika (FKKT) ()\, Vaje (V)\nLetniki: \nIzvajalci
 : Leon Lampret\nProstor: FKKT
LOCATION:FKKT
ORGANIZER:Leon Lampret
RELATED-TO:fmf-AFLABS-URNIK:srecanje:8504
X-WR-TIMEZONE:Europe/Ljubljana
END:VEVENT
BEGIN:VEVENT
SUMMARY:Matematika (FKKT) ()\, Vaje (V)
DTSTART;TZID=Europe/Ljubljana:20230309T150000
DTEND;TZID=Europe/Ljubljana:20230309T170000
DTSTAMP:20260426T042650Z
UID:fmf-AFLABS-URNIK:premaknjeno-srecanje:61699
CATEGORIES:Entry,Standard
COLOR:darkgreen
DESCRIPTION:Predmet: Matematika (FKKT) ()\, Vaje (V)\nLetniki: \nIzvajalci
 : Leon Lampret\nProstor: FKKT
LOCATION:FKKT
ORGANIZER:Leon Lampret
RELATED-TO:fmf-AFLABS-URNIK:srecanje:8504
X-WR-TIMEZONE:Europe/Ljubljana
END:VEVENT
BEGIN:VEVENT
SUMMARY:Matematika (FKKT) ()\, Vaje (V)
DTSTART;TZID=Europe/Ljubljana:20230216T170000
DTEND;TZID=Europe/Ljubljana:20230216T190000
DTSTAMP:20260426T042650Z
UID:fmf-AFLABS-URNIK:premaknjeno-srecanje:61727
CATEGORIES:Entry,Standard
COLOR:darkgreen
DESCRIPTION:Predmet: Matematika (FKKT) ()\, Vaje (V)\nLetniki: \nIzvajalci
 : Leon Lampret\nProstor: FKKT
LOCATION:FKKT
ORGANIZER:Leon Lampret
RELATED-TO:fmf-AFLABS-URNIK:srecanje:8505
X-WR-TIMEZONE:Europe/Ljubljana
END:VEVENT
BEGIN:VEVENT
SUMMARY:Matematika (FKKT) ()\, Vaje (V)
DTSTART;TZID=Europe/Ljubljana:20230223T170000
DTEND;TZID=Europe/Ljubljana:20230223T190000
DTSTAMP:20260426T042650Z
UID:fmf-AFLABS-URNIK:premaknjeno-srecanje:61728
CATEGORIES:Entry,Standard
COLOR:darkgreen
DESCRIPTION:Predmet: Matematika (FKKT) ()\, Vaje (V)\nLetniki: \nIzvajalci
 : Leon Lampret\nProstor: FKKT
LOCATION:FKKT
ORGANIZER:Leon Lampret
RELATED-TO:fmf-AFLABS-URNIK:srecanje:8505
X-WR-TIMEZONE:Europe/Ljubljana
END:VEVENT
BEGIN:VEVENT
SUMMARY:Matematika (FKKT) ()\, Vaje (V)
DTSTART;TZID=Europe/Ljubljana:20230302T170000
DTEND;TZID=Europe/Ljubljana:20230302T190000
DTSTAMP:20260426T042650Z
UID:fmf-AFLABS-URNIK:premaknjeno-srecanje:61729
CATEGORIES:Entry,Standard
COLOR:darkgreen
DESCRIPTION:Predmet: Matematika (FKKT) ()\, Vaje (V)\nLetniki: \nIzvajalci
 : Leon Lampret\nProstor: FKKT
LOCATION:FKKT
ORGANIZER:Leon Lampret
RELATED-TO:fmf-AFLABS-URNIK:srecanje:8505
X-WR-TIMEZONE:Europe/Ljubljana
END:VEVENT
BEGIN:VEVENT
SUMMARY:Matematika (FKKT) ()\, Vaje (V)
DTSTART;TZID=Europe/Ljubljana:20230309T170000
DTEND;TZID=Europe/Ljubljana:20230309T190000
DTSTAMP:20260426T042650Z
UID:fmf-AFLABS-URNIK:premaknjeno-srecanje:61730
CATEGORIES:Entry,Standard
COLOR:darkgreen
DESCRIPTION:Predmet: Matematika (FKKT) ()\, Vaje (V)\nLetniki: \nIzvajalci
 : Leon Lampret\nProstor: FKKT
LOCATION:FKKT
ORGANIZER:Leon Lampret
RELATED-TO:fmf-AFLABS-URNIK:srecanje:8505
X-WR-TIMEZONE:Europe/Ljubljana
END:VEVENT
END:VCALENDAR
