BEGIN:VCALENDAR
VERSION:2.0
PRODID:-//AFLabs urnik izvoz - fmf//aflabs.si//SI
DTSTAMP:20260425T122911Z
NAME:UL FMF urnik
REFRESH-INTERVAL:PT1H
SOURCE:https://urnik.fmf.uni-lj.si/teacher/26?day=2020-01-20&export=1
URL:https://urnik.fmf.uni-lj.si/teacher/26?day=2020-01-20&export=1
X-PUBLISHED-TTL:PT1H
X-WR-CALNAME:UL FMF urnik
X-WR-TIMEZONE:Europe/Ljubljana
BEGIN:VTIMEZONE
TZID:Europe/Ljubljana
BEGIN:DAYLIGHT
DTSTART:20260329T020000
RDATE:20260329T020000
RDATE:20270328T020000
TZNAME:CEST
TZOFFSETFROM:+0100
TZOFFSETTO:+0200
END:DAYLIGHT
BEGIN:STANDARD
DTSTART:20261025T030000
RDATE:20261025T030000
RDATE:20271031T030000
TZNAME:CET
TZOFFSETFROM:+0200
TZOFFSETTO:+0100
END:STANDARD
END:VTIMEZONE
BEGIN:VEVENT
SUMMARY:Verjetnost (APM-2)\, Vaje (V)
DTSTART;TZID=Europe/Ljubljana:20191217T140000
DTEND;TZID=Europe/Ljubljana:20191217T160000
DTSTAMP:20260425T122911Z
UID:fmf-AFLABS-URNIK:premaknjeno-srecanje:118553
ATTENDEE:2. letnik (APM)
CATEGORIES:Entry,Standard
COLOR:darkgreen
DESCRIPTION:Predmet: Verjetnost (APM-2)\, Vaje (V)\nLetniki: 2. letnik (AP
 M)\nIzvajalci: Gregor Šega\nProstor: 3.07
LOCATION:3.07
ORGANIZER:Gregor Šega
RELATED-TO:fmf-AFLABS-URNIK:srecanje:3819
X-WR-TIMEZONE:Europe/Ljubljana
END:VEVENT
BEGIN:VEVENT
SUMMARY:Verjetnost (APM-2)\, Vaje (V)
DTSTART;TZID=Europe/Ljubljana:20191224T140000
DTEND;TZID=Europe/Ljubljana:20191224T160000
DTSTAMP:20260425T122911Z
UID:fmf-AFLABS-URNIK:premaknjeno-srecanje:118554
ATTENDEE:2. letnik (APM)
CATEGORIES:Entry,Standard
COLOR:darkgreen
DESCRIPTION:Predmet: Verjetnost (APM-2)\, Vaje (V)\nLetniki: 2. letnik (AP
 M)\nIzvajalci: Gregor Šega\nProstor: 3.07
LOCATION:3.07
ORGANIZER:Gregor Šega
RELATED-TO:fmf-AFLABS-URNIK:srecanje:3819
X-WR-TIMEZONE:Europe/Ljubljana
END:VEVENT
BEGIN:VEVENT
SUMMARY:Verjetnost (APM-2)\, Vaje (V)
DTSTART;TZID=Europe/Ljubljana:20191231T140000
DTEND;TZID=Europe/Ljubljana:20191231T160000
DTSTAMP:20260425T122911Z
UID:fmf-AFLABS-URNIK:premaknjeno-srecanje:118555
ATTENDEE:2. letnik (APM)
CATEGORIES:Entry,Standard
COLOR:darkgreen
DESCRIPTION:Predmet: Verjetnost (APM-2)\, Vaje (V)\nLetniki: 2. letnik (AP
 M)\nIzvajalci: Gregor Šega\nProstor: 3.07
LOCATION:3.07
ORGANIZER:Gregor Šega
RELATED-TO:fmf-AFLABS-URNIK:srecanje:3819
X-WR-TIMEZONE:Europe/Ljubljana
END:VEVENT
BEGIN:VEVENT
SUMMARY:Verjetnost (APM-2)\, Vaje (V)
DTSTART;TZID=Europe/Ljubljana:20200107T140000
DTEND;TZID=Europe/Ljubljana:20200107T160000
DTSTAMP:20260425T122911Z
UID:fmf-AFLABS-URNIK:premaknjeno-srecanje:118556
ATTENDEE:2. letnik (APM)
CATEGORIES:Entry,Standard
COLOR:darkgreen
DESCRIPTION:Predmet: Verjetnost (APM-2)\, Vaje (V)\nLetniki: 2. letnik (AP
 M)\nIzvajalci: Gregor Šega\nProstor: 3.07
LOCATION:3.07
ORGANIZER:Gregor Šega
RELATED-TO:fmf-AFLABS-URNIK:srecanje:3819
X-WR-TIMEZONE:Europe/Ljubljana
END:VEVENT
BEGIN:VEVENT
SUMMARY:Verjetnost (APM-2)\, Vaje (V)
DTSTART;TZID=Europe/Ljubljana:20200114T140000
DTEND;TZID=Europe/Ljubljana:20200114T160000
DTSTAMP:20260425T122911Z
UID:fmf-AFLABS-URNIK:premaknjeno-srecanje:118557
ATTENDEE:2. letnik (APM)
CATEGORIES:Entry,Standard
COLOR:darkgreen
DESCRIPTION:Predmet: Verjetnost (APM-2)\, Vaje (V)\nLetniki: 2. letnik (AP
 M)\nIzvajalci: Gregor Šega\nProstor: 3.07
LOCATION:3.07
ORGANIZER:Gregor Šega
RELATED-TO:fmf-AFLABS-URNIK:srecanje:3819
X-WR-TIMEZONE:Europe/Ljubljana
END:VEVENT
BEGIN:VEVENT
SUMMARY:Optimizacija (APM-3)\, Vaje (V)
DTSTART;TZID=Europe/Ljubljana:20191218T080000
DTEND;TZID=Europe/Ljubljana:20191218T110000
DTSTAMP:20260425T122911Z
UID:fmf-AFLABS-URNIK:premaknjeno-srecanje:79800
ATTENDEE:3. letnik (APM)
CATEGORIES:Entry,Standard
COLOR:darkgreen
DESCRIPTION:Predmet: Optimizacija (APM-3)\, Vaje (V)\nLetniki: 3. letnik (
 APM)\nIzvajalci: Gregor Šega\nProstor: 3.11
LOCATION:3.11
ORGANIZER:Gregor Šega
RELATED-TO:fmf-AFLABS-URNIK:srecanje:3616
X-WR-TIMEZONE:Europe/Ljubljana
END:VEVENT
BEGIN:VEVENT
SUMMARY:Optimizacija (APM-3)\, Vaje (V)
DTSTART;TZID=Europe/Ljubljana:20191225T080000
DTEND;TZID=Europe/Ljubljana:20191225T110000
DTSTAMP:20260425T122911Z
UID:fmf-AFLABS-URNIK:premaknjeno-srecanje:79801
ATTENDEE:3. letnik (APM)
CATEGORIES:Entry,Standard
COLOR:darkgreen
DESCRIPTION:Predmet: Optimizacija (APM-3)\, Vaje (V)\nLetniki: 3. letnik (
 APM)\nIzvajalci: Gregor Šega\nProstor: 3.11
LOCATION:3.11
ORGANIZER:Gregor Šega
RELATED-TO:fmf-AFLABS-URNIK:srecanje:3616
X-WR-TIMEZONE:Europe/Ljubljana
END:VEVENT
BEGIN:VEVENT
SUMMARY:Optimizacija (APM-3)\, Vaje (V)
DTSTART;TZID=Europe/Ljubljana:20200101T080000
DTEND;TZID=Europe/Ljubljana:20200101T110000
DTSTAMP:20260425T122911Z
UID:fmf-AFLABS-URNIK:premaknjeno-srecanje:79802
ATTENDEE:3. letnik (APM)
CATEGORIES:Entry,Standard
COLOR:darkgreen
DESCRIPTION:Predmet: Optimizacija (APM-3)\, Vaje (V)\nLetniki: 3. letnik (
 APM)\nIzvajalci: Gregor Šega\nProstor: 3.11
LOCATION:3.11
ORGANIZER:Gregor Šega
RELATED-TO:fmf-AFLABS-URNIK:srecanje:3616
X-WR-TIMEZONE:Europe/Ljubljana
END:VEVENT
BEGIN:VEVENT
SUMMARY:Optimizacija (APM-3)\, Vaje (V)
DTSTART;TZID=Europe/Ljubljana:20200108T080000
DTEND;TZID=Europe/Ljubljana:20200108T110000
DTSTAMP:20260425T122911Z
UID:fmf-AFLABS-URNIK:premaknjeno-srecanje:79803
ATTENDEE:3. letnik (APM)
CATEGORIES:Entry,Standard
COLOR:darkgreen
DESCRIPTION:Predmet: Optimizacija (APM-3)\, Vaje (V)\nLetniki: 3. letnik (
 APM)\nIzvajalci: Gregor Šega\nProstor: 3.11
LOCATION:3.11
ORGANIZER:Gregor Šega
RELATED-TO:fmf-AFLABS-URNIK:srecanje:3616
X-WR-TIMEZONE:Europe/Ljubljana
END:VEVENT
BEGIN:VEVENT
SUMMARY:Optimizacija (APM-3)\, Vaje (V)
DTSTART;TZID=Europe/Ljubljana:20200115T080000
DTEND;TZID=Europe/Ljubljana:20200115T110000
DTSTAMP:20260425T122911Z
UID:fmf-AFLABS-URNIK:premaknjeno-srecanje:79804
ATTENDEE:3. letnik (APM)
CATEGORIES:Entry,Standard
COLOR:darkgreen
DESCRIPTION:Predmet: Optimizacija (APM-3)\, Vaje (V)\nLetniki: 3. letnik (
 APM)\nIzvajalci: Gregor Šega\nProstor: 3.11
LOCATION:3.11
ORGANIZER:Gregor Šega
RELATED-TO:fmf-AFLABS-URNIK:srecanje:3616
X-WR-TIMEZONE:Europe/Ljubljana
END:VEVENT
BEGIN:VEVENT
SUMMARY:Verjetnost 2 / Verjetnost (FM-M\, MAT-M\, PM-5\, UPST-M)\, Vaje (V
 )
DTSTART;TZID=Europe/Ljubljana:20191218T150000
DTEND;TZID=Europe/Ljubljana:20191218T170000
DTSTAMP:20260425T122911Z
UID:fmf-AFLABS-URNIK:premaknjeno-srecanje:119087
ATTENDEE:5. letnik (PM)
ATTENDEE:magistrski študij (FM)
ATTENDEE:magistrski študij (M)
ATTENDEE:magistrski študij (US)
CATEGORIES:Entry,Standard
COLOR:darkgreen
DESCRIPTION:Predmet: Verjetnost 2 / Verjetnost (FM-M\, MAT-M\, PM-5\, UPST
 -M)\, Vaje (V)\nLetniki: magistrski študij (FM)\, magistrski študij (M)\
 , 5. letnik (PM)\, magistrski študij (US)\nIzvajalci: Gregor Šega\nProst
 or: 3.06
LOCATION:3.06
ORGANIZER:Gregor Šega
RELATED-TO:fmf-AFLABS-URNIK:srecanje:3823
X-WR-TIMEZONE:Europe/Ljubljana
END:VEVENT
BEGIN:VEVENT
SUMMARY:Verjetnost 2 / Verjetnost (FM-M\, MAT-M\, PM-5\, UPST-M)\, Vaje (V
 )
DTSTART;TZID=Europe/Ljubljana:20191225T150000
DTEND;TZID=Europe/Ljubljana:20191225T170000
DTSTAMP:20260425T122911Z
UID:fmf-AFLABS-URNIK:premaknjeno-srecanje:119088
ATTENDEE:5. letnik (PM)
ATTENDEE:magistrski študij (FM)
ATTENDEE:magistrski študij (M)
ATTENDEE:magistrski študij (US)
CATEGORIES:Entry,Standard
COLOR:darkgreen
DESCRIPTION:Predmet: Verjetnost 2 / Verjetnost (FM-M\, MAT-M\, PM-5\, UPST
 -M)\, Vaje (V)\nLetniki: magistrski študij (FM)\, magistrski študij (M)\
 , 5. letnik (PM)\, magistrski študij (US)\nIzvajalci: Gregor Šega\nProst
 or: 3.06
LOCATION:3.06
ORGANIZER:Gregor Šega
RELATED-TO:fmf-AFLABS-URNIK:srecanje:3823
X-WR-TIMEZONE:Europe/Ljubljana
END:VEVENT
BEGIN:VEVENT
SUMMARY:Verjetnost 2 / Verjetnost (FM-M\, MAT-M\, PM-5\, UPST-M)\, Vaje (V
 )
DTSTART;TZID=Europe/Ljubljana:20200101T150000
DTEND;TZID=Europe/Ljubljana:20200101T170000
DTSTAMP:20260425T122911Z
UID:fmf-AFLABS-URNIK:premaknjeno-srecanje:119089
ATTENDEE:5. letnik (PM)
ATTENDEE:magistrski študij (FM)
ATTENDEE:magistrski študij (M)
ATTENDEE:magistrski študij (US)
CATEGORIES:Entry,Standard
COLOR:darkgreen
DESCRIPTION:Predmet: Verjetnost 2 / Verjetnost (FM-M\, MAT-M\, PM-5\, UPST
 -M)\, Vaje (V)\nLetniki: magistrski študij (FM)\, magistrski študij (M)\
 , 5. letnik (PM)\, magistrski študij (US)\nIzvajalci: Gregor Šega\nProst
 or: 3.06
LOCATION:3.06
ORGANIZER:Gregor Šega
RELATED-TO:fmf-AFLABS-URNIK:srecanje:3823
X-WR-TIMEZONE:Europe/Ljubljana
END:VEVENT
BEGIN:VEVENT
SUMMARY:Verjetnost 2 / Verjetnost (FM-M\, MAT-M\, PM-5\, UPST-M)\, Vaje (V
 )
DTSTART;TZID=Europe/Ljubljana:20200108T150000
DTEND;TZID=Europe/Ljubljana:20200108T170000
DTSTAMP:20260425T122911Z
UID:fmf-AFLABS-URNIK:premaknjeno-srecanje:119090
ATTENDEE:5. letnik (PM)
ATTENDEE:magistrski študij (FM)
ATTENDEE:magistrski študij (M)
ATTENDEE:magistrski študij (US)
CATEGORIES:Entry,Standard
COLOR:darkgreen
DESCRIPTION:Predmet: Verjetnost 2 / Verjetnost (FM-M\, MAT-M\, PM-5\, UPST
 -M)\, Vaje (V)\nLetniki: magistrski študij (FM)\, magistrski študij (M)\
 , 5. letnik (PM)\, magistrski študij (US)\nIzvajalci: Gregor Šega\nProst
 or: 3.06
LOCATION:3.06
ORGANIZER:Gregor Šega
RELATED-TO:fmf-AFLABS-URNIK:srecanje:3823
X-WR-TIMEZONE:Europe/Ljubljana
END:VEVENT
BEGIN:VEVENT
SUMMARY:Verjetnost 2 / Verjetnost (FM-M\, MAT-M\, PM-5\, UPST-M)\, Vaje (V
 )
DTSTART;TZID=Europe/Ljubljana:20200115T150000
DTEND;TZID=Europe/Ljubljana:20200115T170000
DTSTAMP:20260425T122911Z
UID:fmf-AFLABS-URNIK:premaknjeno-srecanje:119091
ATTENDEE:5. letnik (PM)
ATTENDEE:magistrski študij (FM)
ATTENDEE:magistrski študij (M)
ATTENDEE:magistrski študij (US)
CATEGORIES:Entry,Standard
COLOR:darkgreen
DESCRIPTION:Predmet: Verjetnost 2 / Verjetnost (FM-M\, MAT-M\, PM-5\, UPST
 -M)\, Vaje (V)\nLetniki: magistrski študij (FM)\, magistrski študij (M)\
 , 5. letnik (PM)\, magistrski študij (US)\nIzvajalci: Gregor Šega\nProst
 or: 3.06
LOCATION:3.06
ORGANIZER:Gregor Šega
RELATED-TO:fmf-AFLABS-URNIK:srecanje:3823
X-WR-TIMEZONE:Europe/Ljubljana
END:VEVENT
BEGIN:VEVENT
SUMMARY:Verjetnost 1 (FM-2)\, Vaje (V)
DTSTART;TZID=Europe/Ljubljana:20191220T080000
DTEND;TZID=Europe/Ljubljana:20191220T100000
DTSTAMP:20260425T122911Z
UID:fmf-AFLABS-URNIK:premaknjeno-srecanje:118851
ATTENDEE:2. letnik (FM)
CATEGORIES:Entry,Standard
COLOR:darkgreen
DESCRIPTION:Predmet: Verjetnost 1 (FM-2)\, Vaje (V)\nLetniki: 2. letnik (F
 M)\nIzvajalci: Gregor Šega\nProstor: 2.02
LOCATION:2.02
ORGANIZER:Gregor Šega
RELATED-TO:fmf-AFLABS-URNIK:srecanje:3821
X-WR-TIMEZONE:Europe/Ljubljana
END:VEVENT
BEGIN:VEVENT
SUMMARY:Verjetnost 1 (FM-2)\, Vaje (V)
DTSTART;TZID=Europe/Ljubljana:20191227T080000
DTEND;TZID=Europe/Ljubljana:20191227T100000
DTSTAMP:20260425T122911Z
UID:fmf-AFLABS-URNIK:premaknjeno-srecanje:118852
ATTENDEE:2. letnik (FM)
CATEGORIES:Entry,Standard
COLOR:darkgreen
DESCRIPTION:Predmet: Verjetnost 1 (FM-2)\, Vaje (V)\nLetniki: 2. letnik (F
 M)\nIzvajalci: Gregor Šega\nProstor: 2.02
LOCATION:2.02
ORGANIZER:Gregor Šega
RELATED-TO:fmf-AFLABS-URNIK:srecanje:3821
X-WR-TIMEZONE:Europe/Ljubljana
END:VEVENT
BEGIN:VEVENT
SUMMARY:Verjetnost 1 (FM-2)\, Vaje (V)
DTSTART;TZID=Europe/Ljubljana:20200103T080000
DTEND;TZID=Europe/Ljubljana:20200103T100000
DTSTAMP:20260425T122911Z
UID:fmf-AFLABS-URNIK:premaknjeno-srecanje:118853
ATTENDEE:2. letnik (FM)
CATEGORIES:Entry,Standard
COLOR:darkgreen
DESCRIPTION:Predmet: Verjetnost 1 (FM-2)\, Vaje (V)\nLetniki: 2. letnik (F
 M)\nIzvajalci: Gregor Šega\nProstor: 2.02
LOCATION:2.02
ORGANIZER:Gregor Šega
RELATED-TO:fmf-AFLABS-URNIK:srecanje:3821
X-WR-TIMEZONE:Europe/Ljubljana
END:VEVENT
BEGIN:VEVENT
SUMMARY:Verjetnost 1 (FM-2)\, Vaje (V)
DTSTART;TZID=Europe/Ljubljana:20200110T080000
DTEND;TZID=Europe/Ljubljana:20200110T100000
DTSTAMP:20260425T122911Z
UID:fmf-AFLABS-URNIK:premaknjeno-srecanje:118854
ATTENDEE:2. letnik (FM)
CATEGORIES:Entry,Standard
COLOR:darkgreen
DESCRIPTION:Predmet: Verjetnost 1 (FM-2)\, Vaje (V)\nLetniki: 2. letnik (F
 M)\nIzvajalci: Gregor Šega\nProstor: 2.02
LOCATION:2.02
ORGANIZER:Gregor Šega
RELATED-TO:fmf-AFLABS-URNIK:srecanje:3821
X-WR-TIMEZONE:Europe/Ljubljana
END:VEVENT
BEGIN:VEVENT
SUMMARY:Verjetnost 1 (FM-2)\, Vaje (V)
DTSTART;TZID=Europe/Ljubljana:20200117T080000
DTEND;TZID=Europe/Ljubljana:20200117T100000
DTSTAMP:20260425T122911Z
UID:fmf-AFLABS-URNIK:premaknjeno-srecanje:118855
ATTENDEE:2. letnik (FM)
CATEGORIES:Entry,Standard
COLOR:darkgreen
DESCRIPTION:Predmet: Verjetnost 1 (FM-2)\, Vaje (V)\nLetniki: 2. letnik (F
 M)\nIzvajalci: Gregor Šega\nProstor: 2.02
LOCATION:2.02
ORGANIZER:Gregor Šega
RELATED-TO:fmf-AFLABS-URNIK:srecanje:3821
X-WR-TIMEZONE:Europe/Ljubljana
END:VEVENT
BEGIN:VEVENT
SUMMARY:Statistika 1 (FM-3)\, Vaje (V)
DTSTART;TZID=Europe/Ljubljana:20200219T100000
DTEND;TZID=Europe/Ljubljana:20200219T120000
DTSTAMP:20260425T122911Z
UID:fmf-AFLABS-URNIK:premaknjeno-srecanje:106022
ATTENDEE:3. letnik (FM)
CATEGORIES:Entry,Standard
COLOR:darkgreen
DESCRIPTION:Predmet: Statistika 1 (FM-3)\, Vaje (V)\nLetniki: 3. letnik (F
 M)\nIzvajalci: Gregor Šega\nProstor: 2.03
LOCATION:2.03
ORGANIZER:Gregor Šega
RELATED-TO:fmf-AFLABS-URNIK:srecanje:4469
X-WR-TIMEZONE:Europe/Ljubljana
END:VEVENT
BEGIN:VEVENT
SUMMARY:Govorilna ura ()\, Predavanja (P)
DTSTART;TZID=Europe/Ljubljana:20200220T100000
DTEND;TZID=Europe/Ljubljana:20200220T110000
DTSTAMP:20260425T122911Z
UID:fmf-AFLABS-URNIK:premaknjeno-srecanje:41499
CATEGORIES:Entry,Standard
COLOR:darkgreen
DESCRIPTION:Predmet: Govorilna ura ()\, Predavanja (P)\nLetniki: \nIzvajal
 ci: Gregor Šega\nProstor: 5.12
LOCATION:5.12
ORGANIZER:Gregor Šega
RELATED-TO:fmf-AFLABS-URNIK:srecanje:4162
X-WR-TIMEZONE:Europe/Ljubljana
END:VEVENT
BEGIN:VEVENT
SUMMARY:Verjetnost in statistika (FM-2)\, Vaje (V)
DTSTART;TZID=Europe/Ljubljana:20200220T070000
DTEND;TZID=Europe/Ljubljana:20200220T100000
DTSTAMP:20260425T122911Z
UID:fmf-AFLABS-URNIK:premaknjeno-srecanje:119246
ATTENDEE:2. letnik (FM)
CATEGORIES:Entry,Standard
COLOR:darkgreen
DESCRIPTION:Predmet: Verjetnost in statistika (FM-2)\, Vaje (V)\nLetniki: 
 2. letnik (FM)\nIzvajalci: Gregor Šega\nProstor: 3.04
LOCATION:3.04
ORGANIZER:Gregor Šega
RELATED-TO:fmf-AFLABS-URNIK:srecanje:4522
X-WR-TIMEZONE:Europe/Ljubljana
END:VEVENT
BEGIN:VEVENT
SUMMARY:Optimizacijske metode (FM-1)\, Vaje (V)\, [1]
DTSTART;TZID=Europe/Ljubljana:20200221T100000
DTEND;TZID=Europe/Ljubljana:20200221T130000
DTSTAMP:20260425T122911Z
UID:fmf-AFLABS-URNIK:premaknjeno-srecanje:80594
ATTENDEE:1. letnik (FM)
CATEGORIES:Entry,Standard
COLOR:darkgreen
DESCRIPTION:Predmet: Optimizacijske metode (FM-1)\, Vaje (V)\, [1]\nLetnik
 i: 1. letnik (FM)\nIzvajalci: Gregor Šega\nProstor: P.02
LOCATION:P.02
ORGANIZER:Gregor Šega
RELATED-TO:fmf-AFLABS-URNIK:srecanje:4349
X-WR-TIMEZONE:Europe/Ljubljana
END:VEVENT
BEGIN:VEVENT
SUMMARY:Rezervacija
DTSTART;TZID=Europe/Ljubljana:20191223T140000
DTEND;TZID=Europe/Ljubljana:20191223T160000
DTSTAMP:20260425T122911Z
UID:fmf-AFLABS-URNIK:rezervacija:4572
CATEGORIES:Reservation
COLOR:royalblue
DESCRIPTION:Predmeti: \nLetniki: \nIzvajalci: Gregor Šega\nProstori: 3.06
LOCATION:3.06
ORGANIZER:Gregor Šega
X-WR-TIMEZONE:Europe/Ljubljana
END:VEVENT
BEGIN:VEVENT
SUMMARY:Rezervacija
DTSTART;TZID=Europe/Ljubljana:20200106T160000
DTEND;TZID=Europe/Ljubljana:20200106T180000
DTSTAMP:20260425T122911Z
UID:fmf-AFLABS-URNIK:rezervacija:4749
CATEGORIES:Reservation
COLOR:royalblue
DESCRIPTION:Predmeti: \nLetniki: \nIzvajalci: Gregor Šega\nProstori: 2.05
LOCATION:2.05
ORGANIZER:Gregor Šega
X-WR-TIMEZONE:Europe/Ljubljana
END:VEVENT
BEGIN:VEVENT
SUMMARY:Rezervacija
DTSTART;TZID=Europe/Ljubljana:20200113T160000
DTEND;TZID=Europe/Ljubljana:20200113T180000
DTSTAMP:20260425T122911Z
UID:fmf-AFLABS-URNIK:rezervacija:4792
CATEGORIES:Reservation
COLOR:royalblue
DESCRIPTION:Predmeti: \nLetniki: \nIzvajalci: Gregor Šega\nProstori: 2.02
 \, 2.05
LOCATION:2.02\, 2.05
ORGANIZER:Gregor Šega
X-WR-TIMEZONE:Europe/Ljubljana
END:VEVENT
BEGIN:VEVENT
SUMMARY:Rezervacija
DTSTART;TZID=Europe/Ljubljana:20200115T160000
DTEND;TZID=Europe/Ljubljana:20200115T180000
DTSTAMP:20260425T122911Z
UID:fmf-AFLABS-URNIK:rezervacija:4814
CATEGORIES:Reservation
COLOR:royalblue
DESCRIPTION:Predmeti: \nLetniki: \nIzvajalci: Gregor Šega\nProstori: 2.05
LOCATION:2.05
ORGANIZER:Gregor Šega
X-WR-TIMEZONE:Europe/Ljubljana
END:VEVENT
BEGIN:VEVENT
SUMMARY:Rezervacija
DTSTART;TZID=Europe/Ljubljana:20200115T180000
DTEND;TZID=Europe/Ljubljana:20200115T200000
DTSTAMP:20260425T122911Z
UID:fmf-AFLABS-URNIK:rezervacija:4817
CATEGORIES:Reservation
COLOR:royalblue
DESCRIPTION:Predmeti: \nLetniki: \nIzvajalci: Gregor Šega\nProstori: 2.01
LOCATION:2.01
ORGANIZER:Gregor Šega
X-WR-TIMEZONE:Europe/Ljubljana
END:VEVENT
BEGIN:VEVENT
SUMMARY:Rezervacija
DTSTART;TZID=Europe/Ljubljana:20200116T140000
DTEND;TZID=Europe/Ljubljana:20200116T170000
DTSTAMP:20260425T122911Z
UID:fmf-AFLABS-URNIK:rezervacija:4820
CATEGORIES:Reservation
COLOR:royalblue
DESCRIPTION:Predmeti: \nLetniki: \nIzvajalci: Gregor Šega\nProstori: 2.02
LOCATION:2.02
ORGANIZER:Gregor Šega
X-WR-TIMEZONE:Europe/Ljubljana
END:VEVENT
BEGIN:VEVENT
SUMMARY:Rezervacija
DTSTART;TZID=Europe/Ljubljana:20200116T170000
DTEND;TZID=Europe/Ljubljana:20200116T200000
DTSTAMP:20260425T122911Z
UID:fmf-AFLABS-URNIK:rezervacija:4825
CATEGORIES:Reservation
COLOR:royalblue
DESCRIPTION:Predmeti: \nLetniki: \nIzvajalci: Gregor Šega\nProstori: 2.04
LOCATION:2.04
ORGANIZER:Gregor Šega
X-WR-TIMEZONE:Europe/Ljubljana
END:VEVENT
BEGIN:VEVENT
SUMMARY:Rezervacija
DTSTART;TZID=Europe/Ljubljana:20200117T100000
DTEND;TZID=Europe/Ljubljana:20200117T120000
DTSTAMP:20260425T122911Z
UID:fmf-AFLABS-URNIK:rezervacija:4831
CATEGORIES:Reservation
COLOR:royalblue
DESCRIPTION:Predmeti: \nLetniki: \nIzvajalci: Gregor Šega\nProstori: 3.05
LOCATION:3.05
ORGANIZER:Gregor Šega
X-WR-TIMEZONE:Europe/Ljubljana
END:VEVENT
BEGIN:VEVENT
SUMMARY:Rezervacija
DTSTART;TZID=Europe/Ljubljana:20200121T100000
DTEND;TZID=Europe/Ljubljana:20200121T130000
DTSTAMP:20260425T122911Z
UID:fmf-AFLABS-URNIK:rezervacija:4862
CATEGORIES:Reservation
COLOR:royalblue
DESCRIPTION:Predmeti: \nLetniki: \nIzvajalci: Gregor Šega\nProstori: 3.07
LOCATION:3.07
ORGANIZER:Gregor Šega
X-WR-TIMEZONE:Europe/Ljubljana
END:VEVENT
BEGIN:VEVENT
SUMMARY:Rezervacija
DTSTART;TZID=Europe/Ljubljana:20200123T100000
DTEND;TZID=Europe/Ljubljana:20200123T120000
DTSTAMP:20260425T122911Z
UID:fmf-AFLABS-URNIK:rezervacija:4905
CATEGORIES:Reservation
COLOR:royalblue
DESCRIPTION:Predmeti: \nLetniki: \nIzvajalci: Gregor Šega\nProstori: 2.03
LOCATION:2.03
ORGANIZER:Gregor Šega
X-WR-TIMEZONE:Europe/Ljubljana
END:VEVENT
BEGIN:VEVENT
SUMMARY:Rezervacija
DTSTART;TZID=Europe/Ljubljana:20200127T100000
DTEND;TZID=Europe/Ljubljana:20200127T120000
DTSTAMP:20260425T122911Z
UID:fmf-AFLABS-URNIK:rezervacija:4949
CATEGORIES:Reservation
COLOR:royalblue
DESCRIPTION:Predmeti: \nLetniki: \nIzvajalci: Gregor Šega\nProstori: 2.04
LOCATION:2.04
ORGANIZER:Gregor Šega
X-WR-TIMEZONE:Europe/Ljubljana
END:VEVENT
BEGIN:VEVENT
SUMMARY:Rezervacija
DTSTART;TZID=Europe/Ljubljana:20200206T100000
DTEND;TZID=Europe/Ljubljana:20200206T120000
DTSTAMP:20260425T122911Z
UID:fmf-AFLABS-URNIK:rezervacija:5055
CATEGORIES:Reservation
COLOR:royalblue
DESCRIPTION:Predmeti: \nLetniki: \nIzvajalci: Gregor Šega\nProstori: 2.05
LOCATION:2.05
ORGANIZER:Gregor Šega
X-WR-TIMEZONE:Europe/Ljubljana
END:VEVENT
BEGIN:VEVENT
SUMMARY:Rezervacija
DTSTART;TZID=Europe/Ljubljana:20200207T100000
DTEND;TZID=Europe/Ljubljana:20200207T120000
DTSTAMP:20260425T122911Z
UID:fmf-AFLABS-URNIK:rezervacija:5070
CATEGORIES:Reservation
COLOR:royalblue
DESCRIPTION:Predmeti: \nLetniki: \nIzvajalci: Gregor Šega\nProstori: 2.04
LOCATION:2.04
ORGANIZER:Gregor Šega
X-WR-TIMEZONE:Europe/Ljubljana
END:VEVENT
BEGIN:VEVENT
SUMMARY:Rezervacija
DTSTART;TZID=Europe/Ljubljana:20200210T160000
DTEND;TZID=Europe/Ljubljana:20200210T180000
DTSTAMP:20260425T122911Z
UID:fmf-AFLABS-URNIK:rezervacija:5099
CATEGORIES:Reservation
COLOR:royalblue
DESCRIPTION:Predmeti: \nLetniki: \nIzvajalci: Gregor Šega\nProstori: VFP
LOCATION:VFP
ORGANIZER:Gregor Šega
X-WR-TIMEZONE:Europe/Ljubljana
END:VEVENT
END:VCALENDAR
