BEGIN:VCALENDAR
VERSION:2.0
PRODID:-//AFLabs urnik izvoz - fmf//aflabs.si//SI
DTSTAMP:20260423T223739Z
NAME:UL FMF urnik
REFRESH-INTERVAL:PT1H
SOURCE:https://urnik.fmf.uni-lj.si/teacher/26?day=2020-06-15&export=1
URL:https://urnik.fmf.uni-lj.si/teacher/26?day=2020-06-15&export=1
X-PUBLISHED-TTL:PT1H
X-WR-CALNAME:UL FMF urnik
X-WR-TIMEZONE:Europe/Ljubljana
BEGIN:VTIMEZONE
TZID:Europe/Ljubljana
BEGIN:DAYLIGHT
DTSTART:20260329T020000
RDATE:20260329T020000
RDATE:20270328T020000
TZNAME:CEST
TZOFFSETFROM:+0100
TZOFFSETTO:+0200
END:DAYLIGHT
BEGIN:STANDARD
DTSTART:20261025T030000
RDATE:20261025T030000
RDATE:20271031T030000
TZNAME:CET
TZOFFSETFROM:+0200
TZOFFSETTO:+0100
END:STANDARD
END:VTIMEZONE
BEGIN:VEVENT
SUMMARY:Statistika 1 (FM-3)\, Vaje (V)
DTSTART;TZID=Europe/Ljubljana:20200513T100000
DTEND;TZID=Europe/Ljubljana:20200513T120000
DTSTAMP:20260423T223739Z
UID:fmf-AFLABS-URNIK:premaknjeno-srecanje:106034
ATTENDEE:3. letnik (FM)
CATEGORIES:Entry,Standard
COLOR:darkgreen
DESCRIPTION:Predmet: Statistika 1 (FM-3)\, Vaje (V)\nLetniki: 3. letnik (F
 M)\nIzvajalci: Gregor Šega\nProstor: 2.03
LOCATION:2.03
ORGANIZER:Gregor Šega
RELATED-TO:fmf-AFLABS-URNIK:srecanje:4469
X-WR-TIMEZONE:Europe/Ljubljana
END:VEVENT
BEGIN:VEVENT
SUMMARY:Statistika 1 (FM-3)\, Vaje (V)
DTSTART;TZID=Europe/Ljubljana:20200520T100000
DTEND;TZID=Europe/Ljubljana:20200520T120000
DTSTAMP:20260423T223739Z
UID:fmf-AFLABS-URNIK:premaknjeno-srecanje:106035
ATTENDEE:3. letnik (FM)
CATEGORIES:Entry,Standard
COLOR:darkgreen
DESCRIPTION:Predmet: Statistika 1 (FM-3)\, Vaje (V)\nLetniki: 3. letnik (F
 M)\nIzvajalci: Gregor Šega\nProstor: 2.03
LOCATION:2.03
ORGANIZER:Gregor Šega
RELATED-TO:fmf-AFLABS-URNIK:srecanje:4469
X-WR-TIMEZONE:Europe/Ljubljana
END:VEVENT
BEGIN:VEVENT
SUMMARY:Statistika 1 (FM-3)\, Vaje (V)
DTSTART;TZID=Europe/Ljubljana:20200527T100000
DTEND;TZID=Europe/Ljubljana:20200527T120000
DTSTAMP:20260423T223739Z
UID:fmf-AFLABS-URNIK:premaknjeno-srecanje:106036
ATTENDEE:3. letnik (FM)
CATEGORIES:Entry,Standard
COLOR:darkgreen
DESCRIPTION:Predmet: Statistika 1 (FM-3)\, Vaje (V)\nLetniki: 3. letnik (F
 M)\nIzvajalci: Gregor Šega\nProstor: 2.03
LOCATION:2.03
ORGANIZER:Gregor Šega
RELATED-TO:fmf-AFLABS-URNIK:srecanje:4469
X-WR-TIMEZONE:Europe/Ljubljana
END:VEVENT
BEGIN:VEVENT
SUMMARY:Govorilna ura ()\, Predavanja (P)
DTSTART;TZID=Europe/Ljubljana:20200514T100000
DTEND;TZID=Europe/Ljubljana:20200514T110000
DTSTAMP:20260423T223739Z
UID:fmf-AFLABS-URNIK:premaknjeno-srecanje:41511
CATEGORIES:Entry,Standard
COLOR:darkgreen
DESCRIPTION:Predmet: Govorilna ura ()\, Predavanja (P)\nLetniki: \nIzvajal
 ci: Gregor Šega\nProstor: 5.12
LOCATION:5.12
ORGANIZER:Gregor Šega
RELATED-TO:fmf-AFLABS-URNIK:srecanje:4162
X-WR-TIMEZONE:Europe/Ljubljana
END:VEVENT
BEGIN:VEVENT
SUMMARY:Govorilna ura ()\, Predavanja (P)
DTSTART;TZID=Europe/Ljubljana:20200521T100000
DTEND;TZID=Europe/Ljubljana:20200521T110000
DTSTAMP:20260423T223739Z
UID:fmf-AFLABS-URNIK:premaknjeno-srecanje:41512
CATEGORIES:Entry,Standard
COLOR:darkgreen
DESCRIPTION:Predmet: Govorilna ura ()\, Predavanja (P)\nLetniki: \nIzvajal
 ci: Gregor Šega\nProstor: 5.12
LOCATION:5.12
ORGANIZER:Gregor Šega
RELATED-TO:fmf-AFLABS-URNIK:srecanje:4162
X-WR-TIMEZONE:Europe/Ljubljana
END:VEVENT
BEGIN:VEVENT
SUMMARY:Govorilna ura ()\, Predavanja (P)
DTSTART;TZID=Europe/Ljubljana:20200528T100000
DTEND;TZID=Europe/Ljubljana:20200528T110000
DTSTAMP:20260423T223739Z
UID:fmf-AFLABS-URNIK:premaknjeno-srecanje:41513
CATEGORIES:Entry,Standard
COLOR:darkgreen
DESCRIPTION:Predmet: Govorilna ura ()\, Predavanja (P)\nLetniki: \nIzvajal
 ci: Gregor Šega\nProstor: 5.12
LOCATION:5.12
ORGANIZER:Gregor Šega
RELATED-TO:fmf-AFLABS-URNIK:srecanje:4162
X-WR-TIMEZONE:Europe/Ljubljana
END:VEVENT
BEGIN:VEVENT
SUMMARY:Verjetnost in statistika (FM-2)\, Vaje (V)
DTSTART;TZID=Europe/Ljubljana:20200514T070000
DTEND;TZID=Europe/Ljubljana:20200514T100000
DTSTAMP:20260423T223739Z
UID:fmf-AFLABS-URNIK:premaknjeno-srecanje:119258
ATTENDEE:2. letnik (FM)
CATEGORIES:Entry,Standard
COLOR:darkgreen
DESCRIPTION:Predmet: Verjetnost in statistika (FM-2)\, Vaje (V)\nLetniki: 
 2. letnik (FM)\nIzvajalci: Gregor Šega\nProstor: 3.04
LOCATION:3.04
ORGANIZER:Gregor Šega
RELATED-TO:fmf-AFLABS-URNIK:srecanje:4522
X-WR-TIMEZONE:Europe/Ljubljana
END:VEVENT
BEGIN:VEVENT
SUMMARY:Verjetnost in statistika (FM-2)\, Vaje (V)
DTSTART;TZID=Europe/Ljubljana:20200521T070000
DTEND;TZID=Europe/Ljubljana:20200521T100000
DTSTAMP:20260423T223739Z
UID:fmf-AFLABS-URNIK:premaknjeno-srecanje:119259
ATTENDEE:2. letnik (FM)
CATEGORIES:Entry,Standard
COLOR:darkgreen
DESCRIPTION:Predmet: Verjetnost in statistika (FM-2)\, Vaje (V)\nLetniki: 
 2. letnik (FM)\nIzvajalci: Gregor Šega\nProstor: 3.04
LOCATION:3.04
ORGANIZER:Gregor Šega
RELATED-TO:fmf-AFLABS-URNIK:srecanje:4522
X-WR-TIMEZONE:Europe/Ljubljana
END:VEVENT
BEGIN:VEVENT
SUMMARY:Verjetnost in statistika (FM-2)\, Vaje (V)
DTSTART;TZID=Europe/Ljubljana:20200528T070000
DTEND;TZID=Europe/Ljubljana:20200528T100000
DTSTAMP:20260423T223739Z
UID:fmf-AFLABS-URNIK:premaknjeno-srecanje:119260
ATTENDEE:2. letnik (FM)
CATEGORIES:Entry,Standard
COLOR:darkgreen
DESCRIPTION:Predmet: Verjetnost in statistika (FM-2)\, Vaje (V)\nLetniki: 
 2. letnik (FM)\nIzvajalci: Gregor Šega\nProstor: 3.04
LOCATION:3.04
ORGANIZER:Gregor Šega
RELATED-TO:fmf-AFLABS-URNIK:srecanje:4522
X-WR-TIMEZONE:Europe/Ljubljana
END:VEVENT
BEGIN:VEVENT
SUMMARY:Optimizacijske metode (FM-1)\, Vaje (V)\, [1]
DTSTART;TZID=Europe/Ljubljana:20200515T100000
DTEND;TZID=Europe/Ljubljana:20200515T130000
DTSTAMP:20260423T223739Z
UID:fmf-AFLABS-URNIK:premaknjeno-srecanje:80606
ATTENDEE:1. letnik (FM)
CATEGORIES:Entry,Standard
COLOR:darkgreen
DESCRIPTION:Predmet: Optimizacijske metode (FM-1)\, Vaje (V)\, [1]\nLetnik
 i: 1. letnik (FM)\nIzvajalci: Gregor Šega\nProstor: P.02
LOCATION:P.02
ORGANIZER:Gregor Šega
RELATED-TO:fmf-AFLABS-URNIK:srecanje:4349
X-WR-TIMEZONE:Europe/Ljubljana
END:VEVENT
BEGIN:VEVENT
SUMMARY:Optimizacijske metode (FM-1)\, Vaje (V)\, [1]
DTSTART;TZID=Europe/Ljubljana:20200522T100000
DTEND;TZID=Europe/Ljubljana:20200522T130000
DTSTAMP:20260423T223739Z
UID:fmf-AFLABS-URNIK:premaknjeno-srecanje:80607
ATTENDEE:1. letnik (FM)
CATEGORIES:Entry,Standard
COLOR:darkgreen
DESCRIPTION:Predmet: Optimizacijske metode (FM-1)\, Vaje (V)\, [1]\nLetnik
 i: 1. letnik (FM)\nIzvajalci: Gregor Šega\nProstor: P.02
LOCATION:P.02
ORGANIZER:Gregor Šega
RELATED-TO:fmf-AFLABS-URNIK:srecanje:4349
X-WR-TIMEZONE:Europe/Ljubljana
END:VEVENT
BEGIN:VEVENT
SUMMARY:Optimizacijske metode (FM-1)\, Vaje (V)\, [1]
DTSTART;TZID=Europe/Ljubljana:20200529T100000
DTEND;TZID=Europe/Ljubljana:20200529T130000
DTSTAMP:20260423T223739Z
UID:fmf-AFLABS-URNIK:premaknjeno-srecanje:80608
ATTENDEE:1. letnik (FM)
CATEGORIES:Entry,Standard
COLOR:darkgreen
DESCRIPTION:Predmet: Optimizacijske metode (FM-1)\, Vaje (V)\, [1]\nLetnik
 i: 1. letnik (FM)\nIzvajalci: Gregor Šega\nProstor: P.02
LOCATION:P.02
ORGANIZER:Gregor Šega
RELATED-TO:fmf-AFLABS-URNIK:srecanje:4349
X-WR-TIMEZONE:Europe/Ljubljana
END:VEVENT
BEGIN:VEVENT
SUMMARY:Rezervacija
DTSTART;TZID=Europe/Ljubljana:20200608T090000
DTEND;TZID=Europe/Ljubljana:20200608T110000
DTSTAMP:20260423T223739Z
UID:fmf-AFLABS-URNIK:rezervacija:5428
CATEGORIES:Reservation
COLOR:royalblue
DESCRIPTION:Predmeti: \nLetniki: \nIzvajalci: Janez Bernik\, Gregor Šega\
 nProstori: 3.05
LOCATION:3.05
ORGANIZER:Janez Bernik, Gregor Šega
X-WR-TIMEZONE:Europe/Ljubljana
END:VEVENT
BEGIN:VEVENT
SUMMARY:Rezervacija
DTSTART;TZID=Europe/Ljubljana:20200611T090000
DTEND;TZID=Europe/Ljubljana:20200611T110000
DTSTAMP:20260423T223739Z
UID:fmf-AFLABS-URNIK:rezervacija:5468
CATEGORIES:Reservation
COLOR:royalblue
DESCRIPTION:Predmeti: \nLetniki: \nIzvajalci: Gregor Šega\, Janoš Vidali
 \nProstori: 2.01
LOCATION:2.01
ORGANIZER:Gregor Šega, Janoš Vidali
X-WR-TIMEZONE:Europe/Ljubljana
END:VEVENT
BEGIN:VEVENT
SUMMARY:Rezervacija
DTSTART;TZID=Europe/Ljubljana:20200612T120000
DTEND;TZID=Europe/Ljubljana:20200612T140000
DTSTAMP:20260423T223739Z
UID:fmf-AFLABS-URNIK:rezervacija:5495
CATEGORIES:Reservation
COLOR:royalblue
DESCRIPTION:Predmeti: \nLetniki: \nIzvajalci: Gregor Šega\nProstori: 2.05
LOCATION:2.05
ORGANIZER:Gregor Šega
X-WR-TIMEZONE:Europe/Ljubljana
END:VEVENT
BEGIN:VEVENT
SUMMARY:Rezervacija
DTSTART;TZID=Europe/Ljubljana:20200618T100000
DTEND;TZID=Europe/Ljubljana:20200618T120000
DTSTAMP:20260423T223739Z
UID:fmf-AFLABS-URNIK:rezervacija:5571
CATEGORIES:Reservation
COLOR:royalblue
DESCRIPTION:Predmeti: \nLetniki: \nIzvajalci: Gregor Šega\nProstori: 3.04
LOCATION:3.04
ORGANIZER:Gregor Šega
X-WR-TIMEZONE:Europe/Ljubljana
END:VEVENT
BEGIN:VEVENT
SUMMARY:Rezervacija
DTSTART;TZID=Europe/Ljubljana:20200619T100000
DTEND;TZID=Europe/Ljubljana:20200619T120000
DTSTAMP:20260423T223739Z
UID:fmf-AFLABS-URNIK:rezervacija:5594
CATEGORIES:Reservation
COLOR:royalblue
DESCRIPTION:Predmeti: \nLetniki: \nIzvajalci: Gregor Šega\nProstori: 2.04
LOCATION:2.04
ORGANIZER:Gregor Šega
X-WR-TIMEZONE:Europe/Ljubljana
END:VEVENT
BEGIN:VEVENT
SUMMARY:Rezervacija
DTSTART;TZID=Europe/Ljubljana:20200623T090000
DTEND;TZID=Europe/Ljubljana:20200623T110000
DTSTAMP:20260423T223739Z
UID:fmf-AFLABS-URNIK:rezervacija:5626
CATEGORIES:Reservation
COLOR:royalblue
DESCRIPTION:Predmeti: \nLetniki: \nIzvajalci: Janez Bernik\, Gregor Šega\
 nProstori: 3.04
LOCATION:3.04
ORGANIZER:Janez Bernik, Gregor Šega
X-WR-TIMEZONE:Europe/Ljubljana
END:VEVENT
BEGIN:VEVENT
SUMMARY:Rezervacija
DTSTART;TZID=Europe/Ljubljana:20200630T100000
DTEND;TZID=Europe/Ljubljana:20200630T120000
DTSTAMP:20260423T223739Z
UID:fmf-AFLABS-URNIK:rezervacija:5720
CATEGORIES:Reservation
COLOR:royalblue
DESCRIPTION:Predmeti: \nLetniki: \nIzvajalci: Gregor Šega\, Janoš Vidali
 \nProstori: 2.03
LOCATION:2.03
ORGANIZER:Gregor Šega, Janoš Vidali
X-WR-TIMEZONE:Europe/Ljubljana
END:VEVENT
END:VCALENDAR
