BEGIN:VCALENDAR
VERSION:2.0
PRODID:-//AFLabs urnik izvoz - fmf//aflabs.si//SI
DTSTAMP:20260422T000608Z
NAME:UL FMF urnik
REFRESH-INTERVAL:PT1H
SOURCE:https://urnik.fmf.uni-lj.si/teacher/26?day=2021-04-19&export=1
URL:https://urnik.fmf.uni-lj.si/teacher/26?day=2021-04-19&export=1
X-PUBLISHED-TTL:PT1H
X-WR-CALNAME:UL FMF urnik
X-WR-TIMEZONE:Europe/Ljubljana
BEGIN:VTIMEZONE
TZID:Europe/Ljubljana
BEGIN:DAYLIGHT
DTSTART:20260329T020000
RDATE:20260329T020000
RDATE:20270328T020000
TZNAME:CEST
TZOFFSETFROM:+0100
TZOFFSETTO:+0200
END:DAYLIGHT
BEGIN:STANDARD
DTSTART:20261025T030000
RDATE:20261025T030000
RDATE:20271031T030000
TZNAME:CET
TZOFFSETFROM:+0200
TZOFFSETTO:+0100
END:STANDARD
END:VTIMEZONE
BEGIN:VEVENT
SUMMARY:Govorilna ura ()\, Predavanja (P)
DTSTART;TZID=Europe/Ljubljana:20210218T100000
DTEND;TZID=Europe/Ljubljana:20210218T110000
DTSTAMP:20260422T000608Z
UID:fmf-AFLABS-URNIK:premaknjeno-srecanje:41529
CATEGORIES:Entry,Standard
COLOR:darkgreen
DESCRIPTION:Predmet: Govorilna ura ()\, Predavanja (P)\nLetniki: \nIzvajal
 ci: Gregor Šega\nProstor: 5.12
LOCATION:5.12
ORGANIZER:Gregor Šega
RELATED-TO:fmf-AFLABS-URNIK:srecanje:5604
X-WR-TIMEZONE:Europe/Ljubljana
END:VEVENT
BEGIN:VEVENT
SUMMARY:Govorilna ura ()\, Predavanja (P)
DTSTART;TZID=Europe/Ljubljana:20210225T100000
DTEND;TZID=Europe/Ljubljana:20210225T110000
DTSTAMP:20260422T000608Z
UID:fmf-AFLABS-URNIK:premaknjeno-srecanje:41530
CATEGORIES:Entry,Standard
COLOR:darkgreen
DESCRIPTION:Predmet: Govorilna ura ()\, Predavanja (P)\nLetniki: \nIzvajal
 ci: Gregor Šega\nProstor: 5.12
LOCATION:5.12
ORGANIZER:Gregor Šega
RELATED-TO:fmf-AFLABS-URNIK:srecanje:5604
X-WR-TIMEZONE:Europe/Ljubljana
END:VEVENT
BEGIN:VEVENT
SUMMARY:Govorilna ura ()\, Predavanja (P)
DTSTART;TZID=Europe/Ljubljana:20210304T100000
DTEND;TZID=Europe/Ljubljana:20210304T110000
DTSTAMP:20260422T000608Z
UID:fmf-AFLABS-URNIK:premaknjeno-srecanje:41531
CATEGORIES:Entry,Standard
COLOR:darkgreen
DESCRIPTION:Predmet: Govorilna ura ()\, Predavanja (P)\nLetniki: \nIzvajal
 ci: Gregor Šega\nProstor: 5.12
LOCATION:5.12
ORGANIZER:Gregor Šega
RELATED-TO:fmf-AFLABS-URNIK:srecanje:5604
X-WR-TIMEZONE:Europe/Ljubljana
END:VEVENT
BEGIN:VEVENT
SUMMARY:Govorilna ura ()\, Predavanja (P)
DTSTART;TZID=Europe/Ljubljana:20210311T100000
DTEND;TZID=Europe/Ljubljana:20210311T110000
DTSTAMP:20260422T000608Z
UID:fmf-AFLABS-URNIK:premaknjeno-srecanje:41532
CATEGORIES:Entry,Standard
COLOR:darkgreen
DESCRIPTION:Predmet: Govorilna ura ()\, Predavanja (P)\nLetniki: \nIzvajal
 ci: Gregor Šega\nProstor: 5.12
LOCATION:5.12
ORGANIZER:Gregor Šega
RELATED-TO:fmf-AFLABS-URNIK:srecanje:5604
X-WR-TIMEZONE:Europe/Ljubljana
END:VEVENT
BEGIN:VEVENT
SUMMARY:Govorilna ura ()\, Predavanja (P)
DTSTART;TZID=Europe/Ljubljana:20210318T100000
DTEND;TZID=Europe/Ljubljana:20210318T110000
DTSTAMP:20260422T000608Z
UID:fmf-AFLABS-URNIK:premaknjeno-srecanje:41533
CATEGORIES:Entry,Standard
COLOR:darkgreen
DESCRIPTION:Predmet: Govorilna ura ()\, Predavanja (P)\nLetniki: \nIzvajal
 ci: Gregor Šega\nProstor: 5.12
LOCATION:5.12
ORGANIZER:Gregor Šega
RELATED-TO:fmf-AFLABS-URNIK:srecanje:5604
X-WR-TIMEZONE:Europe/Ljubljana
END:VEVENT
BEGIN:VEVENT
SUMMARY:Govorilna ura ()\, Predavanja (P)
DTSTART;TZID=Europe/Ljubljana:20210325T100000
DTEND;TZID=Europe/Ljubljana:20210325T110000
DTSTAMP:20260422T000608Z
UID:fmf-AFLABS-URNIK:premaknjeno-srecanje:41534
CATEGORIES:Entry,Standard
COLOR:darkgreen
DESCRIPTION:Predmet: Govorilna ura ()\, Predavanja (P)\nLetniki: \nIzvajal
 ci: Gregor Šega\nProstor: 5.12
LOCATION:5.12
ORGANIZER:Gregor Šega
RELATED-TO:fmf-AFLABS-URNIK:srecanje:5604
X-WR-TIMEZONE:Europe/Ljubljana
END:VEVENT
BEGIN:VEVENT
SUMMARY:Govorilna ura ()\, Predavanja (P)
DTSTART;TZID=Europe/Ljubljana:20210401T100000
DTEND;TZID=Europe/Ljubljana:20210401T110000
DTSTAMP:20260422T000608Z
UID:fmf-AFLABS-URNIK:premaknjeno-srecanje:41535
CATEGORIES:Entry,Standard
COLOR:darkgreen
DESCRIPTION:Predmet: Govorilna ura ()\, Predavanja (P)\nLetniki: \nIzvajal
 ci: Gregor Šega\nProstor: 5.12
LOCATION:5.12
ORGANIZER:Gregor Šega
RELATED-TO:fmf-AFLABS-URNIK:srecanje:5604
X-WR-TIMEZONE:Europe/Ljubljana
END:VEVENT
BEGIN:VEVENT
SUMMARY:Govorilna ura ()\, Predavanja (P)
DTSTART;TZID=Europe/Ljubljana:20210408T100000
DTEND;TZID=Europe/Ljubljana:20210408T110000
DTSTAMP:20260422T000608Z
UID:fmf-AFLABS-URNIK:premaknjeno-srecanje:41536
CATEGORIES:Entry,Standard
COLOR:darkgreen
DESCRIPTION:Predmet: Govorilna ura ()\, Predavanja (P)\nLetniki: \nIzvajal
 ci: Gregor Šega\nProstor: 5.12
LOCATION:5.12
ORGANIZER:Gregor Šega
RELATED-TO:fmf-AFLABS-URNIK:srecanje:5604
X-WR-TIMEZONE:Europe/Ljubljana
END:VEVENT
BEGIN:VEVENT
SUMMARY:Govorilna ura ()\, Predavanja (P)
DTSTART;TZID=Europe/Ljubljana:20210415T100000
DTEND;TZID=Europe/Ljubljana:20210415T110000
DTSTAMP:20260422T000608Z
UID:fmf-AFLABS-URNIK:premaknjeno-srecanje:41537
CATEGORIES:Entry,Standard
COLOR:darkgreen
DESCRIPTION:Predmet: Govorilna ura ()\, Predavanja (P)\nLetniki: \nIzvajal
 ci: Gregor Šega\nProstor: 5.12
LOCATION:5.12
ORGANIZER:Gregor Šega
RELATED-TO:fmf-AFLABS-URNIK:srecanje:5604
X-WR-TIMEZONE:Europe/Ljubljana
END:VEVENT
BEGIN:VEVENT
SUMMARY:Govorilna ura ()\, Predavanja (P)
DTSTART;TZID=Europe/Ljubljana:20210422T100000
DTEND;TZID=Europe/Ljubljana:20210422T110000
DTSTAMP:20260422T000608Z
UID:fmf-AFLABS-URNIK:premaknjeno-srecanje:41538
CATEGORIES:Entry,Standard
COLOR:darkgreen
DESCRIPTION:Predmet: Govorilna ura ()\, Predavanja (P)\nLetniki: \nIzvajal
 ci: Gregor Šega\nProstor: 5.12
LOCATION:5.12
ORGANIZER:Gregor Šega
RELATED-TO:fmf-AFLABS-URNIK:srecanje:5604
X-WR-TIMEZONE:Europe/Ljubljana
END:VEVENT
BEGIN:VEVENT
SUMMARY:Govorilna ura ()\, Predavanja (P)
DTSTART;TZID=Europe/Ljubljana:20210429T100000
DTEND;TZID=Europe/Ljubljana:20210429T110000
DTSTAMP:20260422T000608Z
UID:fmf-AFLABS-URNIK:premaknjeno-srecanje:41539
CATEGORIES:Entry,Standard
COLOR:darkgreen
DESCRIPTION:Predmet: Govorilna ura ()\, Predavanja (P)\nLetniki: \nIzvajal
 ci: Gregor Šega\nProstor: 5.12
LOCATION:5.12
ORGANIZER:Gregor Šega
RELATED-TO:fmf-AFLABS-URNIK:srecanje:5604
X-WR-TIMEZONE:Europe/Ljubljana
END:VEVENT
BEGIN:VEVENT
SUMMARY:Govorilna ura ()\, Predavanja (P)
DTSTART;TZID=Europe/Ljubljana:20210506T100000
DTEND;TZID=Europe/Ljubljana:20210506T110000
DTSTAMP:20260422T000608Z
UID:fmf-AFLABS-URNIK:premaknjeno-srecanje:41540
CATEGORIES:Entry,Standard
COLOR:darkgreen
DESCRIPTION:Predmet: Govorilna ura ()\, Predavanja (P)\nLetniki: \nIzvajal
 ci: Gregor Šega\nProstor: 5.12
LOCATION:5.12
ORGANIZER:Gregor Šega
RELATED-TO:fmf-AFLABS-URNIK:srecanje:5604
X-WR-TIMEZONE:Europe/Ljubljana
END:VEVENT
BEGIN:VEVENT
SUMMARY:Govorilna ura ()\, Predavanja (P)
DTSTART;TZID=Europe/Ljubljana:20210513T100000
DTEND;TZID=Europe/Ljubljana:20210513T110000
DTSTAMP:20260422T000608Z
UID:fmf-AFLABS-URNIK:premaknjeno-srecanje:41541
CATEGORIES:Entry,Standard
COLOR:darkgreen
DESCRIPTION:Predmet: Govorilna ura ()\, Predavanja (P)\nLetniki: \nIzvajal
 ci: Gregor Šega\nProstor: 5.12
LOCATION:5.12
ORGANIZER:Gregor Šega
RELATED-TO:fmf-AFLABS-URNIK:srecanje:5604
X-WR-TIMEZONE:Europe/Ljubljana
END:VEVENT
BEGIN:VEVENT
SUMMARY:Govorilna ura ()\, Predavanja (P)
DTSTART;TZID=Europe/Ljubljana:20210520T100000
DTEND;TZID=Europe/Ljubljana:20210520T110000
DTSTAMP:20260422T000608Z
UID:fmf-AFLABS-URNIK:premaknjeno-srecanje:41542
CATEGORIES:Entry,Standard
COLOR:darkgreen
DESCRIPTION:Predmet: Govorilna ura ()\, Predavanja (P)\nLetniki: \nIzvajal
 ci: Gregor Šega\nProstor: 5.12
LOCATION:5.12
ORGANIZER:Gregor Šega
RELATED-TO:fmf-AFLABS-URNIK:srecanje:5604
X-WR-TIMEZONE:Europe/Ljubljana
END:VEVENT
BEGIN:VEVENT
SUMMARY:Govorilna ura ()\, Predavanja (P)
DTSTART;TZID=Europe/Ljubljana:20210527T100000
DTEND;TZID=Europe/Ljubljana:20210527T110000
DTSTAMP:20260422T000608Z
UID:fmf-AFLABS-URNIK:premaknjeno-srecanje:41543
CATEGORIES:Entry,Standard
COLOR:darkgreen
DESCRIPTION:Predmet: Govorilna ura ()\, Predavanja (P)\nLetniki: \nIzvajal
 ci: Gregor Šega\nProstor: 5.12
LOCATION:5.12
ORGANIZER:Gregor Šega
RELATED-TO:fmf-AFLABS-URNIK:srecanje:5604
X-WR-TIMEZONE:Europe/Ljubljana
END:VEVENT
BEGIN:VEVENT
SUMMARY:Verjetnost in statistika (FM-2)\, Vaje (V)
DTSTART;TZID=Europe/Ljubljana:20210218T070000
DTEND;TZID=Europe/Ljubljana:20210218T100000
DTSTAMP:20260422T000608Z
UID:fmf-AFLABS-URNIK:premaknjeno-srecanje:119261
ATTENDEE:2. letnik (FM)
CATEGORIES:Entry,Standard
COLOR:darkgreen
DESCRIPTION:Predmet: Verjetnost in statistika (FM-2)\, Vaje (V)\nLetniki: 
 2. letnik (FM)\nIzvajalci: Gregor Šega\nProstor: 2.04
LOCATION:2.04
ORGANIZER:Gregor Šega
RELATED-TO:fmf-AFLABS-URNIK:srecanje:5971
X-WR-TIMEZONE:Europe/Ljubljana
END:VEVENT
BEGIN:VEVENT
SUMMARY:Verjetnost in statistika (FM-2)\, Vaje (V)
DTSTART;TZID=Europe/Ljubljana:20210225T070000
DTEND;TZID=Europe/Ljubljana:20210225T100000
DTSTAMP:20260422T000608Z
UID:fmf-AFLABS-URNIK:premaknjeno-srecanje:119262
ATTENDEE:2. letnik (FM)
CATEGORIES:Entry,Standard
COLOR:darkgreen
DESCRIPTION:Predmet: Verjetnost in statistika (FM-2)\, Vaje (V)\nLetniki: 
 2. letnik (FM)\nIzvajalci: Gregor Šega\nProstor: 2.04
LOCATION:2.04
ORGANIZER:Gregor Šega
RELATED-TO:fmf-AFLABS-URNIK:srecanje:5971
X-WR-TIMEZONE:Europe/Ljubljana
END:VEVENT
BEGIN:VEVENT
SUMMARY:Verjetnost in statistika (FM-2)\, Vaje (V)
DTSTART;TZID=Europe/Ljubljana:20210304T070000
DTEND;TZID=Europe/Ljubljana:20210304T100000
DTSTAMP:20260422T000608Z
UID:fmf-AFLABS-URNIK:premaknjeno-srecanje:119263
ATTENDEE:2. letnik (FM)
CATEGORIES:Entry,Standard
COLOR:darkgreen
DESCRIPTION:Predmet: Verjetnost in statistika (FM-2)\, Vaje (V)\nLetniki: 
 2. letnik (FM)\nIzvajalci: Gregor Šega\nProstor: 2.04
LOCATION:2.04
ORGANIZER:Gregor Šega
RELATED-TO:fmf-AFLABS-URNIK:srecanje:5971
X-WR-TIMEZONE:Europe/Ljubljana
END:VEVENT
BEGIN:VEVENT
SUMMARY:Verjetnost in statistika (FM-2)\, Vaje (V)
DTSTART;TZID=Europe/Ljubljana:20210311T070000
DTEND;TZID=Europe/Ljubljana:20210311T100000
DTSTAMP:20260422T000608Z
UID:fmf-AFLABS-URNIK:premaknjeno-srecanje:119264
ATTENDEE:2. letnik (FM)
CATEGORIES:Entry,Standard
COLOR:darkgreen
DESCRIPTION:Predmet: Verjetnost in statistika (FM-2)\, Vaje (V)\nLetniki: 
 2. letnik (FM)\nIzvajalci: Gregor Šega\nProstor: 2.04
LOCATION:2.04
ORGANIZER:Gregor Šega
RELATED-TO:fmf-AFLABS-URNIK:srecanje:5971
X-WR-TIMEZONE:Europe/Ljubljana
END:VEVENT
BEGIN:VEVENT
SUMMARY:Verjetnost in statistika (FM-2)\, Vaje (V)
DTSTART;TZID=Europe/Ljubljana:20210318T070000
DTEND;TZID=Europe/Ljubljana:20210318T100000
DTSTAMP:20260422T000608Z
UID:fmf-AFLABS-URNIK:premaknjeno-srecanje:119265
ATTENDEE:2. letnik (FM)
CATEGORIES:Entry,Standard
COLOR:darkgreen
DESCRIPTION:Predmet: Verjetnost in statistika (FM-2)\, Vaje (V)\nLetniki: 
 2. letnik (FM)\nIzvajalci: Gregor Šega\nProstor: 2.04
LOCATION:2.04
ORGANIZER:Gregor Šega
RELATED-TO:fmf-AFLABS-URNIK:srecanje:5971
X-WR-TIMEZONE:Europe/Ljubljana
END:VEVENT
BEGIN:VEVENT
SUMMARY:Verjetnost in statistika (FM-2)\, Vaje (V)
DTSTART;TZID=Europe/Ljubljana:20210325T070000
DTEND;TZID=Europe/Ljubljana:20210325T100000
DTSTAMP:20260422T000608Z
UID:fmf-AFLABS-URNIK:premaknjeno-srecanje:119266
ATTENDEE:2. letnik (FM)
CATEGORIES:Entry,Standard
COLOR:darkgreen
DESCRIPTION:Predmet: Verjetnost in statistika (FM-2)\, Vaje (V)\nLetniki: 
 2. letnik (FM)\nIzvajalci: Gregor Šega\nProstor: 2.04
LOCATION:2.04
ORGANIZER:Gregor Šega
RELATED-TO:fmf-AFLABS-URNIK:srecanje:5971
X-WR-TIMEZONE:Europe/Ljubljana
END:VEVENT
BEGIN:VEVENT
SUMMARY:Verjetnost in statistika (FM-2)\, Vaje (V)
DTSTART;TZID=Europe/Ljubljana:20210401T070000
DTEND;TZID=Europe/Ljubljana:20210401T100000
DTSTAMP:20260422T000608Z
UID:fmf-AFLABS-URNIK:premaknjeno-srecanje:119267
ATTENDEE:2. letnik (FM)
CATEGORIES:Entry,Standard
COLOR:darkgreen
DESCRIPTION:Predmet: Verjetnost in statistika (FM-2)\, Vaje (V)\nLetniki: 
 2. letnik (FM)\nIzvajalci: Gregor Šega\nProstor: 2.04
LOCATION:2.04
ORGANIZER:Gregor Šega
RELATED-TO:fmf-AFLABS-URNIK:srecanje:5971
X-WR-TIMEZONE:Europe/Ljubljana
END:VEVENT
BEGIN:VEVENT
SUMMARY:Verjetnost in statistika (FM-2)\, Vaje (V)
DTSTART;TZID=Europe/Ljubljana:20210408T070000
DTEND;TZID=Europe/Ljubljana:20210408T100000
DTSTAMP:20260422T000608Z
UID:fmf-AFLABS-URNIK:premaknjeno-srecanje:119268
ATTENDEE:2. letnik (FM)
CATEGORIES:Entry,Standard
COLOR:darkgreen
DESCRIPTION:Predmet: Verjetnost in statistika (FM-2)\, Vaje (V)\nLetniki: 
 2. letnik (FM)\nIzvajalci: Gregor Šega\nProstor: 2.04
LOCATION:2.04
ORGANIZER:Gregor Šega
RELATED-TO:fmf-AFLABS-URNIK:srecanje:5971
X-WR-TIMEZONE:Europe/Ljubljana
END:VEVENT
BEGIN:VEVENT
SUMMARY:Verjetnost in statistika (FM-2)\, Vaje (V)
DTSTART;TZID=Europe/Ljubljana:20210415T070000
DTEND;TZID=Europe/Ljubljana:20210415T100000
DTSTAMP:20260422T000608Z
UID:fmf-AFLABS-URNIK:premaknjeno-srecanje:119269
ATTENDEE:2. letnik (FM)
CATEGORIES:Entry,Standard
COLOR:darkgreen
DESCRIPTION:Predmet: Verjetnost in statistika (FM-2)\, Vaje (V)\nLetniki: 
 2. letnik (FM)\nIzvajalci: Gregor Šega\nProstor: 2.04
LOCATION:2.04
ORGANIZER:Gregor Šega
RELATED-TO:fmf-AFLABS-URNIK:srecanje:5971
X-WR-TIMEZONE:Europe/Ljubljana
END:VEVENT
BEGIN:VEVENT
SUMMARY:Verjetnost in statistika (FM-2)\, Vaje (V)
DTSTART;TZID=Europe/Ljubljana:20210422T070000
DTEND;TZID=Europe/Ljubljana:20210422T100000
DTSTAMP:20260422T000608Z
UID:fmf-AFLABS-URNIK:premaknjeno-srecanje:119270
ATTENDEE:2. letnik (FM)
CATEGORIES:Entry,Standard
COLOR:darkgreen
DESCRIPTION:Predmet: Verjetnost in statistika (FM-2)\, Vaje (V)\nLetniki: 
 2. letnik (FM)\nIzvajalci: Gregor Šega\nProstor: 2.04
LOCATION:2.04
ORGANIZER:Gregor Šega
RELATED-TO:fmf-AFLABS-URNIK:srecanje:5971
X-WR-TIMEZONE:Europe/Ljubljana
END:VEVENT
BEGIN:VEVENT
SUMMARY:Verjetnost in statistika (FM-2)\, Vaje (V)
DTSTART;TZID=Europe/Ljubljana:20210429T070000
DTEND;TZID=Europe/Ljubljana:20210429T100000
DTSTAMP:20260422T000608Z
UID:fmf-AFLABS-URNIK:premaknjeno-srecanje:119271
ATTENDEE:2. letnik (FM)
CATEGORIES:Entry,Standard
COLOR:darkgreen
DESCRIPTION:Predmet: Verjetnost in statistika (FM-2)\, Vaje (V)\nLetniki: 
 2. letnik (FM)\nIzvajalci: Gregor Šega\nProstor: 2.04
LOCATION:2.04
ORGANIZER:Gregor Šega
RELATED-TO:fmf-AFLABS-URNIK:srecanje:5971
X-WR-TIMEZONE:Europe/Ljubljana
END:VEVENT
BEGIN:VEVENT
SUMMARY:Verjetnost in statistika (FM-2)\, Vaje (V)
DTSTART;TZID=Europe/Ljubljana:20210506T070000
DTEND;TZID=Europe/Ljubljana:20210506T100000
DTSTAMP:20260422T000608Z
UID:fmf-AFLABS-URNIK:premaknjeno-srecanje:119272
ATTENDEE:2. letnik (FM)
CATEGORIES:Entry,Standard
COLOR:darkgreen
DESCRIPTION:Predmet: Verjetnost in statistika (FM-2)\, Vaje (V)\nLetniki: 
 2. letnik (FM)\nIzvajalci: Gregor Šega\nProstor: 2.04
LOCATION:2.04
ORGANIZER:Gregor Šega
RELATED-TO:fmf-AFLABS-URNIK:srecanje:5971
X-WR-TIMEZONE:Europe/Ljubljana
END:VEVENT
BEGIN:VEVENT
SUMMARY:Verjetnost in statistika (FM-2)\, Vaje (V)
DTSTART;TZID=Europe/Ljubljana:20210513T070000
DTEND;TZID=Europe/Ljubljana:20210513T100000
DTSTAMP:20260422T000608Z
UID:fmf-AFLABS-URNIK:premaknjeno-srecanje:119273
ATTENDEE:2. letnik (FM)
CATEGORIES:Entry,Standard
COLOR:darkgreen
DESCRIPTION:Predmet: Verjetnost in statistika (FM-2)\, Vaje (V)\nLetniki: 
 2. letnik (FM)\nIzvajalci: Gregor Šega\nProstor: 2.04
LOCATION:2.04
ORGANIZER:Gregor Šega
RELATED-TO:fmf-AFLABS-URNIK:srecanje:5971
X-WR-TIMEZONE:Europe/Ljubljana
END:VEVENT
BEGIN:VEVENT
SUMMARY:Verjetnost in statistika (FM-2)\, Vaje (V)
DTSTART;TZID=Europe/Ljubljana:20210520T070000
DTEND;TZID=Europe/Ljubljana:20210520T100000
DTSTAMP:20260422T000608Z
UID:fmf-AFLABS-URNIK:premaknjeno-srecanje:119274
ATTENDEE:2. letnik (FM)
CATEGORIES:Entry,Standard
COLOR:darkgreen
DESCRIPTION:Predmet: Verjetnost in statistika (FM-2)\, Vaje (V)\nLetniki: 
 2. letnik (FM)\nIzvajalci: Gregor Šega\nProstor: 2.04
LOCATION:2.04
ORGANIZER:Gregor Šega
RELATED-TO:fmf-AFLABS-URNIK:srecanje:5971
X-WR-TIMEZONE:Europe/Ljubljana
END:VEVENT
BEGIN:VEVENT
SUMMARY:Verjetnost in statistika (FM-2)\, Vaje (V)
DTSTART;TZID=Europe/Ljubljana:20210527T070000
DTEND;TZID=Europe/Ljubljana:20210527T100000
DTSTAMP:20260422T000608Z
UID:fmf-AFLABS-URNIK:premaknjeno-srecanje:119275
ATTENDEE:2. letnik (FM)
CATEGORIES:Entry,Standard
COLOR:darkgreen
DESCRIPTION:Predmet: Verjetnost in statistika (FM-2)\, Vaje (V)\nLetniki: 
 2. letnik (FM)\nIzvajalci: Gregor Šega\nProstor: 2.04
LOCATION:2.04
ORGANIZER:Gregor Šega
RELATED-TO:fmf-AFLABS-URNIK:srecanje:5971
X-WR-TIMEZONE:Europe/Ljubljana
END:VEVENT
BEGIN:VEVENT
SUMMARY:Rezervacija
DTSTART;TZID=Europe/Ljubljana:20210407T160000
DTEND;TZID=Europe/Ljubljana:20210407T180000
DTSTAMP:20260422T000608Z
UID:fmf-AFLABS-URNIK:rezervacija:6601
ATTENDEE:1. letnik (FM)
CATEGORIES:Reservation
COLOR:royalblue
DESCRIPTION:Predmeti: Optimizacijske metode (FM-1)\nLetniki: 1. letnik (FM
 )\nIzvajalci: Matjaž Konvalinka\, Gregor Šega\, Janoš Vidali\nProstori:
  2.01\, 2.02\, 2.04\, 2.05
LOCATION:2.01\, 2.02\, 2.04\, 2.05
ORGANIZER:Matjaž Konvalinka, Gregor Šega, Janoš Vidali
X-WR-TIMEZONE:Europe/Ljubljana
END:VEVENT
BEGIN:VEVENT
SUMMARY:Rezervacija
DTSTART;TZID=Europe/Ljubljana:20210528T150000
DTEND;TZID=Europe/Ljubljana:20210528T200000
DTSTAMP:20260422T000608Z
UID:fmf-AFLABS-URNIK:rezervacija:6688
CATEGORIES:Reservation
COLOR:royalblue
DESCRIPTION:Predmeti: \nLetniki: \nIzvajalci: Gregor Šega\nProstori: 2.05
LOCATION:2.05
ORGANIZER:Gregor Šega
X-WR-TIMEZONE:Europe/Ljubljana
END:VEVENT
BEGIN:VEVENT
SUMMARY:Rezervacija
DTSTART;TZID=Europe/Ljubljana:20210528T150000
DTEND;TZID=Europe/Ljubljana:20210528T200000
DTSTAMP:20260422T000608Z
UID:fmf-AFLABS-URNIK:rezervacija:6689
CATEGORIES:Reservation
COLOR:royalblue
DESCRIPTION:Predmeti: \nLetniki: \nIzvajalci: Gregor Šega\nProstori: 2.04
LOCATION:2.04
ORGANIZER:Gregor Šega
X-WR-TIMEZONE:Europe/Ljubljana
END:VEVENT
END:VCALENDAR
