BEGIN:VCALENDAR
VERSION:2.0
PRODID:-//AFLabs urnik izvoz - fmf//aflabs.si//SI
DTSTAMP:20260421T001020Z
NAME:UL FMF urnik
REFRESH-INTERVAL:PT1H
SOURCE:https://urnik.fmf.uni-lj.si/teacher/26?day=2021-07-05&export=1
URL:https://urnik.fmf.uni-lj.si/teacher/26?day=2021-07-05&export=1
X-PUBLISHED-TTL:PT1H
X-WR-CALNAME:UL FMF urnik
X-WR-TIMEZONE:Europe/Ljubljana
BEGIN:VTIMEZONE
TZID:Europe/Ljubljana
BEGIN:DAYLIGHT
DTSTART:20260329T020000
RDATE:20260329T020000
RDATE:20270328T020000
TZNAME:CEST
TZOFFSETFROM:+0100
TZOFFSETTO:+0200
END:DAYLIGHT
BEGIN:STANDARD
DTSTART:20261025T030000
RDATE:20261025T030000
RDATE:20271031T030000
TZNAME:CET
TZOFFSETFROM:+0200
TZOFFSETTO:+0100
END:STANDARD
END:VTIMEZONE
BEGIN:VEVENT
SUMMARY:Rezervacija
DTSTART;TZID=Europe/Ljubljana:20210602T120000
DTEND;TZID=Europe/Ljubljana:20210602T140000
DTSTAMP:20260421T001020Z
UID:fmf-AFLABS-URNIK:rezervacija:6716
ATTENDEE:1. letnik (FM)
CATEGORIES:Reservation
COLOR:royalblue
DESCRIPTION:Predmeti: Optimizacijske metode (FM-1)\nLetniki: 1. letnik (FM
 )\nIzvajalci: Matjaž Konvalinka\, Gregor Šega\, Janoš Vidali\nProstori:
  2.01\, 2.05
LOCATION:2.01\, 2.05
ORGANIZER:Matjaž Konvalinka, Gregor Šega, Janoš Vidali
X-WR-TIMEZONE:Europe/Ljubljana
END:VEVENT
BEGIN:VEVENT
SUMMARY:Rezervacija
DTSTART;TZID=Europe/Ljubljana:20210604T110000
DTEND;TZID=Europe/Ljubljana:20210604T130000
DTSTAMP:20260421T001020Z
UID:fmf-AFLABS-URNIK:rezervacija:6746
CATEGORIES:Reservation
COLOR:royalblue
DESCRIPTION:Predmeti: \nLetniki: \nIzvajalci: Gregor Šega\nProstori: 2.02
LOCATION:2.02
ORGANIZER:Gregor Šega
X-WR-TIMEZONE:Europe/Ljubljana
END:VEVENT
BEGIN:VEVENT
SUMMARY:Rezervacija
DTSTART;TZID=Europe/Ljubljana:20210611T140000
DTEND;TZID=Europe/Ljubljana:20210611T160000
DTSTAMP:20260421T001020Z
UID:fmf-AFLABS-URNIK:rezervacija:6849
CATEGORIES:Reservation
COLOR:royalblue
DESCRIPTION:Predmeti: \nLetniki: \nIzvajalci: Gregor Šega\nProstori: 2.01
LOCATION:2.01
ORGANIZER:Gregor Šega
X-WR-TIMEZONE:Europe/Ljubljana
END:VEVENT
BEGIN:VEVENT
SUMMARY:Rezervacija
DTSTART;TZID=Europe/Ljubljana:20210621T090000
DTEND;TZID=Europe/Ljubljana:20210621T110000
DTSTAMP:20260421T001020Z
UID:fmf-AFLABS-URNIK:rezervacija:6975
CATEGORIES:Reservation
COLOR:royalblue
DESCRIPTION:Predmeti: \nLetniki: \nIzvajalci: Gregor Šega\nProstori: 2.01
LOCATION:2.01
ORGANIZER:Gregor Šega
X-WR-TIMEZONE:Europe/Ljubljana
END:VEVENT
BEGIN:VEVENT
SUMMARY:Rezervacija
DTSTART;TZID=Europe/Ljubljana:20210621T110000
DTEND;TZID=Europe/Ljubljana:20210621T120000
DTSTAMP:20260421T001020Z
UID:fmf-AFLABS-URNIK:rezervacija:6985
CATEGORIES:Reservation
COLOR:royalblue
DESCRIPTION:Predmeti: \nLetniki: \nIzvajalci: Gregor Šega\nProstori: 2.01
LOCATION:2.01
ORGANIZER:Gregor Šega
X-WR-TIMEZONE:Europe/Ljubljana
END:VEVENT
BEGIN:VEVENT
SUMMARY:Rezervacija
DTSTART;TZID=Europe/Ljubljana:20210629T170000
DTEND;TZID=Europe/Ljubljana:20210629T190000
DTSTAMP:20260421T001020Z
UID:fmf-AFLABS-URNIK:rezervacija:7124
CATEGORIES:Reservation
COLOR:royalblue
DESCRIPTION:Predmeti: \nLetniki: \nIzvajalci: Matjaž Konvalinka\, Gregor 
 Šega\, Janoš Vidali\nProstori: 2.05
LOCATION:2.05
ORGANIZER:Matjaž Konvalinka, Gregor Šega, Janoš Vidali
X-WR-TIMEZONE:Europe/Ljubljana
END:VEVENT
BEGIN:VEVENT
SUMMARY:Rezervacija
DTSTART;TZID=Europe/Ljubljana:20210629T170000
DTEND;TZID=Europe/Ljubljana:20210629T190000
DTSTAMP:20260421T001020Z
UID:fmf-AFLABS-URNIK:rezervacija:7125
CATEGORIES:Reservation
COLOR:royalblue
DESCRIPTION:Predmeti: \nLetniki: \nIzvajalci: Matjaž Konvalinka\, Gregor 
 Šega\, Janoš Vidali\nProstori: P.02
LOCATION:P.02
ORGANIZER:Matjaž Konvalinka, Gregor Šega, Janoš Vidali
X-WR-TIMEZONE:Europe/Ljubljana
END:VEVENT
BEGIN:VEVENT
SUMMARY:Rezervacija
DTSTART;TZID=Europe/Ljubljana:20210709T100000
DTEND;TZID=Europe/Ljubljana:20210709T120000
DTSTAMP:20260421T001020Z
UID:fmf-AFLABS-URNIK:rezervacija:7287
CATEGORIES:Reservation
COLOR:royalblue
DESCRIPTION:Predmeti: \nLetniki: \nIzvajalci: Gregor Šega\nProstori: 2.03
LOCATION:2.03
ORGANIZER:Gregor Šega
X-WR-TIMEZONE:Europe/Ljubljana
END:VEVENT
BEGIN:VEVENT
SUMMARY:Rezervacija
DTSTART;TZID=Europe/Ljubljana:20210803T090000
DTEND;TZID=Europe/Ljubljana:20210803T140000
DTSTAMP:20260421T001020Z
UID:fmf-AFLABS-URNIK:rezervacija:7338
CATEGORIES:Reservation
COLOR:royalblue
DESCRIPTION:Predmeti: \nLetniki: \nIzvajalci: Gregor Šega\nProstori: 2.03
LOCATION:2.03
ORGANIZER:Gregor Šega
X-WR-TIMEZONE:Europe/Ljubljana
END:VEVENT
BEGIN:VEVENT
SUMMARY:Rezervacija
DTSTART;TZID=Europe/Ljubljana:20210804T090000
DTEND;TZID=Europe/Ljubljana:20210804T140000
DTSTAMP:20260421T001020Z
UID:fmf-AFLABS-URNIK:rezervacija:7339
CATEGORIES:Reservation
COLOR:royalblue
DESCRIPTION:Predmeti: \nLetniki: \nIzvajalci: Gregor Šega\nProstori: 2.03
LOCATION:2.03
ORGANIZER:Gregor Šega
X-WR-TIMEZONE:Europe/Ljubljana
END:VEVENT
END:VCALENDAR
