BEGIN:VCALENDAR
VERSION:2.0
PRODID:-//AFLabs urnik izvoz - fmf//aflabs.si//SI
DTSTAMP:20260421T150219Z
NAME:UL FMF urnik
REFRESH-INTERVAL:PT1H
SOURCE:https://urnik.fmf.uni-lj.si/teacher/26?day=2023-08-28&export=1
URL:https://urnik.fmf.uni-lj.si/teacher/26?day=2023-08-28&export=1
X-PUBLISHED-TTL:PT1H
X-WR-CALNAME:UL FMF urnik
X-WR-TIMEZONE:Europe/Ljubljana
BEGIN:VTIMEZONE
TZID:Europe/Ljubljana
BEGIN:DAYLIGHT
DTSTART:20260329T020000
RDATE:20260329T020000
RDATE:20270328T020000
TZNAME:CEST
TZOFFSETFROM:+0100
TZOFFSETTO:+0200
END:DAYLIGHT
BEGIN:STANDARD
DTSTART:20261025T030000
RDATE:20261025T030000
RDATE:20271031T030000
TZNAME:CET
TZOFFSETFROM:+0200
TZOFFSETTO:+0100
END:STANDARD
END:VTIMEZONE
BEGIN:VEVENT
SUMMARY:Proseminar A (PED) (PM-1)\, Vaje (V)
DTSTART;TZID=Europe/Ljubljana:20231002T080000
DTEND;TZID=Europe/Ljubljana:20231002T100000
DTSTAMP:20260421T150219Z
UID:fmf-AFLABS-URNIK:premaknjeno-srecanje:89012
ATTENDEE:1. letnik (PM)
CATEGORIES:Entry,Standard
COLOR:darkgreen
DESCRIPTION:Predmet: Proseminar A (PED) (PM-1)\, Vaje (V)\nLetniki: 1. let
 nik (PM)\nIzvajalci: Gregor Šega\nProstor: 3.06
LOCATION:3.06
ORGANIZER:Gregor Šega
RELATED-TO:fmf-AFLABS-URNIK:srecanje:9632
X-WR-TIMEZONE:Europe/Ljubljana
END:VEVENT
BEGIN:VEVENT
SUMMARY:Verjetnost (APM-2)\, Vaje (V)
DTSTART;TZID=Europe/Ljubljana:20231002T140000
DTEND;TZID=Europe/Ljubljana:20231002T160000
DTSTAMP:20260421T150219Z
UID:fmf-AFLABS-URNIK:premaknjeno-srecanje:118495
ATTENDEE:2. letnik (APM)
CATEGORIES:Entry,Standard
COLOR:darkgreen
DESCRIPTION:Predmet: Verjetnost (APM-2)\, Vaje (V)\nLetniki: 2. letnik (AP
 M)\nIzvajalci: Gregor Šega\nProstor: P.01
LOCATION:P.01
ORGANIZER:Gregor Šega
RELATED-TO:fmf-AFLABS-URNIK:srecanje:9559
X-WR-TIMEZONE:Europe/Ljubljana
END:VEVENT
BEGIN:VEVENT
SUMMARY:Rezervacija
DTSTART;TZID=Europe/Ljubljana:20230814T100000
DTEND;TZID=Europe/Ljubljana:20230814T120000
DTSTAMP:20260421T150219Z
UID:fmf-AFLABS-URNIK:rezervacija:12781
ATTENDEE:2. letnik (FM)
CATEGORIES:Reservation
COLOR:royalblue
DESCRIPTION:Predmeti: Verjetnost in statistika (FM-2)\nLetniki: 2. letnik 
 (FM)\nIzvajalci: Gregor Šega\nProstori: 2.04
LOCATION:2.04
ORGANIZER:Gregor Šega
X-WR-TIMEZONE:Europe/Ljubljana
END:VEVENT
BEGIN:VEVENT
SUMMARY:Rezervacija
DTSTART;TZID=Europe/Ljubljana:20230818T100000
DTEND;TZID=Europe/Ljubljana:20230818T120000
DTSTAMP:20260421T150219Z
UID:fmf-AFLABS-URNIK:rezervacija:12819
ATTENDEE:3. letnik (FM)
CATEGORIES:Reservation
COLOR:royalblue
DESCRIPTION:Predmeti: Statistika 1 (FM-3)\nLetniki: 3. letnik (FM)\nIzvaja
 lci: Gregor Šega\nProstori: 2.04
LOCATION:2.04
ORGANIZER:Gregor Šega
X-WR-TIMEZONE:Europe/Ljubljana
END:VEVENT
BEGIN:VEVENT
SUMMARY:Rezervacija
DTSTART;TZID=Europe/Ljubljana:20230821T090000
DTEND;TZID=Europe/Ljubljana:20230821T110000
DTSTAMP:20260421T150219Z
UID:fmf-AFLABS-URNIK:rezervacija:12831
ATTENDEE:1. letnik (FM)
CATEGORIES:Reservation
COLOR:royalblue
DESCRIPTION:Predmeti: Optimizacijske metode (FM-1)\nLetniki: 1. letnik (FM
 )\nIzvajalci: Timotej Hrga\, Gregor Šega\, Janoš Vidali\nProstori: 2.02
LOCATION:2.02
ORGANIZER:Timotej Hrga, Gregor Šega, Janoš Vidali
X-WR-TIMEZONE:Europe/Ljubljana
END:VEVENT
BEGIN:VEVENT
SUMMARY:Rezervacija
DTSTART;TZID=Europe/Ljubljana:20230822T090000
DTEND;TZID=Europe/Ljubljana:20230822T110000
DTSTAMP:20260421T150219Z
UID:fmf-AFLABS-URNIK:rezervacija:12855
ATTENDEE:2. letnik (APM)
CATEGORIES:Reservation
COLOR:royalblue
DESCRIPTION:Predmeti: Verjetnost (APM-2)\nLetniki: 2. letnik (APM)\nIzvaja
 lci: Gregor Šega\nProstori: 3.05
LOCATION:3.05
ORGANIZER:Gregor Šega
X-WR-TIMEZONE:Europe/Ljubljana
END:VEVENT
BEGIN:VEVENT
SUMMARY:Rezervacija
DTSTART;TZID=Europe/Ljubljana:20230823T090000
DTEND;TZID=Europe/Ljubljana:20230823T110000
DTSTAMP:20260421T150219Z
UID:fmf-AFLABS-URNIK:rezervacija:12879
ATTENDEE:3. letnik (APM)
CATEGORIES:Reservation
COLOR:royalblue
DESCRIPTION:Predmeti: Optimizacija (APM-3)\nLetniki: 3. letnik (APM)\nIzva
 jalci: Gregor Šega\nProstori: 2.04
LOCATION:2.04
ORGANIZER:Gregor Šega
X-WR-TIMEZONE:Europe/Ljubljana
END:VEVENT
BEGIN:VEVENT
SUMMARY:Rezervacija
DTSTART;TZID=Europe/Ljubljana:20230828T090000
DTEND;TZID=Europe/Ljubljana:20230828T110000
DTSTAMP:20260421T150219Z
UID:fmf-AFLABS-URNIK:rezervacija:12935
ATTENDEE:2. letnik (FM)
CATEGORIES:Reservation
COLOR:royalblue
DESCRIPTION:Predmeti: Verjetnost 1 (FM-2)\nLetniki: 2. letnik (FM)\nIzvaja
 lci: Gregor Šega\nProstori: 3.05
LOCATION:3.05
ORGANIZER:Gregor Šega
X-WR-TIMEZONE:Europe/Ljubljana
END:VEVENT
BEGIN:VEVENT
SUMMARY:Rezervacija
DTSTART;TZID=Europe/Ljubljana:20230829T100000
DTEND;TZID=Europe/Ljubljana:20230829T120000
DTSTAMP:20260421T150219Z
UID:fmf-AFLABS-URNIK:rezervacija:12971
ATTENDEE:2. letnik (FM)
CATEGORIES:Reservation
COLOR:royalblue
DESCRIPTION:Predmeti: Verjetnost in statistika (FM-2)\nLetniki: 2. letnik 
 (FM)\nIzvajalci: Gregor Šega\nProstori: 2.04
LOCATION:2.04
ORGANIZER:Gregor Šega
X-WR-TIMEZONE:Europe/Ljubljana
END:VEVENT
BEGIN:VEVENT
SUMMARY:Rezervacija
DTSTART;TZID=Europe/Ljubljana:20230904T100000
DTEND;TZID=Europe/Ljubljana:20230904T120000
DTSTAMP:20260421T150219Z
UID:fmf-AFLABS-URNIK:rezervacija:13111
ATTENDEE:3. letnik (FM)
CATEGORIES:Reservation
COLOR:royalblue
DESCRIPTION:Predmeti: Statistika 1 (FM-3)\nLetniki: 3. letnik (FM)\nIzvaja
 lci: Gregor Šega\nProstori: 2.04
LOCATION:2.04
ORGANIZER:Gregor Šega
X-WR-TIMEZONE:Europe/Ljubljana
END:VEVENT
END:VCALENDAR
