BEGIN:VCALENDAR
VERSION:2.0
PRODID:-//AFLabs urnik izvoz - fmf//aflabs.si//SI
DTSTAMP:20260424T094249Z
NAME:UL FMF urnik
REFRESH-INTERVAL:PT1H
SOURCE:https://urnik.fmf.uni-lj.si/teacher/26?day=2025-02-03&export=1
URL:https://urnik.fmf.uni-lj.si/teacher/26?day=2025-02-03&export=1
X-PUBLISHED-TTL:PT1H
X-WR-CALNAME:UL FMF urnik
X-WR-TIMEZONE:Europe/Ljubljana
BEGIN:VTIMEZONE
TZID:Europe/Ljubljana
BEGIN:DAYLIGHT
DTSTART:20260329T020000
RDATE:20260329T020000
RDATE:20270328T020000
TZNAME:CEST
TZOFFSETFROM:+0100
TZOFFSETTO:+0200
END:DAYLIGHT
BEGIN:STANDARD
DTSTART:20261025T030000
RDATE:20261025T030000
RDATE:20271031T030000
TZNAME:CET
TZOFFSETFROM:+0200
TZOFFSETTO:+0100
END:STANDARD
END:VTIMEZONE
BEGIN:VEVENT
SUMMARY:Proseminar B (PM) (PM-1)\, Vaje (V)
DTSTART;TZID=Europe/Ljubljana:20250218T090000
DTEND;TZID=Europe/Ljubljana:20250218T120000
DTSTAMP:20260424T094249Z
UID:fmf-AFLABS-URNIK:premaknjeno-srecanje:209464
ATTENDEE:1. letnik (PM)
CATEGORIES:Entry,Standard
COLOR:darkgreen
DESCRIPTION:Predmet: Proseminar B (PM) (PM-1)\, Vaje (V)\nLetniki: 1. letn
 ik (PM)\nIzvajalci: Gregor Šega\nProstor: 3.06
LOCATION:3.06
ORGANIZER:Gregor Šega
RELATED-TO:fmf-AFLABS-URNIK:srecanje:15389
X-WR-TIMEZONE:Europe/Ljubljana
END:VEVENT
BEGIN:VEVENT
SUMMARY:Proseminar B (PM) (PM-1)\, Vaje (V)
DTSTART;TZID=Europe/Ljubljana:20250225T090000
DTEND;TZID=Europe/Ljubljana:20250225T120000
DTSTAMP:20260424T094249Z
UID:fmf-AFLABS-URNIK:premaknjeno-srecanje:209465
ATTENDEE:1. letnik (PM)
CATEGORIES:Entry,Standard
COLOR:darkgreen
DESCRIPTION:Predmet: Proseminar B (PM) (PM-1)\, Vaje (V)\nLetniki: 1. letn
 ik (PM)\nIzvajalci: Gregor Šega\nProstor: 3.06
LOCATION:3.06
ORGANIZER:Gregor Šega
RELATED-TO:fmf-AFLABS-URNIK:srecanje:15389
X-WR-TIMEZONE:Europe/Ljubljana
END:VEVENT
BEGIN:VEVENT
SUMMARY:Proseminar B (PM) (PM-1)\, Vaje (V)
DTSTART;TZID=Europe/Ljubljana:20250304T090000
DTEND;TZID=Europe/Ljubljana:20250304T120000
DTSTAMP:20260424T094249Z
UID:fmf-AFLABS-URNIK:premaknjeno-srecanje:209466
ATTENDEE:1. letnik (PM)
CATEGORIES:Entry,Standard
COLOR:darkgreen
DESCRIPTION:Predmet: Proseminar B (PM) (PM-1)\, Vaje (V)\nLetniki: 1. letn
 ik (PM)\nIzvajalci: Gregor Šega\nProstor: 3.06
LOCATION:3.06
ORGANIZER:Gregor Šega
RELATED-TO:fmf-AFLABS-URNIK:srecanje:15389
X-WR-TIMEZONE:Europe/Ljubljana
END:VEVENT
BEGIN:VEVENT
SUMMARY:Statistika 1 (FM-3)\, Vaje (V)
DTSTART;TZID=Europe/Ljubljana:20250219T100000
DTEND;TZID=Europe/Ljubljana:20250219T120000
DTSTAMP:20260424T094249Z
UID:fmf-AFLABS-URNIK:premaknjeno-srecanje:206200
ATTENDEE:3. letnik (FM)
CATEGORIES:Entry,Standard
COLOR:darkgreen
DESCRIPTION:Predmet: Statistika 1 (FM-3)\, Vaje (V)\nLetniki: 3. letnik (F
 M)\nIzvajalci: Gregor Šega\nProstor: 3.05
LOCATION:3.05
ORGANIZER:Gregor Šega
RELATED-TO:fmf-AFLABS-URNIK:srecanje:15200
X-WR-TIMEZONE:Europe/Ljubljana
END:VEVENT
BEGIN:VEVENT
SUMMARY:Statistika 1 (FM-3)\, Vaje (V)
DTSTART;TZID=Europe/Ljubljana:20250226T100000
DTEND;TZID=Europe/Ljubljana:20250226T120000
DTSTAMP:20260424T094249Z
UID:fmf-AFLABS-URNIK:premaknjeno-srecanje:206201
ATTENDEE:3. letnik (FM)
CATEGORIES:Entry,Standard
COLOR:darkgreen
DESCRIPTION:Predmet: Statistika 1 (FM-3)\, Vaje (V)\nLetniki: 3. letnik (F
 M)\nIzvajalci: Gregor Šega\nProstor: 3.05
LOCATION:3.05
ORGANIZER:Gregor Šega
RELATED-TO:fmf-AFLABS-URNIK:srecanje:15200
X-WR-TIMEZONE:Europe/Ljubljana
END:VEVENT
BEGIN:VEVENT
SUMMARY:Statistika 1 (FM-3)\, Vaje (V)
DTSTART;TZID=Europe/Ljubljana:20250305T100000
DTEND;TZID=Europe/Ljubljana:20250305T120000
DTSTAMP:20260424T094249Z
UID:fmf-AFLABS-URNIK:premaknjeno-srecanje:206202
ATTENDEE:3. letnik (FM)
CATEGORIES:Entry,Standard
COLOR:darkgreen
DESCRIPTION:Predmet: Statistika 1 (FM-3)\, Vaje (V)\nLetniki: 3. letnik (F
 M)\nIzvajalci: Gregor Šega\nProstor: 3.05
LOCATION:3.05
ORGANIZER:Gregor Šega
RELATED-TO:fmf-AFLABS-URNIK:srecanje:15200
X-WR-TIMEZONE:Europe/Ljubljana
END:VEVENT
BEGIN:VEVENT
SUMMARY:Verjetnost in statistika (FM-2)\, Vaje (V)
DTSTART;TZID=Europe/Ljubljana:20250220T080000
DTEND;TZID=Europe/Ljubljana:20250220T110000
DTSTAMP:20260424T094249Z
UID:fmf-AFLABS-URNIK:premaknjeno-srecanje:206952
ATTENDEE:2. letnik (FM)
CATEGORIES:Entry,Standard
COLOR:darkgreen
DESCRIPTION:Predmet: Verjetnost in statistika (FM-2)\, Vaje (V)\nLetniki: 
 2. letnik (FM)\nIzvajalci: Gregor Šega\nProstor: 2.04
LOCATION:2.04
ORGANIZER:Gregor Šega
RELATED-TO:fmf-AFLABS-URNIK:srecanje:15247
X-WR-TIMEZONE:Europe/Ljubljana
END:VEVENT
BEGIN:VEVENT
SUMMARY:Verjetnost in statistika (FM-2)\, Vaje (V)
DTSTART;TZID=Europe/Ljubljana:20250227T080000
DTEND;TZID=Europe/Ljubljana:20250227T110000
DTSTAMP:20260424T094249Z
UID:fmf-AFLABS-URNIK:premaknjeno-srecanje:206953
ATTENDEE:2. letnik (FM)
CATEGORIES:Entry,Standard
COLOR:darkgreen
DESCRIPTION:Predmet: Verjetnost in statistika (FM-2)\, Vaje (V)\nLetniki: 
 2. letnik (FM)\nIzvajalci: Gregor Šega\nProstor: 2.04
LOCATION:2.04
ORGANIZER:Gregor Šega
RELATED-TO:fmf-AFLABS-URNIK:srecanje:15247
X-WR-TIMEZONE:Europe/Ljubljana
END:VEVENT
BEGIN:VEVENT
SUMMARY:Verjetnost in statistika (FM-2)\, Vaje (V)
DTSTART;TZID=Europe/Ljubljana:20250306T080000
DTEND;TZID=Europe/Ljubljana:20250306T110000
DTSTAMP:20260424T094249Z
UID:fmf-AFLABS-URNIK:premaknjeno-srecanje:206954
ATTENDEE:2. letnik (FM)
CATEGORIES:Entry,Standard
COLOR:darkgreen
DESCRIPTION:Predmet: Verjetnost in statistika (FM-2)\, Vaje (V)\nLetniki: 
 2. letnik (FM)\nIzvajalci: Gregor Šega\nProstor: 2.04
LOCATION:2.04
ORGANIZER:Gregor Šega
RELATED-TO:fmf-AFLABS-URNIK:srecanje:15247
X-WR-TIMEZONE:Europe/Ljubljana
END:VEVENT
BEGIN:VEVENT
SUMMARY:Verj1 kolokvij
DTSTART;TZID=Europe/Ljubljana:20250122T090000
DTEND;TZID=Europe/Ljubljana:20250122T110000
DTSTAMP:20260424T094249Z
UID:fmf-AFLABS-URNIK:rezervacija:19970
ATTENDEE:2. letnik (FM)
CATEGORIES:Reservation
COLOR:royalblue
DESCRIPTION:Predmeti: Verjetnost 1 (FM-2)\nLetniki: 2. letnik (FM)\nIzvaja
 lci: Gregor Šega\nProstori: 2.05
LOCATION:2.05
ORGANIZER:Gregor Šega
X-WR-TIMEZONE:Europe/Ljubljana
END:VEVENT
BEGIN:VEVENT
SUMMARY:Izpit Verjetnost\, Verjetnost 1
DTSTART;TZID=Europe/Ljubljana:20250207T100000
DTEND;TZID=Europe/Ljubljana:20250207T120000
DTSTAMP:20260424T094249Z
UID:fmf-AFLABS-URNIK:rezervacija:20558
ATTENDEE:2. letnik (APM)
ATTENDEE:2. letnik (FM)
CATEGORIES:Reservation
COLOR:royalblue
DESCRIPTION:Predmeti: Verjetnost (APM-2)\, Verjetnost 1 (FM-2)\nLetniki: 2
 . letnik (APM)\, 2. letnik (FM)\nIzvajalci: Gregor Šega\nProstori: 2.02
LOCATION:2.02
ORGANIZER:Gregor Šega
X-WR-TIMEZONE:Europe/Ljubljana
END:VEVENT
END:VCALENDAR
