BEGIN:VCALENDAR
VERSION:2.0
PRODID:-//AFLabs urnik izvoz - fmf//aflabs.si//SI
DTSTAMP:20260420T065718Z
NAME:UL FMF urnik
REFRESH-INTERVAL:PT1H
SOURCE:https://urnik.fmf.uni-lj.si/teacher/277?day=2023-01-02&export=1
URL:https://urnik.fmf.uni-lj.si/teacher/277?day=2023-01-02&export=1
X-PUBLISHED-TTL:PT1H
X-WR-CALNAME:UL FMF urnik
X-WR-TIMEZONE:Europe/Ljubljana
BEGIN:VTIMEZONE
TZID:Europe/Ljubljana
BEGIN:DAYLIGHT
DTSTART:20260329T020000
RDATE:20260329T020000
RDATE:20270328T020000
TZNAME:CEST
TZOFFSETFROM:+0100
TZOFFSETTO:+0200
END:DAYLIGHT
BEGIN:STANDARD
DTSTART:20261025T030000
RDATE:20261025T030000
RDATE:20271031T030000
TZNAME:CET
TZOFFSETFROM:+0200
TZOFFSETTO:+0100
END:STANDARD
END:VTIMEZONE
BEGIN:VEVENT
SUMMARY:Fizika I (APF-1)\, Vaje (V)
DTSTART;TZID=Europe/Ljubljana:20221003T140000
DTEND;TZID=Europe/Ljubljana:20221003T160000
DTSTAMP:20260420T065718Z
UID:fmf-AFLABS-URNIK:premaknjeno-srecanje:29184
ATTENDEE:1. letnik (Aplikativna fizika)
CATEGORIES:Entry,Standard
COLOR:darkgreen
DESCRIPTION:Predmet: Fizika I (APF-1)\, Vaje (V)\nLetniki: 1. letnik (Apli
 kativna fizika)\nIzvajalci: Primož Koželj\nProstor: P.02
LOCATION:P.02
ORGANIZER:Primož Koželj
RELATED-TO:fmf-AFLABS-URNIK:srecanje:7600
X-WR-TIMEZONE:Europe/Ljubljana
END:VEVENT
BEGIN:VEVENT
SUMMARY:Fizika I (APF-1)\, Vaje (V)
DTSTART;TZID=Europe/Ljubljana:20221010T140000
DTEND;TZID=Europe/Ljubljana:20221010T160000
DTSTAMP:20260420T065718Z
UID:fmf-AFLABS-URNIK:premaknjeno-srecanje:29185
ATTENDEE:1. letnik (Aplikativna fizika)
CATEGORIES:Entry,Standard
COLOR:darkgreen
DESCRIPTION:Predmet: Fizika I (APF-1)\, Vaje (V)\nLetniki: 1. letnik (Apli
 kativna fizika)\nIzvajalci: Primož Koželj\nProstor: P.02
LOCATION:P.02
ORGANIZER:Primož Koželj
RELATED-TO:fmf-AFLABS-URNIK:srecanje:7600
X-WR-TIMEZONE:Europe/Ljubljana
END:VEVENT
BEGIN:VEVENT
SUMMARY:Fizika I (APF-1)\, Vaje (V)
DTSTART;TZID=Europe/Ljubljana:20221017T140000
DTEND;TZID=Europe/Ljubljana:20221017T160000
DTSTAMP:20260420T065718Z
UID:fmf-AFLABS-URNIK:premaknjeno-srecanje:29186
ATTENDEE:1. letnik (Aplikativna fizika)
CATEGORIES:Entry,Standard
COLOR:darkgreen
DESCRIPTION:Predmet: Fizika I (APF-1)\, Vaje (V)\nLetniki: 1. letnik (Apli
 kativna fizika)\nIzvajalci: Primož Koželj\nProstor: P.02
LOCATION:P.02
ORGANIZER:Primož Koželj
RELATED-TO:fmf-AFLABS-URNIK:srecanje:7600
X-WR-TIMEZONE:Europe/Ljubljana
END:VEVENT
BEGIN:VEVENT
SUMMARY:Fizika I (APF-1)\, Vaje (V)
DTSTART;TZID=Europe/Ljubljana:20221024T140000
DTEND;TZID=Europe/Ljubljana:20221024T160000
DTSTAMP:20260420T065718Z
UID:fmf-AFLABS-URNIK:premaknjeno-srecanje:29187
ATTENDEE:1. letnik (Aplikativna fizika)
CATEGORIES:Entry,Standard
COLOR:darkgreen
DESCRIPTION:Predmet: Fizika I (APF-1)\, Vaje (V)\nLetniki: 1. letnik (Apli
 kativna fizika)\nIzvajalci: Primož Koželj\nProstor: P.02
LOCATION:P.02
ORGANIZER:Primož Koželj
RELATED-TO:fmf-AFLABS-URNIK:srecanje:7600
X-WR-TIMEZONE:Europe/Ljubljana
END:VEVENT
BEGIN:VEVENT
SUMMARY:Fizika I (APF-1)\, Vaje (V)
DTSTART;TZID=Europe/Ljubljana:20221031T140000
DTEND;TZID=Europe/Ljubljana:20221031T160000
DTSTAMP:20260420T065718Z
UID:fmf-AFLABS-URNIK:premaknjeno-srecanje:29188
ATTENDEE:1. letnik (Aplikativna fizika)
CATEGORIES:Entry,Standard
COLOR:darkgreen
DESCRIPTION:Predmet: Fizika I (APF-1)\, Vaje (V)\nLetniki: 1. letnik (Apli
 kativna fizika)\nIzvajalci: Primož Koželj\nProstor: P.02
LOCATION:P.02
ORGANIZER:Primož Koželj
RELATED-TO:fmf-AFLABS-URNIK:srecanje:7600
X-WR-TIMEZONE:Europe/Ljubljana
END:VEVENT
BEGIN:VEVENT
SUMMARY:Fizika I (APF-1)\, Vaje (V)
DTSTART;TZID=Europe/Ljubljana:20221107T140000
DTEND;TZID=Europe/Ljubljana:20221107T160000
DTSTAMP:20260420T065718Z
UID:fmf-AFLABS-URNIK:premaknjeno-srecanje:29189
ATTENDEE:1. letnik (Aplikativna fizika)
CATEGORIES:Entry,Standard
COLOR:darkgreen
DESCRIPTION:Predmet: Fizika I (APF-1)\, Vaje (V)\nLetniki: 1. letnik (Apli
 kativna fizika)\nIzvajalci: Primož Koželj\nProstor: P.02
LOCATION:P.02
ORGANIZER:Primož Koželj
RELATED-TO:fmf-AFLABS-URNIK:srecanje:7600
X-WR-TIMEZONE:Europe/Ljubljana
END:VEVENT
BEGIN:VEVENT
SUMMARY:Fizika I (APF-1)\, Vaje (V)
DTSTART;TZID=Europe/Ljubljana:20221114T140000
DTEND;TZID=Europe/Ljubljana:20221114T160000
DTSTAMP:20260420T065718Z
UID:fmf-AFLABS-URNIK:premaknjeno-srecanje:29190
ATTENDEE:1. letnik (Aplikativna fizika)
CATEGORIES:Entry,Standard
COLOR:darkgreen
DESCRIPTION:Predmet: Fizika I (APF-1)\, Vaje (V)\nLetniki: 1. letnik (Apli
 kativna fizika)\nIzvajalci: Primož Koželj\nProstor: P.02
LOCATION:P.02
ORGANIZER:Primož Koželj
RELATED-TO:fmf-AFLABS-URNIK:srecanje:7600
X-WR-TIMEZONE:Europe/Ljubljana
END:VEVENT
BEGIN:VEVENT
SUMMARY:Fizika I (APF-1)\, Vaje (V)
DTSTART;TZID=Europe/Ljubljana:20221121T140000
DTEND;TZID=Europe/Ljubljana:20221121T160000
DTSTAMP:20260420T065718Z
UID:fmf-AFLABS-URNIK:premaknjeno-srecanje:29191
ATTENDEE:1. letnik (Aplikativna fizika)
CATEGORIES:Entry,Standard
COLOR:darkgreen
DESCRIPTION:Predmet: Fizika I (APF-1)\, Vaje (V)\nLetniki: 1. letnik (Apli
 kativna fizika)\nIzvajalci: Primož Koželj\nProstor: P.02
LOCATION:P.02
ORGANIZER:Primož Koželj
RELATED-TO:fmf-AFLABS-URNIK:srecanje:7600
X-WR-TIMEZONE:Europe/Ljubljana
END:VEVENT
BEGIN:VEVENT
SUMMARY:Fizika I (APF-1)\, Vaje (V)
DTSTART;TZID=Europe/Ljubljana:20221128T140000
DTEND;TZID=Europe/Ljubljana:20221128T160000
DTSTAMP:20260420T065718Z
UID:fmf-AFLABS-URNIK:premaknjeno-srecanje:29192
ATTENDEE:1. letnik (Aplikativna fizika)
CATEGORIES:Entry,Standard
COLOR:darkgreen
DESCRIPTION:Predmet: Fizika I (APF-1)\, Vaje (V)\nLetniki: 1. letnik (Apli
 kativna fizika)\nIzvajalci: Primož Koželj\nProstor: P.02
LOCATION:P.02
ORGANIZER:Primož Koželj
RELATED-TO:fmf-AFLABS-URNIK:srecanje:7600
X-WR-TIMEZONE:Europe/Ljubljana
END:VEVENT
BEGIN:VEVENT
SUMMARY:Fizika I (APF-1)\, Vaje (V)
DTSTART;TZID=Europe/Ljubljana:20221205T140000
DTEND;TZID=Europe/Ljubljana:20221205T160000
DTSTAMP:20260420T065718Z
UID:fmf-AFLABS-URNIK:premaknjeno-srecanje:29193
ATTENDEE:1. letnik (Aplikativna fizika)
CATEGORIES:Entry,Standard
COLOR:darkgreen
DESCRIPTION:Predmet: Fizika I (APF-1)\, Vaje (V)\nLetniki: 1. letnik (Apli
 kativna fizika)\nIzvajalci: Primož Koželj\nProstor: P.02
LOCATION:P.02
ORGANIZER:Primož Koželj
RELATED-TO:fmf-AFLABS-URNIK:srecanje:7600
X-WR-TIMEZONE:Europe/Ljubljana
END:VEVENT
BEGIN:VEVENT
SUMMARY:Fizika I (APF-1)\, Vaje (V)
DTSTART;TZID=Europe/Ljubljana:20221212T140000
DTEND;TZID=Europe/Ljubljana:20221212T160000
DTSTAMP:20260420T065718Z
UID:fmf-AFLABS-URNIK:premaknjeno-srecanje:29194
ATTENDEE:1. letnik (Aplikativna fizika)
CATEGORIES:Entry,Standard
COLOR:darkgreen
DESCRIPTION:Predmet: Fizika I (APF-1)\, Vaje (V)\nLetniki: 1. letnik (Apli
 kativna fizika)\nIzvajalci: Primož Koželj\nProstor: P.02
LOCATION:P.02
ORGANIZER:Primož Koželj
RELATED-TO:fmf-AFLABS-URNIK:srecanje:7600
X-WR-TIMEZONE:Europe/Ljubljana
END:VEVENT
BEGIN:VEVENT
SUMMARY:Fizika I (APF-1)\, Vaje (V)
DTSTART;TZID=Europe/Ljubljana:20221219T140000
DTEND;TZID=Europe/Ljubljana:20221219T160000
DTSTAMP:20260420T065718Z
UID:fmf-AFLABS-URNIK:premaknjeno-srecanje:29195
ATTENDEE:1. letnik (Aplikativna fizika)
CATEGORIES:Entry,Standard
COLOR:darkgreen
DESCRIPTION:Predmet: Fizika I (APF-1)\, Vaje (V)\nLetniki: 1. letnik (Apli
 kativna fizika)\nIzvajalci: Primož Koželj\nProstor: P.02
LOCATION:P.02
ORGANIZER:Primož Koželj
RELATED-TO:fmf-AFLABS-URNIK:srecanje:7600
X-WR-TIMEZONE:Europe/Ljubljana
END:VEVENT
BEGIN:VEVENT
SUMMARY:Fizika I (APF-1)\, Vaje (V)
DTSTART;TZID=Europe/Ljubljana:20221226T140000
DTEND;TZID=Europe/Ljubljana:20221226T160000
DTSTAMP:20260420T065718Z
UID:fmf-AFLABS-URNIK:premaknjeno-srecanje:29196
ATTENDEE:1. letnik (Aplikativna fizika)
CATEGORIES:Entry,Standard
COLOR:darkgreen
DESCRIPTION:Predmet: Fizika I (APF-1)\, Vaje (V)\nLetniki: 1. letnik (Apli
 kativna fizika)\nIzvajalci: Primož Koželj\nProstor: P.02
LOCATION:P.02
ORGANIZER:Primož Koželj
RELATED-TO:fmf-AFLABS-URNIK:srecanje:7600
X-WR-TIMEZONE:Europe/Ljubljana
END:VEVENT
BEGIN:VEVENT
SUMMARY:Fizika I (APF-1)\, Vaje (V)
DTSTART;TZID=Europe/Ljubljana:20230102T140000
DTEND;TZID=Europe/Ljubljana:20230102T160000
DTSTAMP:20260420T065718Z
UID:fmf-AFLABS-URNIK:premaknjeno-srecanje:29197
ATTENDEE:1. letnik (Aplikativna fizika)
CATEGORIES:Entry,Standard
COLOR:darkgreen
DESCRIPTION:Predmet: Fizika I (APF-1)\, Vaje (V)\nLetniki: 1. letnik (Apli
 kativna fizika)\nIzvajalci: Primož Koželj\nProstor: P.02
LOCATION:P.02
ORGANIZER:Primož Koželj
RELATED-TO:fmf-AFLABS-URNIK:srecanje:7600
X-WR-TIMEZONE:Europe/Ljubljana
END:VEVENT
BEGIN:VEVENT
SUMMARY:Fizika I (APF-1)\, Vaje (V)
DTSTART;TZID=Europe/Ljubljana:20230109T140000
DTEND;TZID=Europe/Ljubljana:20230109T160000
DTSTAMP:20260420T065718Z
UID:fmf-AFLABS-URNIK:premaknjeno-srecanje:29198
ATTENDEE:1. letnik (Aplikativna fizika)
CATEGORIES:Entry,Standard
COLOR:darkgreen
DESCRIPTION:Predmet: Fizika I (APF-1)\, Vaje (V)\nLetniki: 1. letnik (Apli
 kativna fizika)\nIzvajalci: Primož Koželj\nProstor: P.02
LOCATION:P.02
ORGANIZER:Primož Koželj
RELATED-TO:fmf-AFLABS-URNIK:srecanje:7600
X-WR-TIMEZONE:Europe/Ljubljana
END:VEVENT
BEGIN:VEVENT
SUMMARY:Fizika I (APF-1)\, Vaje (V)
DTSTART;TZID=Europe/Ljubljana:20230116T140000
DTEND;TZID=Europe/Ljubljana:20230116T160000
DTSTAMP:20260420T065718Z
UID:fmf-AFLABS-URNIK:premaknjeno-srecanje:29199
ATTENDEE:1. letnik (Aplikativna fizika)
CATEGORIES:Entry,Standard
COLOR:darkgreen
DESCRIPTION:Predmet: Fizika I (APF-1)\, Vaje (V)\nLetniki: 1. letnik (Apli
 kativna fizika)\nIzvajalci: Primož Koželj\nProstor: P.02
LOCATION:P.02
ORGANIZER:Primož Koželj
RELATED-TO:fmf-AFLABS-URNIK:srecanje:7600
X-WR-TIMEZONE:Europe/Ljubljana
END:VEVENT
BEGIN:VEVENT
SUMMARY:Fizika I (APF-1)\, Vaje (V)
DTSTART;TZID=Europe/Ljubljana:20221007T080000
DTEND;TZID=Europe/Ljubljana:20221007T090000
DTSTAMP:20260420T065718Z
UID:fmf-AFLABS-URNIK:premaknjeno-srecanje:29404
ATTENDEE:1. letnik (Aplikativna fizika)
CATEGORIES:Entry,Standard
COLOR:darkgreen
DESCRIPTION:Predmet: Fizika I (APF-1)\, Vaje (V)\nLetniki: 1. letnik (Apli
 kativna fizika)\nIzvajalci: Primož Koželj\nProstor: F7
LOCATION:F7
ORGANIZER:Primož Koželj
RELATED-TO:fmf-AFLABS-URNIK:srecanje:7601
X-WR-TIMEZONE:Europe/Ljubljana
END:VEVENT
BEGIN:VEVENT
SUMMARY:Fizika I (APF-1)\, Vaje (V)
DTSTART;TZID=Europe/Ljubljana:20221014T080000
DTEND;TZID=Europe/Ljubljana:20221014T090000
DTSTAMP:20260420T065718Z
UID:fmf-AFLABS-URNIK:premaknjeno-srecanje:29405
ATTENDEE:1. letnik (Aplikativna fizika)
CATEGORIES:Entry,Standard
COLOR:darkgreen
DESCRIPTION:Predmet: Fizika I (APF-1)\, Vaje (V)\nLetniki: 1. letnik (Apli
 kativna fizika)\nIzvajalci: Primož Koželj\nProstor: F7
LOCATION:F7
ORGANIZER:Primož Koželj
RELATED-TO:fmf-AFLABS-URNIK:srecanje:7601
X-WR-TIMEZONE:Europe/Ljubljana
END:VEVENT
BEGIN:VEVENT
SUMMARY:Fizika I (APF-1)\, Vaje (V)
DTSTART;TZID=Europe/Ljubljana:20221021T080000
DTEND;TZID=Europe/Ljubljana:20221021T090000
DTSTAMP:20260420T065718Z
UID:fmf-AFLABS-URNIK:premaknjeno-srecanje:29406
ATTENDEE:1. letnik (Aplikativna fizika)
CATEGORIES:Entry,Standard
COLOR:darkgreen
DESCRIPTION:Predmet: Fizika I (APF-1)\, Vaje (V)\nLetniki: 1. letnik (Apli
 kativna fizika)\nIzvajalci: Primož Koželj\nProstor: F7
LOCATION:F7
ORGANIZER:Primož Koželj
RELATED-TO:fmf-AFLABS-URNIK:srecanje:7601
X-WR-TIMEZONE:Europe/Ljubljana
END:VEVENT
BEGIN:VEVENT
SUMMARY:Fizika I (APF-1)\, Vaje (V)
DTSTART;TZID=Europe/Ljubljana:20221028T080000
DTEND;TZID=Europe/Ljubljana:20221028T090000
DTSTAMP:20260420T065718Z
UID:fmf-AFLABS-URNIK:premaknjeno-srecanje:29407
ATTENDEE:1. letnik (Aplikativna fizika)
CATEGORIES:Entry,Standard
COLOR:darkgreen
DESCRIPTION:Predmet: Fizika I (APF-1)\, Vaje (V)\nLetniki: 1. letnik (Apli
 kativna fizika)\nIzvajalci: Primož Koželj\nProstor: F7
LOCATION:F7
ORGANIZER:Primož Koželj
RELATED-TO:fmf-AFLABS-URNIK:srecanje:7601
X-WR-TIMEZONE:Europe/Ljubljana
END:VEVENT
BEGIN:VEVENT
SUMMARY:Fizika I (APF-1)\, Vaje (V)
DTSTART;TZID=Europe/Ljubljana:20221104T080000
DTEND;TZID=Europe/Ljubljana:20221104T090000
DTSTAMP:20260420T065718Z
UID:fmf-AFLABS-URNIK:premaknjeno-srecanje:29408
ATTENDEE:1. letnik (Aplikativna fizika)
CATEGORIES:Entry,Standard
COLOR:darkgreen
DESCRIPTION:Predmet: Fizika I (APF-1)\, Vaje (V)\nLetniki: 1. letnik (Apli
 kativna fizika)\nIzvajalci: Primož Koželj\nProstor: F7
LOCATION:F7
ORGANIZER:Primož Koželj
RELATED-TO:fmf-AFLABS-URNIK:srecanje:7601
X-WR-TIMEZONE:Europe/Ljubljana
END:VEVENT
BEGIN:VEVENT
SUMMARY:Fizika I (APF-1)\, Vaje (V)
DTSTART;TZID=Europe/Ljubljana:20221111T080000
DTEND;TZID=Europe/Ljubljana:20221111T090000
DTSTAMP:20260420T065718Z
UID:fmf-AFLABS-URNIK:premaknjeno-srecanje:29409
ATTENDEE:1. letnik (Aplikativna fizika)
CATEGORIES:Entry,Standard
COLOR:darkgreen
DESCRIPTION:Predmet: Fizika I (APF-1)\, Vaje (V)\nLetniki: 1. letnik (Apli
 kativna fizika)\nIzvajalci: Primož Koželj\nProstor: F7
LOCATION:F7
ORGANIZER:Primož Koželj
RELATED-TO:fmf-AFLABS-URNIK:srecanje:7601
X-WR-TIMEZONE:Europe/Ljubljana
END:VEVENT
BEGIN:VEVENT
SUMMARY:Fizika I (APF-1)\, Vaje (V)
DTSTART;TZID=Europe/Ljubljana:20221118T080000
DTEND;TZID=Europe/Ljubljana:20221118T090000
DTSTAMP:20260420T065718Z
UID:fmf-AFLABS-URNIK:premaknjeno-srecanje:29410
ATTENDEE:1. letnik (Aplikativna fizika)
CATEGORIES:Entry,Standard
COLOR:darkgreen
DESCRIPTION:Predmet: Fizika I (APF-1)\, Vaje (V)\nLetniki: 1. letnik (Apli
 kativna fizika)\nIzvajalci: Primož Koželj\nProstor: F7
LOCATION:F7
ORGANIZER:Primož Koželj
RELATED-TO:fmf-AFLABS-URNIK:srecanje:7601
X-WR-TIMEZONE:Europe/Ljubljana
END:VEVENT
BEGIN:VEVENT
SUMMARY:Fizika I (APF-1)\, Vaje (V)
DTSTART;TZID=Europe/Ljubljana:20221125T080000
DTEND;TZID=Europe/Ljubljana:20221125T090000
DTSTAMP:20260420T065718Z
UID:fmf-AFLABS-URNIK:premaknjeno-srecanje:29411
ATTENDEE:1. letnik (Aplikativna fizika)
CATEGORIES:Entry,Standard
COLOR:darkgreen
DESCRIPTION:Predmet: Fizika I (APF-1)\, Vaje (V)\nLetniki: 1. letnik (Apli
 kativna fizika)\nIzvajalci: Primož Koželj\nProstor: F7
LOCATION:F7
ORGANIZER:Primož Koželj
RELATED-TO:fmf-AFLABS-URNIK:srecanje:7601
X-WR-TIMEZONE:Europe/Ljubljana
END:VEVENT
BEGIN:VEVENT
SUMMARY:Fizika I (APF-1)\, Vaje (V)
DTSTART;TZID=Europe/Ljubljana:20221202T080000
DTEND;TZID=Europe/Ljubljana:20221202T090000
DTSTAMP:20260420T065718Z
UID:fmf-AFLABS-URNIK:premaknjeno-srecanje:29412
ATTENDEE:1. letnik (Aplikativna fizika)
CATEGORIES:Entry,Standard
COLOR:darkgreen
DESCRIPTION:Predmet: Fizika I (APF-1)\, Vaje (V)\nLetniki: 1. letnik (Apli
 kativna fizika)\nIzvajalci: Primož Koželj\nProstor: F7
LOCATION:F7
ORGANIZER:Primož Koželj
RELATED-TO:fmf-AFLABS-URNIK:srecanje:7601
X-WR-TIMEZONE:Europe/Ljubljana
END:VEVENT
BEGIN:VEVENT
SUMMARY:Fizika I (APF-1)\, Vaje (V)
DTSTART;TZID=Europe/Ljubljana:20221209T080000
DTEND;TZID=Europe/Ljubljana:20221209T090000
DTSTAMP:20260420T065718Z
UID:fmf-AFLABS-URNIK:premaknjeno-srecanje:29413
ATTENDEE:1. letnik (Aplikativna fizika)
CATEGORIES:Entry,Standard
COLOR:darkgreen
DESCRIPTION:Predmet: Fizika I (APF-1)\, Vaje (V)\nLetniki: 1. letnik (Apli
 kativna fizika)\nIzvajalci: Primož Koželj\nProstor: F7
LOCATION:F7
ORGANIZER:Primož Koželj
RELATED-TO:fmf-AFLABS-URNIK:srecanje:7601
X-WR-TIMEZONE:Europe/Ljubljana
END:VEVENT
BEGIN:VEVENT
SUMMARY:Fizika I (APF-1)\, Vaje (V)
DTSTART;TZID=Europe/Ljubljana:20221216T080000
DTEND;TZID=Europe/Ljubljana:20221216T090000
DTSTAMP:20260420T065718Z
UID:fmf-AFLABS-URNIK:premaknjeno-srecanje:29414
ATTENDEE:1. letnik (Aplikativna fizika)
CATEGORIES:Entry,Standard
COLOR:darkgreen
DESCRIPTION:Predmet: Fizika I (APF-1)\, Vaje (V)\nLetniki: 1. letnik (Apli
 kativna fizika)\nIzvajalci: Primož Koželj\nProstor: F7
LOCATION:F7
ORGANIZER:Primož Koželj
RELATED-TO:fmf-AFLABS-URNIK:srecanje:7601
X-WR-TIMEZONE:Europe/Ljubljana
END:VEVENT
BEGIN:VEVENT
SUMMARY:Fizika I (APF-1)\, Vaje (V)
DTSTART;TZID=Europe/Ljubljana:20221223T080000
DTEND;TZID=Europe/Ljubljana:20221223T090000
DTSTAMP:20260420T065718Z
UID:fmf-AFLABS-URNIK:premaknjeno-srecanje:29415
ATTENDEE:1. letnik (Aplikativna fizika)
CATEGORIES:Entry,Standard
COLOR:darkgreen
DESCRIPTION:Predmet: Fizika I (APF-1)\, Vaje (V)\nLetniki: 1. letnik (Apli
 kativna fizika)\nIzvajalci: Primož Koželj\nProstor: F7
LOCATION:F7
ORGANIZER:Primož Koželj
RELATED-TO:fmf-AFLABS-URNIK:srecanje:7601
X-WR-TIMEZONE:Europe/Ljubljana
END:VEVENT
BEGIN:VEVENT
SUMMARY:Fizika I (APF-1)\, Vaje (V)
DTSTART;TZID=Europe/Ljubljana:20221230T080000
DTEND;TZID=Europe/Ljubljana:20221230T090000
DTSTAMP:20260420T065718Z
UID:fmf-AFLABS-URNIK:premaknjeno-srecanje:29416
ATTENDEE:1. letnik (Aplikativna fizika)
CATEGORIES:Entry,Standard
COLOR:darkgreen
DESCRIPTION:Predmet: Fizika I (APF-1)\, Vaje (V)\nLetniki: 1. letnik (Apli
 kativna fizika)\nIzvajalci: Primož Koželj\nProstor: F7
LOCATION:F7
ORGANIZER:Primož Koželj
RELATED-TO:fmf-AFLABS-URNIK:srecanje:7601
X-WR-TIMEZONE:Europe/Ljubljana
END:VEVENT
BEGIN:VEVENT
SUMMARY:Fizika I (APF-1)\, Vaje (V)
DTSTART;TZID=Europe/Ljubljana:20230106T080000
DTEND;TZID=Europe/Ljubljana:20230106T090000
DTSTAMP:20260420T065718Z
UID:fmf-AFLABS-URNIK:premaknjeno-srecanje:29417
ATTENDEE:1. letnik (Aplikativna fizika)
CATEGORIES:Entry,Standard
COLOR:darkgreen
DESCRIPTION:Predmet: Fizika I (APF-1)\, Vaje (V)\nLetniki: 1. letnik (Apli
 kativna fizika)\nIzvajalci: Primož Koželj\nProstor: F7
LOCATION:F7
ORGANIZER:Primož Koželj
RELATED-TO:fmf-AFLABS-URNIK:srecanje:7601
X-WR-TIMEZONE:Europe/Ljubljana
END:VEVENT
BEGIN:VEVENT
SUMMARY:Fizika I (APF-1)\, Vaje (V)
DTSTART;TZID=Europe/Ljubljana:20230113T080000
DTEND;TZID=Europe/Ljubljana:20230113T090000
DTSTAMP:20260420T065718Z
UID:fmf-AFLABS-URNIK:premaknjeno-srecanje:29418
ATTENDEE:1. letnik (Aplikativna fizika)
CATEGORIES:Entry,Standard
COLOR:darkgreen
DESCRIPTION:Predmet: Fizika I (APF-1)\, Vaje (V)\nLetniki: 1. letnik (Apli
 kativna fizika)\nIzvajalci: Primož Koželj\nProstor: F7
LOCATION:F7
ORGANIZER:Primož Koželj
RELATED-TO:fmf-AFLABS-URNIK:srecanje:7601
X-WR-TIMEZONE:Europe/Ljubljana
END:VEVENT
BEGIN:VEVENT
SUMMARY:Rezervacija
DTSTART;TZID=Europe/Ljubljana:20221104T140000
DTEND;TZID=Europe/Ljubljana:20221104T160000
DTSTAMP:20260420T065718Z
UID:fmf-AFLABS-URNIK:rezervacija:10466
CATEGORIES:Reservation
COLOR:royalblue
DESCRIPTION:Predmeti: \nLetniki: \nIzvajalci: Primož Koželj\nProstori: F
 7
LOCATION:F7
ORGANIZER:Primož Koželj
X-WR-TIMEZONE:Europe/Ljubljana
END:VEVENT
BEGIN:VEVENT
SUMMARY:Rezervacija
DTSTART;TZID=Europe/Ljubljana:20230119T100000
DTEND;TZID=Europe/Ljubljana:20230119T130000
DTSTAMP:20260420T065718Z
UID:fmf-AFLABS-URNIK:rezervacija:10940
CATEGORIES:Reservation
COLOR:royalblue
DESCRIPTION:Predmeti: \nLetniki: \nIzvajalci: Primož Koželj\nProstori: P
 .02
LOCATION:P.02
ORGANIZER:Primož Koželj
X-WR-TIMEZONE:Europe/Ljubljana
END:VEVENT
BEGIN:VEVENT
SUMMARY:Rezervacija
DTSTART;TZID=Europe/Ljubljana:20230123T100000
DTEND;TZID=Europe/Ljubljana:20230123T140000
DTSTAMP:20260420T065718Z
UID:fmf-AFLABS-URNIK:rezervacija:10993
CATEGORIES:Reservation
COLOR:royalblue
DESCRIPTION:Predmeti: \nLetniki: \nIzvajalci: Primož Koželj\nProstori: P
 .02
LOCATION:P.02
ORGANIZER:Primož Koželj
X-WR-TIMEZONE:Europe/Ljubljana
END:VEVENT
END:VCALENDAR
