BEGIN:VCALENDAR
VERSION:2.0
PRODID:-//AFLabs urnik izvoz - fmf//aflabs.si//SI
DTSTAMP:20260422T152300Z
NAME:UL FMF urnik
REFRESH-INTERVAL:PT1H
SOURCE:https://urnik.fmf.uni-lj.si/teacher/277?day=2025-02-10&export=1
URL:https://urnik.fmf.uni-lj.si/teacher/277?day=2025-02-10&export=1
X-PUBLISHED-TTL:PT1H
X-WR-CALNAME:UL FMF urnik
X-WR-TIMEZONE:Europe/Ljubljana
BEGIN:VTIMEZONE
TZID:Europe/Ljubljana
BEGIN:DAYLIGHT
DTSTART:20260329T020000
RDATE:20260329T020000
RDATE:20270328T020000
TZNAME:CEST
TZOFFSETFROM:+0100
TZOFFSETTO:+0200
END:DAYLIGHT
BEGIN:STANDARD
DTSTART:20261025T030000
RDATE:20261025T030000
RDATE:20271031T030000
TZNAME:CET
TZOFFSETFROM:+0200
TZOFFSETTO:+0100
END:STANDARD
END:VTIMEZONE
BEGIN:VEVENT
SUMMARY:Fizika I (APF-1)\, Vaje (V)
DTSTART;TZID=Europe/Ljubljana:20250218T130000
DTEND;TZID=Europe/Ljubljana:20250218T140000
DTSTAMP:20260422T152300Z
UID:fmf-AFLABS-URNIK:premaknjeno-srecanje:211134
ATTENDEE:1. letnik (Aplikativna fizika)
CATEGORIES:Entry,Standard
COLOR:darkgreen
DESCRIPTION:Predmet: Fizika I (APF-1)\, Vaje (V)\nLetniki: 1. letnik (Apli
 kativna fizika)\nIzvajalci: Primož Koželj\nProstor: F6
LOCATION:F6
ORGANIZER:Primož Koželj
RELATED-TO:fmf-AFLABS-URNIK:srecanje:15400
X-WR-TIMEZONE:Europe/Ljubljana
END:VEVENT
BEGIN:VEVENT
SUMMARY:Fizika I (APF-1)\, Vaje (V)
DTSTART;TZID=Europe/Ljubljana:20250225T130000
DTEND;TZID=Europe/Ljubljana:20250225T140000
DTSTAMP:20260422T152300Z
UID:fmf-AFLABS-URNIK:premaknjeno-srecanje:211135
ATTENDEE:1. letnik (Aplikativna fizika)
CATEGORIES:Entry,Standard
COLOR:darkgreen
DESCRIPTION:Predmet: Fizika I (APF-1)\, Vaje (V)\nLetniki: 1. letnik (Apli
 kativna fizika)\nIzvajalci: Primož Koželj\nProstor: F6
LOCATION:F6
ORGANIZER:Primož Koželj
RELATED-TO:fmf-AFLABS-URNIK:srecanje:15400
X-WR-TIMEZONE:Europe/Ljubljana
END:VEVENT
BEGIN:VEVENT
SUMMARY:Fizika I (APF-1)\, Vaje (V)
DTSTART;TZID=Europe/Ljubljana:20250304T130000
DTEND;TZID=Europe/Ljubljana:20250304T140000
DTSTAMP:20260422T152300Z
UID:fmf-AFLABS-URNIK:premaknjeno-srecanje:211136
ATTENDEE:1. letnik (Aplikativna fizika)
CATEGORIES:Entry,Standard
COLOR:darkgreen
DESCRIPTION:Predmet: Fizika I (APF-1)\, Vaje (V)\nLetniki: 1. letnik (Apli
 kativna fizika)\nIzvajalci: Primož Koželj\nProstor: F6
LOCATION:F6
ORGANIZER:Primož Koželj
RELATED-TO:fmf-AFLABS-URNIK:srecanje:15400
X-WR-TIMEZONE:Europe/Ljubljana
END:VEVENT
BEGIN:VEVENT
SUMMARY:Fizika I (APF-1)\, Vaje (V)
DTSTART;TZID=Europe/Ljubljana:20250311T130000
DTEND;TZID=Europe/Ljubljana:20250311T140000
DTSTAMP:20260422T152300Z
UID:fmf-AFLABS-URNIK:premaknjeno-srecanje:211137
ATTENDEE:1. letnik (Aplikativna fizika)
CATEGORIES:Entry,Standard
COLOR:darkgreen
DESCRIPTION:Predmet: Fizika I (APF-1)\, Vaje (V)\nLetniki: 1. letnik (Apli
 kativna fizika)\nIzvajalci: Primož Koželj\nProstor: F6
LOCATION:F6
ORGANIZER:Primož Koželj
RELATED-TO:fmf-AFLABS-URNIK:srecanje:15400
X-WR-TIMEZONE:Europe/Ljubljana
END:VEVENT
BEGIN:VEVENT
SUMMARY:Fizika I (APF-1)\, Vaje (V)
DTSTART;TZID=Europe/Ljubljana:20250219T120000
DTEND;TZID=Europe/Ljubljana:20250219T140000
DTSTAMP:20260422T152300Z
UID:fmf-AFLABS-URNIK:premaknjeno-srecanje:199816
ATTENDEE:1. letnik (Aplikativna fizika)
CATEGORIES:Entry,Standard
COLOR:darkgreen
DESCRIPTION:Predmet: Fizika I (APF-1)\, Vaje (V)\nLetniki: 1. letnik (Apli
 kativna fizika)\nIzvajalci: Primož Koželj\nProstor: F6
LOCATION:F6
ORGANIZER:Primož Koželj
RELATED-TO:fmf-AFLABS-URNIK:srecanje:15420
X-WR-TIMEZONE:Europe/Ljubljana
END:VEVENT
BEGIN:VEVENT
SUMMARY:Fizika I (APF-1)\, Vaje (V)
DTSTART;TZID=Europe/Ljubljana:20250226T120000
DTEND;TZID=Europe/Ljubljana:20250226T140000
DTSTAMP:20260422T152300Z
UID:fmf-AFLABS-URNIK:premaknjeno-srecanje:199817
ATTENDEE:1. letnik (Aplikativna fizika)
CATEGORIES:Entry,Standard
COLOR:darkgreen
DESCRIPTION:Predmet: Fizika I (APF-1)\, Vaje (V)\nLetniki: 1. letnik (Apli
 kativna fizika)\nIzvajalci: Primož Koželj\nProstor: F6
LOCATION:F6
ORGANIZER:Primož Koželj
RELATED-TO:fmf-AFLABS-URNIK:srecanje:15420
X-WR-TIMEZONE:Europe/Ljubljana
END:VEVENT
BEGIN:VEVENT
SUMMARY:Fizika I (APF-1)\, Vaje (V)
DTSTART;TZID=Europe/Ljubljana:20250305T120000
DTEND;TZID=Europe/Ljubljana:20250305T140000
DTSTAMP:20260422T152300Z
UID:fmf-AFLABS-URNIK:premaknjeno-srecanje:199818
ATTENDEE:1. letnik (Aplikativna fizika)
CATEGORIES:Entry,Standard
COLOR:darkgreen
DESCRIPTION:Predmet: Fizika I (APF-1)\, Vaje (V)\nLetniki: 1. letnik (Apli
 kativna fizika)\nIzvajalci: Primož Koželj\nProstor: F6
LOCATION:F6
ORGANIZER:Primož Koželj
RELATED-TO:fmf-AFLABS-URNIK:srecanje:15420
X-WR-TIMEZONE:Europe/Ljubljana
END:VEVENT
BEGIN:VEVENT
SUMMARY:Fizika I (APF-1)\, Vaje (V)
DTSTART;TZID=Europe/Ljubljana:20250312T120000
DTEND;TZID=Europe/Ljubljana:20250312T140000
DTSTAMP:20260422T152300Z
UID:fmf-AFLABS-URNIK:premaknjeno-srecanje:199819
ATTENDEE:1. letnik (Aplikativna fizika)
CATEGORIES:Entry,Standard
COLOR:darkgreen
DESCRIPTION:Predmet: Fizika I (APF-1)\, Vaje (V)\nLetniki: 1. letnik (Apli
 kativna fizika)\nIzvajalci: Primož Koželj\nProstor: F6
LOCATION:F6
ORGANIZER:Primož Koželj
RELATED-TO:fmf-AFLABS-URNIK:srecanje:15420
X-WR-TIMEZONE:Europe/Ljubljana
END:VEVENT
BEGIN:VEVENT
SUMMARY:Računalniško upravljanje laboratorijskih eksperimentov (APF-1)\,
  Predavanja (P)
DTSTART;TZID=Europe/Ljubljana:20250221T100000
DTEND;TZID=Europe/Ljubljana:20250221T110000
DTSTAMP:20260422T152300Z
UID:fmf-AFLABS-URNIK:premaknjeno-srecanje:208008
ATTENDEE:1. letnik (Aplikativna fizika)
CATEGORIES:Entry,Standard
COLOR:darkgreen
DESCRIPTION:Predmet: Računalniško upravljanje laboratorijskih eksperimen
 tov (APF-1)\, Predavanja (P)\nLetniki: 1. letnik (Aplikativna fizika)\nIzv
 ajalci: Primož Koželj\nProstor: F6
LOCATION:F6
ORGANIZER:Primož Koželj
RELATED-TO:fmf-AFLABS-URNIK:srecanje:15267
X-WR-TIMEZONE:Europe/Ljubljana
END:VEVENT
BEGIN:VEVENT
SUMMARY:Računalniško upravljanje laboratorijskih eksperimentov (APF-1)\,
  Predavanja (P)
DTSTART;TZID=Europe/Ljubljana:20250228T100000
DTEND;TZID=Europe/Ljubljana:20250228T110000
DTSTAMP:20260422T152300Z
UID:fmf-AFLABS-URNIK:premaknjeno-srecanje:208009
ATTENDEE:1. letnik (Aplikativna fizika)
CATEGORIES:Entry,Standard
COLOR:darkgreen
DESCRIPTION:Predmet: Računalniško upravljanje laboratorijskih eksperimen
 tov (APF-1)\, Predavanja (P)\nLetniki: 1. letnik (Aplikativna fizika)\nIzv
 ajalci: Primož Koželj\nProstor: F6
LOCATION:F6
ORGANIZER:Primož Koželj
RELATED-TO:fmf-AFLABS-URNIK:srecanje:15267
X-WR-TIMEZONE:Europe/Ljubljana
END:VEVENT
BEGIN:VEVENT
SUMMARY:Računalniško upravljanje laboratorijskih eksperimentov (APF-1)\,
  Predavanja (P)
DTSTART;TZID=Europe/Ljubljana:20250307T100000
DTEND;TZID=Europe/Ljubljana:20250307T110000
DTSTAMP:20260422T152300Z
UID:fmf-AFLABS-URNIK:premaknjeno-srecanje:208010
ATTENDEE:1. letnik (Aplikativna fizika)
CATEGORIES:Entry,Standard
COLOR:darkgreen
DESCRIPTION:Predmet: Računalniško upravljanje laboratorijskih eksperimen
 tov (APF-1)\, Predavanja (P)\nLetniki: 1. letnik (Aplikativna fizika)\nIzv
 ajalci: Primož Koželj\nProstor: F6
LOCATION:F6
ORGANIZER:Primož Koželj
RELATED-TO:fmf-AFLABS-URNIK:srecanje:15267
X-WR-TIMEZONE:Europe/Ljubljana
END:VEVENT
BEGIN:VEVENT
SUMMARY:Računalniško upravljanje laboratorijskih eksperimentov (APF-1)\,
  Predavanja (P)
DTSTART;TZID=Europe/Ljubljana:20250314T100000
DTEND;TZID=Europe/Ljubljana:20250314T110000
DTSTAMP:20260422T152300Z
UID:fmf-AFLABS-URNIK:premaknjeno-srecanje:208011
ATTENDEE:1. letnik (Aplikativna fizika)
CATEGORIES:Entry,Standard
COLOR:darkgreen
DESCRIPTION:Predmet: Računalniško upravljanje laboratorijskih eksperimen
 tov (APF-1)\, Predavanja (P)\nLetniki: 1. letnik (Aplikativna fizika)\nIzv
 ajalci: Primož Koželj\nProstor: F6
LOCATION:F6
ORGANIZER:Primož Koželj
RELATED-TO:fmf-AFLABS-URNIK:srecanje:15267
X-WR-TIMEZONE:Europe/Ljubljana
END:VEVENT
BEGIN:VEVENT
SUMMARY:Računalniško upravljanje laboratorijskih eksperimentov (APF-1)\,
  Vaje (V)
DTSTART;TZID=Europe/Ljubljana:20250221T110000
DTEND;TZID=Europe/Ljubljana:20250221T120000
DTSTAMP:20260422T152300Z
UID:fmf-AFLABS-URNIK:premaknjeno-srecanje:208024
ATTENDEE:1. letnik (Aplikativna fizika)
CATEGORIES:Entry,Standard
COLOR:darkgreen
DESCRIPTION:Predmet: Računalniško upravljanje laboratorijskih eksperimen
 tov (APF-1)\, Vaje (V)\nLetniki: 1. letnik (Aplikativna fizika)\nIzvajalci
 : Primož Koželj\nProstor: F6
LOCATION:F6
ORGANIZER:Primož Koželj
RELATED-TO:fmf-AFLABS-URNIK:srecanje:15268
X-WR-TIMEZONE:Europe/Ljubljana
END:VEVENT
BEGIN:VEVENT
SUMMARY:Računalniško upravljanje laboratorijskih eksperimentov (APF-1)\,
  Vaje (V)
DTSTART;TZID=Europe/Ljubljana:20250228T110000
DTEND;TZID=Europe/Ljubljana:20250228T120000
DTSTAMP:20260422T152300Z
UID:fmf-AFLABS-URNIK:premaknjeno-srecanje:208025
ATTENDEE:1. letnik (Aplikativna fizika)
CATEGORIES:Entry,Standard
COLOR:darkgreen
DESCRIPTION:Predmet: Računalniško upravljanje laboratorijskih eksperimen
 tov (APF-1)\, Vaje (V)\nLetniki: 1. letnik (Aplikativna fizika)\nIzvajalci
 : Primož Koželj\nProstor: F6
LOCATION:F6
ORGANIZER:Primož Koželj
RELATED-TO:fmf-AFLABS-URNIK:srecanje:15268
X-WR-TIMEZONE:Europe/Ljubljana
END:VEVENT
BEGIN:VEVENT
SUMMARY:Računalniško upravljanje laboratorijskih eksperimentov (APF-1)\,
  Vaje (V)
DTSTART;TZID=Europe/Ljubljana:20250307T110000
DTEND;TZID=Europe/Ljubljana:20250307T120000
DTSTAMP:20260422T152300Z
UID:fmf-AFLABS-URNIK:premaknjeno-srecanje:208026
ATTENDEE:1. letnik (Aplikativna fizika)
CATEGORIES:Entry,Standard
COLOR:darkgreen
DESCRIPTION:Predmet: Računalniško upravljanje laboratorijskih eksperimen
 tov (APF-1)\, Vaje (V)\nLetniki: 1. letnik (Aplikativna fizika)\nIzvajalci
 : Primož Koželj\nProstor: F6
LOCATION:F6
ORGANIZER:Primož Koželj
RELATED-TO:fmf-AFLABS-URNIK:srecanje:15268
X-WR-TIMEZONE:Europe/Ljubljana
END:VEVENT
BEGIN:VEVENT
SUMMARY:Računalniško upravljanje laboratorijskih eksperimentov (APF-1)\,
  Vaje (V)
DTSTART;TZID=Europe/Ljubljana:20250314T110000
DTEND;TZID=Europe/Ljubljana:20250314T120000
DTSTAMP:20260422T152300Z
UID:fmf-AFLABS-URNIK:premaknjeno-srecanje:208027
ATTENDEE:1. letnik (Aplikativna fizika)
CATEGORIES:Entry,Standard
COLOR:darkgreen
DESCRIPTION:Predmet: Računalniško upravljanje laboratorijskih eksperimen
 tov (APF-1)\, Vaje (V)\nLetniki: 1. letnik (Aplikativna fizika)\nIzvajalci
 : Primož Koželj\nProstor: F6
LOCATION:F6
ORGANIZER:Primož Koželj
RELATED-TO:fmf-AFLABS-URNIK:srecanje:15268
X-WR-TIMEZONE:Europe/Ljubljana
END:VEVENT
BEGIN:VEVENT
SUMMARY:2. kolokvij\, Fizika 1 APF
DTSTART;TZID=Europe/Ljubljana:20250127T100000
DTEND;TZID=Europe/Ljubljana:20250127T140000
DTSTAMP:20260422T152300Z
UID:fmf-AFLABS-URNIK:rezervacija:20647
ATTENDEE:1. letnik (Aplikativna fizika)
CATEGORIES:Reservation
COLOR:royalblue
DESCRIPTION:Predmeti: Fizika I (APF-1)\nLetniki: 1. letnik (Aplikativna fi
 zika)\nIzvajalci: Primož Koželj\nProstori: F5
LOCATION:F5
ORGANIZER:Primož Koželj
X-WR-TIMEZONE:Europe/Ljubljana
END:VEVENT
BEGIN:VEVENT
SUMMARY:Govorilna ura\, Fizika 1 APF
DTSTART;TZID=Europe/Ljubljana:20250122T110000
DTEND;TZID=Europe/Ljubljana:20250122T130000
DTSTAMP:20260422T152300Z
UID:fmf-AFLABS-URNIK:rezervacija:20648
ATTENDEE:1. letnik (Aplikativna fizika)
CATEGORIES:Reservation
COLOR:royalblue
DESCRIPTION:Predmeti: Fizika I (APF-1)\nLetniki: 1. letnik (Aplikativna fi
 zika)\nIzvajalci: Primož Koželj\nProstori: F6
LOCATION:F6
ORGANIZER:Primož Koželj
X-WR-TIMEZONE:Europe/Ljubljana
END:VEVENT
BEGIN:VEVENT
SUMMARY:Informativni dan OF - učilnice\, kjer poteka
DTSTART;TZID=Europe/Ljubljana:20250214T070000
DTEND;TZID=Europe/Ljubljana:20250214T190000
DTSTAMP:20260422T152300Z
UID:fmf-AFLABS-URNIK:rezervacija:20716
CATEGORIES:Reservation
COLOR:royalblue
DESCRIPTION:Predmeti: \nLetniki: \nIzvajalci: Primož Koželj\nProstori: F
 1\, F2\, F5\, Praktikum 2\, Praktikum 3
LOCATION:F1\, F2\, F5\, Praktikum 2\, Praktikum 3
ORGANIZER:Primož Koželj
X-WR-TIMEZONE:Europe/Ljubljana
END:VEVENT
BEGIN:VEVENT
SUMMARY:Informativni dan OF - učilnice\, kjer bo glasno zaradi bližine i
 nformativnega dneva
DTSTART;TZID=Europe/Ljubljana:20250214T070000
DTEND;TZID=Europe/Ljubljana:20250214T190000
DTSTAMP:20260422T152300Z
UID:fmf-AFLABS-URNIK:rezervacija:20731
CATEGORIES:Reservation
COLOR:royalblue
DESCRIPTION:Predmeti: \nLetniki: \nIzvajalci: Primož Koželj\nProstori: F
 3\, F4\, F7\, F8\, Praktikum 1\, Praktikum 104
LOCATION:F3\, F4\, F7\, F8\, Praktikum 1\, Praktikum 104
ORGANIZER:Primož Koželj
X-WR-TIMEZONE:Europe/Ljubljana
END:VEVENT
BEGIN:VEVENT
SUMMARY:Informativni dan OF - učilnice\, kjer poteka
DTSTART;TZID=Europe/Ljubljana:20250215T070000
DTEND;TZID=Europe/Ljubljana:20250215T150000
DTSTAMP:20260422T152300Z
UID:fmf-AFLABS-URNIK:rezervacija:20753
CATEGORIES:Reservation
COLOR:royalblue
DESCRIPTION:Predmeti: \nLetniki: \nIzvajalci: Primož Koželj\nProstori: F
 1\, F2\, F5\, Praktikum 2\, Praktikum 3
LOCATION:F1\, F2\, F5\, Praktikum 2\, Praktikum 3
ORGANIZER:Primož Koželj
X-WR-TIMEZONE:Europe/Ljubljana
END:VEVENT
BEGIN:VEVENT
SUMMARY:Informativni dan OF - učilnice\, kjer bo glasno zaradi bližine i
 nformativnega dneva
DTSTART;TZID=Europe/Ljubljana:20250215T070000
DTEND;TZID=Europe/Ljubljana:20250215T150000
DTSTAMP:20260422T152300Z
UID:fmf-AFLABS-URNIK:rezervacija:20755
CATEGORIES:Reservation
COLOR:royalblue
DESCRIPTION:Predmeti: \nLetniki: \nIzvajalci: Primož Koželj\nProstori: F
 3\, F4\, F7\, F8\, Praktikum 1\, Praktikum 104
LOCATION:F3\, F4\, F7\, F8\, Praktikum 1\, Praktikum 104
ORGANIZER:Primož Koželj
X-WR-TIMEZONE:Europe/Ljubljana
END:VEVENT
END:VCALENDAR
