BEGIN:VCALENDAR
VERSION:2.0
PRODID:-//AFLabs urnik izvoz - fmf//aflabs.si//SI
DTSTAMP:20260423T023217Z
NAME:UL FMF urnik
REFRESH-INTERVAL:PT1H
SOURCE:https://urnik.fmf.uni-lj.si/teacher/27?day=2020-07-13&export=1
URL:https://urnik.fmf.uni-lj.si/teacher/27?day=2020-07-13&export=1
X-PUBLISHED-TTL:PT1H
X-WR-CALNAME:UL FMF urnik
X-WR-TIMEZONE:Europe/Ljubljana
BEGIN:VTIMEZONE
TZID:Europe/Ljubljana
BEGIN:DAYLIGHT
DTSTART:20260329T020000
RDATE:20260329T020000
RDATE:20270328T020000
TZNAME:CEST
TZOFFSETFROM:+0100
TZOFFSETTO:+0200
END:DAYLIGHT
BEGIN:STANDARD
DTSTART:20261025T030000
RDATE:20261025T030000
RDATE:20271031T030000
TZNAME:CET
TZOFFSETFROM:+0200
TZOFFSETTO:+0100
END:STANDARD
END:VTIMEZONE
BEGIN:VEVENT
SUMMARY:Rezervacija
DTSTART;TZID=Europe/Ljubljana:20200609T120000
DTEND;TZID=Europe/Ljubljana:20200609T140000
DTSTAMP:20260423T023217Z
UID:fmf-AFLABS-URNIK:rezervacija:5450
CATEGORIES:Reservation
COLOR:royalblue
DESCRIPTION:Predmeti: \nLetniki: \nIzvajalci: Miran Černe\, Gregor Cigler
 \, Leon Lampret\nProstori: 2.05\, P.02
LOCATION:2.05\, P.02
ORGANIZER:Miran Černe, Gregor Cigler, Leon Lampret
X-WR-TIMEZONE:Europe/Ljubljana
END:VEVENT
BEGIN:VEVENT
SUMMARY:Rezervacija
DTSTART;TZID=Europe/Ljubljana:20200610T100000
DTEND;TZID=Europe/Ljubljana:20200610T120000
DTSTAMP:20260423T023217Z
UID:fmf-AFLABS-URNIK:rezervacija:5458
CATEGORIES:Reservation
COLOR:royalblue
DESCRIPTION:Predmeti: \nLetniki: \nIzvajalci: Gregor Cigler\, Pavle Saksid
 a\nProstori: 2.02
LOCATION:2.02
ORGANIZER:Gregor Cigler, Pavle Saksida
X-WR-TIMEZONE:Europe/Ljubljana
END:VEVENT
BEGIN:VEVENT
SUMMARY:Rezervacija
DTSTART;TZID=Europe/Ljubljana:20200610T120000
DTEND;TZID=Europe/Ljubljana:20200610T140000
DTSTAMP:20260423T023217Z
UID:fmf-AFLABS-URNIK:rezervacija:5460
CATEGORIES:Reservation
COLOR:royalblue
DESCRIPTION:Predmeti: \nLetniki: \nIzvajalci: Gregor Cigler\, Marko Kandi
 ć\nProstori: 3.04\, 3.05
LOCATION:3.04\, 3.05
ORGANIZER:Gregor Cigler, Marko Kandić
X-WR-TIMEZONE:Europe/Ljubljana
END:VEVENT
BEGIN:VEVENT
SUMMARY:Rezervacija
DTSTART;TZID=Europe/Ljubljana:20200612T090000
DTEND;TZID=Europe/Ljubljana:20200612T110000
DTSTAMP:20260423T023217Z
UID:fmf-AFLABS-URNIK:rezervacija:5486
CATEGORIES:Reservation
COLOR:royalblue
DESCRIPTION:Predmeti: \nLetniki: \nIzvajalci: Gregor Cigler\, Marko Kandi
 ć\, Sašo Strle\nProstori: 2.01\, 3.05
LOCATION:2.01\, 3.05
ORGANIZER:Gregor Cigler, Marko Kandić, Sašo Strle
X-WR-TIMEZONE:Europe/Ljubljana
END:VEVENT
BEGIN:VEVENT
SUMMARY:Rezervacija
DTSTART;TZID=Europe/Ljubljana:20200612T090000
DTEND;TZID=Europe/Ljubljana:20200612T110000
DTSTAMP:20260423T023217Z
UID:fmf-AFLABS-URNIK:rezervacija:5487
CATEGORIES:Reservation
COLOR:royalblue
DESCRIPTION:Predmeti: \nLetniki: \nIzvajalci: Miran Černe\, Gregor Cigler
 \, Leon Lampret\nProstori: 2.05\, 3.04
LOCATION:2.05\, 3.04
ORGANIZER:Miran Černe, Gregor Cigler, Leon Lampret
X-WR-TIMEZONE:Europe/Ljubljana
END:VEVENT
BEGIN:VEVENT
SUMMARY:Rezervacija
DTSTART;TZID=Europe/Ljubljana:20200612T180000
DTEND;TZID=Europe/Ljubljana:20200612T200000
DTSTAMP:20260423T023217Z
UID:fmf-AFLABS-URNIK:rezervacija:5501
CATEGORIES:Reservation
COLOR:royalblue
DESCRIPTION:Predmeti: \nLetniki: \nIzvajalci: Gregor Cigler\nProstori: VFP
LOCATION:VFP
ORGANIZER:Gregor Cigler
X-WR-TIMEZONE:Europe/Ljubljana
END:VEVENT
BEGIN:VEVENT
SUMMARY:Rezervacija
DTSTART;TZID=Europe/Ljubljana:20200612T180000
DTEND;TZID=Europe/Ljubljana:20200612T200000
DTSTAMP:20260423T023217Z
UID:fmf-AFLABS-URNIK:rezervacija:5502
CATEGORIES:Reservation
COLOR:royalblue
DESCRIPTION:Predmeti: \nLetniki: \nIzvajalci: Gregor Cigler\nProstori: 2.0
 5
LOCATION:2.05
ORGANIZER:Gregor Cigler
X-WR-TIMEZONE:Europe/Ljubljana
END:VEVENT
BEGIN:VEVENT
SUMMARY:Rezervacija
DTSTART;TZID=Europe/Ljubljana:20200618T100000
DTEND;TZID=Europe/Ljubljana:20200618T120000
DTSTAMP:20260423T023217Z
UID:fmf-AFLABS-URNIK:rezervacija:5573
CATEGORIES:Reservation
COLOR:royalblue
DESCRIPTION:Predmeti: \nLetniki: \nIzvajalci: Miran Černe\, Gregor Cigler
 \, Riccardo Ugolini\nProstori: 2.01\, 2.02\, 2.03\, 2.05
LOCATION:2.01\, 2.02\, 2.03\, 2.05
ORGANIZER:Miran Černe, Gregor Cigler, Riccardo Ugolini
X-WR-TIMEZONE:Europe/Ljubljana
END:VEVENT
BEGIN:VEVENT
SUMMARY:Rezervacija
DTSTART;TZID=Europe/Ljubljana:20200624T090000
DTEND;TZID=Europe/Ljubljana:20200624T110000
DTSTAMP:20260423T023217Z
UID:fmf-AFLABS-URNIK:rezervacija:5646
CATEGORIES:Reservation
COLOR:royalblue
DESCRIPTION:Predmeti: \nLetniki: \nIzvajalci: Miran Černe\, Gregor Cigler
 \, Riccardo Ugolini\nProstori: 2.01\, 2.02\, 2.03\, 2.05
LOCATION:2.01\, 2.02\, 2.03\, 2.05
ORGANIZER:Miran Černe, Gregor Cigler, Riccardo Ugolini
X-WR-TIMEZONE:Europe/Ljubljana
END:VEVENT
BEGIN:VEVENT
SUMMARY:Rezervacija
DTSTART;TZID=Europe/Ljubljana:20200626T090000
DTEND;TZID=Europe/Ljubljana:20200626T110000
DTSTAMP:20260423T023217Z
UID:fmf-AFLABS-URNIK:rezervacija:5664
CATEGORIES:Reservation
COLOR:royalblue
DESCRIPTION:Predmeti: \nLetniki: \nIzvajalci: Gregor Cigler\, Marko Kandi
 ć\nProstori: 2.05\, 3.04\, 3.05
LOCATION:2.05\, 3.04\, 3.05
ORGANIZER:Gregor Cigler, Marko Kandić
X-WR-TIMEZONE:Europe/Ljubljana
END:VEVENT
BEGIN:VEVENT
SUMMARY:Rezervacija
DTSTART;TZID=Europe/Ljubljana:20200702T090000
DTEND;TZID=Europe/Ljubljana:20200702T110000
DTSTAMP:20260423T023217Z
UID:fmf-AFLABS-URNIK:rezervacija:5745
CATEGORIES:Reservation
COLOR:royalblue
DESCRIPTION:Predmeti: \nLetniki: \nIzvajalci: Gregor Cigler\, Marko Kandi
 ć\nProstori: 2.05
LOCATION:2.05
ORGANIZER:Gregor Cigler, Marko Kandić
X-WR-TIMEZONE:Europe/Ljubljana
END:VEVENT
BEGIN:VEVENT
SUMMARY:Rezervacija
DTSTART;TZID=Europe/Ljubljana:20200817T090000
DTEND;TZID=Europe/Ljubljana:20200817T110000
DTSTAMP:20260423T023217Z
UID:fmf-AFLABS-URNIK:rezervacija:5919
CATEGORIES:Reservation
COLOR:royalblue
DESCRIPTION:Predmeti: \nLetniki: \nIzvajalci: Gregor Cigler\nProstori: 2.0
 1\, 2.03
LOCATION:2.01\, 2.03
ORGANIZER:Gregor Cigler
X-WR-TIMEZONE:Europe/Ljubljana
END:VEVENT
BEGIN:VEVENT
SUMMARY:Rezervacija
DTSTART;TZID=Europe/Ljubljana:20200817T120000
DTEND;TZID=Europe/Ljubljana:20200817T140000
DTSTAMP:20260423T023217Z
UID:fmf-AFLABS-URNIK:rezervacija:5933
CATEGORIES:Reservation
COLOR:royalblue
DESCRIPTION:Predmeti: \nLetniki: \nIzvajalci: Gregor Cigler\nProstori: 2.0
 1\, 2.03
LOCATION:2.01\, 2.03
ORGANIZER:Gregor Cigler
X-WR-TIMEZONE:Europe/Ljubljana
END:VEVENT
END:VCALENDAR
