BEGIN:VCALENDAR
VERSION:2.0
PRODID:-//AFLabs urnik izvoz - fmf//aflabs.si//SI
DTSTAMP:20260423T022131Z
NAME:UL FMF urnik
REFRESH-INTERVAL:PT1H
SOURCE:https://urnik.fmf.uni-lj.si/teacher/27?day=2020-08-10&export=1
URL:https://urnik.fmf.uni-lj.si/teacher/27?day=2020-08-10&export=1
X-PUBLISHED-TTL:PT1H
X-WR-CALNAME:UL FMF urnik
X-WR-TIMEZONE:Europe/Ljubljana
BEGIN:VTIMEZONE
TZID:Europe/Ljubljana
BEGIN:DAYLIGHT
DTSTART:20260329T020000
RDATE:20260329T020000
RDATE:20270328T020000
TZNAME:CEST
TZOFFSETFROM:+0100
TZOFFSETTO:+0200
END:DAYLIGHT
BEGIN:STANDARD
DTSTART:20261025T030000
RDATE:20261025T030000
RDATE:20271031T030000
TZNAME:CET
TZOFFSETFROM:+0200
TZOFFSETTO:+0100
END:STANDARD
END:VTIMEZONE
BEGIN:VEVENT
SUMMARY:Rezervacija
DTSTART;TZID=Europe/Ljubljana:20200817T090000
DTEND;TZID=Europe/Ljubljana:20200817T110000
DTSTAMP:20260423T022131Z
UID:fmf-AFLABS-URNIK:rezervacija:5919
CATEGORIES:Reservation
COLOR:royalblue
DESCRIPTION:Predmeti: \nLetniki: \nIzvajalci: Gregor Cigler\nProstori: 2.0
 1\, 2.03
LOCATION:2.01\, 2.03
ORGANIZER:Gregor Cigler
X-WR-TIMEZONE:Europe/Ljubljana
END:VEVENT
BEGIN:VEVENT
SUMMARY:Rezervacija
DTSTART;TZID=Europe/Ljubljana:20200817T120000
DTEND;TZID=Europe/Ljubljana:20200817T140000
DTSTAMP:20260423T022131Z
UID:fmf-AFLABS-URNIK:rezervacija:5933
CATEGORIES:Reservation
COLOR:royalblue
DESCRIPTION:Predmeti: \nLetniki: \nIzvajalci: Gregor Cigler\nProstori: 2.0
 1\, 2.03
LOCATION:2.01\, 2.03
ORGANIZER:Gregor Cigler
X-WR-TIMEZONE:Europe/Ljubljana
END:VEVENT
BEGIN:VEVENT
SUMMARY:Rezervacija
DTSTART;TZID=Europe/Ljubljana:20200818T090000
DTEND;TZID=Europe/Ljubljana:20200818T110000
DTSTAMP:20260423T022131Z
UID:fmf-AFLABS-URNIK:rezervacija:5938
CATEGORIES:Reservation
COLOR:royalblue
DESCRIPTION:Predmeti: \nLetniki: \nIzvajalci: Gregor Cigler\nProstori: 2.0
 5
LOCATION:2.05
ORGANIZER:Gregor Cigler
X-WR-TIMEZONE:Europe/Ljubljana
END:VEVENT
BEGIN:VEVENT
SUMMARY:Rezervacija
DTSTART;TZID=Europe/Ljubljana:20200820T090000
DTEND;TZID=Europe/Ljubljana:20200820T110000
DTSTAMP:20260423T022131Z
UID:fmf-AFLABS-URNIK:rezervacija:5974
CATEGORIES:Reservation
COLOR:royalblue
DESCRIPTION:Predmeti: \nLetniki: \nIzvajalci: Gregor Cigler\nProstori: 2.0
 3\, 2.05
LOCATION:2.03\, 2.05
ORGANIZER:Gregor Cigler
X-WR-TIMEZONE:Europe/Ljubljana
END:VEVENT
BEGIN:VEVENT
SUMMARY:Rezervacija
DTSTART;TZID=Europe/Ljubljana:20200820T120000
DTEND;TZID=Europe/Ljubljana:20200820T140000
DTSTAMP:20260423T022131Z
UID:fmf-AFLABS-URNIK:rezervacija:5987
CATEGORIES:Reservation
COLOR:royalblue
DESCRIPTION:Predmeti: \nLetniki: \nIzvajalci: Gregor Cigler\nProstori: 2.0
 3\, 2.05
LOCATION:2.03\, 2.05
ORGANIZER:Gregor Cigler
X-WR-TIMEZONE:Europe/Ljubljana
END:VEVENT
BEGIN:VEVENT
SUMMARY:Rezervacija
DTSTART;TZID=Europe/Ljubljana:20200901T090000
DTEND;TZID=Europe/Ljubljana:20200901T110000
DTSTAMP:20260423T022131Z
UID:fmf-AFLABS-URNIK:rezervacija:6146
CATEGORIES:Reservation
COLOR:royalblue
DESCRIPTION:Predmeti: \nLetniki: \nIzvajalci: Gregor Cigler\nProstori: 2.0
 3\, 2.05
LOCATION:2.03\, 2.05
ORGANIZER:Gregor Cigler
X-WR-TIMEZONE:Europe/Ljubljana
END:VEVENT
BEGIN:VEVENT
SUMMARY:Rezervacija
DTSTART;TZID=Europe/Ljubljana:20200902T090000
DTEND;TZID=Europe/Ljubljana:20200902T110000
DTSTAMP:20260423T022131Z
UID:fmf-AFLABS-URNIK:rezervacija:6177
CATEGORIES:Reservation
COLOR:royalblue
DESCRIPTION:Predmeti: \nLetniki: \nIzvajalci: Gregor Cigler\nProstori: 2.0
 5\, P.02
LOCATION:2.05\, P.02
ORGANIZER:Gregor Cigler
X-WR-TIMEZONE:Europe/Ljubljana
END:VEVENT
BEGIN:VEVENT
SUMMARY:Rezervacija
DTSTART;TZID=Europe/Ljubljana:20200903T120000
DTEND;TZID=Europe/Ljubljana:20200903T150000
DTSTAMP:20260423T022131Z
UID:fmf-AFLABS-URNIK:rezervacija:6229
CATEGORIES:Reservation
COLOR:royalblue
DESCRIPTION:Predmeti: \nLetniki: \nIzvajalci: Gregor Cigler\nProstori: 2.0
 5
LOCATION:2.05
ORGANIZER:Gregor Cigler
X-WR-TIMEZONE:Europe/Ljubljana
END:VEVENT
BEGIN:VEVENT
SUMMARY:Rezervacija
DTSTART;TZID=Europe/Ljubljana:20200908T090000
DTEND;TZID=Europe/Ljubljana:20200908T110000
DTSTAMP:20260423T022131Z
UID:fmf-AFLABS-URNIK:rezervacija:6291
CATEGORIES:Reservation
COLOR:royalblue
DESCRIPTION:Predmeti: \nLetniki: \nIzvajalci: Gregor Cigler\nProstori: 2.0
 5
LOCATION:2.05
ORGANIZER:Gregor Cigler
X-WR-TIMEZONE:Europe/Ljubljana
END:VEVENT
END:VCALENDAR
