BEGIN:VCALENDAR
VERSION:2.0
PRODID:-//AFLabs urnik izvoz - fmf//aflabs.si//SI
DTSTAMP:20260421T054348Z
NAME:UL FMF urnik
REFRESH-INTERVAL:PT1H
SOURCE:https://urnik.fmf.uni-lj.si/teacher/27?day=2021-07-12&export=1
URL:https://urnik.fmf.uni-lj.si/teacher/27?day=2021-07-12&export=1
X-PUBLISHED-TTL:PT1H
X-WR-CALNAME:UL FMF urnik
X-WR-TIMEZONE:Europe/Ljubljana
BEGIN:VTIMEZONE
TZID:Europe/Ljubljana
BEGIN:DAYLIGHT
DTSTART:20260329T020000
RDATE:20260329T020000
RDATE:20270328T020000
TZNAME:CEST
TZOFFSETFROM:+0100
TZOFFSETTO:+0200
END:DAYLIGHT
BEGIN:STANDARD
DTSTART:20261025T030000
RDATE:20261025T030000
RDATE:20271031T030000
TZNAME:CET
TZOFFSETFROM:+0200
TZOFFSETTO:+0100
END:STANDARD
END:VTIMEZONE
BEGIN:VEVENT
SUMMARY:Rezervacija
DTSTART;TZID=Europe/Ljubljana:20210607T100000
DTEND;TZID=Europe/Ljubljana:20210607T120000
DTSTAMP:20260421T054348Z
UID:fmf-AFLABS-URNIK:rezervacija:6758
CATEGORIES:Reservation
COLOR:royalblue
DESCRIPTION:Predmeti: \nLetniki: \nIzvajalci: Gregor Cigler\, Lucijan Plev
 nik\nProstori: 2.01\, 2.05
LOCATION:2.01\, 2.05
ORGANIZER:Gregor Cigler, Lucijan Plevnik
X-WR-TIMEZONE:Europe/Ljubljana
END:VEVENT
BEGIN:VEVENT
SUMMARY:Rezervacija
DTSTART;TZID=Europe/Ljubljana:20210615T100000
DTEND;TZID=Europe/Ljubljana:20210615T120000
DTSTAMP:20260421T054348Z
UID:fmf-AFLABS-URNIK:rezervacija:6890
CATEGORIES:Reservation
COLOR:royalblue
DESCRIPTION:Predmeti: \nLetniki: \nIzvajalci: Gregor Cigler\nProstori: 2.0
 5
LOCATION:2.05
ORGANIZER:Gregor Cigler
X-WR-TIMEZONE:Europe/Ljubljana
END:VEVENT
BEGIN:VEVENT
SUMMARY:Rezervacija
DTSTART;TZID=Europe/Ljubljana:20210623T100000
DTEND;TZID=Europe/Ljubljana:20210623T120000
DTSTAMP:20260421T054348Z
UID:fmf-AFLABS-URNIK:rezervacija:7024
ATTENDEE:2. letnik (M)
ATTENDEE:2. letnik (PM)
CATEGORIES:Reservation
COLOR:royalblue
DESCRIPTION:Predmeti: Analiza 2b (MAT-2\, PM-2)\nLetniki: 2. letnik (M)\, 
 2. letnik (PM)\nIzvajalci: Gregor Cigler\nProstori: 2.05
LOCATION:2.05
ORGANIZER:Gregor Cigler
X-WR-TIMEZONE:Europe/Ljubljana
END:VEVENT
BEGIN:VEVENT
SUMMARY:Rezervacija
DTSTART;TZID=Europe/Ljubljana:20210623T120000
DTEND;TZID=Europe/Ljubljana:20210623T140000
DTSTAMP:20260421T054348Z
UID:fmf-AFLABS-URNIK:rezervacija:7033
CATEGORIES:Reservation
COLOR:royalblue
DESCRIPTION:Predmeti: \nLetniki: \nIzvajalci: Gregor Cigler\, Lucijan Plev
 nik\nProstori: 2.01\, 2.05
LOCATION:2.01\, 2.05
ORGANIZER:Gregor Cigler, Lucijan Plevnik
X-WR-TIMEZONE:Europe/Ljubljana
END:VEVENT
BEGIN:VEVENT
SUMMARY:Rezervacija
DTSTART;TZID=Europe/Ljubljana:20210624T120000
DTEND;TZID=Europe/Ljubljana:20210624T150000
DTSTAMP:20260421T054348Z
UID:fmf-AFLABS-URNIK:rezervacija:7059
CATEGORIES:Reservation
COLOR:royalblue
DESCRIPTION:Predmeti: \nLetniki: \nIzvajalci: Gregor Cigler\, Marko Kandi
 ć\nProstori: 2.01\, 2.05
LOCATION:2.01\, 2.05
ORGANIZER:Gregor Cigler, Marko Kandić
X-WR-TIMEZONE:Europe/Ljubljana
END:VEVENT
BEGIN:VEVENT
SUMMARY:Rezervacija
DTSTART;TZID=Europe/Ljubljana:20210816T130000
DTEND;TZID=Europe/Ljubljana:20210816T160000
DTSTAMP:20260421T054348Z
UID:fmf-AFLABS-URNIK:rezervacija:7370
CATEGORIES:Reservation
COLOR:royalblue
DESCRIPTION:Predmeti: \nLetniki: \nIzvajalci: Gregor Cigler\, Marko Kandi
 ć\, Sašo Strle\nProstori: 2.01\, 2.05
LOCATION:2.01\, 2.05
ORGANIZER:Gregor Cigler, Marko Kandić, Sašo Strle
X-WR-TIMEZONE:Europe/Ljubljana
END:VEVENT
BEGIN:VEVENT
SUMMARY:Rezervacija
DTSTART;TZID=Europe/Ljubljana:20210816T160000
DTEND;TZID=Europe/Ljubljana:20210816T180000
DTSTAMP:20260421T054348Z
UID:fmf-AFLABS-URNIK:rezervacija:7371
CATEGORIES:Reservation
COLOR:royalblue
DESCRIPTION:Predmeti: \nLetniki: \nIzvajalci: Gregor Cigler\nProstori: 2.0
 5
LOCATION:2.05
ORGANIZER:Gregor Cigler
X-WR-TIMEZONE:Europe/Ljubljana
END:VEVENT
END:VCALENDAR
