BEGIN:VCALENDAR
VERSION:2.0
PRODID:-//AFLabs urnik izvoz - fmf//aflabs.si//SI
DTSTAMP:20260424T194624Z
NAME:UL FMF urnik
REFRESH-INTERVAL:PT1H
SOURCE:https://urnik.fmf.uni-lj.si/teacher/27?day=2026-02-09&export=1
URL:https://urnik.fmf.uni-lj.si/teacher/27?day=2026-02-09&export=1
X-PUBLISHED-TTL:PT1H
X-WR-CALNAME:UL FMF urnik
X-WR-TIMEZONE:Europe/Ljubljana
BEGIN:VTIMEZONE
TZID:Europe/Ljubljana
BEGIN:DAYLIGHT
DTSTART:20260329T020000
RDATE:20260329T020000
RDATE:20270328T020000
TZNAME:CEST
TZOFFSETFROM:+0100
TZOFFSETTO:+0200
END:DAYLIGHT
BEGIN:STANDARD
DTSTART:20261025T030000
RDATE:20261025T030000
RDATE:20271031T030000
TZNAME:CET
TZOFFSETFROM:+0200
TZOFFSETTO:+0100
END:STANDARD
END:VTIMEZONE
BEGIN:VEVENT
SUMMARY:ZPS\, UO ()\, Predavanja (P)
DTSTART;TZID=Europe/Ljubljana:20260218T120000
DTEND;TZID=Europe/Ljubljana:20260218T150000
DTSTAMP:20260424T194624Z
UID:fmf-AFLABS-URNIK:premaknjeno-srecanje:236265
CATEGORIES:Entry,Standard
COLOR:darkgreen
DESCRIPTION:Predmet: ZPS\, UO ()\, Predavanja (P)\nLetniki: \nIzvajalci:  
 X\nProstor: P.02
LOCATION:P.02
ORGANIZER: X
RELATED-TO:fmf-AFLABS-URNIK:srecanje:16766
X-WR-TIMEZONE:Europe/Ljubljana
END:VEVENT
BEGIN:VEVENT
SUMMARY:ZPS\, UO ()\, Predavanja (P)
DTSTART;TZID=Europe/Ljubljana:20260225T120000
DTEND;TZID=Europe/Ljubljana:20260225T150000
DTSTAMP:20260424T194624Z
UID:fmf-AFLABS-URNIK:premaknjeno-srecanje:236266
CATEGORIES:Entry,Standard
COLOR:darkgreen
DESCRIPTION:Predmet: ZPS\, UO ()\, Predavanja (P)\nLetniki: \nIzvajalci:  
 X\nProstor: P.02
LOCATION:P.02
ORGANIZER: X
RELATED-TO:fmf-AFLABS-URNIK:srecanje:16766
X-WR-TIMEZONE:Europe/Ljubljana
END:VEVENT
BEGIN:VEVENT
SUMMARY:ZPS\, UO ()\, Predavanja (P)
DTSTART;TZID=Europe/Ljubljana:20260304T120000
DTEND;TZID=Europe/Ljubljana:20260304T150000
DTSTAMP:20260424T194624Z
UID:fmf-AFLABS-URNIK:premaknjeno-srecanje:236267
CATEGORIES:Entry,Standard
COLOR:darkgreen
DESCRIPTION:Predmet: ZPS\, UO ()\, Predavanja (P)\nLetniki: \nIzvajalci:  
 X\nProstor: P.02
LOCATION:P.02
ORGANIZER: X
RELATED-TO:fmf-AFLABS-URNIK:srecanje:16766
X-WR-TIMEZONE:Europe/Ljubljana
END:VEVENT
BEGIN:VEVENT
SUMMARY:ZPS\, UO ()\, Predavanja (P)
DTSTART;TZID=Europe/Ljubljana:20260311T120000
DTEND;TZID=Europe/Ljubljana:20260311T150000
DTSTAMP:20260424T194624Z
UID:fmf-AFLABS-URNIK:premaknjeno-srecanje:236268
CATEGORIES:Entry,Standard
COLOR:darkgreen
DESCRIPTION:Predmet: ZPS\, UO ()\, Predavanja (P)\nLetniki: \nIzvajalci:  
 X\nProstor: P.02
LOCATION:P.02
ORGANIZER: X
RELATED-TO:fmf-AFLABS-URNIK:srecanje:16766
X-WR-TIMEZONE:Europe/Ljubljana
END:VEVENT
BEGIN:VEVENT
SUMMARY:Proseminar B (MAT-1)\, Predavanja (P)
DTSTART;TZID=Europe/Ljubljana:20260218T080000
DTEND;TZID=Europe/Ljubljana:20260218T100000
DTSTAMP:20260424T194624Z
UID:fmf-AFLABS-URNIK:premaknjeno-srecanje:248574
ATTENDEE:1. letnik (M)
ATTENDEE:1. letnik (PM)
CATEGORIES:Entry,Standard
COLOR:darkgreen
DESCRIPTION:Predmet: Proseminar B (MAT-1)\, Predavanja (P)\nLetniki: 1. le
 tnik (M)\nIzvajalci: Gregor Cigler\nProstor: 2.05
LOCATION:2.05
ORGANIZER:Gregor Cigler
RELATED-TO:fmf-AFLABS-URNIK:srecanje:16723
X-WR-TIMEZONE:Europe/Ljubljana
END:VEVENT
BEGIN:VEVENT
SUMMARY:Proseminar B (MAT-1)\, Predavanja (P)
DTSTART;TZID=Europe/Ljubljana:20260225T080000
DTEND;TZID=Europe/Ljubljana:20260225T100000
DTSTAMP:20260424T194624Z
UID:fmf-AFLABS-URNIK:premaknjeno-srecanje:248575
ATTENDEE:1. letnik (M)
ATTENDEE:1. letnik (PM)
CATEGORIES:Entry,Standard
COLOR:darkgreen
DESCRIPTION:Predmet: Proseminar B (MAT-1)\, Predavanja (P)\nLetniki: 1. le
 tnik (M)\nIzvajalci: Gregor Cigler\nProstor: 2.05
LOCATION:2.05
ORGANIZER:Gregor Cigler
RELATED-TO:fmf-AFLABS-URNIK:srecanje:16723
X-WR-TIMEZONE:Europe/Ljubljana
END:VEVENT
BEGIN:VEVENT
SUMMARY:Proseminar B (MAT-1)\, Predavanja (P)
DTSTART;TZID=Europe/Ljubljana:20260304T080000
DTEND;TZID=Europe/Ljubljana:20260304T100000
DTSTAMP:20260424T194624Z
UID:fmf-AFLABS-URNIK:premaknjeno-srecanje:248576
ATTENDEE:1. letnik (M)
ATTENDEE:1. letnik (PM)
CATEGORIES:Entry,Standard
COLOR:darkgreen
DESCRIPTION:Predmet: Proseminar B (MAT-1)\, Predavanja (P)\nLetniki: 1. le
 tnik (M)\nIzvajalci: Gregor Cigler\nProstor: 2.05
LOCATION:2.05
ORGANIZER:Gregor Cigler
RELATED-TO:fmf-AFLABS-URNIK:srecanje:16723
X-WR-TIMEZONE:Europe/Ljubljana
END:VEVENT
BEGIN:VEVENT
SUMMARY:Proseminar B (MAT-1)\, Predavanja (P)
DTSTART;TZID=Europe/Ljubljana:20260311T080000
DTEND;TZID=Europe/Ljubljana:20260311T100000
DTSTAMP:20260424T194624Z
UID:fmf-AFLABS-URNIK:premaknjeno-srecanje:248577
ATTENDEE:1. letnik (M)
ATTENDEE:1. letnik (PM)
CATEGORIES:Entry,Standard
COLOR:darkgreen
DESCRIPTION:Predmet: Proseminar B (MAT-1)\, Predavanja (P)\nLetniki: 1. le
 tnik (M)\nIzvajalci: Gregor Cigler\nProstor: 2.05
LOCATION:2.05
ORGANIZER:Gregor Cigler
RELATED-TO:fmf-AFLABS-URNIK:srecanje:16723
X-WR-TIMEZONE:Europe/Ljubljana
END:VEVENT
BEGIN:VEVENT
SUMMARY:Informativni dan OM
DTSTART;TZID=Europe/Ljubljana:20260213T080000
DTEND;TZID=Europe/Ljubljana:20260213T170000
DTSTAMP:20260424T194624Z
UID:fmf-AFLABS-URNIK:rezervacija:26256
CATEGORIES:Reservation
COLOR:royalblue
DESCRIPTION:Predmeti: \nLetniki: \nIzvajalci: Gregor Cigler\nProstori: VFP
LOCATION:VFP
ORGANIZER:Gregor Cigler
X-WR-TIMEZONE:Europe/Ljubljana
END:VEVENT
BEGIN:VEVENT
SUMMARY:Informativni dan OM
DTSTART;TZID=Europe/Ljubljana:20260214T080000
DTEND;TZID=Europe/Ljubljana:20260214T120000
DTSTAMP:20260424T194624Z
UID:fmf-AFLABS-URNIK:rezervacija:26257
CATEGORIES:Reservation
COLOR:royalblue
DESCRIPTION:Predmeti: \nLetniki: \nIzvajalci: Gregor Cigler\nProstori: 2.0
 5
LOCATION:2.05
ORGANIZER:Gregor Cigler
X-WR-TIMEZONE:Europe/Ljubljana
END:VEVENT
BEGIN:VEVENT
SUMMARY:Dan Pi
DTSTART;TZID=Europe/Ljubljana:20260313T110000
DTEND;TZID=Europe/Ljubljana:20260313T150000
DTSTAMP:20260424T194624Z
UID:fmf-AFLABS-URNIK:rezervacija:27372
CATEGORIES:Reservation
COLOR:royalblue
DESCRIPTION:Predmeti: \nLetniki: \nIzvajalci: Gregor Cigler\nProstori: F1
LOCATION:F1
ORGANIZER:Gregor Cigler
X-WR-TIMEZONE:Europe/Ljubljana
END:VEVENT
BEGIN:VEVENT
SUMMARY:Dan Pi
DTSTART;TZID=Europe/Ljubljana:20260313T070000
DTEND;TZID=Europe/Ljubljana:20260313T160000
DTSTAMP:20260424T194624Z
UID:fmf-AFLABS-URNIK:rezervacija:27373
CATEGORIES:Reservation
COLOR:royalblue
DESCRIPTION:Predmeti: \nLetniki: \nIzvajalci: Gregor Cigler\nProstori: MFP
LOCATION:MFP
ORGANIZER:Gregor Cigler
X-WR-TIMEZONE:Europe/Ljubljana
END:VEVENT
END:VCALENDAR
