BEGIN:VCALENDAR
VERSION:2.0
PRODID:-//AFLabs urnik izvoz - fmf//aflabs.si//SI
DTSTAMP:20260423T015457Z
NAME:UL FMF urnik
REFRESH-INTERVAL:PT1H
SOURCE:https://urnik.fmf.uni-lj.si/teacher/281?day=2021-01-25&export=1
URL:https://urnik.fmf.uni-lj.si/teacher/281?day=2021-01-25&export=1
X-PUBLISHED-TTL:PT1H
X-WR-CALNAME:UL FMF urnik
X-WR-TIMEZONE:Europe/Ljubljana
BEGIN:VTIMEZONE
TZID:Europe/Ljubljana
BEGIN:DAYLIGHT
DTSTART:20260329T020000
RDATE:20260329T020000
RDATE:20270328T020000
TZNAME:CEST
TZOFFSETFROM:+0100
TZOFFSETTO:+0200
END:DAYLIGHT
BEGIN:STANDARD
DTSTART:20261025T030000
RDATE:20261025T030000
RDATE:20271031T030000
TZNAME:CET
TZOFFSETFROM:+0200
TZOFFSETTO:+0100
END:STANDARD
END:VTIMEZONE
BEGIN:VEVENT
SUMMARY:Opazovalne metode v astrofiziki (FIZ-M1\, FIZ-M2)\, Predavanja (P)
DTSTART;TZID=Europe/Ljubljana:20201222T110000
DTEND;TZID=Europe/Ljubljana:20201222T140000
DTSTAMP:20260423T015457Z
UID:fmf-AFLABS-URNIK:premaknjeno-srecanje:79145
ATTENDEE:1. letnik (Fizika, 2. stopnja)
ATTENDEE:2. letnik (Fizika, 2. stopnja)
CATEGORIES:Entry,Standard
COLOR:darkgreen
DESCRIPTION:Predmet: Opazovalne metode v astrofiziki (FIZ-M1\, FIZ-M2)\, P
 redavanja (P)\nLetniki: 1. letnik (Fizika\, 2. stopnja)\, 2. letnik (Fizik
 a\, 2. stopnja)\nIzvajalci: Janez Kos\nProstor: F6
LOCATION:F6
ORGANIZER:Janez Kos
RELATED-TO:fmf-AFLABS-URNIK:srecanje:5365
X-WR-TIMEZONE:Europe/Ljubljana
END:VEVENT
BEGIN:VEVENT
SUMMARY:Opazovalne metode v astrofiziki (FIZ-M1\, FIZ-M2)\, Predavanja (P)
DTSTART;TZID=Europe/Ljubljana:20201229T110000
DTEND;TZID=Europe/Ljubljana:20201229T140000
DTSTAMP:20260423T015457Z
UID:fmf-AFLABS-URNIK:premaknjeno-srecanje:79146
ATTENDEE:1. letnik (Fizika, 2. stopnja)
ATTENDEE:2. letnik (Fizika, 2. stopnja)
CATEGORIES:Entry,Standard
COLOR:darkgreen
DESCRIPTION:Predmet: Opazovalne metode v astrofiziki (FIZ-M1\, FIZ-M2)\, P
 redavanja (P)\nLetniki: 1. letnik (Fizika\, 2. stopnja)\, 2. letnik (Fizik
 a\, 2. stopnja)\nIzvajalci: Janez Kos\nProstor: F6
LOCATION:F6
ORGANIZER:Janez Kos
RELATED-TO:fmf-AFLABS-URNIK:srecanje:5365
X-WR-TIMEZONE:Europe/Ljubljana
END:VEVENT
BEGIN:VEVENT
SUMMARY:Opazovalne metode v astrofiziki (FIZ-M1\, FIZ-M2)\, Predavanja (P)
DTSTART;TZID=Europe/Ljubljana:20210105T110000
DTEND;TZID=Europe/Ljubljana:20210105T140000
DTSTAMP:20260423T015457Z
UID:fmf-AFLABS-URNIK:premaknjeno-srecanje:79147
ATTENDEE:1. letnik (Fizika, 2. stopnja)
ATTENDEE:2. letnik (Fizika, 2. stopnja)
CATEGORIES:Entry,Standard
COLOR:darkgreen
DESCRIPTION:Predmet: Opazovalne metode v astrofiziki (FIZ-M1\, FIZ-M2)\, P
 redavanja (P)\nLetniki: 1. letnik (Fizika\, 2. stopnja)\, 2. letnik (Fizik
 a\, 2. stopnja)\nIzvajalci: Janez Kos\nProstor: F6
LOCATION:F6
ORGANIZER:Janez Kos
RELATED-TO:fmf-AFLABS-URNIK:srecanje:5365
X-WR-TIMEZONE:Europe/Ljubljana
END:VEVENT
BEGIN:VEVENT
SUMMARY:Opazovalne metode v astrofiziki (FIZ-M1\, FIZ-M2)\, Predavanja (P)
DTSTART;TZID=Europe/Ljubljana:20210112T110000
DTEND;TZID=Europe/Ljubljana:20210112T140000
DTSTAMP:20260423T015457Z
UID:fmf-AFLABS-URNIK:premaknjeno-srecanje:79148
ATTENDEE:1. letnik (Fizika, 2. stopnja)
ATTENDEE:2. letnik (Fizika, 2. stopnja)
CATEGORIES:Entry,Standard
COLOR:darkgreen
DESCRIPTION:Predmet: Opazovalne metode v astrofiziki (FIZ-M1\, FIZ-M2)\, P
 redavanja (P)\nLetniki: 1. letnik (Fizika\, 2. stopnja)\, 2. letnik (Fizik
 a\, 2. stopnja)\nIzvajalci: Janez Kos\nProstor: F6
LOCATION:F6
ORGANIZER:Janez Kos
RELATED-TO:fmf-AFLABS-URNIK:srecanje:5365
X-WR-TIMEZONE:Europe/Ljubljana
END:VEVENT
BEGIN:VEVENT
SUMMARY:Opazovalne metode v astrofiziki (FIZ-M1\, FIZ-M2)\, Vaje (V)
DTSTART;TZID=Europe/Ljubljana:20201225T110000
DTEND;TZID=Europe/Ljubljana:20201225T130000
DTSTAMP:20260423T015457Z
UID:fmf-AFLABS-URNIK:premaknjeno-srecanje:79222
ATTENDEE:1. letnik (Fizika, 2. stopnja)
ATTENDEE:2. letnik (Fizika, 2. stopnja)
CATEGORIES:Entry,Standard
COLOR:darkgreen
DESCRIPTION:Predmet: Opazovalne metode v astrofiziki (FIZ-M1\, FIZ-M2)\, V
 aje (V)\nLetniki: 1. letnik (Fizika\, 2. stopnja)\, 2. letnik (Fizika\, 2.
  stopnja)\nIzvajalci: Janez Kos\nProstor: F5
LOCATION:F5
ORGANIZER:Janez Kos
RELATED-TO:fmf-AFLABS-URNIK:srecanje:5366
X-WR-TIMEZONE:Europe/Ljubljana
END:VEVENT
BEGIN:VEVENT
SUMMARY:Opazovalne metode v astrofiziki (FIZ-M1\, FIZ-M2)\, Vaje (V)
DTSTART;TZID=Europe/Ljubljana:20210101T110000
DTEND;TZID=Europe/Ljubljana:20210101T130000
DTSTAMP:20260423T015457Z
UID:fmf-AFLABS-URNIK:premaknjeno-srecanje:79223
ATTENDEE:1. letnik (Fizika, 2. stopnja)
ATTENDEE:2. letnik (Fizika, 2. stopnja)
CATEGORIES:Entry,Standard
COLOR:darkgreen
DESCRIPTION:Predmet: Opazovalne metode v astrofiziki (FIZ-M1\, FIZ-M2)\, V
 aje (V)\nLetniki: 1. letnik (Fizika\, 2. stopnja)\, 2. letnik (Fizika\, 2.
  stopnja)\nIzvajalci: Janez Kos\nProstor: F5
LOCATION:F5
ORGANIZER:Janez Kos
RELATED-TO:fmf-AFLABS-URNIK:srecanje:5366
X-WR-TIMEZONE:Europe/Ljubljana
END:VEVENT
BEGIN:VEVENT
SUMMARY:Opazovalne metode v astrofiziki (FIZ-M1\, FIZ-M2)\, Vaje (V)
DTSTART;TZID=Europe/Ljubljana:20210108T110000
DTEND;TZID=Europe/Ljubljana:20210108T130000
DTSTAMP:20260423T015457Z
UID:fmf-AFLABS-URNIK:premaknjeno-srecanje:79224
ATTENDEE:1. letnik (Fizika, 2. stopnja)
ATTENDEE:2. letnik (Fizika, 2. stopnja)
CATEGORIES:Entry,Standard
COLOR:darkgreen
DESCRIPTION:Predmet: Opazovalne metode v astrofiziki (FIZ-M1\, FIZ-M2)\, V
 aje (V)\nLetniki: 1. letnik (Fizika\, 2. stopnja)\, 2. letnik (Fizika\, 2.
  stopnja)\nIzvajalci: Janez Kos\nProstor: F5
LOCATION:F5
ORGANIZER:Janez Kos
RELATED-TO:fmf-AFLABS-URNIK:srecanje:5366
X-WR-TIMEZONE:Europe/Ljubljana
END:VEVENT
BEGIN:VEVENT
SUMMARY:Opazovalne metode v astrofiziki (FIZ-M1\, FIZ-M2)\, Vaje (V)
DTSTART;TZID=Europe/Ljubljana:20210115T110000
DTEND;TZID=Europe/Ljubljana:20210115T130000
DTSTAMP:20260423T015457Z
UID:fmf-AFLABS-URNIK:premaknjeno-srecanje:79225
ATTENDEE:1. letnik (Fizika, 2. stopnja)
ATTENDEE:2. letnik (Fizika, 2. stopnja)
CATEGORIES:Entry,Standard
COLOR:darkgreen
DESCRIPTION:Predmet: Opazovalne metode v astrofiziki (FIZ-M1\, FIZ-M2)\, V
 aje (V)\nLetniki: 1. letnik (Fizika\, 2. stopnja)\, 2. letnik (Fizika\, 2.
  stopnja)\nIzvajalci: Janez Kos\nProstor: F5
LOCATION:F5
ORGANIZER:Janez Kos
RELATED-TO:fmf-AFLABS-URNIK:srecanje:5366
X-WR-TIMEZONE:Europe/Ljubljana
END:VEVENT
BEGIN:VEVENT
SUMMARY:Astronomska opazovanja (FIZ-1)\, Vaje (V)\, [1]
DTSTART;TZID=Europe/Ljubljana:20210216T120000
DTEND;TZID=Europe/Ljubljana:20210216T130000
DTSTAMP:20260423T015457Z
UID:fmf-AFLABS-URNIK:premaknjeno-srecanje:11865
ATTENDEE:1. letnik (Fizika, 1. stopnja)
CATEGORIES:Entry,Standard
COLOR:darkgreen
DESCRIPTION:Predmet: Astronomska opazovanja (FIZ-1)\, Vaje (V)\, [1]\nLetn
 iki: 1. letnik (Fizika\, 1. stopnja)\nIzvajalci: Janez Kos\nProstor: F3
LOCATION:F3
ORGANIZER:Janez Kos
RELATED-TO:fmf-AFLABS-URNIK:srecanje:5476
X-WR-TIMEZONE:Europe/Ljubljana
END:VEVENT
BEGIN:VEVENT
SUMMARY:Astronomska opazovanja (FIZ-1)\, Vaje (V)\, [1]
DTSTART;TZID=Europe/Ljubljana:20210223T120000
DTEND;TZID=Europe/Ljubljana:20210223T130000
DTSTAMP:20260423T015457Z
UID:fmf-AFLABS-URNIK:premaknjeno-srecanje:11866
ATTENDEE:1. letnik (Fizika, 1. stopnja)
CATEGORIES:Entry,Standard
COLOR:darkgreen
DESCRIPTION:Predmet: Astronomska opazovanja (FIZ-1)\, Vaje (V)\, [1]\nLetn
 iki: 1. letnik (Fizika\, 1. stopnja)\nIzvajalci: Janez Kos\nProstor: F3
LOCATION:F3
ORGANIZER:Janez Kos
RELATED-TO:fmf-AFLABS-URNIK:srecanje:5476
X-WR-TIMEZONE:Europe/Ljubljana
END:VEVENT
BEGIN:VEVENT
SUMMARY:Opazovalna astrofizika (FIZ-3)\, Vaje (V)
DTSTART;TZID=Europe/Ljubljana:20210216T160000
DTEND;TZID=Europe/Ljubljana:20210216T180000
DTSTAMP:20260423T015457Z
UID:fmf-AFLABS-URNIK:premaknjeno-srecanje:79057
ATTENDEE:3. letnik (Fizika, 1. stopnja)
CATEGORIES:Entry,Standard
COLOR:darkgreen
DESCRIPTION:Predmet: Opazovalna astrofizika (FIZ-3)\, Vaje (V)\nLetniki: 3
 . letnik (Fizika\, 1. stopnja)\nIzvajalci: Janez Kos\nProstor: F7
LOCATION:F7
ORGANIZER:Janez Kos
RELATED-TO:fmf-AFLABS-URNIK:srecanje:6061
X-WR-TIMEZONE:Europe/Ljubljana
END:VEVENT
BEGIN:VEVENT
SUMMARY:Opazovalna astrofizika (FIZ-3)\, Vaje (V)
DTSTART;TZID=Europe/Ljubljana:20210223T160000
DTEND;TZID=Europe/Ljubljana:20210223T180000
DTSTAMP:20260423T015457Z
UID:fmf-AFLABS-URNIK:premaknjeno-srecanje:79058
ATTENDEE:3. letnik (Fizika, 1. stopnja)
CATEGORIES:Entry,Standard
COLOR:darkgreen
DESCRIPTION:Predmet: Opazovalna astrofizika (FIZ-3)\, Vaje (V)\nLetniki: 3
 . letnik (Fizika\, 1. stopnja)\nIzvajalci: Janez Kos\nProstor: F7
LOCATION:F7
ORGANIZER:Janez Kos
RELATED-TO:fmf-AFLABS-URNIK:srecanje:6061
X-WR-TIMEZONE:Europe/Ljubljana
END:VEVENT
BEGIN:VEVENT
SUMMARY:Astronomska opazovanja (FIZ-1)\, Vaje (V)\, [2]
DTSTART;TZID=Europe/Ljubljana:20210218T130000
DTEND;TZID=Europe/Ljubljana:20210218T140000
DTSTAMP:20260423T015457Z
UID:fmf-AFLABS-URNIK:premaknjeno-srecanje:12002
ATTENDEE:1. letnik (Fizika, 1. stopnja)
CATEGORIES:Entry,Standard
COLOR:darkgreen
DESCRIPTION:Predmet: Astronomska opazovanja (FIZ-1)\, Vaje (V)\, [2]\nLetn
 iki: 1. letnik (Fizika\, 1. stopnja)\nIzvajalci: Janez Kos\nProstor: F2
LOCATION:F2
ORGANIZER:Janez Kos
RELATED-TO:fmf-AFLABS-URNIK:srecanje:5995
X-WR-TIMEZONE:Europe/Ljubljana
END:VEVENT
BEGIN:VEVENT
SUMMARY:Astronomska opazovanja (FIZ-1)\, Vaje (V)\, [2]
DTSTART;TZID=Europe/Ljubljana:20210225T130000
DTEND;TZID=Europe/Ljubljana:20210225T140000
DTSTAMP:20260423T015457Z
UID:fmf-AFLABS-URNIK:premaknjeno-srecanje:12003
ATTENDEE:1. letnik (Fizika, 1. stopnja)
CATEGORIES:Entry,Standard
COLOR:darkgreen
DESCRIPTION:Predmet: Astronomska opazovanja (FIZ-1)\, Vaje (V)\, [2]\nLetn
 iki: 1. letnik (Fizika\, 1. stopnja)\nIzvajalci: Janez Kos\nProstor: F2
LOCATION:F2
ORGANIZER:Janez Kos
RELATED-TO:fmf-AFLABS-URNIK:srecanje:5995
X-WR-TIMEZONE:Europe/Ljubljana
END:VEVENT
BEGIN:VEVENT
SUMMARY:Opazovalna astrofizika (FIZ-3)\, Predavanja (P)
DTSTART;TZID=Europe/Ljubljana:20210219T080000
DTEND;TZID=Europe/Ljubljana:20210219T110000
DTSTAMP:20260423T015457Z
UID:fmf-AFLABS-URNIK:premaknjeno-srecanje:78979
ATTENDEE:3. letnik (Fizika, 1. stopnja)
CATEGORIES:Entry,Standard
COLOR:darkgreen
DESCRIPTION:Predmet: Opazovalna astrofizika (FIZ-3)\, Predavanja (P)\nLetn
 iki: 3. letnik (Fizika\, 1. stopnja)\nIzvajalci: Janez Kos\nProstor: F3
LOCATION:F3
ORGANIZER:Janez Kos
RELATED-TO:fmf-AFLABS-URNIK:srecanje:6062
X-WR-TIMEZONE:Europe/Ljubljana
END:VEVENT
BEGIN:VEVENT
SUMMARY:Opazovalna astrofizika (FIZ-3)\, Predavanja (P)
DTSTART;TZID=Europe/Ljubljana:20210226T080000
DTEND;TZID=Europe/Ljubljana:20210226T110000
DTSTAMP:20260423T015457Z
UID:fmf-AFLABS-URNIK:premaknjeno-srecanje:78980
ATTENDEE:3. letnik (Fizika, 1. stopnja)
CATEGORIES:Entry,Standard
COLOR:darkgreen
DESCRIPTION:Predmet: Opazovalna astrofizika (FIZ-3)\, Predavanja (P)\nLetn
 iki: 3. letnik (Fizika\, 1. stopnja)\nIzvajalci: Janez Kos\nProstor: F3
LOCATION:F3
ORGANIZER:Janez Kos
RELATED-TO:fmf-AFLABS-URNIK:srecanje:6062
X-WR-TIMEZONE:Europe/Ljubljana
END:VEVENT
END:VCALENDAR
