BEGIN:VCALENDAR
VERSION:2.0
PRODID:-//AFLabs urnik izvoz - fmf//aflabs.si//SI
DTSTAMP:20260421T212857Z
NAME:UL FMF urnik
REFRESH-INTERVAL:PT1H
SOURCE:https://urnik.fmf.uni-lj.si/teacher/281?day=2022-01-03&export=1
URL:https://urnik.fmf.uni-lj.si/teacher/281?day=2022-01-03&export=1
X-PUBLISHED-TTL:PT1H
X-WR-CALNAME:UL FMF urnik
X-WR-TIMEZONE:Europe/Ljubljana
BEGIN:VTIMEZONE
TZID:Europe/Ljubljana
BEGIN:DAYLIGHT
DTSTART:20260329T020000
RDATE:20260329T020000
RDATE:20270328T020000
TZNAME:CEST
TZOFFSETFROM:+0100
TZOFFSETTO:+0200
END:DAYLIGHT
BEGIN:STANDARD
DTSTART:20261025T030000
RDATE:20261025T030000
RDATE:20271031T030000
TZNAME:CET
TZOFFSETFROM:+0200
TZOFFSETTO:+0100
END:STANDARD
END:VTIMEZONE
BEGIN:VEVENT
SUMMARY:Življenje in dinamika zvezd (FIZ-M2)\, Predavanja (P)
DTSTART;TZID=Europe/Ljubljana:20211004T100000
DTEND;TZID=Europe/Ljubljana:20211004T130000
DTSTAMP:20260421T212857Z
UID:fmf-AFLABS-URNIK:premaknjeno-srecanje:122498
ATTENDEE:2. letnik (Fizika, 2. stopnja)
CATEGORIES:Entry,Standard
COLOR:darkgreen
DESCRIPTION:Predmet: Življenje in dinamika zvezd (FIZ-M2)\, Predavanja (P
 )\nLetniki: 2. letnik (Fizika\, 2. stopnja)\nIzvajalci: Janez Kos\nProstor
 : F6
LOCATION:F6
ORGANIZER:Janez Kos
RELATED-TO:fmf-AFLABS-URNIK:srecanje:6700
X-WR-TIMEZONE:Europe/Ljubljana
END:VEVENT
BEGIN:VEVENT
SUMMARY:Življenje in dinamika zvezd (FIZ-M2)\, Predavanja (P)
DTSTART;TZID=Europe/Ljubljana:20211011T100000
DTEND;TZID=Europe/Ljubljana:20211011T130000
DTSTAMP:20260421T212857Z
UID:fmf-AFLABS-URNIK:premaknjeno-srecanje:122499
ATTENDEE:2. letnik (Fizika, 2. stopnja)
CATEGORIES:Entry,Standard
COLOR:darkgreen
DESCRIPTION:Predmet: Življenje in dinamika zvezd (FIZ-M2)\, Predavanja (P
 )\nLetniki: 2. letnik (Fizika\, 2. stopnja)\nIzvajalci: Janez Kos\nProstor
 : F6
LOCATION:F6
ORGANIZER:Janez Kos
RELATED-TO:fmf-AFLABS-URNIK:srecanje:6700
X-WR-TIMEZONE:Europe/Ljubljana
END:VEVENT
BEGIN:VEVENT
SUMMARY:Življenje in dinamika zvezd (FIZ-M2)\, Predavanja (P)
DTSTART;TZID=Europe/Ljubljana:20211018T100000
DTEND;TZID=Europe/Ljubljana:20211018T130000
DTSTAMP:20260421T212857Z
UID:fmf-AFLABS-URNIK:premaknjeno-srecanje:122500
ATTENDEE:2. letnik (Fizika, 2. stopnja)
CATEGORIES:Entry,Standard
COLOR:darkgreen
DESCRIPTION:Predmet: Življenje in dinamika zvezd (FIZ-M2)\, Predavanja (P
 )\nLetniki: 2. letnik (Fizika\, 2. stopnja)\nIzvajalci: Janez Kos\nProstor
 : F6
LOCATION:F6
ORGANIZER:Janez Kos
RELATED-TO:fmf-AFLABS-URNIK:srecanje:6700
X-WR-TIMEZONE:Europe/Ljubljana
END:VEVENT
BEGIN:VEVENT
SUMMARY:Življenje in dinamika zvezd (FIZ-M2)\, Predavanja (P)
DTSTART;TZID=Europe/Ljubljana:20211025T100000
DTEND;TZID=Europe/Ljubljana:20211025T130000
DTSTAMP:20260421T212857Z
UID:fmf-AFLABS-URNIK:premaknjeno-srecanje:122501
ATTENDEE:2. letnik (Fizika, 2. stopnja)
CATEGORIES:Entry,Standard
COLOR:darkgreen
DESCRIPTION:Predmet: Življenje in dinamika zvezd (FIZ-M2)\, Predavanja (P
 )\nLetniki: 2. letnik (Fizika\, 2. stopnja)\nIzvajalci: Janez Kos\nProstor
 : F6
LOCATION:F6
ORGANIZER:Janez Kos
RELATED-TO:fmf-AFLABS-URNIK:srecanje:6700
X-WR-TIMEZONE:Europe/Ljubljana
END:VEVENT
BEGIN:VEVENT
SUMMARY:Življenje in dinamika zvezd (FIZ-M2)\, Predavanja (P)
DTSTART;TZID=Europe/Ljubljana:20211101T100000
DTEND;TZID=Europe/Ljubljana:20211101T130000
DTSTAMP:20260421T212857Z
UID:fmf-AFLABS-URNIK:premaknjeno-srecanje:122502
ATTENDEE:2. letnik (Fizika, 2. stopnja)
CATEGORIES:Entry,Standard
COLOR:darkgreen
DESCRIPTION:Predmet: Življenje in dinamika zvezd (FIZ-M2)\, Predavanja (P
 )\nLetniki: 2. letnik (Fizika\, 2. stopnja)\nIzvajalci: Janez Kos\nProstor
 : F6
LOCATION:F6
ORGANIZER:Janez Kos
RELATED-TO:fmf-AFLABS-URNIK:srecanje:6700
X-WR-TIMEZONE:Europe/Ljubljana
END:VEVENT
BEGIN:VEVENT
SUMMARY:Življenje in dinamika zvezd (FIZ-M2)\, Predavanja (P)
DTSTART;TZID=Europe/Ljubljana:20211108T100000
DTEND;TZID=Europe/Ljubljana:20211108T130000
DTSTAMP:20260421T212857Z
UID:fmf-AFLABS-URNIK:premaknjeno-srecanje:122503
ATTENDEE:2. letnik (Fizika, 2. stopnja)
CATEGORIES:Entry,Standard
COLOR:darkgreen
DESCRIPTION:Predmet: Življenje in dinamika zvezd (FIZ-M2)\, Predavanja (P
 )\nLetniki: 2. letnik (Fizika\, 2. stopnja)\nIzvajalci: Janez Kos\nProstor
 : F6
LOCATION:F6
ORGANIZER:Janez Kos
RELATED-TO:fmf-AFLABS-URNIK:srecanje:6700
X-WR-TIMEZONE:Europe/Ljubljana
END:VEVENT
BEGIN:VEVENT
SUMMARY:Življenje in dinamika zvezd (FIZ-M2)\, Predavanja (P)
DTSTART;TZID=Europe/Ljubljana:20211115T100000
DTEND;TZID=Europe/Ljubljana:20211115T130000
DTSTAMP:20260421T212857Z
UID:fmf-AFLABS-URNIK:premaknjeno-srecanje:122504
ATTENDEE:2. letnik (Fizika, 2. stopnja)
CATEGORIES:Entry,Standard
COLOR:darkgreen
DESCRIPTION:Predmet: Življenje in dinamika zvezd (FIZ-M2)\, Predavanja (P
 )\nLetniki: 2. letnik (Fizika\, 2. stopnja)\nIzvajalci: Janez Kos\nProstor
 : F6
LOCATION:F6
ORGANIZER:Janez Kos
RELATED-TO:fmf-AFLABS-URNIK:srecanje:6700
X-WR-TIMEZONE:Europe/Ljubljana
END:VEVENT
BEGIN:VEVENT
SUMMARY:Življenje in dinamika zvezd (FIZ-M2)\, Predavanja (P)
DTSTART;TZID=Europe/Ljubljana:20211122T100000
DTEND;TZID=Europe/Ljubljana:20211122T130000
DTSTAMP:20260421T212857Z
UID:fmf-AFLABS-URNIK:premaknjeno-srecanje:122505
ATTENDEE:2. letnik (Fizika, 2. stopnja)
CATEGORIES:Entry,Standard
COLOR:darkgreen
DESCRIPTION:Predmet: Življenje in dinamika zvezd (FIZ-M2)\, Predavanja (P
 )\nLetniki: 2. letnik (Fizika\, 2. stopnja)\nIzvajalci: Janez Kos\nProstor
 : F6
LOCATION:F6
ORGANIZER:Janez Kos
RELATED-TO:fmf-AFLABS-URNIK:srecanje:6700
X-WR-TIMEZONE:Europe/Ljubljana
END:VEVENT
BEGIN:VEVENT
SUMMARY:Življenje in dinamika zvezd (FIZ-M2)\, Predavanja (P)
DTSTART;TZID=Europe/Ljubljana:20211129T100000
DTEND;TZID=Europe/Ljubljana:20211129T130000
DTSTAMP:20260421T212857Z
UID:fmf-AFLABS-URNIK:premaknjeno-srecanje:122506
ATTENDEE:2. letnik (Fizika, 2. stopnja)
CATEGORIES:Entry,Standard
COLOR:darkgreen
DESCRIPTION:Predmet: Življenje in dinamika zvezd (FIZ-M2)\, Predavanja (P
 )\nLetniki: 2. letnik (Fizika\, 2. stopnja)\nIzvajalci: Janez Kos\nProstor
 : F6
LOCATION:F6
ORGANIZER:Janez Kos
RELATED-TO:fmf-AFLABS-URNIK:srecanje:6700
X-WR-TIMEZONE:Europe/Ljubljana
END:VEVENT
BEGIN:VEVENT
SUMMARY:Življenje in dinamika zvezd (FIZ-M2)\, Predavanja (P)
DTSTART;TZID=Europe/Ljubljana:20211206T100000
DTEND;TZID=Europe/Ljubljana:20211206T130000
DTSTAMP:20260421T212857Z
UID:fmf-AFLABS-URNIK:premaknjeno-srecanje:122507
ATTENDEE:2. letnik (Fizika, 2. stopnja)
CATEGORIES:Entry,Standard
COLOR:darkgreen
DESCRIPTION:Predmet: Življenje in dinamika zvezd (FIZ-M2)\, Predavanja (P
 )\nLetniki: 2. letnik (Fizika\, 2. stopnja)\nIzvajalci: Janez Kos\nProstor
 : F6
LOCATION:F6
ORGANIZER:Janez Kos
RELATED-TO:fmf-AFLABS-URNIK:srecanje:6700
X-WR-TIMEZONE:Europe/Ljubljana
END:VEVENT
BEGIN:VEVENT
SUMMARY:Življenje in dinamika zvezd (FIZ-M2)\, Predavanja (P)
DTSTART;TZID=Europe/Ljubljana:20211213T100000
DTEND;TZID=Europe/Ljubljana:20211213T130000
DTSTAMP:20260421T212857Z
UID:fmf-AFLABS-URNIK:premaknjeno-srecanje:122508
ATTENDEE:2. letnik (Fizika, 2. stopnja)
CATEGORIES:Entry,Standard
COLOR:darkgreen
DESCRIPTION:Predmet: Življenje in dinamika zvezd (FIZ-M2)\, Predavanja (P
 )\nLetniki: 2. letnik (Fizika\, 2. stopnja)\nIzvajalci: Janez Kos\nProstor
 : F6
LOCATION:F6
ORGANIZER:Janez Kos
RELATED-TO:fmf-AFLABS-URNIK:srecanje:6700
X-WR-TIMEZONE:Europe/Ljubljana
END:VEVENT
BEGIN:VEVENT
SUMMARY:Življenje in dinamika zvezd (FIZ-M2)\, Predavanja (P)
DTSTART;TZID=Europe/Ljubljana:20211220T100000
DTEND;TZID=Europe/Ljubljana:20211220T130000
DTSTAMP:20260421T212857Z
UID:fmf-AFLABS-URNIK:premaknjeno-srecanje:122509
ATTENDEE:2. letnik (Fizika, 2. stopnja)
CATEGORIES:Entry,Standard
COLOR:darkgreen
DESCRIPTION:Predmet: Življenje in dinamika zvezd (FIZ-M2)\, Predavanja (P
 )\nLetniki: 2. letnik (Fizika\, 2. stopnja)\nIzvajalci: Janez Kos\nProstor
 : F6
LOCATION:F6
ORGANIZER:Janez Kos
RELATED-TO:fmf-AFLABS-URNIK:srecanje:6700
X-WR-TIMEZONE:Europe/Ljubljana
END:VEVENT
BEGIN:VEVENT
SUMMARY:Življenje in dinamika zvezd (FIZ-M2)\, Predavanja (P)
DTSTART;TZID=Europe/Ljubljana:20211227T100000
DTEND;TZID=Europe/Ljubljana:20211227T130000
DTSTAMP:20260421T212857Z
UID:fmf-AFLABS-URNIK:premaknjeno-srecanje:122510
ATTENDEE:2. letnik (Fizika, 2. stopnja)
CATEGORIES:Entry,Standard
COLOR:darkgreen
DESCRIPTION:Predmet: Življenje in dinamika zvezd (FIZ-M2)\, Predavanja (P
 )\nLetniki: 2. letnik (Fizika\, 2. stopnja)\nIzvajalci: Janez Kos\nProstor
 : F6
LOCATION:F6
ORGANIZER:Janez Kos
RELATED-TO:fmf-AFLABS-URNIK:srecanje:6700
X-WR-TIMEZONE:Europe/Ljubljana
END:VEVENT
BEGIN:VEVENT
SUMMARY:Življenje in dinamika zvezd (FIZ-M2)\, Predavanja (P)
DTSTART;TZID=Europe/Ljubljana:20220103T100000
DTEND;TZID=Europe/Ljubljana:20220103T130000
DTSTAMP:20260421T212857Z
UID:fmf-AFLABS-URNIK:premaknjeno-srecanje:122511
ATTENDEE:2. letnik (Fizika, 2. stopnja)
CATEGORIES:Entry,Standard
COLOR:darkgreen
DESCRIPTION:Predmet: Življenje in dinamika zvezd (FIZ-M2)\, Predavanja (P
 )\nLetniki: 2. letnik (Fizika\, 2. stopnja)\nIzvajalci: Janez Kos\nProstor
 : F6
LOCATION:F6
ORGANIZER:Janez Kos
RELATED-TO:fmf-AFLABS-URNIK:srecanje:6700
X-WR-TIMEZONE:Europe/Ljubljana
END:VEVENT
BEGIN:VEVENT
SUMMARY:Življenje in dinamika zvezd (FIZ-M2)\, Predavanja (P)
DTSTART;TZID=Europe/Ljubljana:20220110T100000
DTEND;TZID=Europe/Ljubljana:20220110T130000
DTSTAMP:20260421T212857Z
UID:fmf-AFLABS-URNIK:premaknjeno-srecanje:122512
ATTENDEE:2. letnik (Fizika, 2. stopnja)
CATEGORIES:Entry,Standard
COLOR:darkgreen
DESCRIPTION:Predmet: Življenje in dinamika zvezd (FIZ-M2)\, Predavanja (P
 )\nLetniki: 2. letnik (Fizika\, 2. stopnja)\nIzvajalci: Janez Kos\nProstor
 : F6
LOCATION:F6
ORGANIZER:Janez Kos
RELATED-TO:fmf-AFLABS-URNIK:srecanje:6700
X-WR-TIMEZONE:Europe/Ljubljana
END:VEVENT
BEGIN:VEVENT
SUMMARY:Življenje in dinamika zvezd (FIZ-M2)\, Vaje (V)
DTSTART;TZID=Europe/Ljubljana:20211006T080000
DTEND;TZID=Europe/Ljubljana:20211006T100000
DTSTAMP:20260421T212857Z
UID:fmf-AFLABS-URNIK:premaknjeno-srecanje:122578
ATTENDEE:2. letnik (Fizika, 2. stopnja)
CATEGORIES:Entry,Standard
COLOR:darkgreen
DESCRIPTION:Predmet: Življenje in dinamika zvezd (FIZ-M2)\, Vaje (V)\nLet
 niki: 2. letnik (Fizika\, 2. stopnja)\nIzvajalci: Janez Kos\nProstor: F3
LOCATION:F3
ORGANIZER:Janez Kos
RELATED-TO:fmf-AFLABS-URNIK:srecanje:6701
X-WR-TIMEZONE:Europe/Ljubljana
END:VEVENT
BEGIN:VEVENT
SUMMARY:Življenje in dinamika zvezd (FIZ-M2)\, Vaje (V)
DTSTART;TZID=Europe/Ljubljana:20211013T080000
DTEND;TZID=Europe/Ljubljana:20211013T100000
DTSTAMP:20260421T212857Z
UID:fmf-AFLABS-URNIK:premaknjeno-srecanje:122579
ATTENDEE:2. letnik (Fizika, 2. stopnja)
CATEGORIES:Entry,Standard
COLOR:darkgreen
DESCRIPTION:Predmet: Življenje in dinamika zvezd (FIZ-M2)\, Vaje (V)\nLet
 niki: 2. letnik (Fizika\, 2. stopnja)\nIzvajalci: Janez Kos\nProstor: F3
LOCATION:F3
ORGANIZER:Janez Kos
RELATED-TO:fmf-AFLABS-URNIK:srecanje:6701
X-WR-TIMEZONE:Europe/Ljubljana
END:VEVENT
BEGIN:VEVENT
SUMMARY:Življenje in dinamika zvezd (FIZ-M2)\, Vaje (V)
DTSTART;TZID=Europe/Ljubljana:20211020T080000
DTEND;TZID=Europe/Ljubljana:20211020T100000
DTSTAMP:20260421T212857Z
UID:fmf-AFLABS-URNIK:premaknjeno-srecanje:122580
ATTENDEE:2. letnik (Fizika, 2. stopnja)
CATEGORIES:Entry,Standard
COLOR:darkgreen
DESCRIPTION:Predmet: Življenje in dinamika zvezd (FIZ-M2)\, Vaje (V)\nLet
 niki: 2. letnik (Fizika\, 2. stopnja)\nIzvajalci: Janez Kos\nProstor: F3
LOCATION:F3
ORGANIZER:Janez Kos
RELATED-TO:fmf-AFLABS-URNIK:srecanje:6701
X-WR-TIMEZONE:Europe/Ljubljana
END:VEVENT
BEGIN:VEVENT
SUMMARY:Življenje in dinamika zvezd (FIZ-M2)\, Vaje (V)
DTSTART;TZID=Europe/Ljubljana:20211027T080000
DTEND;TZID=Europe/Ljubljana:20211027T100000
DTSTAMP:20260421T212857Z
UID:fmf-AFLABS-URNIK:premaknjeno-srecanje:122581
ATTENDEE:2. letnik (Fizika, 2. stopnja)
CATEGORIES:Entry,Standard
COLOR:darkgreen
DESCRIPTION:Predmet: Življenje in dinamika zvezd (FIZ-M2)\, Vaje (V)\nLet
 niki: 2. letnik (Fizika\, 2. stopnja)\nIzvajalci: Janez Kos\nProstor: F3
LOCATION:F3
ORGANIZER:Janez Kos
RELATED-TO:fmf-AFLABS-URNIK:srecanje:6701
X-WR-TIMEZONE:Europe/Ljubljana
END:VEVENT
BEGIN:VEVENT
SUMMARY:Življenje in dinamika zvezd (FIZ-M2)\, Vaje (V)
DTSTART;TZID=Europe/Ljubljana:20211103T080000
DTEND;TZID=Europe/Ljubljana:20211103T100000
DTSTAMP:20260421T212857Z
UID:fmf-AFLABS-URNIK:premaknjeno-srecanje:122582
ATTENDEE:2. letnik (Fizika, 2. stopnja)
CATEGORIES:Entry,Standard
COLOR:darkgreen
DESCRIPTION:Predmet: Življenje in dinamika zvezd (FIZ-M2)\, Vaje (V)\nLet
 niki: 2. letnik (Fizika\, 2. stopnja)\nIzvajalci: Janez Kos\nProstor: F3
LOCATION:F3
ORGANIZER:Janez Kos
RELATED-TO:fmf-AFLABS-URNIK:srecanje:6701
X-WR-TIMEZONE:Europe/Ljubljana
END:VEVENT
BEGIN:VEVENT
SUMMARY:Življenje in dinamika zvezd (FIZ-M2)\, Vaje (V)
DTSTART;TZID=Europe/Ljubljana:20211110T080000
DTEND;TZID=Europe/Ljubljana:20211110T100000
DTSTAMP:20260421T212857Z
UID:fmf-AFLABS-URNIK:premaknjeno-srecanje:122583
ATTENDEE:2. letnik (Fizika, 2. stopnja)
CATEGORIES:Entry,Standard
COLOR:darkgreen
DESCRIPTION:Predmet: Življenje in dinamika zvezd (FIZ-M2)\, Vaje (V)\nLet
 niki: 2. letnik (Fizika\, 2. stopnja)\nIzvajalci: Janez Kos\nProstor: F3
LOCATION:F3
ORGANIZER:Janez Kos
RELATED-TO:fmf-AFLABS-URNIK:srecanje:6701
X-WR-TIMEZONE:Europe/Ljubljana
END:VEVENT
BEGIN:VEVENT
SUMMARY:Življenje in dinamika zvezd (FIZ-M2)\, Vaje (V)
DTSTART;TZID=Europe/Ljubljana:20211117T080000
DTEND;TZID=Europe/Ljubljana:20211117T100000
DTSTAMP:20260421T212857Z
UID:fmf-AFLABS-URNIK:premaknjeno-srecanje:122584
ATTENDEE:2. letnik (Fizika, 2. stopnja)
CATEGORIES:Entry,Standard
COLOR:darkgreen
DESCRIPTION:Predmet: Življenje in dinamika zvezd (FIZ-M2)\, Vaje (V)\nLet
 niki: 2. letnik (Fizika\, 2. stopnja)\nIzvajalci: Janez Kos\nProstor: F3
LOCATION:F3
ORGANIZER:Janez Kos
RELATED-TO:fmf-AFLABS-URNIK:srecanje:6701
X-WR-TIMEZONE:Europe/Ljubljana
END:VEVENT
BEGIN:VEVENT
SUMMARY:Življenje in dinamika zvezd (FIZ-M2)\, Vaje (V)
DTSTART;TZID=Europe/Ljubljana:20211124T080000
DTEND;TZID=Europe/Ljubljana:20211124T100000
DTSTAMP:20260421T212857Z
UID:fmf-AFLABS-URNIK:premaknjeno-srecanje:122585
ATTENDEE:2. letnik (Fizika, 2. stopnja)
CATEGORIES:Entry,Standard
COLOR:darkgreen
DESCRIPTION:Predmet: Življenje in dinamika zvezd (FIZ-M2)\, Vaje (V)\nLet
 niki: 2. letnik (Fizika\, 2. stopnja)\nIzvajalci: Janez Kos\nProstor: F3
LOCATION:F3
ORGANIZER:Janez Kos
RELATED-TO:fmf-AFLABS-URNIK:srecanje:6701
X-WR-TIMEZONE:Europe/Ljubljana
END:VEVENT
BEGIN:VEVENT
SUMMARY:Življenje in dinamika zvezd (FIZ-M2)\, Vaje (V)
DTSTART;TZID=Europe/Ljubljana:20211201T080000
DTEND;TZID=Europe/Ljubljana:20211201T100000
DTSTAMP:20260421T212857Z
UID:fmf-AFLABS-URNIK:premaknjeno-srecanje:122586
ATTENDEE:2. letnik (Fizika, 2. stopnja)
CATEGORIES:Entry,Standard
COLOR:darkgreen
DESCRIPTION:Predmet: Življenje in dinamika zvezd (FIZ-M2)\, Vaje (V)\nLet
 niki: 2. letnik (Fizika\, 2. stopnja)\nIzvajalci: Janez Kos\nProstor: F3
LOCATION:F3
ORGANIZER:Janez Kos
RELATED-TO:fmf-AFLABS-URNIK:srecanje:6701
X-WR-TIMEZONE:Europe/Ljubljana
END:VEVENT
BEGIN:VEVENT
SUMMARY:Življenje in dinamika zvezd (FIZ-M2)\, Vaje (V)
DTSTART;TZID=Europe/Ljubljana:20211208T080000
DTEND;TZID=Europe/Ljubljana:20211208T100000
DTSTAMP:20260421T212857Z
UID:fmf-AFLABS-URNIK:premaknjeno-srecanje:122587
ATTENDEE:2. letnik (Fizika, 2. stopnja)
CATEGORIES:Entry,Standard
COLOR:darkgreen
DESCRIPTION:Predmet: Življenje in dinamika zvezd (FIZ-M2)\, Vaje (V)\nLet
 niki: 2. letnik (Fizika\, 2. stopnja)\nIzvajalci: Janez Kos\nProstor: F3
LOCATION:F3
ORGANIZER:Janez Kos
RELATED-TO:fmf-AFLABS-URNIK:srecanje:6701
X-WR-TIMEZONE:Europe/Ljubljana
END:VEVENT
BEGIN:VEVENT
SUMMARY:Življenje in dinamika zvezd (FIZ-M2)\, Vaje (V)
DTSTART;TZID=Europe/Ljubljana:20211215T080000
DTEND;TZID=Europe/Ljubljana:20211215T100000
DTSTAMP:20260421T212857Z
UID:fmf-AFLABS-URNIK:premaknjeno-srecanje:122588
ATTENDEE:2. letnik (Fizika, 2. stopnja)
CATEGORIES:Entry,Standard
COLOR:darkgreen
DESCRIPTION:Predmet: Življenje in dinamika zvezd (FIZ-M2)\, Vaje (V)\nLet
 niki: 2. letnik (Fizika\, 2. stopnja)\nIzvajalci: Janez Kos\nProstor: F3
LOCATION:F3
ORGANIZER:Janez Kos
RELATED-TO:fmf-AFLABS-URNIK:srecanje:6701
X-WR-TIMEZONE:Europe/Ljubljana
END:VEVENT
BEGIN:VEVENT
SUMMARY:Življenje in dinamika zvezd (FIZ-M2)\, Vaje (V)
DTSTART;TZID=Europe/Ljubljana:20211222T080000
DTEND;TZID=Europe/Ljubljana:20211222T100000
DTSTAMP:20260421T212857Z
UID:fmf-AFLABS-URNIK:premaknjeno-srecanje:122589
ATTENDEE:2. letnik (Fizika, 2. stopnja)
CATEGORIES:Entry,Standard
COLOR:darkgreen
DESCRIPTION:Predmet: Življenje in dinamika zvezd (FIZ-M2)\, Vaje (V)\nLet
 niki: 2. letnik (Fizika\, 2. stopnja)\nIzvajalci: Janez Kos\nProstor: F3
LOCATION:F3
ORGANIZER:Janez Kos
RELATED-TO:fmf-AFLABS-URNIK:srecanje:6701
X-WR-TIMEZONE:Europe/Ljubljana
END:VEVENT
BEGIN:VEVENT
SUMMARY:Življenje in dinamika zvezd (FIZ-M2)\, Vaje (V)
DTSTART;TZID=Europe/Ljubljana:20211229T080000
DTEND;TZID=Europe/Ljubljana:20211229T100000
DTSTAMP:20260421T212857Z
UID:fmf-AFLABS-URNIK:premaknjeno-srecanje:122590
ATTENDEE:2. letnik (Fizika, 2. stopnja)
CATEGORIES:Entry,Standard
COLOR:darkgreen
DESCRIPTION:Predmet: Življenje in dinamika zvezd (FIZ-M2)\, Vaje (V)\nLet
 niki: 2. letnik (Fizika\, 2. stopnja)\nIzvajalci: Janez Kos\nProstor: F3
LOCATION:F3
ORGANIZER:Janez Kos
RELATED-TO:fmf-AFLABS-URNIK:srecanje:6701
X-WR-TIMEZONE:Europe/Ljubljana
END:VEVENT
BEGIN:VEVENT
SUMMARY:Življenje in dinamika zvezd (FIZ-M2)\, Vaje (V)
DTSTART;TZID=Europe/Ljubljana:20220105T080000
DTEND;TZID=Europe/Ljubljana:20220105T100000
DTSTAMP:20260421T212857Z
UID:fmf-AFLABS-URNIK:premaknjeno-srecanje:122591
ATTENDEE:2. letnik (Fizika, 2. stopnja)
CATEGORIES:Entry,Standard
COLOR:darkgreen
DESCRIPTION:Predmet: Življenje in dinamika zvezd (FIZ-M2)\, Vaje (V)\nLet
 niki: 2. letnik (Fizika\, 2. stopnja)\nIzvajalci: Janez Kos\nProstor: F3
LOCATION:F3
ORGANIZER:Janez Kos
RELATED-TO:fmf-AFLABS-URNIK:srecanje:6701
X-WR-TIMEZONE:Europe/Ljubljana
END:VEVENT
BEGIN:VEVENT
SUMMARY:Življenje in dinamika zvezd (FIZ-M2)\, Vaje (V)
DTSTART;TZID=Europe/Ljubljana:20220112T080000
DTEND;TZID=Europe/Ljubljana:20220112T100000
DTSTAMP:20260421T212857Z
UID:fmf-AFLABS-URNIK:premaknjeno-srecanje:122592
ATTENDEE:2. letnik (Fizika, 2. stopnja)
CATEGORIES:Entry,Standard
COLOR:darkgreen
DESCRIPTION:Predmet: Življenje in dinamika zvezd (FIZ-M2)\, Vaje (V)\nLet
 niki: 2. letnik (Fizika\, 2. stopnja)\nIzvajalci: Janez Kos\nProstor: F3
LOCATION:F3
ORGANIZER:Janez Kos
RELATED-TO:fmf-AFLABS-URNIK:srecanje:6701
X-WR-TIMEZONE:Europe/Ljubljana
END:VEVENT
END:VCALENDAR
