BEGIN:VCALENDAR
VERSION:2.0
PRODID:-//AFLabs urnik izvoz - fmf//aflabs.si//SI
DTSTAMP:20260423T033453Z
NAME:UL FMF urnik
REFRESH-INTERVAL:PT1H
SOURCE:https://urnik.fmf.uni-lj.si/teacher/281?day=2022-10-31&export=1
URL:https://urnik.fmf.uni-lj.si/teacher/281?day=2022-10-31&export=1
X-PUBLISHED-TTL:PT1H
X-WR-CALNAME:UL FMF urnik
X-WR-TIMEZONE:Europe/Ljubljana
BEGIN:VTIMEZONE
TZID:Europe/Ljubljana
BEGIN:DAYLIGHT
DTSTART:20260329T020000
RDATE:20260329T020000
RDATE:20270328T020000
TZNAME:CEST
TZOFFSETFROM:+0100
TZOFFSETTO:+0200
END:DAYLIGHT
BEGIN:STANDARD
DTSTART:20261025T030000
RDATE:20261025T030000
RDATE:20271031T030000
TZNAME:CET
TZOFFSETFROM:+0200
TZOFFSETTO:+0100
END:STANDARD
END:VTIMEZONE
BEGIN:VEVENT
SUMMARY:Opazovalne metode v astrofiziki (FIZ-M1\, FIZ-M2)\, Vaje (V)
DTSTART;TZID=Europe/Ljubljana:20221003T100000
DTEND;TZID=Europe/Ljubljana:20221003T120000
DTSTAMP:20260423T033453Z
UID:fmf-AFLABS-URNIK:premaknjeno-srecanje:79179
ATTENDEE:1. letnik (Fizika, 2. stopnja)
ATTENDEE:2. letnik (Fizika, 2. stopnja)
CATEGORIES:Entry,Standard
COLOR:darkgreen
DESCRIPTION:Predmet: Opazovalne metode v astrofiziki (FIZ-M1\, FIZ-M2)\, V
 aje (V)\nLetniki: 1. letnik (Fizika\, 2. stopnja)\, 2. letnik (Fizika\, 2.
  stopnja)\nIzvajalci: Janez Kos\nProstor: F3
LOCATION:F3
ORGANIZER:Janez Kos
RELATED-TO:fmf-AFLABS-URNIK:srecanje:7869
X-WR-TIMEZONE:Europe/Ljubljana
END:VEVENT
BEGIN:VEVENT
SUMMARY:Opazovalne metode v astrofiziki (FIZ-M1\, FIZ-M2)\, Vaje (V)
DTSTART;TZID=Europe/Ljubljana:20221010T100000
DTEND;TZID=Europe/Ljubljana:20221010T120000
DTSTAMP:20260423T033453Z
UID:fmf-AFLABS-URNIK:premaknjeno-srecanje:79180
ATTENDEE:1. letnik (Fizika, 2. stopnja)
ATTENDEE:2. letnik (Fizika, 2. stopnja)
CATEGORIES:Entry,Standard
COLOR:darkgreen
DESCRIPTION:Predmet: Opazovalne metode v astrofiziki (FIZ-M1\, FIZ-M2)\, V
 aje (V)\nLetniki: 1. letnik (Fizika\, 2. stopnja)\, 2. letnik (Fizika\, 2.
  stopnja)\nIzvajalci: Janez Kos\nProstor: F3
LOCATION:F3
ORGANIZER:Janez Kos
RELATED-TO:fmf-AFLABS-URNIK:srecanje:7869
X-WR-TIMEZONE:Europe/Ljubljana
END:VEVENT
BEGIN:VEVENT
SUMMARY:Opazovalne metode v astrofiziki (FIZ-M1\, FIZ-M2)\, Vaje (V)
DTSTART;TZID=Europe/Ljubljana:20221017T100000
DTEND;TZID=Europe/Ljubljana:20221017T120000
DTSTAMP:20260423T033453Z
UID:fmf-AFLABS-URNIK:premaknjeno-srecanje:79181
ATTENDEE:1. letnik (Fizika, 2. stopnja)
ATTENDEE:2. letnik (Fizika, 2. stopnja)
CATEGORIES:Entry,Standard
COLOR:darkgreen
DESCRIPTION:Predmet: Opazovalne metode v astrofiziki (FIZ-M1\, FIZ-M2)\, V
 aje (V)\nLetniki: 1. letnik (Fizika\, 2. stopnja)\, 2. letnik (Fizika\, 2.
  stopnja)\nIzvajalci: Janez Kos\nProstor: F3
LOCATION:F3
ORGANIZER:Janez Kos
RELATED-TO:fmf-AFLABS-URNIK:srecanje:7869
X-WR-TIMEZONE:Europe/Ljubljana
END:VEVENT
BEGIN:VEVENT
SUMMARY:Opazovalne metode v astrofiziki (FIZ-M1\, FIZ-M2)\, Vaje (V)
DTSTART;TZID=Europe/Ljubljana:20221024T100000
DTEND;TZID=Europe/Ljubljana:20221024T120000
DTSTAMP:20260423T033453Z
UID:fmf-AFLABS-URNIK:premaknjeno-srecanje:79182
ATTENDEE:1. letnik (Fizika, 2. stopnja)
ATTENDEE:2. letnik (Fizika, 2. stopnja)
CATEGORIES:Entry,Standard
COLOR:darkgreen
DESCRIPTION:Predmet: Opazovalne metode v astrofiziki (FIZ-M1\, FIZ-M2)\, V
 aje (V)\nLetniki: 1. letnik (Fizika\, 2. stopnja)\, 2. letnik (Fizika\, 2.
  stopnja)\nIzvajalci: Janez Kos\nProstor: F3
LOCATION:F3
ORGANIZER:Janez Kos
RELATED-TO:fmf-AFLABS-URNIK:srecanje:7869
X-WR-TIMEZONE:Europe/Ljubljana
END:VEVENT
BEGIN:VEVENT
SUMMARY:Opazovalne metode v astrofiziki (FIZ-M1\, FIZ-M2)\, Vaje (V)
DTSTART;TZID=Europe/Ljubljana:20221031T100000
DTEND;TZID=Europe/Ljubljana:20221031T120000
DTSTAMP:20260423T033453Z
UID:fmf-AFLABS-URNIK:premaknjeno-srecanje:79183
ATTENDEE:1. letnik (Fizika, 2. stopnja)
ATTENDEE:2. letnik (Fizika, 2. stopnja)
CATEGORIES:Entry,Standard
COLOR:darkgreen
DESCRIPTION:Predmet: Opazovalne metode v astrofiziki (FIZ-M1\, FIZ-M2)\, V
 aje (V)\nLetniki: 1. letnik (Fizika\, 2. stopnja)\, 2. letnik (Fizika\, 2.
  stopnja)\nIzvajalci: Janez Kos\nProstor: F3
LOCATION:F3
ORGANIZER:Janez Kos
RELATED-TO:fmf-AFLABS-URNIK:srecanje:7869
X-WR-TIMEZONE:Europe/Ljubljana
END:VEVENT
BEGIN:VEVENT
SUMMARY:Opazovalne metode v astrofiziki (FIZ-M1\, FIZ-M2)\, Vaje (V)
DTSTART;TZID=Europe/Ljubljana:20221107T100000
DTEND;TZID=Europe/Ljubljana:20221107T120000
DTSTAMP:20260423T033453Z
UID:fmf-AFLABS-URNIK:premaknjeno-srecanje:79184
ATTENDEE:1. letnik (Fizika, 2. stopnja)
ATTENDEE:2. letnik (Fizika, 2. stopnja)
CATEGORIES:Entry,Standard
COLOR:darkgreen
DESCRIPTION:Predmet: Opazovalne metode v astrofiziki (FIZ-M1\, FIZ-M2)\, V
 aje (V)\nLetniki: 1. letnik (Fizika\, 2. stopnja)\, 2. letnik (Fizika\, 2.
  stopnja)\nIzvajalci: Janez Kos\nProstor: F3
LOCATION:F3
ORGANIZER:Janez Kos
RELATED-TO:fmf-AFLABS-URNIK:srecanje:7869
X-WR-TIMEZONE:Europe/Ljubljana
END:VEVENT
BEGIN:VEVENT
SUMMARY:Opazovalne metode v astrofiziki (FIZ-M1\, FIZ-M2)\, Vaje (V)
DTSTART;TZID=Europe/Ljubljana:20221114T100000
DTEND;TZID=Europe/Ljubljana:20221114T120000
DTSTAMP:20260423T033453Z
UID:fmf-AFLABS-URNIK:premaknjeno-srecanje:79185
ATTENDEE:1. letnik (Fizika, 2. stopnja)
ATTENDEE:2. letnik (Fizika, 2. stopnja)
CATEGORIES:Entry,Standard
COLOR:darkgreen
DESCRIPTION:Predmet: Opazovalne metode v astrofiziki (FIZ-M1\, FIZ-M2)\, V
 aje (V)\nLetniki: 1. letnik (Fizika\, 2. stopnja)\, 2. letnik (Fizika\, 2.
  stopnja)\nIzvajalci: Janez Kos\nProstor: F3
LOCATION:F3
ORGANIZER:Janez Kos
RELATED-TO:fmf-AFLABS-URNIK:srecanje:7869
X-WR-TIMEZONE:Europe/Ljubljana
END:VEVENT
BEGIN:VEVENT
SUMMARY:Opazovalne metode v astrofiziki (FIZ-M1\, FIZ-M2)\, Vaje (V)
DTSTART;TZID=Europe/Ljubljana:20221121T100000
DTEND;TZID=Europe/Ljubljana:20221121T120000
DTSTAMP:20260423T033453Z
UID:fmf-AFLABS-URNIK:premaknjeno-srecanje:79186
ATTENDEE:1. letnik (Fizika, 2. stopnja)
ATTENDEE:2. letnik (Fizika, 2. stopnja)
CATEGORIES:Entry,Standard
COLOR:darkgreen
DESCRIPTION:Predmet: Opazovalne metode v astrofiziki (FIZ-M1\, FIZ-M2)\, V
 aje (V)\nLetniki: 1. letnik (Fizika\, 2. stopnja)\, 2. letnik (Fizika\, 2.
  stopnja)\nIzvajalci: Janez Kos\nProstor: F3
LOCATION:F3
ORGANIZER:Janez Kos
RELATED-TO:fmf-AFLABS-URNIK:srecanje:7869
X-WR-TIMEZONE:Europe/Ljubljana
END:VEVENT
BEGIN:VEVENT
SUMMARY:Opazovalne metode v astrofiziki (FIZ-M1\, FIZ-M2)\, Vaje (V)
DTSTART;TZID=Europe/Ljubljana:20221128T100000
DTEND;TZID=Europe/Ljubljana:20221128T120000
DTSTAMP:20260423T033453Z
UID:fmf-AFLABS-URNIK:premaknjeno-srecanje:79187
ATTENDEE:1. letnik (Fizika, 2. stopnja)
ATTENDEE:2. letnik (Fizika, 2. stopnja)
CATEGORIES:Entry,Standard
COLOR:darkgreen
DESCRIPTION:Predmet: Opazovalne metode v astrofiziki (FIZ-M1\, FIZ-M2)\, V
 aje (V)\nLetniki: 1. letnik (Fizika\, 2. stopnja)\, 2. letnik (Fizika\, 2.
  stopnja)\nIzvajalci: Janez Kos\nProstor: F3
LOCATION:F3
ORGANIZER:Janez Kos
RELATED-TO:fmf-AFLABS-URNIK:srecanje:7869
X-WR-TIMEZONE:Europe/Ljubljana
END:VEVENT
BEGIN:VEVENT
SUMMARY:Opazovalne metode v astrofiziki (FIZ-M1\, FIZ-M2)\, Vaje (V)
DTSTART;TZID=Europe/Ljubljana:20221205T100000
DTEND;TZID=Europe/Ljubljana:20221205T120000
DTSTAMP:20260423T033453Z
UID:fmf-AFLABS-URNIK:premaknjeno-srecanje:79188
ATTENDEE:1. letnik (Fizika, 2. stopnja)
ATTENDEE:2. letnik (Fizika, 2. stopnja)
CATEGORIES:Entry,Standard
COLOR:darkgreen
DESCRIPTION:Predmet: Opazovalne metode v astrofiziki (FIZ-M1\, FIZ-M2)\, V
 aje (V)\nLetniki: 1. letnik (Fizika\, 2. stopnja)\, 2. letnik (Fizika\, 2.
  stopnja)\nIzvajalci: Janez Kos\nProstor: F3
LOCATION:F3
ORGANIZER:Janez Kos
RELATED-TO:fmf-AFLABS-URNIK:srecanje:7869
X-WR-TIMEZONE:Europe/Ljubljana
END:VEVENT
BEGIN:VEVENT
SUMMARY:Opazovalne metode v astrofiziki (FIZ-M1\, FIZ-M2)\, Vaje (V)
DTSTART;TZID=Europe/Ljubljana:20221212T100000
DTEND;TZID=Europe/Ljubljana:20221212T120000
DTSTAMP:20260423T033453Z
UID:fmf-AFLABS-URNIK:premaknjeno-srecanje:79189
ATTENDEE:1. letnik (Fizika, 2. stopnja)
ATTENDEE:2. letnik (Fizika, 2. stopnja)
CATEGORIES:Entry,Standard
COLOR:darkgreen
DESCRIPTION:Predmet: Opazovalne metode v astrofiziki (FIZ-M1\, FIZ-M2)\, V
 aje (V)\nLetniki: 1. letnik (Fizika\, 2. stopnja)\, 2. letnik (Fizika\, 2.
  stopnja)\nIzvajalci: Janez Kos\nProstor: F3
LOCATION:F3
ORGANIZER:Janez Kos
RELATED-TO:fmf-AFLABS-URNIK:srecanje:7869
X-WR-TIMEZONE:Europe/Ljubljana
END:VEVENT
BEGIN:VEVENT
SUMMARY:Opazovalne metode v astrofiziki (FIZ-M1\, FIZ-M2)\, Vaje (V)
DTSTART;TZID=Europe/Ljubljana:20221219T100000
DTEND;TZID=Europe/Ljubljana:20221219T120000
DTSTAMP:20260423T033453Z
UID:fmf-AFLABS-URNIK:premaknjeno-srecanje:79190
ATTENDEE:1. letnik (Fizika, 2. stopnja)
ATTENDEE:2. letnik (Fizika, 2. stopnja)
CATEGORIES:Entry,Standard
COLOR:darkgreen
DESCRIPTION:Predmet: Opazovalne metode v astrofiziki (FIZ-M1\, FIZ-M2)\, V
 aje (V)\nLetniki: 1. letnik (Fizika\, 2. stopnja)\, 2. letnik (Fizika\, 2.
  stopnja)\nIzvajalci: Janez Kos\nProstor: F3
LOCATION:F3
ORGANIZER:Janez Kos
RELATED-TO:fmf-AFLABS-URNIK:srecanje:7869
X-WR-TIMEZONE:Europe/Ljubljana
END:VEVENT
BEGIN:VEVENT
SUMMARY:Opazovalne metode v astrofiziki (FIZ-M1\, FIZ-M2)\, Vaje (V)
DTSTART;TZID=Europe/Ljubljana:20221226T100000
DTEND;TZID=Europe/Ljubljana:20221226T120000
DTSTAMP:20260423T033453Z
UID:fmf-AFLABS-URNIK:premaknjeno-srecanje:79191
ATTENDEE:1. letnik (Fizika, 2. stopnja)
ATTENDEE:2. letnik (Fizika, 2. stopnja)
CATEGORIES:Entry,Standard
COLOR:darkgreen
DESCRIPTION:Predmet: Opazovalne metode v astrofiziki (FIZ-M1\, FIZ-M2)\, V
 aje (V)\nLetniki: 1. letnik (Fizika\, 2. stopnja)\, 2. letnik (Fizika\, 2.
  stopnja)\nIzvajalci: Janez Kos\nProstor: F3
LOCATION:F3
ORGANIZER:Janez Kos
RELATED-TO:fmf-AFLABS-URNIK:srecanje:7869
X-WR-TIMEZONE:Europe/Ljubljana
END:VEVENT
BEGIN:VEVENT
SUMMARY:Opazovalne metode v astrofiziki (FIZ-M1\, FIZ-M2)\, Vaje (V)
DTSTART;TZID=Europe/Ljubljana:20230102T100000
DTEND;TZID=Europe/Ljubljana:20230102T120000
DTSTAMP:20260423T033453Z
UID:fmf-AFLABS-URNIK:premaknjeno-srecanje:79192
ATTENDEE:1. letnik (Fizika, 2. stopnja)
ATTENDEE:2. letnik (Fizika, 2. stopnja)
CATEGORIES:Entry,Standard
COLOR:darkgreen
DESCRIPTION:Predmet: Opazovalne metode v astrofiziki (FIZ-M1\, FIZ-M2)\, V
 aje (V)\nLetniki: 1. letnik (Fizika\, 2. stopnja)\, 2. letnik (Fizika\, 2.
  stopnja)\nIzvajalci: Janez Kos\nProstor: F3
LOCATION:F3
ORGANIZER:Janez Kos
RELATED-TO:fmf-AFLABS-URNIK:srecanje:7869
X-WR-TIMEZONE:Europe/Ljubljana
END:VEVENT
BEGIN:VEVENT
SUMMARY:Opazovalne metode v astrofiziki (FIZ-M1\, FIZ-M2)\, Vaje (V)
DTSTART;TZID=Europe/Ljubljana:20230109T100000
DTEND;TZID=Europe/Ljubljana:20230109T120000
DTSTAMP:20260423T033453Z
UID:fmf-AFLABS-URNIK:premaknjeno-srecanje:79193
ATTENDEE:1. letnik (Fizika, 2. stopnja)
ATTENDEE:2. letnik (Fizika, 2. stopnja)
CATEGORIES:Entry,Standard
COLOR:darkgreen
DESCRIPTION:Predmet: Opazovalne metode v astrofiziki (FIZ-M1\, FIZ-M2)\, V
 aje (V)\nLetniki: 1. letnik (Fizika\, 2. stopnja)\, 2. letnik (Fizika\, 2.
  stopnja)\nIzvajalci: Janez Kos\nProstor: F3
LOCATION:F3
ORGANIZER:Janez Kos
RELATED-TO:fmf-AFLABS-URNIK:srecanje:7869
X-WR-TIMEZONE:Europe/Ljubljana
END:VEVENT
BEGIN:VEVENT
SUMMARY:Opazovalne metode v astrofiziki (FIZ-M1\, FIZ-M2)\, Vaje (V)
DTSTART;TZID=Europe/Ljubljana:20230116T100000
DTEND;TZID=Europe/Ljubljana:20230116T120000
DTSTAMP:20260423T033453Z
UID:fmf-AFLABS-URNIK:premaknjeno-srecanje:79194
ATTENDEE:1. letnik (Fizika, 2. stopnja)
ATTENDEE:2. letnik (Fizika, 2. stopnja)
CATEGORIES:Entry,Standard
COLOR:darkgreen
DESCRIPTION:Predmet: Opazovalne metode v astrofiziki (FIZ-M1\, FIZ-M2)\, V
 aje (V)\nLetniki: 1. letnik (Fizika\, 2. stopnja)\, 2. letnik (Fizika\, 2.
  stopnja)\nIzvajalci: Janez Kos\nProstor: F3
LOCATION:F3
ORGANIZER:Janez Kos
RELATED-TO:fmf-AFLABS-URNIK:srecanje:7869
X-WR-TIMEZONE:Europe/Ljubljana
END:VEVENT
BEGIN:VEVENT
SUMMARY:Opazovalne metode v astrofiziki (FIZ-M1\, FIZ-M2)\, Predavanja (P)
DTSTART;TZID=Europe/Ljubljana:20221006T080000
DTEND;TZID=Europe/Ljubljana:20221006T110000
DTSTAMP:20260423T033453Z
UID:fmf-AFLABS-URNIK:premaknjeno-srecanje:79164
ATTENDEE:1. letnik (Fizika, 2. stopnja)
ATTENDEE:2. letnik (Fizika, 2. stopnja)
CATEGORIES:Entry,Standard
COLOR:darkgreen
DESCRIPTION:Predmet: Opazovalne metode v astrofiziki (FIZ-M1\, FIZ-M2)\, P
 redavanja (P)\nLetniki: 1. letnik (Fizika\, 2. stopnja)\, 2. letnik (Fizik
 a\, 2. stopnja)\nIzvajalci: Janez Kos\nProstor: F6
LOCATION:F6
ORGANIZER:Janez Kos
RELATED-TO:fmf-AFLABS-URNIK:srecanje:7868
X-WR-TIMEZONE:Europe/Ljubljana
END:VEVENT
BEGIN:VEVENT
SUMMARY:Opazovalne metode v astrofiziki (FIZ-M1\, FIZ-M2)\, Predavanja (P)
DTSTART;TZID=Europe/Ljubljana:20221013T080000
DTEND;TZID=Europe/Ljubljana:20221013T110000
DTSTAMP:20260423T033453Z
UID:fmf-AFLABS-URNIK:premaknjeno-srecanje:79165
ATTENDEE:1. letnik (Fizika, 2. stopnja)
ATTENDEE:2. letnik (Fizika, 2. stopnja)
CATEGORIES:Entry,Standard
COLOR:darkgreen
DESCRIPTION:Predmet: Opazovalne metode v astrofiziki (FIZ-M1\, FIZ-M2)\, P
 redavanja (P)\nLetniki: 1. letnik (Fizika\, 2. stopnja)\, 2. letnik (Fizik
 a\, 2. stopnja)\nIzvajalci: Janez Kos\nProstor: F6
LOCATION:F6
ORGANIZER:Janez Kos
RELATED-TO:fmf-AFLABS-URNIK:srecanje:7868
X-WR-TIMEZONE:Europe/Ljubljana
END:VEVENT
BEGIN:VEVENT
SUMMARY:Opazovalne metode v astrofiziki (FIZ-M1\, FIZ-M2)\, Predavanja (P)
DTSTART;TZID=Europe/Ljubljana:20221020T080000
DTEND;TZID=Europe/Ljubljana:20221020T110000
DTSTAMP:20260423T033453Z
UID:fmf-AFLABS-URNIK:premaknjeno-srecanje:79166
ATTENDEE:1. letnik (Fizika, 2. stopnja)
ATTENDEE:2. letnik (Fizika, 2. stopnja)
CATEGORIES:Entry,Standard
COLOR:darkgreen
DESCRIPTION:Predmet: Opazovalne metode v astrofiziki (FIZ-M1\, FIZ-M2)\, P
 redavanja (P)\nLetniki: 1. letnik (Fizika\, 2. stopnja)\, 2. letnik (Fizik
 a\, 2. stopnja)\nIzvajalci: Janez Kos\nProstor: F6
LOCATION:F6
ORGANIZER:Janez Kos
RELATED-TO:fmf-AFLABS-URNIK:srecanje:7868
X-WR-TIMEZONE:Europe/Ljubljana
END:VEVENT
BEGIN:VEVENT
SUMMARY:Opazovalne metode v astrofiziki (FIZ-M1\, FIZ-M2)\, Predavanja (P)
DTSTART;TZID=Europe/Ljubljana:20221027T080000
DTEND;TZID=Europe/Ljubljana:20221027T110000
DTSTAMP:20260423T033453Z
UID:fmf-AFLABS-URNIK:premaknjeno-srecanje:79167
ATTENDEE:1. letnik (Fizika, 2. stopnja)
ATTENDEE:2. letnik (Fizika, 2. stopnja)
CATEGORIES:Entry,Standard
COLOR:darkgreen
DESCRIPTION:Predmet: Opazovalne metode v astrofiziki (FIZ-M1\, FIZ-M2)\, P
 redavanja (P)\nLetniki: 1. letnik (Fizika\, 2. stopnja)\, 2. letnik (Fizik
 a\, 2. stopnja)\nIzvajalci: Janez Kos\nProstor: F6
LOCATION:F6
ORGANIZER:Janez Kos
RELATED-TO:fmf-AFLABS-URNIK:srecanje:7868
X-WR-TIMEZONE:Europe/Ljubljana
END:VEVENT
BEGIN:VEVENT
SUMMARY:Opazovalne metode v astrofiziki (FIZ-M1\, FIZ-M2)\, Predavanja (P)
DTSTART;TZID=Europe/Ljubljana:20221103T080000
DTEND;TZID=Europe/Ljubljana:20221103T110000
DTSTAMP:20260423T033453Z
UID:fmf-AFLABS-URNIK:premaknjeno-srecanje:79168
ATTENDEE:1. letnik (Fizika, 2. stopnja)
ATTENDEE:2. letnik (Fizika, 2. stopnja)
CATEGORIES:Entry,Standard
COLOR:darkgreen
DESCRIPTION:Predmet: Opazovalne metode v astrofiziki (FIZ-M1\, FIZ-M2)\, P
 redavanja (P)\nLetniki: 1. letnik (Fizika\, 2. stopnja)\, 2. letnik (Fizik
 a\, 2. stopnja)\nIzvajalci: Janez Kos\nProstor: F6
LOCATION:F6
ORGANIZER:Janez Kos
RELATED-TO:fmf-AFLABS-URNIK:srecanje:7868
X-WR-TIMEZONE:Europe/Ljubljana
END:VEVENT
BEGIN:VEVENT
SUMMARY:Opazovalne metode v astrofiziki (FIZ-M1\, FIZ-M2)\, Predavanja (P)
DTSTART;TZID=Europe/Ljubljana:20221110T080000
DTEND;TZID=Europe/Ljubljana:20221110T110000
DTSTAMP:20260423T033453Z
UID:fmf-AFLABS-URNIK:premaknjeno-srecanje:79169
ATTENDEE:1. letnik (Fizika, 2. stopnja)
ATTENDEE:2. letnik (Fizika, 2. stopnja)
CATEGORIES:Entry,Standard
COLOR:darkgreen
DESCRIPTION:Predmet: Opazovalne metode v astrofiziki (FIZ-M1\, FIZ-M2)\, P
 redavanja (P)\nLetniki: 1. letnik (Fizika\, 2. stopnja)\, 2. letnik (Fizik
 a\, 2. stopnja)\nIzvajalci: Janez Kos\nProstor: F6
LOCATION:F6
ORGANIZER:Janez Kos
RELATED-TO:fmf-AFLABS-URNIK:srecanje:7868
X-WR-TIMEZONE:Europe/Ljubljana
END:VEVENT
BEGIN:VEVENT
SUMMARY:Opazovalne metode v astrofiziki (FIZ-M1\, FIZ-M2)\, Predavanja (P)
DTSTART;TZID=Europe/Ljubljana:20221117T080000
DTEND;TZID=Europe/Ljubljana:20221117T110000
DTSTAMP:20260423T033453Z
UID:fmf-AFLABS-URNIK:premaknjeno-srecanje:79170
ATTENDEE:1. letnik (Fizika, 2. stopnja)
ATTENDEE:2. letnik (Fizika, 2. stopnja)
CATEGORIES:Entry,Standard
COLOR:darkgreen
DESCRIPTION:Predmet: Opazovalne metode v astrofiziki (FIZ-M1\, FIZ-M2)\, P
 redavanja (P)\nLetniki: 1. letnik (Fizika\, 2. stopnja)\, 2. letnik (Fizik
 a\, 2. stopnja)\nIzvajalci: Janez Kos\nProstor: F6
LOCATION:F6
ORGANIZER:Janez Kos
RELATED-TO:fmf-AFLABS-URNIK:srecanje:7868
X-WR-TIMEZONE:Europe/Ljubljana
END:VEVENT
BEGIN:VEVENT
SUMMARY:Opazovalne metode v astrofiziki (FIZ-M1\, FIZ-M2)\, Predavanja (P)
DTSTART;TZID=Europe/Ljubljana:20221124T080000
DTEND;TZID=Europe/Ljubljana:20221124T110000
DTSTAMP:20260423T033453Z
UID:fmf-AFLABS-URNIK:premaknjeno-srecanje:79171
ATTENDEE:1. letnik (Fizika, 2. stopnja)
ATTENDEE:2. letnik (Fizika, 2. stopnja)
CATEGORIES:Entry,Standard
COLOR:darkgreen
DESCRIPTION:Predmet: Opazovalne metode v astrofiziki (FIZ-M1\, FIZ-M2)\, P
 redavanja (P)\nLetniki: 1. letnik (Fizika\, 2. stopnja)\, 2. letnik (Fizik
 a\, 2. stopnja)\nIzvajalci: Janez Kos\nProstor: F6
LOCATION:F6
ORGANIZER:Janez Kos
RELATED-TO:fmf-AFLABS-URNIK:srecanje:7868
X-WR-TIMEZONE:Europe/Ljubljana
END:VEVENT
BEGIN:VEVENT
SUMMARY:Opazovalne metode v astrofiziki (FIZ-M1\, FIZ-M2)\, Predavanja (P)
DTSTART;TZID=Europe/Ljubljana:20221201T080000
DTEND;TZID=Europe/Ljubljana:20221201T110000
DTSTAMP:20260423T033453Z
UID:fmf-AFLABS-URNIK:premaknjeno-srecanje:79172
ATTENDEE:1. letnik (Fizika, 2. stopnja)
ATTENDEE:2. letnik (Fizika, 2. stopnja)
CATEGORIES:Entry,Standard
COLOR:darkgreen
DESCRIPTION:Predmet: Opazovalne metode v astrofiziki (FIZ-M1\, FIZ-M2)\, P
 redavanja (P)\nLetniki: 1. letnik (Fizika\, 2. stopnja)\, 2. letnik (Fizik
 a\, 2. stopnja)\nIzvajalci: Janez Kos\nProstor: F6
LOCATION:F6
ORGANIZER:Janez Kos
RELATED-TO:fmf-AFLABS-URNIK:srecanje:7868
X-WR-TIMEZONE:Europe/Ljubljana
END:VEVENT
BEGIN:VEVENT
SUMMARY:Opazovalne metode v astrofiziki (FIZ-M1\, FIZ-M2)\, Predavanja (P)
DTSTART;TZID=Europe/Ljubljana:20221208T080000
DTEND;TZID=Europe/Ljubljana:20221208T110000
DTSTAMP:20260423T033453Z
UID:fmf-AFLABS-URNIK:premaknjeno-srecanje:79173
ATTENDEE:1. letnik (Fizika, 2. stopnja)
ATTENDEE:2. letnik (Fizika, 2. stopnja)
CATEGORIES:Entry,Standard
COLOR:darkgreen
DESCRIPTION:Predmet: Opazovalne metode v astrofiziki (FIZ-M1\, FIZ-M2)\, P
 redavanja (P)\nLetniki: 1. letnik (Fizika\, 2. stopnja)\, 2. letnik (Fizik
 a\, 2. stopnja)\nIzvajalci: Janez Kos\nProstor: F6
LOCATION:F6
ORGANIZER:Janez Kos
RELATED-TO:fmf-AFLABS-URNIK:srecanje:7868
X-WR-TIMEZONE:Europe/Ljubljana
END:VEVENT
BEGIN:VEVENT
SUMMARY:Opazovalne metode v astrofiziki (FIZ-M1\, FIZ-M2)\, Predavanja (P)
DTSTART;TZID=Europe/Ljubljana:20221215T080000
DTEND;TZID=Europe/Ljubljana:20221215T110000
DTSTAMP:20260423T033453Z
UID:fmf-AFLABS-URNIK:premaknjeno-srecanje:79174
ATTENDEE:1. letnik (Fizika, 2. stopnja)
ATTENDEE:2. letnik (Fizika, 2. stopnja)
CATEGORIES:Entry,Standard
COLOR:darkgreen
DESCRIPTION:Predmet: Opazovalne metode v astrofiziki (FIZ-M1\, FIZ-M2)\, P
 redavanja (P)\nLetniki: 1. letnik (Fizika\, 2. stopnja)\, 2. letnik (Fizik
 a\, 2. stopnja)\nIzvajalci: Janez Kos\nProstor: F6
LOCATION:F6
ORGANIZER:Janez Kos
RELATED-TO:fmf-AFLABS-URNIK:srecanje:7868
X-WR-TIMEZONE:Europe/Ljubljana
END:VEVENT
BEGIN:VEVENT
SUMMARY:Opazovalne metode v astrofiziki (FIZ-M1\, FIZ-M2)\, Predavanja (P)
DTSTART;TZID=Europe/Ljubljana:20221222T080000
DTEND;TZID=Europe/Ljubljana:20221222T110000
DTSTAMP:20260423T033453Z
UID:fmf-AFLABS-URNIK:premaknjeno-srecanje:79175
ATTENDEE:1. letnik (Fizika, 2. stopnja)
ATTENDEE:2. letnik (Fizika, 2. stopnja)
CATEGORIES:Entry,Standard
COLOR:darkgreen
DESCRIPTION:Predmet: Opazovalne metode v astrofiziki (FIZ-M1\, FIZ-M2)\, P
 redavanja (P)\nLetniki: 1. letnik (Fizika\, 2. stopnja)\, 2. letnik (Fizik
 a\, 2. stopnja)\nIzvajalci: Janez Kos\nProstor: F6
LOCATION:F6
ORGANIZER:Janez Kos
RELATED-TO:fmf-AFLABS-URNIK:srecanje:7868
X-WR-TIMEZONE:Europe/Ljubljana
END:VEVENT
BEGIN:VEVENT
SUMMARY:Opazovalne metode v astrofiziki (FIZ-M1\, FIZ-M2)\, Predavanja (P)
DTSTART;TZID=Europe/Ljubljana:20221229T080000
DTEND;TZID=Europe/Ljubljana:20221229T110000
DTSTAMP:20260423T033453Z
UID:fmf-AFLABS-URNIK:premaknjeno-srecanje:79176
ATTENDEE:1. letnik (Fizika, 2. stopnja)
ATTENDEE:2. letnik (Fizika, 2. stopnja)
CATEGORIES:Entry,Standard
COLOR:darkgreen
DESCRIPTION:Predmet: Opazovalne metode v astrofiziki (FIZ-M1\, FIZ-M2)\, P
 redavanja (P)\nLetniki: 1. letnik (Fizika\, 2. stopnja)\, 2. letnik (Fizik
 a\, 2. stopnja)\nIzvajalci: Janez Kos\nProstor: F6
LOCATION:F6
ORGANIZER:Janez Kos
RELATED-TO:fmf-AFLABS-URNIK:srecanje:7868
X-WR-TIMEZONE:Europe/Ljubljana
END:VEVENT
BEGIN:VEVENT
SUMMARY:Opazovalne metode v astrofiziki (FIZ-M1\, FIZ-M2)\, Predavanja (P)
DTSTART;TZID=Europe/Ljubljana:20230105T080000
DTEND;TZID=Europe/Ljubljana:20230105T110000
DTSTAMP:20260423T033453Z
UID:fmf-AFLABS-URNIK:premaknjeno-srecanje:79177
ATTENDEE:1. letnik (Fizika, 2. stopnja)
ATTENDEE:2. letnik (Fizika, 2. stopnja)
CATEGORIES:Entry,Standard
COLOR:darkgreen
DESCRIPTION:Predmet: Opazovalne metode v astrofiziki (FIZ-M1\, FIZ-M2)\, P
 redavanja (P)\nLetniki: 1. letnik (Fizika\, 2. stopnja)\, 2. letnik (Fizik
 a\, 2. stopnja)\nIzvajalci: Janez Kos\nProstor: F6
LOCATION:F6
ORGANIZER:Janez Kos
RELATED-TO:fmf-AFLABS-URNIK:srecanje:7868
X-WR-TIMEZONE:Europe/Ljubljana
END:VEVENT
BEGIN:VEVENT
SUMMARY:Opazovalne metode v astrofiziki (FIZ-M1\, FIZ-M2)\, Predavanja (P)
DTSTART;TZID=Europe/Ljubljana:20230112T080000
DTEND;TZID=Europe/Ljubljana:20230112T110000
DTSTAMP:20260423T033453Z
UID:fmf-AFLABS-URNIK:premaknjeno-srecanje:79178
ATTENDEE:1. letnik (Fizika, 2. stopnja)
ATTENDEE:2. letnik (Fizika, 2. stopnja)
CATEGORIES:Entry,Standard
COLOR:darkgreen
DESCRIPTION:Predmet: Opazovalne metode v astrofiziki (FIZ-M1\, FIZ-M2)\, P
 redavanja (P)\nLetniki: 1. letnik (Fizika\, 2. stopnja)\, 2. letnik (Fizik
 a\, 2. stopnja)\nIzvajalci: Janez Kos\nProstor: F6
LOCATION:F6
ORGANIZER:Janez Kos
RELATED-TO:fmf-AFLABS-URNIK:srecanje:7868
X-WR-TIMEZONE:Europe/Ljubljana
END:VEVENT
BEGIN:VEVENT
SUMMARY:Rezervacija
DTSTART;TZID=Europe/Ljubljana:20221122T130000
DTEND;TZID=Europe/Ljubljana:20221122T140000
DTSTAMP:20260423T033453Z
UID:fmf-AFLABS-URNIK:rezervacija:10528
CATEGORIES:Reservation
COLOR:royalblue
DESCRIPTION:Predmeti: \nLetniki: \nIzvajalci: Janez Kos\nProstori: F3
LOCATION:F3
ORGANIZER:Janez Kos
X-WR-TIMEZONE:Europe/Ljubljana
END:VEVENT
BEGIN:VEVENT
SUMMARY:Rezervacija
DTSTART;TZID=Europe/Ljubljana:20221213T130000
DTEND;TZID=Europe/Ljubljana:20221213T140000
DTSTAMP:20260423T033453Z
UID:fmf-AFLABS-URNIK:rezervacija:10674
CATEGORIES:Reservation
COLOR:royalblue
DESCRIPTION:Predmeti: \nLetniki: \nIzvajalci: Janez Kos\nProstori: F3
LOCATION:F3
ORGANIZER:Janez Kos
X-WR-TIMEZONE:Europe/Ljubljana
END:VEVENT
BEGIN:VEVENT
SUMMARY:Rezervacija
DTSTART;TZID=Europe/Ljubljana:20221214T130000
DTEND;TZID=Europe/Ljubljana:20221214T140000
DTSTAMP:20260423T033453Z
UID:fmf-AFLABS-URNIK:rezervacija:10683
CATEGORIES:Reservation
COLOR:royalblue
DESCRIPTION:Predmeti: \nLetniki: \nIzvajalci: Janez Kos\nProstori: F5
LOCATION:F5
ORGANIZER:Janez Kos
X-WR-TIMEZONE:Europe/Ljubljana
END:VEVENT
END:VCALENDAR
