BEGIN:VCALENDAR
VERSION:2.0
PRODID:-//AFLabs urnik izvoz - fmf//aflabs.si//SI
DTSTAMP:20260425T114049Z
NAME:UL FMF urnik
REFRESH-INTERVAL:PT1H
SOURCE:https://urnik.fmf.uni-lj.si/teacher/283?day=2019-05-27&export=1
URL:https://urnik.fmf.uni-lj.si/teacher/283?day=2019-05-27&export=1
X-PUBLISHED-TTL:PT1H
X-WR-CALNAME:UL FMF urnik
X-WR-TIMEZONE:Europe/Ljubljana
BEGIN:VTIMEZONE
TZID:Europe/Ljubljana
BEGIN:DAYLIGHT
DTSTART:20260329T020000
RDATE:20260329T020000
RDATE:20270328T020000
TZNAME:CEST
TZOFFSETFROM:+0100
TZOFFSETTO:+0200
END:DAYLIGHT
BEGIN:STANDARD
DTSTART:20261025T030000
RDATE:20261025T030000
RDATE:20271031T030000
TZNAME:CET
TZOFFSETFROM:+0200
TZOFFSETTO:+0100
END:STANDARD
END:VTIMEZONE
BEGIN:VEVENT
SUMMARY:Analiza 4 (MAT-3)\, Vaje (V)
DTSTART;TZID=Europe/Ljubljana:20190219T070000
DTEND;TZID=Europe/Ljubljana:20190219T100000
DTSTAMP:20260425T114049Z
UID:fmf-AFLABS-URNIK:premaknjeno-srecanje:9345
ATTENDEE:3. letnik (M)
CATEGORIES:Entry,Standard
COLOR:darkgreen
DESCRIPTION:Predmet: Analiza 4 (MAT-3)\, Vaje (V)\nLetniki: 3. letnik (M)\
 nIzvajalci: Lucijan Plevnik\nProstor: 3.04
LOCATION:3.04
ORGANIZER:Lucijan Plevnik
RELATED-TO:fmf-AFLABS-URNIK:srecanje:2538
X-WR-TIMEZONE:Europe/Ljubljana
END:VEVENT
BEGIN:VEVENT
SUMMARY:Analiza 4 (MAT-3)\, Vaje (V)
DTSTART;TZID=Europe/Ljubljana:20190226T070000
DTEND;TZID=Europe/Ljubljana:20190226T100000
DTSTAMP:20260425T114049Z
UID:fmf-AFLABS-URNIK:premaknjeno-srecanje:9346
ATTENDEE:3. letnik (M)
CATEGORIES:Entry,Standard
COLOR:darkgreen
DESCRIPTION:Predmet: Analiza 4 (MAT-3)\, Vaje (V)\nLetniki: 3. letnik (M)\
 nIzvajalci: Lucijan Plevnik\nProstor: 3.04
LOCATION:3.04
ORGANIZER:Lucijan Plevnik
RELATED-TO:fmf-AFLABS-URNIK:srecanje:2538
X-WR-TIMEZONE:Europe/Ljubljana
END:VEVENT
BEGIN:VEVENT
SUMMARY:Analiza 4 (MAT-3)\, Vaje (V)
DTSTART;TZID=Europe/Ljubljana:20190305T070000
DTEND;TZID=Europe/Ljubljana:20190305T100000
DTSTAMP:20260425T114049Z
UID:fmf-AFLABS-URNIK:premaknjeno-srecanje:9347
ATTENDEE:3. letnik (M)
CATEGORIES:Entry,Standard
COLOR:darkgreen
DESCRIPTION:Predmet: Analiza 4 (MAT-3)\, Vaje (V)\nLetniki: 3. letnik (M)\
 nIzvajalci: Lucijan Plevnik\nProstor: 3.04
LOCATION:3.04
ORGANIZER:Lucijan Plevnik
RELATED-TO:fmf-AFLABS-URNIK:srecanje:2538
X-WR-TIMEZONE:Europe/Ljubljana
END:VEVENT
BEGIN:VEVENT
SUMMARY:Analiza 4 (MAT-3)\, Vaje (V)
DTSTART;TZID=Europe/Ljubljana:20190312T070000
DTEND;TZID=Europe/Ljubljana:20190312T100000
DTSTAMP:20260425T114049Z
UID:fmf-AFLABS-URNIK:premaknjeno-srecanje:9348
ATTENDEE:3. letnik (M)
CATEGORIES:Entry,Standard
COLOR:darkgreen
DESCRIPTION:Predmet: Analiza 4 (MAT-3)\, Vaje (V)\nLetniki: 3. letnik (M)\
 nIzvajalci: Lucijan Plevnik\nProstor: 3.04
LOCATION:3.04
ORGANIZER:Lucijan Plevnik
RELATED-TO:fmf-AFLABS-URNIK:srecanje:2538
X-WR-TIMEZONE:Europe/Ljubljana
END:VEVENT
BEGIN:VEVENT
SUMMARY:Analiza 4 (MAT-3)\, Vaje (V)
DTSTART;TZID=Europe/Ljubljana:20190319T070000
DTEND;TZID=Europe/Ljubljana:20190319T100000
DTSTAMP:20260425T114049Z
UID:fmf-AFLABS-URNIK:premaknjeno-srecanje:9349
ATTENDEE:3. letnik (M)
CATEGORIES:Entry,Standard
COLOR:darkgreen
DESCRIPTION:Predmet: Analiza 4 (MAT-3)\, Vaje (V)\nLetniki: 3. letnik (M)\
 nIzvajalci: Lucijan Plevnik\nProstor: 3.04
LOCATION:3.04
ORGANIZER:Lucijan Plevnik
RELATED-TO:fmf-AFLABS-URNIK:srecanje:2538
X-WR-TIMEZONE:Europe/Ljubljana
END:VEVENT
BEGIN:VEVENT
SUMMARY:Analiza 4 (MAT-3)\, Vaje (V)
DTSTART;TZID=Europe/Ljubljana:20190326T070000
DTEND;TZID=Europe/Ljubljana:20190326T100000
DTSTAMP:20260425T114049Z
UID:fmf-AFLABS-URNIK:premaknjeno-srecanje:9350
ATTENDEE:3. letnik (M)
CATEGORIES:Entry,Standard
COLOR:darkgreen
DESCRIPTION:Predmet: Analiza 4 (MAT-3)\, Vaje (V)\nLetniki: 3. letnik (M)\
 nIzvajalci: Lucijan Plevnik\nProstor: 3.04
LOCATION:3.04
ORGANIZER:Lucijan Plevnik
RELATED-TO:fmf-AFLABS-URNIK:srecanje:2538
X-WR-TIMEZONE:Europe/Ljubljana
END:VEVENT
BEGIN:VEVENT
SUMMARY:Analiza 4 (MAT-3)\, Vaje (V)
DTSTART;TZID=Europe/Ljubljana:20190402T070000
DTEND;TZID=Europe/Ljubljana:20190402T100000
DTSTAMP:20260425T114049Z
UID:fmf-AFLABS-URNIK:premaknjeno-srecanje:9351
ATTENDEE:3. letnik (M)
CATEGORIES:Entry,Standard
COLOR:darkgreen
DESCRIPTION:Predmet: Analiza 4 (MAT-3)\, Vaje (V)\nLetniki: 3. letnik (M)\
 nIzvajalci: Lucijan Plevnik\nProstor: 3.04
LOCATION:3.04
ORGANIZER:Lucijan Plevnik
RELATED-TO:fmf-AFLABS-URNIK:srecanje:2538
X-WR-TIMEZONE:Europe/Ljubljana
END:VEVENT
BEGIN:VEVENT
SUMMARY:Analiza 4 (MAT-3)\, Vaje (V)
DTSTART;TZID=Europe/Ljubljana:20190409T070000
DTEND;TZID=Europe/Ljubljana:20190409T100000
DTSTAMP:20260425T114049Z
UID:fmf-AFLABS-URNIK:premaknjeno-srecanje:9352
ATTENDEE:3. letnik (M)
CATEGORIES:Entry,Standard
COLOR:darkgreen
DESCRIPTION:Predmet: Analiza 4 (MAT-3)\, Vaje (V)\nLetniki: 3. letnik (M)\
 nIzvajalci: Lucijan Plevnik\nProstor: 3.04
LOCATION:3.04
ORGANIZER:Lucijan Plevnik
RELATED-TO:fmf-AFLABS-URNIK:srecanje:2538
X-WR-TIMEZONE:Europe/Ljubljana
END:VEVENT
BEGIN:VEVENT
SUMMARY:Analiza 4 (MAT-3)\, Vaje (V)
DTSTART;TZID=Europe/Ljubljana:20190416T070000
DTEND;TZID=Europe/Ljubljana:20190416T100000
DTSTAMP:20260425T114049Z
UID:fmf-AFLABS-URNIK:premaknjeno-srecanje:9353
ATTENDEE:3. letnik (M)
CATEGORIES:Entry,Standard
COLOR:darkgreen
DESCRIPTION:Predmet: Analiza 4 (MAT-3)\, Vaje (V)\nLetniki: 3. letnik (M)\
 nIzvajalci: Lucijan Plevnik\nProstor: 3.04
LOCATION:3.04
ORGANIZER:Lucijan Plevnik
RELATED-TO:fmf-AFLABS-URNIK:srecanje:2538
X-WR-TIMEZONE:Europe/Ljubljana
END:VEVENT
BEGIN:VEVENT
SUMMARY:Analiza 4 (MAT-3)\, Vaje (V)
DTSTART;TZID=Europe/Ljubljana:20190423T070000
DTEND;TZID=Europe/Ljubljana:20190423T100000
DTSTAMP:20260425T114049Z
UID:fmf-AFLABS-URNIK:premaknjeno-srecanje:9354
ATTENDEE:3. letnik (M)
CATEGORIES:Entry,Standard
COLOR:darkgreen
DESCRIPTION:Predmet: Analiza 4 (MAT-3)\, Vaje (V)\nLetniki: 3. letnik (M)\
 nIzvajalci: Lucijan Plevnik\nProstor: 3.04
LOCATION:3.04
ORGANIZER:Lucijan Plevnik
RELATED-TO:fmf-AFLABS-URNIK:srecanje:2538
X-WR-TIMEZONE:Europe/Ljubljana
END:VEVENT
BEGIN:VEVENT
SUMMARY:Analiza 4 (MAT-3)\, Vaje (V)
DTSTART;TZID=Europe/Ljubljana:20190430T070000
DTEND;TZID=Europe/Ljubljana:20190430T100000
DTSTAMP:20260425T114049Z
UID:fmf-AFLABS-URNIK:premaknjeno-srecanje:9355
ATTENDEE:3. letnik (M)
CATEGORIES:Entry,Standard
COLOR:darkgreen
DESCRIPTION:Predmet: Analiza 4 (MAT-3)\, Vaje (V)\nLetniki: 3. letnik (M)\
 nIzvajalci: Lucijan Plevnik\nProstor: 3.04
LOCATION:3.04
ORGANIZER:Lucijan Plevnik
RELATED-TO:fmf-AFLABS-URNIK:srecanje:2538
X-WR-TIMEZONE:Europe/Ljubljana
END:VEVENT
BEGIN:VEVENT
SUMMARY:Analiza 4 (MAT-3)\, Vaje (V)
DTSTART;TZID=Europe/Ljubljana:20190507T070000
DTEND;TZID=Europe/Ljubljana:20190507T100000
DTSTAMP:20260425T114049Z
UID:fmf-AFLABS-URNIK:premaknjeno-srecanje:9356
ATTENDEE:3. letnik (M)
CATEGORIES:Entry,Standard
COLOR:darkgreen
DESCRIPTION:Predmet: Analiza 4 (MAT-3)\, Vaje (V)\nLetniki: 3. letnik (M)\
 nIzvajalci: Lucijan Plevnik\nProstor: 3.04
LOCATION:3.04
ORGANIZER:Lucijan Plevnik
RELATED-TO:fmf-AFLABS-URNIK:srecanje:2538
X-WR-TIMEZONE:Europe/Ljubljana
END:VEVENT
BEGIN:VEVENT
SUMMARY:Analiza 4 (MAT-3)\, Vaje (V)
DTSTART;TZID=Europe/Ljubljana:20190514T070000
DTEND;TZID=Europe/Ljubljana:20190514T100000
DTSTAMP:20260425T114049Z
UID:fmf-AFLABS-URNIK:premaknjeno-srecanje:9357
ATTENDEE:3. letnik (M)
CATEGORIES:Entry,Standard
COLOR:darkgreen
DESCRIPTION:Predmet: Analiza 4 (MAT-3)\, Vaje (V)\nLetniki: 3. letnik (M)\
 nIzvajalci: Lucijan Plevnik\nProstor: 3.04
LOCATION:3.04
ORGANIZER:Lucijan Plevnik
RELATED-TO:fmf-AFLABS-URNIK:srecanje:2538
X-WR-TIMEZONE:Europe/Ljubljana
END:VEVENT
BEGIN:VEVENT
SUMMARY:Analiza 4 (MAT-3)\, Vaje (V)
DTSTART;TZID=Europe/Ljubljana:20190521T070000
DTEND;TZID=Europe/Ljubljana:20190521T100000
DTSTAMP:20260425T114049Z
UID:fmf-AFLABS-URNIK:premaknjeno-srecanje:9358
ATTENDEE:3. letnik (M)
CATEGORIES:Entry,Standard
COLOR:darkgreen
DESCRIPTION:Predmet: Analiza 4 (MAT-3)\, Vaje (V)\nLetniki: 3. letnik (M)\
 nIzvajalci: Lucijan Plevnik\nProstor: 3.04
LOCATION:3.04
ORGANIZER:Lucijan Plevnik
RELATED-TO:fmf-AFLABS-URNIK:srecanje:2538
X-WR-TIMEZONE:Europe/Ljubljana
END:VEVENT
BEGIN:VEVENT
SUMMARY:Analiza 4 (MAT-3)\, Vaje (V)
DTSTART;TZID=Europe/Ljubljana:20190528T070000
DTEND;TZID=Europe/Ljubljana:20190528T100000
DTSTAMP:20260425T114049Z
UID:fmf-AFLABS-URNIK:premaknjeno-srecanje:9359
ATTENDEE:3. letnik (M)
CATEGORIES:Entry,Standard
COLOR:darkgreen
DESCRIPTION:Predmet: Analiza 4 (MAT-3)\, Vaje (V)\nLetniki: 3. letnik (M)\
 nIzvajalci: Lucijan Plevnik\nProstor: 3.04
LOCATION:3.04
ORGANIZER:Lucijan Plevnik
RELATED-TO:fmf-AFLABS-URNIK:srecanje:2538
X-WR-TIMEZONE:Europe/Ljubljana
END:VEVENT
BEGIN:VEVENT
SUMMARY:Mat 2 (NTF) ()\, Vaje (V)
DTSTART;TZID=Europe/Ljubljana:20190220T120000
DTEND;TZID=Europe/Ljubljana:20190220T150000
DTSTAMP:20260425T114049Z
UID:fmf-AFLABS-URNIK:premaknjeno-srecanje:60802
CATEGORIES:Entry,Standard
COLOR:darkgreen
DESCRIPTION:Predmet: Mat 2 (NTF) ()\, Vaje (V)\nLetniki: \nIzvajalci: Luci
 jan Plevnik\nProstor: NTF
LOCATION:NTF
ORGANIZER:Lucijan Plevnik
RELATED-TO:fmf-AFLABS-URNIK:srecanje:3178
X-WR-TIMEZONE:Europe/Ljubljana
END:VEVENT
BEGIN:VEVENT
SUMMARY:Mat 2 (NTF) ()\, Vaje (V)
DTSTART;TZID=Europe/Ljubljana:20190227T120000
DTEND;TZID=Europe/Ljubljana:20190227T150000
DTSTAMP:20260425T114049Z
UID:fmf-AFLABS-URNIK:premaknjeno-srecanje:60803
CATEGORIES:Entry,Standard
COLOR:darkgreen
DESCRIPTION:Predmet: Mat 2 (NTF) ()\, Vaje (V)\nLetniki: \nIzvajalci: Luci
 jan Plevnik\nProstor: NTF
LOCATION:NTF
ORGANIZER:Lucijan Plevnik
RELATED-TO:fmf-AFLABS-URNIK:srecanje:3178
X-WR-TIMEZONE:Europe/Ljubljana
END:VEVENT
BEGIN:VEVENT
SUMMARY:Mat 2 (NTF) ()\, Vaje (V)
DTSTART;TZID=Europe/Ljubljana:20190306T120000
DTEND;TZID=Europe/Ljubljana:20190306T150000
DTSTAMP:20260425T114049Z
UID:fmf-AFLABS-URNIK:premaknjeno-srecanje:60804
CATEGORIES:Entry,Standard
COLOR:darkgreen
DESCRIPTION:Predmet: Mat 2 (NTF) ()\, Vaje (V)\nLetniki: \nIzvajalci: Luci
 jan Plevnik\nProstor: NTF
LOCATION:NTF
ORGANIZER:Lucijan Plevnik
RELATED-TO:fmf-AFLABS-URNIK:srecanje:3178
X-WR-TIMEZONE:Europe/Ljubljana
END:VEVENT
BEGIN:VEVENT
SUMMARY:Mat 2 (NTF) ()\, Vaje (V)
DTSTART;TZID=Europe/Ljubljana:20190313T120000
DTEND;TZID=Europe/Ljubljana:20190313T150000
DTSTAMP:20260425T114049Z
UID:fmf-AFLABS-URNIK:premaknjeno-srecanje:60805
CATEGORIES:Entry,Standard
COLOR:darkgreen
DESCRIPTION:Predmet: Mat 2 (NTF) ()\, Vaje (V)\nLetniki: \nIzvajalci: Luci
 jan Plevnik\nProstor: NTF
LOCATION:NTF
ORGANIZER:Lucijan Plevnik
RELATED-TO:fmf-AFLABS-URNIK:srecanje:3178
X-WR-TIMEZONE:Europe/Ljubljana
END:VEVENT
BEGIN:VEVENT
SUMMARY:Mat 2 (NTF) ()\, Vaje (V)
DTSTART;TZID=Europe/Ljubljana:20190320T120000
DTEND;TZID=Europe/Ljubljana:20190320T150000
DTSTAMP:20260425T114049Z
UID:fmf-AFLABS-URNIK:premaknjeno-srecanje:60806
CATEGORIES:Entry,Standard
COLOR:darkgreen
DESCRIPTION:Predmet: Mat 2 (NTF) ()\, Vaje (V)\nLetniki: \nIzvajalci: Luci
 jan Plevnik\nProstor: NTF
LOCATION:NTF
ORGANIZER:Lucijan Plevnik
RELATED-TO:fmf-AFLABS-URNIK:srecanje:3178
X-WR-TIMEZONE:Europe/Ljubljana
END:VEVENT
BEGIN:VEVENT
SUMMARY:Mat 2 (NTF) ()\, Vaje (V)
DTSTART;TZID=Europe/Ljubljana:20190327T120000
DTEND;TZID=Europe/Ljubljana:20190327T150000
DTSTAMP:20260425T114049Z
UID:fmf-AFLABS-URNIK:premaknjeno-srecanje:60807
CATEGORIES:Entry,Standard
COLOR:darkgreen
DESCRIPTION:Predmet: Mat 2 (NTF) ()\, Vaje (V)\nLetniki: \nIzvajalci: Luci
 jan Plevnik\nProstor: NTF
LOCATION:NTF
ORGANIZER:Lucijan Plevnik
RELATED-TO:fmf-AFLABS-URNIK:srecanje:3178
X-WR-TIMEZONE:Europe/Ljubljana
END:VEVENT
BEGIN:VEVENT
SUMMARY:Mat 2 (NTF) ()\, Vaje (V)
DTSTART;TZID=Europe/Ljubljana:20190403T120000
DTEND;TZID=Europe/Ljubljana:20190403T150000
DTSTAMP:20260425T114049Z
UID:fmf-AFLABS-URNIK:premaknjeno-srecanje:60808
CATEGORIES:Entry,Standard
COLOR:darkgreen
DESCRIPTION:Predmet: Mat 2 (NTF) ()\, Vaje (V)\nLetniki: \nIzvajalci: Luci
 jan Plevnik\nProstor: NTF
LOCATION:NTF
ORGANIZER:Lucijan Plevnik
RELATED-TO:fmf-AFLABS-URNIK:srecanje:3178
X-WR-TIMEZONE:Europe/Ljubljana
END:VEVENT
BEGIN:VEVENT
SUMMARY:Mat 2 (NTF) ()\, Vaje (V)
DTSTART;TZID=Europe/Ljubljana:20190410T120000
DTEND;TZID=Europe/Ljubljana:20190410T150000
DTSTAMP:20260425T114049Z
UID:fmf-AFLABS-URNIK:premaknjeno-srecanje:60809
CATEGORIES:Entry,Standard
COLOR:darkgreen
DESCRIPTION:Predmet: Mat 2 (NTF) ()\, Vaje (V)\nLetniki: \nIzvajalci: Luci
 jan Plevnik\nProstor: NTF
LOCATION:NTF
ORGANIZER:Lucijan Plevnik
RELATED-TO:fmf-AFLABS-URNIK:srecanje:3178
X-WR-TIMEZONE:Europe/Ljubljana
END:VEVENT
BEGIN:VEVENT
SUMMARY:Mat 2 (NTF) ()\, Vaje (V)
DTSTART;TZID=Europe/Ljubljana:20190417T120000
DTEND;TZID=Europe/Ljubljana:20190417T150000
DTSTAMP:20260425T114049Z
UID:fmf-AFLABS-URNIK:premaknjeno-srecanje:60810
CATEGORIES:Entry,Standard
COLOR:darkgreen
DESCRIPTION:Predmet: Mat 2 (NTF) ()\, Vaje (V)\nLetniki: \nIzvajalci: Luci
 jan Plevnik\nProstor: NTF
LOCATION:NTF
ORGANIZER:Lucijan Plevnik
RELATED-TO:fmf-AFLABS-URNIK:srecanje:3178
X-WR-TIMEZONE:Europe/Ljubljana
END:VEVENT
BEGIN:VEVENT
SUMMARY:Mat 2 (NTF) ()\, Vaje (V)
DTSTART;TZID=Europe/Ljubljana:20190424T120000
DTEND;TZID=Europe/Ljubljana:20190424T150000
DTSTAMP:20260425T114049Z
UID:fmf-AFLABS-URNIK:premaknjeno-srecanje:60811
CATEGORIES:Entry,Standard
COLOR:darkgreen
DESCRIPTION:Predmet: Mat 2 (NTF) ()\, Vaje (V)\nLetniki: \nIzvajalci: Luci
 jan Plevnik\nProstor: NTF
LOCATION:NTF
ORGANIZER:Lucijan Plevnik
RELATED-TO:fmf-AFLABS-URNIK:srecanje:3178
X-WR-TIMEZONE:Europe/Ljubljana
END:VEVENT
BEGIN:VEVENT
SUMMARY:Mat 2 (NTF) ()\, Vaje (V)
DTSTART;TZID=Europe/Ljubljana:20190501T120000
DTEND;TZID=Europe/Ljubljana:20190501T150000
DTSTAMP:20260425T114049Z
UID:fmf-AFLABS-URNIK:premaknjeno-srecanje:60812
CATEGORIES:Entry,Standard
COLOR:darkgreen
DESCRIPTION:Predmet: Mat 2 (NTF) ()\, Vaje (V)\nLetniki: \nIzvajalci: Luci
 jan Plevnik\nProstor: NTF
LOCATION:NTF
ORGANIZER:Lucijan Plevnik
RELATED-TO:fmf-AFLABS-URNIK:srecanje:3178
X-WR-TIMEZONE:Europe/Ljubljana
END:VEVENT
BEGIN:VEVENT
SUMMARY:Mat 2 (NTF) ()\, Vaje (V)
DTSTART;TZID=Europe/Ljubljana:20190508T120000
DTEND;TZID=Europe/Ljubljana:20190508T150000
DTSTAMP:20260425T114049Z
UID:fmf-AFLABS-URNIK:premaknjeno-srecanje:60813
CATEGORIES:Entry,Standard
COLOR:darkgreen
DESCRIPTION:Predmet: Mat 2 (NTF) ()\, Vaje (V)\nLetniki: \nIzvajalci: Luci
 jan Plevnik\nProstor: NTF
LOCATION:NTF
ORGANIZER:Lucijan Plevnik
RELATED-TO:fmf-AFLABS-URNIK:srecanje:3178
X-WR-TIMEZONE:Europe/Ljubljana
END:VEVENT
BEGIN:VEVENT
SUMMARY:Mat 2 (NTF) ()\, Vaje (V)
DTSTART;TZID=Europe/Ljubljana:20190515T120000
DTEND;TZID=Europe/Ljubljana:20190515T150000
DTSTAMP:20260425T114049Z
UID:fmf-AFLABS-URNIK:premaknjeno-srecanje:60814
CATEGORIES:Entry,Standard
COLOR:darkgreen
DESCRIPTION:Predmet: Mat 2 (NTF) ()\, Vaje (V)\nLetniki: \nIzvajalci: Luci
 jan Plevnik\nProstor: NTF
LOCATION:NTF
ORGANIZER:Lucijan Plevnik
RELATED-TO:fmf-AFLABS-URNIK:srecanje:3178
X-WR-TIMEZONE:Europe/Ljubljana
END:VEVENT
BEGIN:VEVENT
SUMMARY:Mat 2 (NTF) ()\, Vaje (V)
DTSTART;TZID=Europe/Ljubljana:20190522T120000
DTEND;TZID=Europe/Ljubljana:20190522T150000
DTSTAMP:20260425T114049Z
UID:fmf-AFLABS-URNIK:premaknjeno-srecanje:60815
CATEGORIES:Entry,Standard
COLOR:darkgreen
DESCRIPTION:Predmet: Mat 2 (NTF) ()\, Vaje (V)\nLetniki: \nIzvajalci: Luci
 jan Plevnik\nProstor: NTF
LOCATION:NTF
ORGANIZER:Lucijan Plevnik
RELATED-TO:fmf-AFLABS-URNIK:srecanje:3178
X-WR-TIMEZONE:Europe/Ljubljana
END:VEVENT
BEGIN:VEVENT
SUMMARY:Mat 2 (NTF) ()\, Vaje (V)
DTSTART;TZID=Europe/Ljubljana:20190529T120000
DTEND;TZID=Europe/Ljubljana:20190529T150000
DTSTAMP:20260425T114049Z
UID:fmf-AFLABS-URNIK:premaknjeno-srecanje:60816
CATEGORIES:Entry,Standard
COLOR:darkgreen
DESCRIPTION:Predmet: Mat 2 (NTF) ()\, Vaje (V)\nLetniki: \nIzvajalci: Luci
 jan Plevnik\nProstor: NTF
LOCATION:NTF
ORGANIZER:Lucijan Plevnik
RELATED-TO:fmf-AFLABS-URNIK:srecanje:3178
X-WR-TIMEZONE:Europe/Ljubljana
END:VEVENT
BEGIN:VEVENT
SUMMARY:Mat 2 (NTF) ()\, Vaje (V)
DTSTART;TZID=Europe/Ljubljana:20190222T080000
DTEND;TZID=Europe/Ljubljana:20190222T100000
DTSTAMP:20260425T114049Z
UID:fmf-AFLABS-URNIK:premaknjeno-srecanje:60817
CATEGORIES:Entry,Standard
COLOR:darkgreen
DESCRIPTION:Predmet: Mat 2 (NTF) ()\, Vaje (V)\nLetniki: \nIzvajalci: Luci
 jan Plevnik\nProstor: NTF
LOCATION:NTF
ORGANIZER:Lucijan Plevnik
RELATED-TO:fmf-AFLABS-URNIK:srecanje:3179
X-WR-TIMEZONE:Europe/Ljubljana
END:VEVENT
BEGIN:VEVENT
SUMMARY:Mat 2 (NTF) ()\, Vaje (V)
DTSTART;TZID=Europe/Ljubljana:20190301T080000
DTEND;TZID=Europe/Ljubljana:20190301T100000
DTSTAMP:20260425T114049Z
UID:fmf-AFLABS-URNIK:premaknjeno-srecanje:60818
CATEGORIES:Entry,Standard
COLOR:darkgreen
DESCRIPTION:Predmet: Mat 2 (NTF) ()\, Vaje (V)\nLetniki: \nIzvajalci: Luci
 jan Plevnik\nProstor: NTF
LOCATION:NTF
ORGANIZER:Lucijan Plevnik
RELATED-TO:fmf-AFLABS-URNIK:srecanje:3179
X-WR-TIMEZONE:Europe/Ljubljana
END:VEVENT
BEGIN:VEVENT
SUMMARY:Mat 2 (NTF) ()\, Vaje (V)
DTSTART;TZID=Europe/Ljubljana:20190308T080000
DTEND;TZID=Europe/Ljubljana:20190308T100000
DTSTAMP:20260425T114049Z
UID:fmf-AFLABS-URNIK:premaknjeno-srecanje:60819
CATEGORIES:Entry,Standard
COLOR:darkgreen
DESCRIPTION:Predmet: Mat 2 (NTF) ()\, Vaje (V)\nLetniki: \nIzvajalci: Luci
 jan Plevnik\nProstor: NTF
LOCATION:NTF
ORGANIZER:Lucijan Plevnik
RELATED-TO:fmf-AFLABS-URNIK:srecanje:3179
X-WR-TIMEZONE:Europe/Ljubljana
END:VEVENT
BEGIN:VEVENT
SUMMARY:Mat 2 (NTF) ()\, Vaje (V)
DTSTART;TZID=Europe/Ljubljana:20190315T080000
DTEND;TZID=Europe/Ljubljana:20190315T100000
DTSTAMP:20260425T114049Z
UID:fmf-AFLABS-URNIK:premaknjeno-srecanje:60820
CATEGORIES:Entry,Standard
COLOR:darkgreen
DESCRIPTION:Predmet: Mat 2 (NTF) ()\, Vaje (V)\nLetniki: \nIzvajalci: Luci
 jan Plevnik\nProstor: NTF
LOCATION:NTF
ORGANIZER:Lucijan Plevnik
RELATED-TO:fmf-AFLABS-URNIK:srecanje:3179
X-WR-TIMEZONE:Europe/Ljubljana
END:VEVENT
BEGIN:VEVENT
SUMMARY:Mat 2 (NTF) ()\, Vaje (V)
DTSTART;TZID=Europe/Ljubljana:20190322T080000
DTEND;TZID=Europe/Ljubljana:20190322T100000
DTSTAMP:20260425T114049Z
UID:fmf-AFLABS-URNIK:premaknjeno-srecanje:60821
CATEGORIES:Entry,Standard
COLOR:darkgreen
DESCRIPTION:Predmet: Mat 2 (NTF) ()\, Vaje (V)\nLetniki: \nIzvajalci: Luci
 jan Plevnik\nProstor: NTF
LOCATION:NTF
ORGANIZER:Lucijan Plevnik
RELATED-TO:fmf-AFLABS-URNIK:srecanje:3179
X-WR-TIMEZONE:Europe/Ljubljana
END:VEVENT
BEGIN:VEVENT
SUMMARY:Mat 2 (NTF) ()\, Vaje (V)
DTSTART;TZID=Europe/Ljubljana:20190329T080000
DTEND;TZID=Europe/Ljubljana:20190329T100000
DTSTAMP:20260425T114049Z
UID:fmf-AFLABS-URNIK:premaknjeno-srecanje:60822
CATEGORIES:Entry,Standard
COLOR:darkgreen
DESCRIPTION:Predmet: Mat 2 (NTF) ()\, Vaje (V)\nLetniki: \nIzvajalci: Luci
 jan Plevnik\nProstor: NTF
LOCATION:NTF
ORGANIZER:Lucijan Plevnik
RELATED-TO:fmf-AFLABS-URNIK:srecanje:3179
X-WR-TIMEZONE:Europe/Ljubljana
END:VEVENT
BEGIN:VEVENT
SUMMARY:Mat 2 (NTF) ()\, Vaje (V)
DTSTART;TZID=Europe/Ljubljana:20190405T080000
DTEND;TZID=Europe/Ljubljana:20190405T100000
DTSTAMP:20260425T114049Z
UID:fmf-AFLABS-URNIK:premaknjeno-srecanje:60823
CATEGORIES:Entry,Standard
COLOR:darkgreen
DESCRIPTION:Predmet: Mat 2 (NTF) ()\, Vaje (V)\nLetniki: \nIzvajalci: Luci
 jan Plevnik\nProstor: NTF
LOCATION:NTF
ORGANIZER:Lucijan Plevnik
RELATED-TO:fmf-AFLABS-URNIK:srecanje:3179
X-WR-TIMEZONE:Europe/Ljubljana
END:VEVENT
BEGIN:VEVENT
SUMMARY:Mat 2 (NTF) ()\, Vaje (V)
DTSTART;TZID=Europe/Ljubljana:20190412T080000
DTEND;TZID=Europe/Ljubljana:20190412T100000
DTSTAMP:20260425T114049Z
UID:fmf-AFLABS-URNIK:premaknjeno-srecanje:60824
CATEGORIES:Entry,Standard
COLOR:darkgreen
DESCRIPTION:Predmet: Mat 2 (NTF) ()\, Vaje (V)\nLetniki: \nIzvajalci: Luci
 jan Plevnik\nProstor: NTF
LOCATION:NTF
ORGANIZER:Lucijan Plevnik
RELATED-TO:fmf-AFLABS-URNIK:srecanje:3179
X-WR-TIMEZONE:Europe/Ljubljana
END:VEVENT
BEGIN:VEVENT
SUMMARY:Mat 2 (NTF) ()\, Vaje (V)
DTSTART;TZID=Europe/Ljubljana:20190419T080000
DTEND;TZID=Europe/Ljubljana:20190419T100000
DTSTAMP:20260425T114049Z
UID:fmf-AFLABS-URNIK:premaknjeno-srecanje:60825
CATEGORIES:Entry,Standard
COLOR:darkgreen
DESCRIPTION:Predmet: Mat 2 (NTF) ()\, Vaje (V)\nLetniki: \nIzvajalci: Luci
 jan Plevnik\nProstor: NTF
LOCATION:NTF
ORGANIZER:Lucijan Plevnik
RELATED-TO:fmf-AFLABS-URNIK:srecanje:3179
X-WR-TIMEZONE:Europe/Ljubljana
END:VEVENT
BEGIN:VEVENT
SUMMARY:Mat 2 (NTF) ()\, Vaje (V)
DTSTART;TZID=Europe/Ljubljana:20190426T080000
DTEND;TZID=Europe/Ljubljana:20190426T100000
DTSTAMP:20260425T114049Z
UID:fmf-AFLABS-URNIK:premaknjeno-srecanje:60826
CATEGORIES:Entry,Standard
COLOR:darkgreen
DESCRIPTION:Predmet: Mat 2 (NTF) ()\, Vaje (V)\nLetniki: \nIzvajalci: Luci
 jan Plevnik\nProstor: NTF
LOCATION:NTF
ORGANIZER:Lucijan Plevnik
RELATED-TO:fmf-AFLABS-URNIK:srecanje:3179
X-WR-TIMEZONE:Europe/Ljubljana
END:VEVENT
BEGIN:VEVENT
SUMMARY:Mat 2 (NTF) ()\, Vaje (V)
DTSTART;TZID=Europe/Ljubljana:20190503T080000
DTEND;TZID=Europe/Ljubljana:20190503T100000
DTSTAMP:20260425T114049Z
UID:fmf-AFLABS-URNIK:premaknjeno-srecanje:60827
CATEGORIES:Entry,Standard
COLOR:darkgreen
DESCRIPTION:Predmet: Mat 2 (NTF) ()\, Vaje (V)\nLetniki: \nIzvajalci: Luci
 jan Plevnik\nProstor: NTF
LOCATION:NTF
ORGANIZER:Lucijan Plevnik
RELATED-TO:fmf-AFLABS-URNIK:srecanje:3179
X-WR-TIMEZONE:Europe/Ljubljana
END:VEVENT
BEGIN:VEVENT
SUMMARY:Mat 2 (NTF) ()\, Vaje (V)
DTSTART;TZID=Europe/Ljubljana:20190510T080000
DTEND;TZID=Europe/Ljubljana:20190510T100000
DTSTAMP:20260425T114049Z
UID:fmf-AFLABS-URNIK:premaknjeno-srecanje:60828
CATEGORIES:Entry,Standard
COLOR:darkgreen
DESCRIPTION:Predmet: Mat 2 (NTF) ()\, Vaje (V)\nLetniki: \nIzvajalci: Luci
 jan Plevnik\nProstor: NTF
LOCATION:NTF
ORGANIZER:Lucijan Plevnik
RELATED-TO:fmf-AFLABS-URNIK:srecanje:3179
X-WR-TIMEZONE:Europe/Ljubljana
END:VEVENT
BEGIN:VEVENT
SUMMARY:Mat 2 (NTF) ()\, Vaje (V)
DTSTART;TZID=Europe/Ljubljana:20190517T080000
DTEND;TZID=Europe/Ljubljana:20190517T100000
DTSTAMP:20260425T114049Z
UID:fmf-AFLABS-URNIK:premaknjeno-srecanje:60829
CATEGORIES:Entry,Standard
COLOR:darkgreen
DESCRIPTION:Predmet: Mat 2 (NTF) ()\, Vaje (V)\nLetniki: \nIzvajalci: Luci
 jan Plevnik\nProstor: NTF
LOCATION:NTF
ORGANIZER:Lucijan Plevnik
RELATED-TO:fmf-AFLABS-URNIK:srecanje:3179
X-WR-TIMEZONE:Europe/Ljubljana
END:VEVENT
BEGIN:VEVENT
SUMMARY:Mat 2 (NTF) ()\, Vaje (V)
DTSTART;TZID=Europe/Ljubljana:20190524T080000
DTEND;TZID=Europe/Ljubljana:20190524T100000
DTSTAMP:20260425T114049Z
UID:fmf-AFLABS-URNIK:premaknjeno-srecanje:60830
CATEGORIES:Entry,Standard
COLOR:darkgreen
DESCRIPTION:Predmet: Mat 2 (NTF) ()\, Vaje (V)\nLetniki: \nIzvajalci: Luci
 jan Plevnik\nProstor: NTF
LOCATION:NTF
ORGANIZER:Lucijan Plevnik
RELATED-TO:fmf-AFLABS-URNIK:srecanje:3179
X-WR-TIMEZONE:Europe/Ljubljana
END:VEVENT
BEGIN:VEVENT
SUMMARY:Mat 2 (NTF) ()\, Vaje (V)
DTSTART;TZID=Europe/Ljubljana:20190531T080000
DTEND;TZID=Europe/Ljubljana:20190531T100000
DTSTAMP:20260425T114049Z
UID:fmf-AFLABS-URNIK:premaknjeno-srecanje:60831
CATEGORIES:Entry,Standard
COLOR:darkgreen
DESCRIPTION:Predmet: Mat 2 (NTF) ()\, Vaje (V)\nLetniki: \nIzvajalci: Luci
 jan Plevnik\nProstor: NTF
LOCATION:NTF
ORGANIZER:Lucijan Plevnik
RELATED-TO:fmf-AFLABS-URNIK:srecanje:3179
X-WR-TIMEZONE:Europe/Ljubljana
END:VEVENT
BEGIN:VEVENT
SUMMARY:Rezervacija
DTSTART;TZID=Europe/Ljubljana:20190418T170000
DTEND;TZID=Europe/Ljubljana:20190418T190000
DTSTAMP:20260425T114049Z
UID:fmf-AFLABS-URNIK:rezervacija:2989
CATEGORIES:Reservation
COLOR:royalblue
DESCRIPTION:Predmeti: \nLetniki: \nIzvajalci: Lucijan Plevnik\nProstori: V
 FP
LOCATION:VFP
ORGANIZER:Lucijan Plevnik
X-WR-TIMEZONE:Europe/Ljubljana
END:VEVENT
BEGIN:VEVENT
SUMMARY:Rezervacija
DTSTART;TZID=Europe/Ljubljana:20190610T150000
DTEND;TZID=Europe/Ljubljana:20190610T170000
DTSTAMP:20260425T114049Z
UID:fmf-AFLABS-URNIK:rezervacija:3449
CATEGORIES:Reservation
COLOR:royalblue
DESCRIPTION:Predmeti: \nLetniki: \nIzvajalci: Lucijan Plevnik\nProstori: V
 FP
LOCATION:VFP
ORGANIZER:Lucijan Plevnik
X-WR-TIMEZONE:Europe/Ljubljana
END:VEVENT
BEGIN:VEVENT
SUMMARY:Rezervacija
DTSTART;TZID=Europe/Ljubljana:20190614T110000
DTEND;TZID=Europe/Ljubljana:20190614T130000
DTSTAMP:20260425T114049Z
UID:fmf-AFLABS-URNIK:rezervacija:3520
CATEGORIES:Reservation
COLOR:royalblue
DESCRIPTION:Predmeti: \nLetniki: \nIzvajalci: Lucijan Plevnik\nProstori: 3
 .04
LOCATION:3.04
ORGANIZER:Lucijan Plevnik
X-WR-TIMEZONE:Europe/Ljubljana
END:VEVENT
BEGIN:VEVENT
SUMMARY:Rezervacija
DTSTART;TZID=Europe/Ljubljana:20190619T100000
DTEND;TZID=Europe/Ljubljana:20190619T130000
DTSTAMP:20260425T114049Z
UID:fmf-AFLABS-URNIK:rezervacija:3573
CATEGORIES:Reservation
COLOR:royalblue
DESCRIPTION:Predmeti: \nLetniki: \nIzvajalci: Lucijan Plevnik\nProstori: 3
 .05
LOCATION:3.05
ORGANIZER:Lucijan Plevnik
X-WR-TIMEZONE:Europe/Ljubljana
END:VEVENT
END:VCALENDAR
