BEGIN:VCALENDAR
VERSION:2.0
PRODID:-//AFLabs urnik izvoz - fmf//aflabs.si//SI
DTSTAMP:20260422T001415Z
NAME:UL FMF urnik
REFRESH-INTERVAL:PT1H
SOURCE:https://urnik.fmf.uni-lj.si/teacher/283?day=2022-01-24&export=1
URL:https://urnik.fmf.uni-lj.si/teacher/283?day=2022-01-24&export=1
X-PUBLISHED-TTL:PT1H
X-WR-CALNAME:UL FMF urnik
X-WR-TIMEZONE:Europe/Ljubljana
BEGIN:VTIMEZONE
TZID:Europe/Ljubljana
BEGIN:DAYLIGHT
DTSTART:20260329T020000
RDATE:20260329T020000
RDATE:20270328T020000
TZNAME:CEST
TZOFFSETFROM:+0100
TZOFFSETTO:+0200
END:DAYLIGHT
BEGIN:STANDARD
DTSTART:20261025T030000
RDATE:20261025T030000
RDATE:20271031T030000
TZNAME:CET
TZOFFSETFROM:+0200
TZOFFSETTO:+0100
END:STANDARD
END:VTIMEZONE
BEGIN:VEVENT
SUMMARY:Algebra 1 (MAT-1\, PM-1)\, Vaje (V)\, [1]
DTSTART;TZID=Europe/Ljubljana:20211220T130000
DTEND;TZID=Europe/Ljubljana:20211220T160000
DTSTAMP:20260422T001415Z
UID:fmf-AFLABS-URNIK:premaknjeno-srecanje:1869
ATTENDEE:1. letnik (M)
ATTENDEE:1. letnik (PM)
CATEGORIES:Entry,Standard
COLOR:darkgreen
DESCRIPTION:Predmet: Algebra 1 (MAT-1\, PM-1)\, Vaje (V)\, [1]\nLetniki: 1
 . letnik (M)\, 1. letnik (PM)\nIzvajalci: Lucijan Plevnik\nProstor: 2.02
LOCATION:2.02
ORGANIZER:Lucijan Plevnik
RELATED-TO:fmf-AFLABS-URNIK:srecanje:6093
X-WR-TIMEZONE:Europe/Ljubljana
END:VEVENT
BEGIN:VEVENT
SUMMARY:Algebra 1 (MAT-1\, PM-1)\, Vaje (V)\, [1]
DTSTART;TZID=Europe/Ljubljana:20211227T130000
DTEND;TZID=Europe/Ljubljana:20211227T160000
DTSTAMP:20260422T001415Z
UID:fmf-AFLABS-URNIK:premaknjeno-srecanje:1870
ATTENDEE:1. letnik (M)
ATTENDEE:1. letnik (PM)
CATEGORIES:Entry,Standard
COLOR:darkgreen
DESCRIPTION:Predmet: Algebra 1 (MAT-1\, PM-1)\, Vaje (V)\, [1]\nLetniki: 1
 . letnik (M)\, 1. letnik (PM)\nIzvajalci: Lucijan Plevnik\nProstor: 2.02
LOCATION:2.02
ORGANIZER:Lucijan Plevnik
RELATED-TO:fmf-AFLABS-URNIK:srecanje:6093
X-WR-TIMEZONE:Europe/Ljubljana
END:VEVENT
BEGIN:VEVENT
SUMMARY:Algebra 1 (MAT-1\, PM-1)\, Vaje (V)\, [1]
DTSTART;TZID=Europe/Ljubljana:20220103T130000
DTEND;TZID=Europe/Ljubljana:20220103T160000
DTSTAMP:20260422T001415Z
UID:fmf-AFLABS-URNIK:premaknjeno-srecanje:1871
ATTENDEE:1. letnik (M)
ATTENDEE:1. letnik (PM)
CATEGORIES:Entry,Standard
COLOR:darkgreen
DESCRIPTION:Predmet: Algebra 1 (MAT-1\, PM-1)\, Vaje (V)\, [1]\nLetniki: 1
 . letnik (M)\, 1. letnik (PM)\nIzvajalci: Lucijan Plevnik\nProstor: 2.02
LOCATION:2.02
ORGANIZER:Lucijan Plevnik
RELATED-TO:fmf-AFLABS-URNIK:srecanje:6093
X-WR-TIMEZONE:Europe/Ljubljana
END:VEVENT
BEGIN:VEVENT
SUMMARY:Algebra 1 (MAT-1\, PM-1)\, Vaje (V)\, [1]
DTSTART;TZID=Europe/Ljubljana:20220110T130000
DTEND;TZID=Europe/Ljubljana:20220110T160000
DTSTAMP:20260422T001415Z
UID:fmf-AFLABS-URNIK:premaknjeno-srecanje:1872
ATTENDEE:1. letnik (M)
ATTENDEE:1. letnik (PM)
CATEGORIES:Entry,Standard
COLOR:darkgreen
DESCRIPTION:Predmet: Algebra 1 (MAT-1\, PM-1)\, Vaje (V)\, [1]\nLetniki: 1
 . letnik (M)\, 1. letnik (PM)\nIzvajalci: Lucijan Plevnik\nProstor: 2.02
LOCATION:2.02
ORGANIZER:Lucijan Plevnik
RELATED-TO:fmf-AFLABS-URNIK:srecanje:6093
X-WR-TIMEZONE:Europe/Ljubljana
END:VEVENT
BEGIN:VEVENT
SUMMARY:Matematika 2 (NTF) ()\, Vaje (V)
DTSTART;TZID=Europe/Ljubljana:20211221T130000
DTEND;TZID=Europe/Ljubljana:20211221T160000
DTSTAMP:20260422T001415Z
UID:fmf-AFLABS-URNIK:premaknjeno-srecanje:63640
CATEGORIES:Entry,Standard
COLOR:darkgreen
DESCRIPTION:Predmet: Matematika 2 (NTF) ()\, Vaje (V)\nLetniki: \nIzvajalc
 i: Lucijan Plevnik\nProstor: NTF
LOCATION:NTF
ORGANIZER:Lucijan Plevnik
RELATED-TO:fmf-AFLABS-URNIK:srecanje:6403
X-WR-TIMEZONE:Europe/Ljubljana
END:VEVENT
BEGIN:VEVENT
SUMMARY:Matematika 2 (NTF) ()\, Vaje (V)
DTSTART;TZID=Europe/Ljubljana:20211228T130000
DTEND;TZID=Europe/Ljubljana:20211228T160000
DTSTAMP:20260422T001415Z
UID:fmf-AFLABS-URNIK:premaknjeno-srecanje:63641
CATEGORIES:Entry,Standard
COLOR:darkgreen
DESCRIPTION:Predmet: Matematika 2 (NTF) ()\, Vaje (V)\nLetniki: \nIzvajalc
 i: Lucijan Plevnik\nProstor: NTF
LOCATION:NTF
ORGANIZER:Lucijan Plevnik
RELATED-TO:fmf-AFLABS-URNIK:srecanje:6403
X-WR-TIMEZONE:Europe/Ljubljana
END:VEVENT
BEGIN:VEVENT
SUMMARY:Matematika 2 (NTF) ()\, Vaje (V)
DTSTART;TZID=Europe/Ljubljana:20220104T130000
DTEND;TZID=Europe/Ljubljana:20220104T160000
DTSTAMP:20260422T001415Z
UID:fmf-AFLABS-URNIK:premaknjeno-srecanje:63642
CATEGORIES:Entry,Standard
COLOR:darkgreen
DESCRIPTION:Predmet: Matematika 2 (NTF) ()\, Vaje (V)\nLetniki: \nIzvajalc
 i: Lucijan Plevnik\nProstor: NTF
LOCATION:NTF
ORGANIZER:Lucijan Plevnik
RELATED-TO:fmf-AFLABS-URNIK:srecanje:6403
X-WR-TIMEZONE:Europe/Ljubljana
END:VEVENT
BEGIN:VEVENT
SUMMARY:Matematika 2 (NTF) ()\, Vaje (V)
DTSTART;TZID=Europe/Ljubljana:20220111T130000
DTEND;TZID=Europe/Ljubljana:20220111T160000
DTSTAMP:20260422T001415Z
UID:fmf-AFLABS-URNIK:premaknjeno-srecanje:63643
CATEGORIES:Entry,Standard
COLOR:darkgreen
DESCRIPTION:Predmet: Matematika 2 (NTF) ()\, Vaje (V)\nLetniki: \nIzvajalc
 i: Lucijan Plevnik\nProstor: NTF
LOCATION:NTF
ORGANIZER:Lucijan Plevnik
RELATED-TO:fmf-AFLABS-URNIK:srecanje:6403
X-WR-TIMEZONE:Europe/Ljubljana
END:VEVENT
BEGIN:VEVENT
SUMMARY:Matematika II (FKKT) ()\, Vaje (V)
DTSTART;TZID=Europe/Ljubljana:20211222T130000
DTEND;TZID=Europe/Ljubljana:20211222T150000
DTSTAMP:20260422T001415Z
UID:fmf-AFLABS-URNIK:premaknjeno-srecanje:65833
CATEGORIES:Entry,Standard
COLOR:darkgreen
DESCRIPTION:Predmet: Matematika II (FKKT) ()\, Vaje (V)\nLetniki: \nIzvaja
 lci: Lucijan Plevnik\nProstor: FKKT
LOCATION:FKKT
ORGANIZER:Lucijan Plevnik
RELATED-TO:fmf-AFLABS-URNIK:srecanje:6772
X-WR-TIMEZONE:Europe/Ljubljana
END:VEVENT
BEGIN:VEVENT
SUMMARY:Matematika II (FKKT) ()\, Vaje (V)
DTSTART;TZID=Europe/Ljubljana:20211229T130000
DTEND;TZID=Europe/Ljubljana:20211229T150000
DTSTAMP:20260422T001415Z
UID:fmf-AFLABS-URNIK:premaknjeno-srecanje:65834
CATEGORIES:Entry,Standard
COLOR:darkgreen
DESCRIPTION:Predmet: Matematika II (FKKT) ()\, Vaje (V)\nLetniki: \nIzvaja
 lci: Lucijan Plevnik\nProstor: FKKT
LOCATION:FKKT
ORGANIZER:Lucijan Plevnik
RELATED-TO:fmf-AFLABS-URNIK:srecanje:6772
X-WR-TIMEZONE:Europe/Ljubljana
END:VEVENT
BEGIN:VEVENT
SUMMARY:Matematika II (FKKT) ()\, Vaje (V)
DTSTART;TZID=Europe/Ljubljana:20220105T130000
DTEND;TZID=Europe/Ljubljana:20220105T150000
DTSTAMP:20260422T001415Z
UID:fmf-AFLABS-URNIK:premaknjeno-srecanje:65835
CATEGORIES:Entry,Standard
COLOR:darkgreen
DESCRIPTION:Predmet: Matematika II (FKKT) ()\, Vaje (V)\nLetniki: \nIzvaja
 lci: Lucijan Plevnik\nProstor: FKKT
LOCATION:FKKT
ORGANIZER:Lucijan Plevnik
RELATED-TO:fmf-AFLABS-URNIK:srecanje:6772
X-WR-TIMEZONE:Europe/Ljubljana
END:VEVENT
BEGIN:VEVENT
SUMMARY:Matematika II (FKKT) ()\, Vaje (V)
DTSTART;TZID=Europe/Ljubljana:20220112T130000
DTEND;TZID=Europe/Ljubljana:20220112T150000
DTSTAMP:20260422T001415Z
UID:fmf-AFLABS-URNIK:premaknjeno-srecanje:65836
CATEGORIES:Entry,Standard
COLOR:darkgreen
DESCRIPTION:Predmet: Matematika II (FKKT) ()\, Vaje (V)\nLetniki: \nIzvaja
 lci: Lucijan Plevnik\nProstor: FKKT
LOCATION:FKKT
ORGANIZER:Lucijan Plevnik
RELATED-TO:fmf-AFLABS-URNIK:srecanje:6772
X-WR-TIMEZONE:Europe/Ljubljana
END:VEVENT
BEGIN:VEVENT
SUMMARY:Teorija mere (FM-M\, MAT-M\, PM-5\, UPST-M)\, Vaje (V)
DTSTART;TZID=Europe/Ljubljana:20211222T170000
DTEND;TZID=Europe/Ljubljana:20211222T190000
DTSTAMP:20260422T001415Z
UID:fmf-AFLABS-URNIK:premaknjeno-srecanje:109796
ATTENDEE:5. letnik (PM)
ATTENDEE:magistrski študij (FM)
ATTENDEE:magistrski študij (M)
ATTENDEE:magistrski študij (US)
CATEGORIES:Entry,Standard
COLOR:darkgreen
DESCRIPTION:Predmet: Teorija mere (FM-M\, MAT-M\, PM-5\, UPST-M)\, Vaje (V
 )\nLetniki: magistrski študij (FM)\, magistrski študij (M)\, 5. letnik (
 PM)\, magistrski študij (US)\nIzvajalci: Lucijan Plevnik\nProstor: P.02
LOCATION:P.02
ORGANIZER:Lucijan Plevnik
RELATED-TO:fmf-AFLABS-URNIK:srecanje:6633
X-WR-TIMEZONE:Europe/Ljubljana
END:VEVENT
BEGIN:VEVENT
SUMMARY:Teorija mere (FM-M\, MAT-M\, PM-5\, UPST-M)\, Vaje (V)
DTSTART;TZID=Europe/Ljubljana:20211229T170000
DTEND;TZID=Europe/Ljubljana:20211229T190000
DTSTAMP:20260422T001415Z
UID:fmf-AFLABS-URNIK:premaknjeno-srecanje:109797
ATTENDEE:5. letnik (PM)
ATTENDEE:magistrski študij (FM)
ATTENDEE:magistrski študij (M)
ATTENDEE:magistrski študij (US)
CATEGORIES:Entry,Standard
COLOR:darkgreen
DESCRIPTION:Predmet: Teorija mere (FM-M\, MAT-M\, PM-5\, UPST-M)\, Vaje (V
 )\nLetniki: magistrski študij (FM)\, magistrski študij (M)\, 5. letnik (
 PM)\, magistrski študij (US)\nIzvajalci: Lucijan Plevnik\nProstor: P.02
LOCATION:P.02
ORGANIZER:Lucijan Plevnik
RELATED-TO:fmf-AFLABS-URNIK:srecanje:6633
X-WR-TIMEZONE:Europe/Ljubljana
END:VEVENT
BEGIN:VEVENT
SUMMARY:Teorija mere (FM-M\, MAT-M\, PM-5\, UPST-M)\, Vaje (V)
DTSTART;TZID=Europe/Ljubljana:20220105T170000
DTEND;TZID=Europe/Ljubljana:20220105T190000
DTSTAMP:20260422T001415Z
UID:fmf-AFLABS-URNIK:premaknjeno-srecanje:109798
ATTENDEE:5. letnik (PM)
ATTENDEE:magistrski študij (FM)
ATTENDEE:magistrski študij (M)
ATTENDEE:magistrski študij (US)
CATEGORIES:Entry,Standard
COLOR:darkgreen
DESCRIPTION:Predmet: Teorija mere (FM-M\, MAT-M\, PM-5\, UPST-M)\, Vaje (V
 )\nLetniki: magistrski študij (FM)\, magistrski študij (M)\, 5. letnik (
 PM)\, magistrski študij (US)\nIzvajalci: Lucijan Plevnik\nProstor: P.02
LOCATION:P.02
ORGANIZER:Lucijan Plevnik
RELATED-TO:fmf-AFLABS-URNIK:srecanje:6633
X-WR-TIMEZONE:Europe/Ljubljana
END:VEVENT
BEGIN:VEVENT
SUMMARY:Teorija mere (FM-M\, MAT-M\, PM-5\, UPST-M)\, Vaje (V)
DTSTART;TZID=Europe/Ljubljana:20220112T170000
DTEND;TZID=Europe/Ljubljana:20220112T190000
DTSTAMP:20260422T001415Z
UID:fmf-AFLABS-URNIK:premaknjeno-srecanje:109799
ATTENDEE:5. letnik (PM)
ATTENDEE:magistrski študij (FM)
ATTENDEE:magistrski študij (M)
ATTENDEE:magistrski študij (US)
CATEGORIES:Entry,Standard
COLOR:darkgreen
DESCRIPTION:Predmet: Teorija mere (FM-M\, MAT-M\, PM-5\, UPST-M)\, Vaje (V
 )\nLetniki: magistrski študij (FM)\, magistrski študij (M)\, 5. letnik (
 PM)\, magistrski študij (US)\nIzvajalci: Lucijan Plevnik\nProstor: P.02
LOCATION:P.02
ORGANIZER:Lucijan Plevnik
RELATED-TO:fmf-AFLABS-URNIK:srecanje:6633
X-WR-TIMEZONE:Europe/Ljubljana
END:VEVENT
BEGIN:VEVENT
SUMMARY:Matematika II (FKKT) ()\, Vaje (V)
DTSTART;TZID=Europe/Ljubljana:20211223T110000
DTEND;TZID=Europe/Ljubljana:20211223T130000
DTSTAMP:20260422T001415Z
UID:fmf-AFLABS-URNIK:premaknjeno-srecanje:65941
CATEGORIES:Entry,Standard
COLOR:darkgreen
DESCRIPTION:Predmet: Matematika II (FKKT) ()\, Vaje (V)\nLetniki: \nIzvaja
 lci: Lucijan Plevnik\nProstor: FKKT
LOCATION:FKKT
ORGANIZER:Lucijan Plevnik
RELATED-TO:fmf-AFLABS-URNIK:srecanje:6773
X-WR-TIMEZONE:Europe/Ljubljana
END:VEVENT
BEGIN:VEVENT
SUMMARY:Matematika II (FKKT) ()\, Vaje (V)
DTSTART;TZID=Europe/Ljubljana:20211230T110000
DTEND;TZID=Europe/Ljubljana:20211230T130000
DTSTAMP:20260422T001415Z
UID:fmf-AFLABS-URNIK:premaknjeno-srecanje:65942
CATEGORIES:Entry,Standard
COLOR:darkgreen
DESCRIPTION:Predmet: Matematika II (FKKT) ()\, Vaje (V)\nLetniki: \nIzvaja
 lci: Lucijan Plevnik\nProstor: FKKT
LOCATION:FKKT
ORGANIZER:Lucijan Plevnik
RELATED-TO:fmf-AFLABS-URNIK:srecanje:6773
X-WR-TIMEZONE:Europe/Ljubljana
END:VEVENT
BEGIN:VEVENT
SUMMARY:Matematika II (FKKT) ()\, Vaje (V)
DTSTART;TZID=Europe/Ljubljana:20220106T110000
DTEND;TZID=Europe/Ljubljana:20220106T130000
DTSTAMP:20260422T001415Z
UID:fmf-AFLABS-URNIK:premaknjeno-srecanje:65943
CATEGORIES:Entry,Standard
COLOR:darkgreen
DESCRIPTION:Predmet: Matematika II (FKKT) ()\, Vaje (V)\nLetniki: \nIzvaja
 lci: Lucijan Plevnik\nProstor: FKKT
LOCATION:FKKT
ORGANIZER:Lucijan Plevnik
RELATED-TO:fmf-AFLABS-URNIK:srecanje:6773
X-WR-TIMEZONE:Europe/Ljubljana
END:VEVENT
BEGIN:VEVENT
SUMMARY:Matematika II (FKKT) ()\, Vaje (V)
DTSTART;TZID=Europe/Ljubljana:20220113T110000
DTEND;TZID=Europe/Ljubljana:20220113T130000
DTSTAMP:20260422T001415Z
UID:fmf-AFLABS-URNIK:premaknjeno-srecanje:65944
CATEGORIES:Entry,Standard
COLOR:darkgreen
DESCRIPTION:Predmet: Matematika II (FKKT) ()\, Vaje (V)\nLetniki: \nIzvaja
 lci: Lucijan Plevnik\nProstor: FKKT
LOCATION:FKKT
ORGANIZER:Lucijan Plevnik
RELATED-TO:fmf-AFLABS-URNIK:srecanje:6773
X-WR-TIMEZONE:Europe/Ljubljana
END:VEVENT
BEGIN:VEVENT
SUMMARY:Proseminar B (MAT-1)\, Vaje (V)
DTSTART;TZID=Europe/Ljubljana:20211223T080000
DTEND;TZID=Europe/Ljubljana:20211223T100000
DTSTAMP:20260422T001415Z
UID:fmf-AFLABS-URNIK:premaknjeno-srecanje:89490
ATTENDEE:1. letnik (M)
CATEGORIES:Entry,Standard
COLOR:darkgreen
DESCRIPTION:Predmet: Proseminar B (MAT-1)\, Vaje (V)\nLetniki: 1. letnik (
 M)\nIzvajalci: Lucijan Plevnik\nProstor: 2.03
LOCATION:2.03
ORGANIZER:Lucijan Plevnik
RELATED-TO:fmf-AFLABS-URNIK:srecanje:6483
X-WR-TIMEZONE:Europe/Ljubljana
END:VEVENT
BEGIN:VEVENT
SUMMARY:Proseminar B (MAT-1)\, Vaje (V)
DTSTART;TZID=Europe/Ljubljana:20211230T080000
DTEND;TZID=Europe/Ljubljana:20211230T100000
DTSTAMP:20260422T001415Z
UID:fmf-AFLABS-URNIK:premaknjeno-srecanje:89491
ATTENDEE:1. letnik (M)
CATEGORIES:Entry,Standard
COLOR:darkgreen
DESCRIPTION:Predmet: Proseminar B (MAT-1)\, Vaje (V)\nLetniki: 1. letnik (
 M)\nIzvajalci: Lucijan Plevnik\nProstor: 2.03
LOCATION:2.03
ORGANIZER:Lucijan Plevnik
RELATED-TO:fmf-AFLABS-URNIK:srecanje:6483
X-WR-TIMEZONE:Europe/Ljubljana
END:VEVENT
BEGIN:VEVENT
SUMMARY:Proseminar B (MAT-1)\, Vaje (V)
DTSTART;TZID=Europe/Ljubljana:20220106T080000
DTEND;TZID=Europe/Ljubljana:20220106T100000
DTSTAMP:20260422T001415Z
UID:fmf-AFLABS-URNIK:premaknjeno-srecanje:89492
ATTENDEE:1. letnik (M)
CATEGORIES:Entry,Standard
COLOR:darkgreen
DESCRIPTION:Predmet: Proseminar B (MAT-1)\, Vaje (V)\nLetniki: 1. letnik (
 M)\nIzvajalci: Lucijan Plevnik\nProstor: 2.03
LOCATION:2.03
ORGANIZER:Lucijan Plevnik
RELATED-TO:fmf-AFLABS-URNIK:srecanje:6483
X-WR-TIMEZONE:Europe/Ljubljana
END:VEVENT
BEGIN:VEVENT
SUMMARY:Proseminar B (MAT-1)\, Vaje (V)
DTSTART;TZID=Europe/Ljubljana:20220113T080000
DTEND;TZID=Europe/Ljubljana:20220113T100000
DTSTAMP:20260422T001415Z
UID:fmf-AFLABS-URNIK:premaknjeno-srecanje:89493
ATTENDEE:1. letnik (M)
CATEGORIES:Entry,Standard
COLOR:darkgreen
DESCRIPTION:Predmet: Proseminar B (MAT-1)\, Vaje (V)\nLetniki: 1. letnik (
 M)\nIzvajalci: Lucijan Plevnik\nProstor: 2.03
LOCATION:2.03
ORGANIZER:Lucijan Plevnik
RELATED-TO:fmf-AFLABS-URNIK:srecanje:6483
X-WR-TIMEZONE:Europe/Ljubljana
END:VEVENT
BEGIN:VEVENT
SUMMARY:PRA-MAT2 (APM-2)\, Vaje (V)
DTSTART;TZID=Europe/Ljubljana:20211224T080000
DTEND;TZID=Europe/Ljubljana:20211224T110000
DTSTAMP:20260422T001415Z
UID:fmf-AFLABS-URNIK:premaknjeno-srecanje:81929
ATTENDEE:2. letnik (APM)
CATEGORIES:Entry,Standard
COLOR:darkgreen
DESCRIPTION:Predmet: PRA-MAT2 (APM-2)\, Vaje (V)\nLetniki: 2. letnik (APM)
 \nIzvajalci: Lucijan Plevnik\nProstor: 3.07
LOCATION:3.07
ORGANIZER:Lucijan Plevnik
RELATED-TO:fmf-AFLABS-URNIK:srecanje:6479
X-WR-TIMEZONE:Europe/Ljubljana
END:VEVENT
BEGIN:VEVENT
SUMMARY:PRA-MAT2 (APM-2)\, Vaje (V)
DTSTART;TZID=Europe/Ljubljana:20211231T080000
DTEND;TZID=Europe/Ljubljana:20211231T110000
DTSTAMP:20260422T001415Z
UID:fmf-AFLABS-URNIK:premaknjeno-srecanje:81930
ATTENDEE:2. letnik (APM)
CATEGORIES:Entry,Standard
COLOR:darkgreen
DESCRIPTION:Predmet: PRA-MAT2 (APM-2)\, Vaje (V)\nLetniki: 2. letnik (APM)
 \nIzvajalci: Lucijan Plevnik\nProstor: 3.07
LOCATION:3.07
ORGANIZER:Lucijan Plevnik
RELATED-TO:fmf-AFLABS-URNIK:srecanje:6479
X-WR-TIMEZONE:Europe/Ljubljana
END:VEVENT
BEGIN:VEVENT
SUMMARY:PRA-MAT2 (APM-2)\, Vaje (V)
DTSTART;TZID=Europe/Ljubljana:20220107T080000
DTEND;TZID=Europe/Ljubljana:20220107T110000
DTSTAMP:20260422T001415Z
UID:fmf-AFLABS-URNIK:premaknjeno-srecanje:81931
ATTENDEE:2. letnik (APM)
CATEGORIES:Entry,Standard
COLOR:darkgreen
DESCRIPTION:Predmet: PRA-MAT2 (APM-2)\, Vaje (V)\nLetniki: 2. letnik (APM)
 \nIzvajalci: Lucijan Plevnik\nProstor: 3.07
LOCATION:3.07
ORGANIZER:Lucijan Plevnik
RELATED-TO:fmf-AFLABS-URNIK:srecanje:6479
X-WR-TIMEZONE:Europe/Ljubljana
END:VEVENT
BEGIN:VEVENT
SUMMARY:PRA-MAT2 (APM-2)\, Vaje (V)
DTSTART;TZID=Europe/Ljubljana:20220114T080000
DTEND;TZID=Europe/Ljubljana:20220114T110000
DTSTAMP:20260422T001415Z
UID:fmf-AFLABS-URNIK:premaknjeno-srecanje:81932
ATTENDEE:2. letnik (APM)
CATEGORIES:Entry,Standard
COLOR:darkgreen
DESCRIPTION:Predmet: PRA-MAT2 (APM-2)\, Vaje (V)\nLetniki: 2. letnik (APM)
 \nIzvajalci: Lucijan Plevnik\nProstor: 3.07
LOCATION:3.07
ORGANIZER:Lucijan Plevnik
RELATED-TO:fmf-AFLABS-URNIK:srecanje:6479
X-WR-TIMEZONE:Europe/Ljubljana
END:VEVENT
BEGIN:VEVENT
SUMMARY:Elementarna teorija števil (MAT-3\, PM-3)\, Vaje (V)
DTSTART;TZID=Europe/Ljubljana:20220216T120000
DTEND;TZID=Europe/Ljubljana:20220216T140000
DTSTAMP:20260422T001415Z
UID:fmf-AFLABS-URNIK:premaknjeno-srecanje:19699
ATTENDEE:3. letnik (M)
ATTENDEE:3. letnik (PM)
CATEGORIES:Entry,Standard
COLOR:darkgreen
DESCRIPTION:Predmet: Elementarna teorija števil (MAT-3\, PM-3)\, Vaje (V)
 \nLetniki: 3. letnik (M)\, 3. letnik (PM)\nIzvajalci: Lucijan Plevnik\nPro
 stor: 2.02
LOCATION:2.02
ORGANIZER:Lucijan Plevnik
RELATED-TO:fmf-AFLABS-URNIK:srecanje:6907
X-WR-TIMEZONE:Europe/Ljubljana
END:VEVENT
BEGIN:VEVENT
SUMMARY:Elementarna teorija števil (MAT-3\, PM-3)\, Vaje (V)
DTSTART;TZID=Europe/Ljubljana:20220223T120000
DTEND;TZID=Europe/Ljubljana:20220223T140000
DTSTAMP:20260422T001415Z
UID:fmf-AFLABS-URNIK:premaknjeno-srecanje:19700
ATTENDEE:3. letnik (M)
ATTENDEE:3. letnik (PM)
CATEGORIES:Entry,Standard
COLOR:darkgreen
DESCRIPTION:Predmet: Elementarna teorija števil (MAT-3\, PM-3)\, Vaje (V)
 \nLetniki: 3. letnik (M)\, 3. letnik (PM)\nIzvajalci: Lucijan Plevnik\nPro
 stor: 2.02
LOCATION:2.02
ORGANIZER:Lucijan Plevnik
RELATED-TO:fmf-AFLABS-URNIK:srecanje:6907
X-WR-TIMEZONE:Europe/Ljubljana
END:VEVENT
BEGIN:VEVENT
SUMMARY:Matematika 2 (APM-2)\, Vaje (V)
DTSTART;TZID=Europe/Ljubljana:20220216T080000
DTEND;TZID=Europe/Ljubljana:20220216T110000
DTSTAMP:20260422T001415Z
UID:fmf-AFLABS-URNIK:premaknjeno-srecanje:63424
ATTENDEE:2. letnik (APM)
CATEGORIES:Entry,Standard
COLOR:darkgreen
DESCRIPTION:Predmet: Matematika 2 (APM-2)\, Vaje (V)\nLetniki: 2. letnik (
 APM)\nIzvajalci: Lucijan Plevnik\nProstor: 3.04
LOCATION:3.04
ORGANIZER:Lucijan Plevnik
RELATED-TO:fmf-AFLABS-URNIK:srecanje:7091
X-WR-TIMEZONE:Europe/Ljubljana
END:VEVENT
BEGIN:VEVENT
SUMMARY:Matematika 2 (APM-2)\, Vaje (V)
DTSTART;TZID=Europe/Ljubljana:20220223T080000
DTEND;TZID=Europe/Ljubljana:20220223T110000
DTSTAMP:20260422T001415Z
UID:fmf-AFLABS-URNIK:premaknjeno-srecanje:63425
ATTENDEE:2. letnik (APM)
CATEGORIES:Entry,Standard
COLOR:darkgreen
DESCRIPTION:Predmet: Matematika 2 (APM-2)\, Vaje (V)\nLetniki: 2. letnik (
 APM)\nIzvajalci: Lucijan Plevnik\nProstor: 3.04
LOCATION:3.04
ORGANIZER:Lucijan Plevnik
RELATED-TO:fmf-AFLABS-URNIK:srecanje:7091
X-WR-TIMEZONE:Europe/Ljubljana
END:VEVENT
BEGIN:VEVENT
SUMMARY:Algebra 1 (MAT-1\, PM-1)\, Vaje (V)\, [1]
DTSTART;TZID=Europe/Ljubljana:20220217T090000
DTEND;TZID=Europe/Ljubljana:20220217T120000
DTSTAMP:20260422T001415Z
UID:fmf-AFLABS-URNIK:premaknjeno-srecanje:2014
ATTENDEE:1. letnik (M)
ATTENDEE:1. letnik (PM)
CATEGORIES:Entry,Standard
COLOR:darkgreen
DESCRIPTION:Predmet: Algebra 1 (MAT-1\, PM-1)\, Vaje (V)\, [1]\nLetniki: 1
 . letnik (M)\, 1. letnik (PM)\nIzvajalci: Lucijan Plevnik\nProstor: 2.05
LOCATION:2.05
ORGANIZER:Lucijan Plevnik
RELATED-TO:fmf-AFLABS-URNIK:srecanje:6821
X-WR-TIMEZONE:Europe/Ljubljana
END:VEVENT
BEGIN:VEVENT
SUMMARY:Algebra 1 (MAT-1\, PM-1)\, Vaje (V)\, [1]
DTSTART;TZID=Europe/Ljubljana:20220224T090000
DTEND;TZID=Europe/Ljubljana:20220224T120000
DTSTAMP:20260422T001415Z
UID:fmf-AFLABS-URNIK:premaknjeno-srecanje:2015
ATTENDEE:1. letnik (M)
ATTENDEE:1. letnik (PM)
CATEGORIES:Entry,Standard
COLOR:darkgreen
DESCRIPTION:Predmet: Algebra 1 (MAT-1\, PM-1)\, Vaje (V)\, [1]\nLetniki: 1
 . letnik (M)\, 1. letnik (PM)\nIzvajalci: Lucijan Plevnik\nProstor: 2.05
LOCATION:2.05
ORGANIZER:Lucijan Plevnik
RELATED-TO:fmf-AFLABS-URNIK:srecanje:6821
X-WR-TIMEZONE:Europe/Ljubljana
END:VEVENT
BEGIN:VEVENT
SUMMARY:Diferencialne enačbe (APF-2\, APM-2)\, Vaje (V)
DTSTART;TZID=Europe/Ljubljana:20220217T140000
DTEND;TZID=Europe/Ljubljana:20220217T160000
DTSTAMP:20260422T001415Z
UID:fmf-AFLABS-URNIK:premaknjeno-srecanje:14761
ATTENDEE:2. letnik (APM)
ATTENDEE:2. letnik (Aplikativna fizika)
CATEGORIES:Entry,Standard
COLOR:darkgreen
DESCRIPTION:Predmet: Diferencialne enačbe (APF-2\, APM-2)\, Vaje (V)\nLet
 niki: 2. letnik (Aplikativna fizika)\, 2. letnik (APM)\nIzvajalci: Lucijan
  Plevnik\nProstor: 2.03
LOCATION:2.03
ORGANIZER:Lucijan Plevnik
RELATED-TO:fmf-AFLABS-URNIK:srecanje:6886
X-WR-TIMEZONE:Europe/Ljubljana
END:VEVENT
BEGIN:VEVENT
SUMMARY:Diferencialne enačbe (APF-2\, APM-2)\, Vaje (V)
DTSTART;TZID=Europe/Ljubljana:20220224T140000
DTEND;TZID=Europe/Ljubljana:20220224T160000
DTSTAMP:20260422T001415Z
UID:fmf-AFLABS-URNIK:premaknjeno-srecanje:14762
ATTENDEE:2. letnik (APM)
ATTENDEE:2. letnik (Aplikativna fizika)
CATEGORIES:Entry,Standard
COLOR:darkgreen
DESCRIPTION:Predmet: Diferencialne enačbe (APF-2\, APM-2)\, Vaje (V)\nLet
 niki: 2. letnik (Aplikativna fizika)\, 2. letnik (APM)\nIzvajalci: Lucijan
  Plevnik\nProstor: 2.03
LOCATION:2.03
ORGANIZER:Lucijan Plevnik
RELATED-TO:fmf-AFLABS-URNIK:srecanje:6886
X-WR-TIMEZONE:Europe/Ljubljana
END:VEVENT
BEGIN:VEVENT
SUMMARY:Rezervacija
DTSTART;TZID=Europe/Ljubljana:20220104T110000
DTEND;TZID=Europe/Ljubljana:20220104T120000
DTSTAMP:20260422T001415Z
UID:fmf-AFLABS-URNIK:rezervacija:8174
ATTENDEE:1. letnik (M)
ATTENDEE:1. letnik (PM)
CATEGORIES:Reservation
COLOR:royalblue
DESCRIPTION:Predmeti: Algebra 1 (MAT-1\, PM-1)\nLetniki: 1. letnik (M)\, 1
 . letnik (PM)\nIzvajalci: Lucijan Plevnik\nProstori: 3.06
LOCATION:3.06
ORGANIZER:Lucijan Plevnik
X-WR-TIMEZONE:Europe/Ljubljana
END:VEVENT
BEGIN:VEVENT
SUMMARY:Rezervacija
DTSTART;TZID=Europe/Ljubljana:20220105T090000
DTEND;TZID=Europe/Ljubljana:20220105T100000
DTSTAMP:20260422T001415Z
UID:fmf-AFLABS-URNIK:rezervacija:8178
ATTENDEE:2. letnik (APM)
CATEGORIES:Reservation
COLOR:royalblue
DESCRIPTION:Predmeti: Matematika 2 (APM-2)\nLetniki: 2. letnik (APM)\nIzva
 jalci: Lucijan Plevnik\nProstori: F4
LOCATION:F4
ORGANIZER:Lucijan Plevnik
X-WR-TIMEZONE:Europe/Ljubljana
END:VEVENT
BEGIN:VEVENT
SUMMARY:Rezervacija
DTSTART;TZID=Europe/Ljubljana:20220111T110000
DTEND;TZID=Europe/Ljubljana:20220111T120000
DTSTAMP:20260422T001415Z
UID:fmf-AFLABS-URNIK:rezervacija:8214
ATTENDEE:1. letnik (M)
ATTENDEE:1. letnik (PM)
CATEGORIES:Reservation
COLOR:royalblue
DESCRIPTION:Predmeti: Algebra 1 (MAT-1\, PM-1)\nLetniki: 1. letnik (M)\, 1
 . letnik (PM)\nIzvajalci: Lucijan Plevnik\nProstori: 3.06
LOCATION:3.06
ORGANIZER:Lucijan Plevnik
X-WR-TIMEZONE:Europe/Ljubljana
END:VEVENT
BEGIN:VEVENT
SUMMARY:Rezervacija
DTSTART;TZID=Europe/Ljubljana:20220119T100000
DTEND;TZID=Europe/Ljubljana:20220119T120000
DTSTAMP:20260422T001415Z
UID:fmf-AFLABS-URNIK:rezervacija:8294
ATTENDEE:2. letnik (APM)
CATEGORIES:Reservation
COLOR:royalblue
DESCRIPTION:Predmeti: Matematika 2 (APM-2)\nLetniki: 2. letnik (APM)\nIzva
 jalci: Timotej Hrga\, Lucijan Plevnik\nProstori: 2.01
LOCATION:2.01
ORGANIZER:Timotej Hrga, Lucijan Plevnik
X-WR-TIMEZONE:Europe/Ljubljana
END:VEVENT
BEGIN:VEVENT
SUMMARY:Rezervacija
DTSTART;TZID=Europe/Ljubljana:20220120T100000
DTEND;TZID=Europe/Ljubljana:20220120T140000
DTSTAMP:20260422T001415Z
UID:fmf-AFLABS-URNIK:rezervacija:8308
ATTENDEE:2. letnik (APM)
CATEGORIES:Reservation
COLOR:royalblue
DESCRIPTION:Predmeti: Matematika 2 (APM-2)\nLetniki: 2. letnik (APM)\nIzva
 jalci: Lucijan Plevnik\nProstori: 3.06
LOCATION:3.06
ORGANIZER:Lucijan Plevnik
X-WR-TIMEZONE:Europe/Ljubljana
END:VEVENT
BEGIN:VEVENT
SUMMARY:Rezervacija
DTSTART;TZID=Europe/Ljubljana:20220121T100000
DTEND;TZID=Europe/Ljubljana:20220121T120000
DTSTAMP:20260422T001415Z
UID:fmf-AFLABS-URNIK:rezervacija:8324
ATTENDEE:5. letnik (PM)
ATTENDEE:magistrski študij (FM)
ATTENDEE:magistrski študij (M)
ATTENDEE:magistrski študij (US)
CATEGORIES:Reservation
COLOR:royalblue
DESCRIPTION:Predmeti: Teorija mere (FM-M\, MAT-M\, PM-5\, UPST-M)\nLetniki
 : magistrski študij (FM)\, magistrski študij (M)\, 5. letnik (PM)\, magi
 strski študij (US)\nIzvajalci: Lucijan Plevnik\nProstori: P.02
LOCATION:P.02
ORGANIZER:Lucijan Plevnik
X-WR-TIMEZONE:Europe/Ljubljana
END:VEVENT
BEGIN:VEVENT
SUMMARY:Rezervacija
DTSTART;TZID=Europe/Ljubljana:20220128T110000
DTEND;TZID=Europe/Ljubljana:20220128T140000
DTSTAMP:20260422T001415Z
UID:fmf-AFLABS-URNIK:rezervacija:8407
ATTENDEE:1. letnik (M)
ATTENDEE:1. letnik (PM)
CATEGORIES:Reservation
COLOR:royalblue
DESCRIPTION:Predmeti: Algebra 1 (MAT-1\, PM-1)\nLetniki: 1. letnik (M)\, 1
 . letnik (PM)\nIzvajalci: Gregor Cigler\, Lucijan Plevnik\nProstori: 2.01\
 , 2.05
LOCATION:2.01\, 2.05
ORGANIZER:Gregor Cigler, Lucijan Plevnik
X-WR-TIMEZONE:Europe/Ljubljana
END:VEVENT
BEGIN:VEVENT
SUMMARY:Rezervacija
DTSTART;TZID=Europe/Ljubljana:20220203T180000
DTEND;TZID=Europe/Ljubljana:20220203T200000
DTSTAMP:20260422T001415Z
UID:fmf-AFLABS-URNIK:rezervacija:8473
CATEGORIES:Reservation
COLOR:royalblue
DESCRIPTION:Predmeti: \nLetniki: \nIzvajalci: Marjetka Knez\, Lucijan Plev
 nik\nProstori: 2.01
LOCATION:2.01
ORGANIZER:Marjetka Knez, Lucijan Plevnik
X-WR-TIMEZONE:Europe/Ljubljana
END:VEVENT
BEGIN:VEVENT
SUMMARY:Rezervacija
DTSTART;TZID=Europe/Ljubljana:20220214T160000
DTEND;TZID=Europe/Ljubljana:20220214T190000
DTSTAMP:20260422T001415Z
UID:fmf-AFLABS-URNIK:rezervacija:8583
ATTENDEE:2. letnik (APM)
CATEGORIES:Reservation
COLOR:royalblue
DESCRIPTION:Predmeti: Matematika 2 (APM-2)\nLetniki: 2. letnik (APM)\nIzva
 jalci: Lucijan Plevnik\nProstori: F2
LOCATION:F2
ORGANIZER:Lucijan Plevnik
X-WR-TIMEZONE:Europe/Ljubljana
END:VEVENT
END:VCALENDAR
