BEGIN:VCALENDAR
VERSION:2.0
PRODID:-//AFLabs urnik izvoz - fmf//aflabs.si//SI
DTSTAMP:20260424T144536Z
NAME:UL FMF urnik
REFRESH-INTERVAL:PT1H
SOURCE:https://urnik.fmf.uni-lj.si/teacher/284?day=2023-01-02&export=1
URL:https://urnik.fmf.uni-lj.si/teacher/284?day=2023-01-02&export=1
X-PUBLISHED-TTL:PT1H
X-WR-CALNAME:UL FMF urnik
X-WR-TIMEZONE:Europe/Ljubljana
BEGIN:VTIMEZONE
TZID:Europe/Ljubljana
BEGIN:DAYLIGHT
DTSTART:20260329T020000
RDATE:20260329T020000
RDATE:20270328T020000
TZNAME:CEST
TZOFFSETFROM:+0100
TZOFFSETTO:+0200
END:DAYLIGHT
BEGIN:STANDARD
DTSTART:20261025T030000
RDATE:20261025T030000
RDATE:20271031T030000
TZNAME:CET
TZOFFSETFROM:+0200
TZOFFSETTO:+0100
END:STANDARD
END:VTIMEZONE
BEGIN:VEVENT
SUMMARY:Materiali v jedrski tehniki (JET-1\, JET-2)\, Predavanja (P)
DTSTART;TZID=Europe/Ljubljana:20221006T080000
DTEND;TZID=Europe/Ljubljana:20221006T100000
DTSTAMP:20260424T144536Z
UID:fmf-AFLABS-URNIK:premaknjeno-srecanje:70318
ATTENDEE:1. letnik (Jedrska tehnika, 2. stopnja)
ATTENDEE:2. letnik (Jedrska tehnika, 2. stopnja)
CATEGORIES:Entry,Standard
COLOR:darkgreen
DESCRIPTION:Predmet: Materiali v jedrski tehniki (JET-1\, JET-2)\, Predava
 nja (P)\nLetniki: 1. letnik (Jedrska tehnika\, 2. stopnja)\, 2. letnik (Je
 drska tehnika\, 2. stopnja)\nIzvajalci: Leon Cizelj\nProstor: P.01
LOCATION:P.01
ORGANIZER:Leon Cizelj
RELATED-TO:fmf-AFLABS-URNIK:srecanje:7820
X-WR-TIMEZONE:Europe/Ljubljana
END:VEVENT
BEGIN:VEVENT
SUMMARY:Materiali v jedrski tehniki (JET-1\, JET-2)\, Predavanja (P)
DTSTART;TZID=Europe/Ljubljana:20221013T080000
DTEND;TZID=Europe/Ljubljana:20221013T100000
DTSTAMP:20260424T144536Z
UID:fmf-AFLABS-URNIK:premaknjeno-srecanje:70319
ATTENDEE:1. letnik (Jedrska tehnika, 2. stopnja)
ATTENDEE:2. letnik (Jedrska tehnika, 2. stopnja)
CATEGORIES:Entry,Standard
COLOR:darkgreen
DESCRIPTION:Predmet: Materiali v jedrski tehniki (JET-1\, JET-2)\, Predava
 nja (P)\nLetniki: 1. letnik (Jedrska tehnika\, 2. stopnja)\, 2. letnik (Je
 drska tehnika\, 2. stopnja)\nIzvajalci: Leon Cizelj\nProstor: P.01
LOCATION:P.01
ORGANIZER:Leon Cizelj
RELATED-TO:fmf-AFLABS-URNIK:srecanje:7820
X-WR-TIMEZONE:Europe/Ljubljana
END:VEVENT
BEGIN:VEVENT
SUMMARY:Materiali v jedrski tehniki (JET-1\, JET-2)\, Predavanja (P)
DTSTART;TZID=Europe/Ljubljana:20221020T080000
DTEND;TZID=Europe/Ljubljana:20221020T100000
DTSTAMP:20260424T144536Z
UID:fmf-AFLABS-URNIK:premaknjeno-srecanje:70320
ATTENDEE:1. letnik (Jedrska tehnika, 2. stopnja)
ATTENDEE:2. letnik (Jedrska tehnika, 2. stopnja)
CATEGORIES:Entry,Standard
COLOR:darkgreen
DESCRIPTION:Predmet: Materiali v jedrski tehniki (JET-1\, JET-2)\, Predava
 nja (P)\nLetniki: 1. letnik (Jedrska tehnika\, 2. stopnja)\, 2. letnik (Je
 drska tehnika\, 2. stopnja)\nIzvajalci: Leon Cizelj\nProstor: P.01
LOCATION:P.01
ORGANIZER:Leon Cizelj
RELATED-TO:fmf-AFLABS-URNIK:srecanje:7820
X-WR-TIMEZONE:Europe/Ljubljana
END:VEVENT
BEGIN:VEVENT
SUMMARY:Materiali v jedrski tehniki (JET-1\, JET-2)\, Predavanja (P)
DTSTART;TZID=Europe/Ljubljana:20221027T080000
DTEND;TZID=Europe/Ljubljana:20221027T100000
DTSTAMP:20260424T144536Z
UID:fmf-AFLABS-URNIK:premaknjeno-srecanje:70321
ATTENDEE:1. letnik (Jedrska tehnika, 2. stopnja)
ATTENDEE:2. letnik (Jedrska tehnika, 2. stopnja)
CATEGORIES:Entry,Standard
COLOR:darkgreen
DESCRIPTION:Predmet: Materiali v jedrski tehniki (JET-1\, JET-2)\, Predava
 nja (P)\nLetniki: 1. letnik (Jedrska tehnika\, 2. stopnja)\, 2. letnik (Je
 drska tehnika\, 2. stopnja)\nIzvajalci: Leon Cizelj\nProstor: P.01
LOCATION:P.01
ORGANIZER:Leon Cizelj
RELATED-TO:fmf-AFLABS-URNIK:srecanje:7820
X-WR-TIMEZONE:Europe/Ljubljana
END:VEVENT
BEGIN:VEVENT
SUMMARY:Materiali v jedrski tehniki (JET-1\, JET-2)\, Predavanja (P)
DTSTART;TZID=Europe/Ljubljana:20221103T080000
DTEND;TZID=Europe/Ljubljana:20221103T100000
DTSTAMP:20260424T144536Z
UID:fmf-AFLABS-URNIK:premaknjeno-srecanje:70322
ATTENDEE:1. letnik (Jedrska tehnika, 2. stopnja)
ATTENDEE:2. letnik (Jedrska tehnika, 2. stopnja)
CATEGORIES:Entry,Standard
COLOR:darkgreen
DESCRIPTION:Predmet: Materiali v jedrski tehniki (JET-1\, JET-2)\, Predava
 nja (P)\nLetniki: 1. letnik (Jedrska tehnika\, 2. stopnja)\, 2. letnik (Je
 drska tehnika\, 2. stopnja)\nIzvajalci: Leon Cizelj\nProstor: P.01
LOCATION:P.01
ORGANIZER:Leon Cizelj
RELATED-TO:fmf-AFLABS-URNIK:srecanje:7820
X-WR-TIMEZONE:Europe/Ljubljana
END:VEVENT
BEGIN:VEVENT
SUMMARY:Materiali v jedrski tehniki (JET-1\, JET-2)\, Predavanja (P)
DTSTART;TZID=Europe/Ljubljana:20221110T080000
DTEND;TZID=Europe/Ljubljana:20221110T100000
DTSTAMP:20260424T144536Z
UID:fmf-AFLABS-URNIK:premaknjeno-srecanje:70323
ATTENDEE:1. letnik (Jedrska tehnika, 2. stopnja)
ATTENDEE:2. letnik (Jedrska tehnika, 2. stopnja)
CATEGORIES:Entry,Standard
COLOR:darkgreen
DESCRIPTION:Predmet: Materiali v jedrski tehniki (JET-1\, JET-2)\, Predava
 nja (P)\nLetniki: 1. letnik (Jedrska tehnika\, 2. stopnja)\, 2. letnik (Je
 drska tehnika\, 2. stopnja)\nIzvajalci: Leon Cizelj\nProstor: P.01
LOCATION:P.01
ORGANIZER:Leon Cizelj
RELATED-TO:fmf-AFLABS-URNIK:srecanje:7820
X-WR-TIMEZONE:Europe/Ljubljana
END:VEVENT
BEGIN:VEVENT
SUMMARY:Materiali v jedrski tehniki (JET-1\, JET-2)\, Predavanja (P)
DTSTART;TZID=Europe/Ljubljana:20221117T080000
DTEND;TZID=Europe/Ljubljana:20221117T100000
DTSTAMP:20260424T144536Z
UID:fmf-AFLABS-URNIK:premaknjeno-srecanje:70324
ATTENDEE:1. letnik (Jedrska tehnika, 2. stopnja)
ATTENDEE:2. letnik (Jedrska tehnika, 2. stopnja)
CATEGORIES:Entry,Standard
COLOR:darkgreen
DESCRIPTION:Predmet: Materiali v jedrski tehniki (JET-1\, JET-2)\, Predava
 nja (P)\nLetniki: 1. letnik (Jedrska tehnika\, 2. stopnja)\, 2. letnik (Je
 drska tehnika\, 2. stopnja)\nIzvajalci: Leon Cizelj\nProstor: P.01
LOCATION:P.01
ORGANIZER:Leon Cizelj
RELATED-TO:fmf-AFLABS-URNIK:srecanje:7820
X-WR-TIMEZONE:Europe/Ljubljana
END:VEVENT
BEGIN:VEVENT
SUMMARY:Materiali v jedrski tehniki (JET-1\, JET-2)\, Predavanja (P)
DTSTART;TZID=Europe/Ljubljana:20221124T080000
DTEND;TZID=Europe/Ljubljana:20221124T100000
DTSTAMP:20260424T144536Z
UID:fmf-AFLABS-URNIK:premaknjeno-srecanje:70325
ATTENDEE:1. letnik (Jedrska tehnika, 2. stopnja)
ATTENDEE:2. letnik (Jedrska tehnika, 2. stopnja)
CATEGORIES:Entry,Standard
COLOR:darkgreen
DESCRIPTION:Predmet: Materiali v jedrski tehniki (JET-1\, JET-2)\, Predava
 nja (P)\nLetniki: 1. letnik (Jedrska tehnika\, 2. stopnja)\, 2. letnik (Je
 drska tehnika\, 2. stopnja)\nIzvajalci: Leon Cizelj\nProstor: P.01
LOCATION:P.01
ORGANIZER:Leon Cizelj
RELATED-TO:fmf-AFLABS-URNIK:srecanje:7820
X-WR-TIMEZONE:Europe/Ljubljana
END:VEVENT
BEGIN:VEVENT
SUMMARY:Materiali v jedrski tehniki (JET-1\, JET-2)\, Predavanja (P)
DTSTART;TZID=Europe/Ljubljana:20221201T080000
DTEND;TZID=Europe/Ljubljana:20221201T100000
DTSTAMP:20260424T144536Z
UID:fmf-AFLABS-URNIK:premaknjeno-srecanje:70326
ATTENDEE:1. letnik (Jedrska tehnika, 2. stopnja)
ATTENDEE:2. letnik (Jedrska tehnika, 2. stopnja)
CATEGORIES:Entry,Standard
COLOR:darkgreen
DESCRIPTION:Predmet: Materiali v jedrski tehniki (JET-1\, JET-2)\, Predava
 nja (P)\nLetniki: 1. letnik (Jedrska tehnika\, 2. stopnja)\, 2. letnik (Je
 drska tehnika\, 2. stopnja)\nIzvajalci: Leon Cizelj\nProstor: P.01
LOCATION:P.01
ORGANIZER:Leon Cizelj
RELATED-TO:fmf-AFLABS-URNIK:srecanje:7820
X-WR-TIMEZONE:Europe/Ljubljana
END:VEVENT
BEGIN:VEVENT
SUMMARY:Materiali v jedrski tehniki (JET-1\, JET-2)\, Predavanja (P)
DTSTART;TZID=Europe/Ljubljana:20221208T080000
DTEND;TZID=Europe/Ljubljana:20221208T100000
DTSTAMP:20260424T144536Z
UID:fmf-AFLABS-URNIK:premaknjeno-srecanje:70327
ATTENDEE:1. letnik (Jedrska tehnika, 2. stopnja)
ATTENDEE:2. letnik (Jedrska tehnika, 2. stopnja)
CATEGORIES:Entry,Standard
COLOR:darkgreen
DESCRIPTION:Predmet: Materiali v jedrski tehniki (JET-1\, JET-2)\, Predava
 nja (P)\nLetniki: 1. letnik (Jedrska tehnika\, 2. stopnja)\, 2. letnik (Je
 drska tehnika\, 2. stopnja)\nIzvajalci: Leon Cizelj\nProstor: P.01
LOCATION:P.01
ORGANIZER:Leon Cizelj
RELATED-TO:fmf-AFLABS-URNIK:srecanje:7820
X-WR-TIMEZONE:Europe/Ljubljana
END:VEVENT
BEGIN:VEVENT
SUMMARY:Materiali v jedrski tehniki (JET-1\, JET-2)\, Predavanja (P)
DTSTART;TZID=Europe/Ljubljana:20221215T080000
DTEND;TZID=Europe/Ljubljana:20221215T100000
DTSTAMP:20260424T144536Z
UID:fmf-AFLABS-URNIK:premaknjeno-srecanje:70328
ATTENDEE:1. letnik (Jedrska tehnika, 2. stopnja)
ATTENDEE:2. letnik (Jedrska tehnika, 2. stopnja)
CATEGORIES:Entry,Standard
COLOR:darkgreen
DESCRIPTION:Predmet: Materiali v jedrski tehniki (JET-1\, JET-2)\, Predava
 nja (P)\nLetniki: 1. letnik (Jedrska tehnika\, 2. stopnja)\, 2. letnik (Je
 drska tehnika\, 2. stopnja)\nIzvajalci: Leon Cizelj\nProstor: P.01
LOCATION:P.01
ORGANIZER:Leon Cizelj
RELATED-TO:fmf-AFLABS-URNIK:srecanje:7820
X-WR-TIMEZONE:Europe/Ljubljana
END:VEVENT
BEGIN:VEVENT
SUMMARY:Materiali v jedrski tehniki (JET-1\, JET-2)\, Predavanja (P)
DTSTART;TZID=Europe/Ljubljana:20221222T080000
DTEND;TZID=Europe/Ljubljana:20221222T100000
DTSTAMP:20260424T144536Z
UID:fmf-AFLABS-URNIK:premaknjeno-srecanje:70329
ATTENDEE:1. letnik (Jedrska tehnika, 2. stopnja)
ATTENDEE:2. letnik (Jedrska tehnika, 2. stopnja)
CATEGORIES:Entry,Standard
COLOR:darkgreen
DESCRIPTION:Predmet: Materiali v jedrski tehniki (JET-1\, JET-2)\, Predava
 nja (P)\nLetniki: 1. letnik (Jedrska tehnika\, 2. stopnja)\, 2. letnik (Je
 drska tehnika\, 2. stopnja)\nIzvajalci: Leon Cizelj\nProstor: P.01
LOCATION:P.01
ORGANIZER:Leon Cizelj
RELATED-TO:fmf-AFLABS-URNIK:srecanje:7820
X-WR-TIMEZONE:Europe/Ljubljana
END:VEVENT
BEGIN:VEVENT
SUMMARY:Materiali v jedrski tehniki (JET-1\, JET-2)\, Predavanja (P)
DTSTART;TZID=Europe/Ljubljana:20221229T080000
DTEND;TZID=Europe/Ljubljana:20221229T100000
DTSTAMP:20260424T144536Z
UID:fmf-AFLABS-URNIK:premaknjeno-srecanje:70330
ATTENDEE:1. letnik (Jedrska tehnika, 2. stopnja)
ATTENDEE:2. letnik (Jedrska tehnika, 2. stopnja)
CATEGORIES:Entry,Standard
COLOR:darkgreen
DESCRIPTION:Predmet: Materiali v jedrski tehniki (JET-1\, JET-2)\, Predava
 nja (P)\nLetniki: 1. letnik (Jedrska tehnika\, 2. stopnja)\, 2. letnik (Je
 drska tehnika\, 2. stopnja)\nIzvajalci: Leon Cizelj\nProstor: P.01
LOCATION:P.01
ORGANIZER:Leon Cizelj
RELATED-TO:fmf-AFLABS-URNIK:srecanje:7820
X-WR-TIMEZONE:Europe/Ljubljana
END:VEVENT
BEGIN:VEVENT
SUMMARY:Materiali v jedrski tehniki (JET-1\, JET-2)\, Predavanja (P)
DTSTART;TZID=Europe/Ljubljana:20230105T080000
DTEND;TZID=Europe/Ljubljana:20230105T100000
DTSTAMP:20260424T144536Z
UID:fmf-AFLABS-URNIK:premaknjeno-srecanje:70331
ATTENDEE:1. letnik (Jedrska tehnika, 2. stopnja)
ATTENDEE:2. letnik (Jedrska tehnika, 2. stopnja)
CATEGORIES:Entry,Standard
COLOR:darkgreen
DESCRIPTION:Predmet: Materiali v jedrski tehniki (JET-1\, JET-2)\, Predava
 nja (P)\nLetniki: 1. letnik (Jedrska tehnika\, 2. stopnja)\, 2. letnik (Je
 drska tehnika\, 2. stopnja)\nIzvajalci: Leon Cizelj\nProstor: P.01
LOCATION:P.01
ORGANIZER:Leon Cizelj
RELATED-TO:fmf-AFLABS-URNIK:srecanje:7820
X-WR-TIMEZONE:Europe/Ljubljana
END:VEVENT
BEGIN:VEVENT
SUMMARY:Materiali v jedrski tehniki (JET-1\, JET-2)\, Predavanja (P)
DTSTART;TZID=Europe/Ljubljana:20230112T080000
DTEND;TZID=Europe/Ljubljana:20230112T100000
DTSTAMP:20260424T144536Z
UID:fmf-AFLABS-URNIK:premaknjeno-srecanje:70332
ATTENDEE:1. letnik (Jedrska tehnika, 2. stopnja)
ATTENDEE:2. letnik (Jedrska tehnika, 2. stopnja)
CATEGORIES:Entry,Standard
COLOR:darkgreen
DESCRIPTION:Predmet: Materiali v jedrski tehniki (JET-1\, JET-2)\, Predava
 nja (P)\nLetniki: 1. letnik (Jedrska tehnika\, 2. stopnja)\, 2. letnik (Je
 drska tehnika\, 2. stopnja)\nIzvajalci: Leon Cizelj\nProstor: P.01
LOCATION:P.01
ORGANIZER:Leon Cizelj
RELATED-TO:fmf-AFLABS-URNIK:srecanje:7820
X-WR-TIMEZONE:Europe/Ljubljana
END:VEVENT
BEGIN:VEVENT
SUMMARY:Jedrska varnost (JET-1\, JET-2)\, Predavanja (P)
DTSTART;TZID=Europe/Ljubljana:20221007T110000
DTEND;TZID=Europe/Ljubljana:20221007T130000
DTSTAMP:20260424T144536Z
UID:fmf-AFLABS-URNIK:premaknjeno-srecanje:45590
ATTENDEE:1. letnik (Jedrska tehnika, 2. stopnja)
ATTENDEE:2. letnik (Jedrska tehnika, 2. stopnja)
CATEGORIES:Entry,Standard
COLOR:darkgreen
DESCRIPTION:Predmet: Jedrska varnost (JET-1\, JET-2)\, Predavanja (P)\nLet
 niki: 1. letnik (Jedrska tehnika\, 2. stopnja)\, 2. letnik (Jedrska tehnik
 a\, 2. stopnja)\nIzvajalci: Leon Cizelj\, Ivo Kljenak\, Damijan Škrk\, Iz
 tok Tiselj\nProstor: F7
LOCATION:F7
ORGANIZER:Leon Cizelj, Ivo Kljenak, Damijan Škrk, Iztok Tiselj
RELATED-TO:fmf-AFLABS-URNIK:srecanje:7686
X-WR-TIMEZONE:Europe/Ljubljana
END:VEVENT
BEGIN:VEVENT
SUMMARY:Jedrska varnost (JET-1\, JET-2)\, Predavanja (P)
DTSTART;TZID=Europe/Ljubljana:20221014T110000
DTEND;TZID=Europe/Ljubljana:20221014T130000
DTSTAMP:20260424T144536Z
UID:fmf-AFLABS-URNIK:premaknjeno-srecanje:45591
ATTENDEE:1. letnik (Jedrska tehnika, 2. stopnja)
ATTENDEE:2. letnik (Jedrska tehnika, 2. stopnja)
CATEGORIES:Entry,Standard
COLOR:darkgreen
DESCRIPTION:Predmet: Jedrska varnost (JET-1\, JET-2)\, Predavanja (P)\nLet
 niki: 1. letnik (Jedrska tehnika\, 2. stopnja)\, 2. letnik (Jedrska tehnik
 a\, 2. stopnja)\nIzvajalci: Leon Cizelj\, Ivo Kljenak\, Damijan Škrk\, Iz
 tok Tiselj\nProstor: F7
LOCATION:F7
ORGANIZER:Leon Cizelj, Ivo Kljenak, Damijan Škrk, Iztok Tiselj
RELATED-TO:fmf-AFLABS-URNIK:srecanje:7686
X-WR-TIMEZONE:Europe/Ljubljana
END:VEVENT
BEGIN:VEVENT
SUMMARY:Jedrska varnost (JET-1\, JET-2)\, Predavanja (P)
DTSTART;TZID=Europe/Ljubljana:20221021T110000
DTEND;TZID=Europe/Ljubljana:20221021T130000
DTSTAMP:20260424T144536Z
UID:fmf-AFLABS-URNIK:premaknjeno-srecanje:45592
ATTENDEE:1. letnik (Jedrska tehnika, 2. stopnja)
ATTENDEE:2. letnik (Jedrska tehnika, 2. stopnja)
CATEGORIES:Entry,Standard
COLOR:darkgreen
DESCRIPTION:Predmet: Jedrska varnost (JET-1\, JET-2)\, Predavanja (P)\nLet
 niki: 1. letnik (Jedrska tehnika\, 2. stopnja)\, 2. letnik (Jedrska tehnik
 a\, 2. stopnja)\nIzvajalci: Leon Cizelj\, Ivo Kljenak\, Damijan Škrk\, Iz
 tok Tiselj\nProstor: F7
LOCATION:F7
ORGANIZER:Leon Cizelj, Ivo Kljenak, Damijan Škrk, Iztok Tiselj
RELATED-TO:fmf-AFLABS-URNIK:srecanje:7686
X-WR-TIMEZONE:Europe/Ljubljana
END:VEVENT
BEGIN:VEVENT
SUMMARY:Jedrska varnost (JET-1\, JET-2)\, Predavanja (P)
DTSTART;TZID=Europe/Ljubljana:20221028T110000
DTEND;TZID=Europe/Ljubljana:20221028T130000
DTSTAMP:20260424T144536Z
UID:fmf-AFLABS-URNIK:premaknjeno-srecanje:45593
ATTENDEE:1. letnik (Jedrska tehnika, 2. stopnja)
ATTENDEE:2. letnik (Jedrska tehnika, 2. stopnja)
CATEGORIES:Entry,Standard
COLOR:darkgreen
DESCRIPTION:Predmet: Jedrska varnost (JET-1\, JET-2)\, Predavanja (P)\nLet
 niki: 1. letnik (Jedrska tehnika\, 2. stopnja)\, 2. letnik (Jedrska tehnik
 a\, 2. stopnja)\nIzvajalci: Leon Cizelj\, Ivo Kljenak\, Damijan Škrk\, Iz
 tok Tiselj\nProstor: F7
LOCATION:F7
ORGANIZER:Leon Cizelj, Ivo Kljenak, Damijan Škrk, Iztok Tiselj
RELATED-TO:fmf-AFLABS-URNIK:srecanje:7686
X-WR-TIMEZONE:Europe/Ljubljana
END:VEVENT
BEGIN:VEVENT
SUMMARY:Jedrska varnost (JET-1\, JET-2)\, Predavanja (P)
DTSTART;TZID=Europe/Ljubljana:20221104T110000
DTEND;TZID=Europe/Ljubljana:20221104T130000
DTSTAMP:20260424T144536Z
UID:fmf-AFLABS-URNIK:premaknjeno-srecanje:45594
ATTENDEE:1. letnik (Jedrska tehnika, 2. stopnja)
ATTENDEE:2. letnik (Jedrska tehnika, 2. stopnja)
CATEGORIES:Entry,Standard
COLOR:darkgreen
DESCRIPTION:Predmet: Jedrska varnost (JET-1\, JET-2)\, Predavanja (P)\nLet
 niki: 1. letnik (Jedrska tehnika\, 2. stopnja)\, 2. letnik (Jedrska tehnik
 a\, 2. stopnja)\nIzvajalci: Leon Cizelj\, Ivo Kljenak\, Damijan Škrk\, Iz
 tok Tiselj\nProstor: F7
LOCATION:F7
ORGANIZER:Leon Cizelj, Ivo Kljenak, Damijan Škrk, Iztok Tiselj
RELATED-TO:fmf-AFLABS-URNIK:srecanje:7686
X-WR-TIMEZONE:Europe/Ljubljana
END:VEVENT
BEGIN:VEVENT
SUMMARY:Jedrska varnost (JET-1\, JET-2)\, Predavanja (P)
DTSTART;TZID=Europe/Ljubljana:20221111T110000
DTEND;TZID=Europe/Ljubljana:20221111T130000
DTSTAMP:20260424T144536Z
UID:fmf-AFLABS-URNIK:premaknjeno-srecanje:45595
ATTENDEE:1. letnik (Jedrska tehnika, 2. stopnja)
ATTENDEE:2. letnik (Jedrska tehnika, 2. stopnja)
CATEGORIES:Entry,Standard
COLOR:darkgreen
DESCRIPTION:Predmet: Jedrska varnost (JET-1\, JET-2)\, Predavanja (P)\nLet
 niki: 1. letnik (Jedrska tehnika\, 2. stopnja)\, 2. letnik (Jedrska tehnik
 a\, 2. stopnja)\nIzvajalci: Leon Cizelj\, Ivo Kljenak\, Damijan Škrk\, Iz
 tok Tiselj\nProstor: F7
LOCATION:F7
ORGANIZER:Leon Cizelj, Ivo Kljenak, Damijan Škrk, Iztok Tiselj
RELATED-TO:fmf-AFLABS-URNIK:srecanje:7686
X-WR-TIMEZONE:Europe/Ljubljana
END:VEVENT
BEGIN:VEVENT
SUMMARY:Jedrska varnost (JET-1\, JET-2)\, Predavanja (P)
DTSTART;TZID=Europe/Ljubljana:20221118T110000
DTEND;TZID=Europe/Ljubljana:20221118T130000
DTSTAMP:20260424T144536Z
UID:fmf-AFLABS-URNIK:premaknjeno-srecanje:45596
ATTENDEE:1. letnik (Jedrska tehnika, 2. stopnja)
ATTENDEE:2. letnik (Jedrska tehnika, 2. stopnja)
CATEGORIES:Entry,Standard
COLOR:darkgreen
DESCRIPTION:Predmet: Jedrska varnost (JET-1\, JET-2)\, Predavanja (P)\nLet
 niki: 1. letnik (Jedrska tehnika\, 2. stopnja)\, 2. letnik (Jedrska tehnik
 a\, 2. stopnja)\nIzvajalci: Leon Cizelj\, Ivo Kljenak\, Damijan Škrk\, Iz
 tok Tiselj\nProstor: F7
LOCATION:F7
ORGANIZER:Leon Cizelj, Ivo Kljenak, Damijan Škrk, Iztok Tiselj
RELATED-TO:fmf-AFLABS-URNIK:srecanje:7686
X-WR-TIMEZONE:Europe/Ljubljana
END:VEVENT
BEGIN:VEVENT
SUMMARY:Jedrska varnost (JET-1\, JET-2)\, Predavanja (P)
DTSTART;TZID=Europe/Ljubljana:20221125T110000
DTEND;TZID=Europe/Ljubljana:20221125T130000
DTSTAMP:20260424T144536Z
UID:fmf-AFLABS-URNIK:premaknjeno-srecanje:45597
ATTENDEE:1. letnik (Jedrska tehnika, 2. stopnja)
ATTENDEE:2. letnik (Jedrska tehnika, 2. stopnja)
CATEGORIES:Entry,Standard
COLOR:darkgreen
DESCRIPTION:Predmet: Jedrska varnost (JET-1\, JET-2)\, Predavanja (P)\nLet
 niki: 1. letnik (Jedrska tehnika\, 2. stopnja)\, 2. letnik (Jedrska tehnik
 a\, 2. stopnja)\nIzvajalci: Leon Cizelj\, Ivo Kljenak\, Damijan Škrk\, Iz
 tok Tiselj\nProstor: F7
LOCATION:F7
ORGANIZER:Leon Cizelj, Ivo Kljenak, Damijan Škrk, Iztok Tiselj
RELATED-TO:fmf-AFLABS-URNIK:srecanje:7686
X-WR-TIMEZONE:Europe/Ljubljana
END:VEVENT
BEGIN:VEVENT
SUMMARY:Jedrska varnost (JET-1\, JET-2)\, Predavanja (P)
DTSTART;TZID=Europe/Ljubljana:20221202T110000
DTEND;TZID=Europe/Ljubljana:20221202T130000
DTSTAMP:20260424T144536Z
UID:fmf-AFLABS-URNIK:premaknjeno-srecanje:45598
ATTENDEE:1. letnik (Jedrska tehnika, 2. stopnja)
ATTENDEE:2. letnik (Jedrska tehnika, 2. stopnja)
CATEGORIES:Entry,Standard
COLOR:darkgreen
DESCRIPTION:Predmet: Jedrska varnost (JET-1\, JET-2)\, Predavanja (P)\nLet
 niki: 1. letnik (Jedrska tehnika\, 2. stopnja)\, 2. letnik (Jedrska tehnik
 a\, 2. stopnja)\nIzvajalci: Leon Cizelj\, Ivo Kljenak\, Damijan Škrk\, Iz
 tok Tiselj\nProstor: F7
LOCATION:F7
ORGANIZER:Leon Cizelj, Ivo Kljenak, Damijan Škrk, Iztok Tiselj
RELATED-TO:fmf-AFLABS-URNIK:srecanje:7686
X-WR-TIMEZONE:Europe/Ljubljana
END:VEVENT
BEGIN:VEVENT
SUMMARY:Jedrska varnost (JET-1\, JET-2)\, Predavanja (P)
DTSTART;TZID=Europe/Ljubljana:20221209T110000
DTEND;TZID=Europe/Ljubljana:20221209T130000
DTSTAMP:20260424T144536Z
UID:fmf-AFLABS-URNIK:premaknjeno-srecanje:45599
ATTENDEE:1. letnik (Jedrska tehnika, 2. stopnja)
ATTENDEE:2. letnik (Jedrska tehnika, 2. stopnja)
CATEGORIES:Entry,Standard
COLOR:darkgreen
DESCRIPTION:Predmet: Jedrska varnost (JET-1\, JET-2)\, Predavanja (P)\nLet
 niki: 1. letnik (Jedrska tehnika\, 2. stopnja)\, 2. letnik (Jedrska tehnik
 a\, 2. stopnja)\nIzvajalci: Leon Cizelj\, Ivo Kljenak\, Damijan Škrk\, Iz
 tok Tiselj\nProstor: F7
LOCATION:F7
ORGANIZER:Leon Cizelj, Ivo Kljenak, Damijan Škrk, Iztok Tiselj
RELATED-TO:fmf-AFLABS-URNIK:srecanje:7686
X-WR-TIMEZONE:Europe/Ljubljana
END:VEVENT
BEGIN:VEVENT
SUMMARY:Jedrska varnost (JET-1\, JET-2)\, Predavanja (P)
DTSTART;TZID=Europe/Ljubljana:20221216T110000
DTEND;TZID=Europe/Ljubljana:20221216T130000
DTSTAMP:20260424T144536Z
UID:fmf-AFLABS-URNIK:premaknjeno-srecanje:45600
ATTENDEE:1. letnik (Jedrska tehnika, 2. stopnja)
ATTENDEE:2. letnik (Jedrska tehnika, 2. stopnja)
CATEGORIES:Entry,Standard
COLOR:darkgreen
DESCRIPTION:Predmet: Jedrska varnost (JET-1\, JET-2)\, Predavanja (P)\nLet
 niki: 1. letnik (Jedrska tehnika\, 2. stopnja)\, 2. letnik (Jedrska tehnik
 a\, 2. stopnja)\nIzvajalci: Leon Cizelj\, Ivo Kljenak\, Damijan Škrk\, Iz
 tok Tiselj\nProstor: F7
LOCATION:F7
ORGANIZER:Leon Cizelj, Ivo Kljenak, Damijan Škrk, Iztok Tiselj
RELATED-TO:fmf-AFLABS-URNIK:srecanje:7686
X-WR-TIMEZONE:Europe/Ljubljana
END:VEVENT
BEGIN:VEVENT
SUMMARY:Jedrska varnost (JET-1\, JET-2)\, Predavanja (P)
DTSTART;TZID=Europe/Ljubljana:20221223T110000
DTEND;TZID=Europe/Ljubljana:20221223T130000
DTSTAMP:20260424T144536Z
UID:fmf-AFLABS-URNIK:premaknjeno-srecanje:45601
ATTENDEE:1. letnik (Jedrska tehnika, 2. stopnja)
ATTENDEE:2. letnik (Jedrska tehnika, 2. stopnja)
CATEGORIES:Entry,Standard
COLOR:darkgreen
DESCRIPTION:Predmet: Jedrska varnost (JET-1\, JET-2)\, Predavanja (P)\nLet
 niki: 1. letnik (Jedrska tehnika\, 2. stopnja)\, 2. letnik (Jedrska tehnik
 a\, 2. stopnja)\nIzvajalci: Leon Cizelj\, Ivo Kljenak\, Damijan Škrk\, Iz
 tok Tiselj\nProstor: F7
LOCATION:F7
ORGANIZER:Leon Cizelj, Ivo Kljenak, Damijan Škrk, Iztok Tiselj
RELATED-TO:fmf-AFLABS-URNIK:srecanje:7686
X-WR-TIMEZONE:Europe/Ljubljana
END:VEVENT
BEGIN:VEVENT
SUMMARY:Jedrska varnost (JET-1\, JET-2)\, Predavanja (P)
DTSTART;TZID=Europe/Ljubljana:20221230T110000
DTEND;TZID=Europe/Ljubljana:20221230T130000
DTSTAMP:20260424T144536Z
UID:fmf-AFLABS-URNIK:premaknjeno-srecanje:45602
ATTENDEE:1. letnik (Jedrska tehnika, 2. stopnja)
ATTENDEE:2. letnik (Jedrska tehnika, 2. stopnja)
CATEGORIES:Entry,Standard
COLOR:darkgreen
DESCRIPTION:Predmet: Jedrska varnost (JET-1\, JET-2)\, Predavanja (P)\nLet
 niki: 1. letnik (Jedrska tehnika\, 2. stopnja)\, 2. letnik (Jedrska tehnik
 a\, 2. stopnja)\nIzvajalci: Leon Cizelj\, Ivo Kljenak\, Damijan Škrk\, Iz
 tok Tiselj\nProstor: F7
LOCATION:F7
ORGANIZER:Leon Cizelj, Ivo Kljenak, Damijan Škrk, Iztok Tiselj
RELATED-TO:fmf-AFLABS-URNIK:srecanje:7686
X-WR-TIMEZONE:Europe/Ljubljana
END:VEVENT
BEGIN:VEVENT
SUMMARY:Jedrska varnost (JET-1\, JET-2)\, Predavanja (P)
DTSTART;TZID=Europe/Ljubljana:20230106T110000
DTEND;TZID=Europe/Ljubljana:20230106T130000
DTSTAMP:20260424T144536Z
UID:fmf-AFLABS-URNIK:premaknjeno-srecanje:45603
ATTENDEE:1. letnik (Jedrska tehnika, 2. stopnja)
ATTENDEE:2. letnik (Jedrska tehnika, 2. stopnja)
CATEGORIES:Entry,Standard
COLOR:darkgreen
DESCRIPTION:Predmet: Jedrska varnost (JET-1\, JET-2)\, Predavanja (P)\nLet
 niki: 1. letnik (Jedrska tehnika\, 2. stopnja)\, 2. letnik (Jedrska tehnik
 a\, 2. stopnja)\nIzvajalci: Leon Cizelj\, Ivo Kljenak\, Damijan Škrk\, Iz
 tok Tiselj\nProstor: F7
LOCATION:F7
ORGANIZER:Leon Cizelj, Ivo Kljenak, Damijan Škrk, Iztok Tiselj
RELATED-TO:fmf-AFLABS-URNIK:srecanje:7686
X-WR-TIMEZONE:Europe/Ljubljana
END:VEVENT
BEGIN:VEVENT
SUMMARY:Jedrska varnost (JET-1\, JET-2)\, Predavanja (P)
DTSTART;TZID=Europe/Ljubljana:20230113T110000
DTEND;TZID=Europe/Ljubljana:20230113T130000
DTSTAMP:20260424T144536Z
UID:fmf-AFLABS-URNIK:premaknjeno-srecanje:45604
ATTENDEE:1. letnik (Jedrska tehnika, 2. stopnja)
ATTENDEE:2. letnik (Jedrska tehnika, 2. stopnja)
CATEGORIES:Entry,Standard
COLOR:darkgreen
DESCRIPTION:Predmet: Jedrska varnost (JET-1\, JET-2)\, Predavanja (P)\nLet
 niki: 1. letnik (Jedrska tehnika\, 2. stopnja)\, 2. letnik (Jedrska tehnik
 a\, 2. stopnja)\nIzvajalci: Leon Cizelj\, Ivo Kljenak\, Damijan Škrk\, Iz
 tok Tiselj\nProstor: F7
LOCATION:F7
ORGANIZER:Leon Cizelj, Ivo Kljenak, Damijan Škrk, Iztok Tiselj
RELATED-TO:fmf-AFLABS-URNIK:srecanje:7686
X-WR-TIMEZONE:Europe/Ljubljana
END:VEVENT
END:VCALENDAR
