BEGIN:VCALENDAR
VERSION:2.0
PRODID:-//AFLabs urnik izvoz - fmf//aflabs.si//SI
DTSTAMP:20260425T125637Z
NAME:UL FMF urnik
REFRESH-INTERVAL:PT1H
SOURCE:https://urnik.fmf.uni-lj.si/teacher/284?day=2025-12-08&export=1
URL:https://urnik.fmf.uni-lj.si/teacher/284?day=2025-12-08&export=1
X-PUBLISHED-TTL:PT1H
X-WR-CALNAME:UL FMF urnik
X-WR-TIMEZONE:Europe/Ljubljana
BEGIN:VTIMEZONE
TZID:Europe/Ljubljana
BEGIN:DAYLIGHT
DTSTART:20260329T020000
RDATE:20260329T020000
RDATE:20270328T020000
TZNAME:CEST
TZOFFSETFROM:+0100
TZOFFSETTO:+0200
END:DAYLIGHT
BEGIN:STANDARD
DTSTART:20261025T030000
RDATE:20261025T030000
RDATE:20271031T030000
TZNAME:CET
TZOFFSETFROM:+0200
TZOFFSETTO:+0100
END:STANDARD
END:VTIMEZONE
BEGIN:VEVENT
SUMMARY:Materiali v jedrski tehniki (JET-1\, JET-2)\, Predavanja (P)
DTSTART;TZID=Europe/Ljubljana:20251007T160000
DTEND;TZID=Europe/Ljubljana:20251007T180000
DTSTAMP:20260425T125637Z
UID:fmf-AFLABS-URNIK:premaknjeno-srecanje:227495
ATTENDEE:1. letnik (Jedrska tehnika, 2. stopnja)
ATTENDEE:2. letnik (Jedrska tehnika, 2. stopnja)
CATEGORIES:Entry,Standard
COLOR:darkgreen
DESCRIPTION:Predmet: Materiali v jedrski tehniki (JET-1\, JET-2)\, Predava
 nja (P)\nLetniki: 1. letnik (Jedrska tehnika\, 2. stopnja)\, 2. letnik (Je
 drska tehnika\, 2. stopnja)\nIzvajalci: Leon Cizelj\nProstor: F7
LOCATION:F7
ORGANIZER:Leon Cizelj
RELATED-TO:fmf-AFLABS-URNIK:srecanje:16147
X-WR-TIMEZONE:Europe/Ljubljana
END:VEVENT
BEGIN:VEVENT
SUMMARY:Materiali v jedrski tehniki (JET-1\, JET-2)\, Predavanja (P)
DTSTART;TZID=Europe/Ljubljana:20251014T160000
DTEND;TZID=Europe/Ljubljana:20251014T180000
DTSTAMP:20260425T125637Z
UID:fmf-AFLABS-URNIK:premaknjeno-srecanje:227496
ATTENDEE:1. letnik (Jedrska tehnika, 2. stopnja)
ATTENDEE:2. letnik (Jedrska tehnika, 2. stopnja)
CATEGORIES:Entry,Standard
COLOR:darkgreen
DESCRIPTION:Predmet: Materiali v jedrski tehniki (JET-1\, JET-2)\, Predava
 nja (P)\nLetniki: 1. letnik (Jedrska tehnika\, 2. stopnja)\, 2. letnik (Je
 drska tehnika\, 2. stopnja)\nIzvajalci: Leon Cizelj\nProstor: F7
LOCATION:F7
ORGANIZER:Leon Cizelj
RELATED-TO:fmf-AFLABS-URNIK:srecanje:16147
X-WR-TIMEZONE:Europe/Ljubljana
END:VEVENT
BEGIN:VEVENT
SUMMARY:Materiali v jedrski tehniki (JET-1\, JET-2)\, Predavanja (P)
DTSTART;TZID=Europe/Ljubljana:20251021T160000
DTEND;TZID=Europe/Ljubljana:20251021T180000
DTSTAMP:20260425T125637Z
UID:fmf-AFLABS-URNIK:premaknjeno-srecanje:227497
ATTENDEE:1. letnik (Jedrska tehnika, 2. stopnja)
ATTENDEE:2. letnik (Jedrska tehnika, 2. stopnja)
CATEGORIES:Entry,Standard
COLOR:darkgreen
DESCRIPTION:Predmet: Materiali v jedrski tehniki (JET-1\, JET-2)\, Predava
 nja (P)\nLetniki: 1. letnik (Jedrska tehnika\, 2. stopnja)\, 2. letnik (Je
 drska tehnika\, 2. stopnja)\nIzvajalci: Leon Cizelj\nProstor: F7
LOCATION:F7
ORGANIZER:Leon Cizelj
RELATED-TO:fmf-AFLABS-URNIK:srecanje:16147
X-WR-TIMEZONE:Europe/Ljubljana
END:VEVENT
BEGIN:VEVENT
SUMMARY:Materiali v jedrski tehniki (JET-1\, JET-2)\, Predavanja (P)
DTSTART;TZID=Europe/Ljubljana:20251028T160000
DTEND;TZID=Europe/Ljubljana:20251028T180000
DTSTAMP:20260425T125637Z
UID:fmf-AFLABS-URNIK:premaknjeno-srecanje:227498
ATTENDEE:1. letnik (Jedrska tehnika, 2. stopnja)
ATTENDEE:2. letnik (Jedrska tehnika, 2. stopnja)
CATEGORIES:Entry,Standard
COLOR:darkgreen
DESCRIPTION:Predmet: Materiali v jedrski tehniki (JET-1\, JET-2)\, Predava
 nja (P)\nLetniki: 1. letnik (Jedrska tehnika\, 2. stopnja)\, 2. letnik (Je
 drska tehnika\, 2. stopnja)\nIzvajalci: Leon Cizelj\nProstor: F7
LOCATION:F7
ORGANIZER:Leon Cizelj
RELATED-TO:fmf-AFLABS-URNIK:srecanje:16147
X-WR-TIMEZONE:Europe/Ljubljana
END:VEVENT
BEGIN:VEVENT
SUMMARY:Materiali v jedrski tehniki (JET-1\, JET-2)\, Predavanja (P)
DTSTART;TZID=Europe/Ljubljana:20251104T160000
DTEND;TZID=Europe/Ljubljana:20251104T180000
DTSTAMP:20260425T125637Z
UID:fmf-AFLABS-URNIK:premaknjeno-srecanje:227499
ATTENDEE:1. letnik (Jedrska tehnika, 2. stopnja)
ATTENDEE:2. letnik (Jedrska tehnika, 2. stopnja)
CATEGORIES:Entry,Standard
COLOR:darkgreen
DESCRIPTION:Predmet: Materiali v jedrski tehniki (JET-1\, JET-2)\, Predava
 nja (P)\nLetniki: 1. letnik (Jedrska tehnika\, 2. stopnja)\, 2. letnik (Je
 drska tehnika\, 2. stopnja)\nIzvajalci: Leon Cizelj\nProstor: F7
LOCATION:F7
ORGANIZER:Leon Cizelj
RELATED-TO:fmf-AFLABS-URNIK:srecanje:16147
X-WR-TIMEZONE:Europe/Ljubljana
END:VEVENT
BEGIN:VEVENT
SUMMARY:Materiali v jedrski tehniki (JET-1\, JET-2)\, Predavanja (P)
DTSTART;TZID=Europe/Ljubljana:20251111T160000
DTEND;TZID=Europe/Ljubljana:20251111T180000
DTSTAMP:20260425T125637Z
UID:fmf-AFLABS-URNIK:premaknjeno-srecanje:227500
ATTENDEE:1. letnik (Jedrska tehnika, 2. stopnja)
ATTENDEE:2. letnik (Jedrska tehnika, 2. stopnja)
CATEGORIES:Entry,Standard
COLOR:darkgreen
DESCRIPTION:Predmet: Materiali v jedrski tehniki (JET-1\, JET-2)\, Predava
 nja (P)\nLetniki: 1. letnik (Jedrska tehnika\, 2. stopnja)\, 2. letnik (Je
 drska tehnika\, 2. stopnja)\nIzvajalci: Leon Cizelj\nProstor: F7
LOCATION:F7
ORGANIZER:Leon Cizelj
RELATED-TO:fmf-AFLABS-URNIK:srecanje:16147
X-WR-TIMEZONE:Europe/Ljubljana
END:VEVENT
BEGIN:VEVENT
SUMMARY:Materiali v jedrski tehniki (JET-1\, JET-2)\, Predavanja (P)
DTSTART;TZID=Europe/Ljubljana:20251118T160000
DTEND;TZID=Europe/Ljubljana:20251118T180000
DTSTAMP:20260425T125637Z
UID:fmf-AFLABS-URNIK:premaknjeno-srecanje:227501
ATTENDEE:1. letnik (Jedrska tehnika, 2. stopnja)
ATTENDEE:2. letnik (Jedrska tehnika, 2. stopnja)
CATEGORIES:Entry,Standard
COLOR:darkgreen
DESCRIPTION:Predmet: Materiali v jedrski tehniki (JET-1\, JET-2)\, Predava
 nja (P)\nLetniki: 1. letnik (Jedrska tehnika\, 2. stopnja)\, 2. letnik (Je
 drska tehnika\, 2. stopnja)\nIzvajalci: Leon Cizelj\nProstor: F7
LOCATION:F7
ORGANIZER:Leon Cizelj
RELATED-TO:fmf-AFLABS-URNIK:srecanje:16147
X-WR-TIMEZONE:Europe/Ljubljana
END:VEVENT
BEGIN:VEVENT
SUMMARY:Materiali v jedrski tehniki (JET-1\, JET-2)\, Predavanja (P)
DTSTART;TZID=Europe/Ljubljana:20251125T160000
DTEND;TZID=Europe/Ljubljana:20251125T180000
DTSTAMP:20260425T125637Z
UID:fmf-AFLABS-URNIK:premaknjeno-srecanje:227502
ATTENDEE:1. letnik (Jedrska tehnika, 2. stopnja)
ATTENDEE:2. letnik (Jedrska tehnika, 2. stopnja)
CATEGORIES:Entry,Standard
COLOR:darkgreen
DESCRIPTION:Predmet: Materiali v jedrski tehniki (JET-1\, JET-2)\, Predava
 nja (P)\nLetniki: 1. letnik (Jedrska tehnika\, 2. stopnja)\, 2. letnik (Je
 drska tehnika\, 2. stopnja)\nIzvajalci: Leon Cizelj\nProstor: F7
LOCATION:F7
ORGANIZER:Leon Cizelj
RELATED-TO:fmf-AFLABS-URNIK:srecanje:16147
X-WR-TIMEZONE:Europe/Ljubljana
END:VEVENT
BEGIN:VEVENT
SUMMARY:Materiali v jedrski tehniki (JET-1\, JET-2)\, Predavanja (P)
DTSTART;TZID=Europe/Ljubljana:20251202T160000
DTEND;TZID=Europe/Ljubljana:20251202T180000
DTSTAMP:20260425T125637Z
UID:fmf-AFLABS-URNIK:premaknjeno-srecanje:227503
ATTENDEE:1. letnik (Jedrska tehnika, 2. stopnja)
ATTENDEE:2. letnik (Jedrska tehnika, 2. stopnja)
CATEGORIES:Entry,Standard
COLOR:darkgreen
DESCRIPTION:Predmet: Materiali v jedrski tehniki (JET-1\, JET-2)\, Predava
 nja (P)\nLetniki: 1. letnik (Jedrska tehnika\, 2. stopnja)\, 2. letnik (Je
 drska tehnika\, 2. stopnja)\nIzvajalci: Leon Cizelj\nProstor: F7
LOCATION:F7
ORGANIZER:Leon Cizelj
RELATED-TO:fmf-AFLABS-URNIK:srecanje:16147
X-WR-TIMEZONE:Europe/Ljubljana
END:VEVENT
BEGIN:VEVENT
SUMMARY:Materiali v jedrski tehniki (JET-1\, JET-2)\, Predavanja (P)
DTSTART;TZID=Europe/Ljubljana:20251209T160000
DTEND;TZID=Europe/Ljubljana:20251209T180000
DTSTAMP:20260425T125637Z
UID:fmf-AFLABS-URNIK:premaknjeno-srecanje:227504
ATTENDEE:1. letnik (Jedrska tehnika, 2. stopnja)
ATTENDEE:2. letnik (Jedrska tehnika, 2. stopnja)
CATEGORIES:Entry,Standard
COLOR:darkgreen
DESCRIPTION:Predmet: Materiali v jedrski tehniki (JET-1\, JET-2)\, Predava
 nja (P)\nLetniki: 1. letnik (Jedrska tehnika\, 2. stopnja)\, 2. letnik (Je
 drska tehnika\, 2. stopnja)\nIzvajalci: Leon Cizelj\nProstor: F7
LOCATION:F7
ORGANIZER:Leon Cizelj
RELATED-TO:fmf-AFLABS-URNIK:srecanje:16147
X-WR-TIMEZONE:Europe/Ljubljana
END:VEVENT
BEGIN:VEVENT
SUMMARY:Materiali v jedrski tehniki (JET-1\, JET-2)\, Predavanja (P)
DTSTART;TZID=Europe/Ljubljana:20251216T160000
DTEND;TZID=Europe/Ljubljana:20251216T180000
DTSTAMP:20260425T125637Z
UID:fmf-AFLABS-URNIK:premaknjeno-srecanje:227505
ATTENDEE:1. letnik (Jedrska tehnika, 2. stopnja)
ATTENDEE:2. letnik (Jedrska tehnika, 2. stopnja)
CATEGORIES:Entry,Standard
COLOR:darkgreen
DESCRIPTION:Predmet: Materiali v jedrski tehniki (JET-1\, JET-2)\, Predava
 nja (P)\nLetniki: 1. letnik (Jedrska tehnika\, 2. stopnja)\, 2. letnik (Je
 drska tehnika\, 2. stopnja)\nIzvajalci: Leon Cizelj\nProstor: F7
LOCATION:F7
ORGANIZER:Leon Cizelj
RELATED-TO:fmf-AFLABS-URNIK:srecanje:16147
X-WR-TIMEZONE:Europe/Ljubljana
END:VEVENT
BEGIN:VEVENT
SUMMARY:Materiali v jedrski tehniki (JET-1\, JET-2)\, Predavanja (P)
DTSTART;TZID=Europe/Ljubljana:20251223T160000
DTEND;TZID=Europe/Ljubljana:20251223T180000
DTSTAMP:20260425T125637Z
UID:fmf-AFLABS-URNIK:premaknjeno-srecanje:227506
ATTENDEE:1. letnik (Jedrska tehnika, 2. stopnja)
ATTENDEE:2. letnik (Jedrska tehnika, 2. stopnja)
CATEGORIES:Entry,Standard
COLOR:darkgreen
DESCRIPTION:Predmet: Materiali v jedrski tehniki (JET-1\, JET-2)\, Predava
 nja (P)\nLetniki: 1. letnik (Jedrska tehnika\, 2. stopnja)\, 2. letnik (Je
 drska tehnika\, 2. stopnja)\nIzvajalci: Leon Cizelj\nProstor: F7
LOCATION:F7
ORGANIZER:Leon Cizelj
RELATED-TO:fmf-AFLABS-URNIK:srecanje:16147
X-WR-TIMEZONE:Europe/Ljubljana
END:VEVENT
BEGIN:VEVENT
SUMMARY:Materiali v jedrski tehniki (JET-1\, JET-2)\, Predavanja (P)
DTSTART;TZID=Europe/Ljubljana:20251230T160000
DTEND;TZID=Europe/Ljubljana:20251230T180000
DTSTAMP:20260425T125637Z
UID:fmf-AFLABS-URNIK:premaknjeno-srecanje:227507
ATTENDEE:1. letnik (Jedrska tehnika, 2. stopnja)
ATTENDEE:2. letnik (Jedrska tehnika, 2. stopnja)
CATEGORIES:Entry,Standard
COLOR:darkgreen
DESCRIPTION:Predmet: Materiali v jedrski tehniki (JET-1\, JET-2)\, Predava
 nja (P)\nLetniki: 1. letnik (Jedrska tehnika\, 2. stopnja)\, 2. letnik (Je
 drska tehnika\, 2. stopnja)\nIzvajalci: Leon Cizelj\nProstor: F7
LOCATION:F7
ORGANIZER:Leon Cizelj
RELATED-TO:fmf-AFLABS-URNIK:srecanje:16147
X-WR-TIMEZONE:Europe/Ljubljana
END:VEVENT
BEGIN:VEVENT
SUMMARY:Materiali v jedrski tehniki (JET-1\, JET-2)\, Predavanja (P)
DTSTART;TZID=Europe/Ljubljana:20260106T160000
DTEND;TZID=Europe/Ljubljana:20260106T180000
DTSTAMP:20260425T125637Z
UID:fmf-AFLABS-URNIK:premaknjeno-srecanje:227508
ATTENDEE:1. letnik (Jedrska tehnika, 2. stopnja)
ATTENDEE:2. letnik (Jedrska tehnika, 2. stopnja)
CATEGORIES:Entry,Standard
COLOR:darkgreen
DESCRIPTION:Predmet: Materiali v jedrski tehniki (JET-1\, JET-2)\, Predava
 nja (P)\nLetniki: 1. letnik (Jedrska tehnika\, 2. stopnja)\, 2. letnik (Je
 drska tehnika\, 2. stopnja)\nIzvajalci: Leon Cizelj\nProstor: F7
LOCATION:F7
ORGANIZER:Leon Cizelj
RELATED-TO:fmf-AFLABS-URNIK:srecanje:16147
X-WR-TIMEZONE:Europe/Ljubljana
END:VEVENT
BEGIN:VEVENT
SUMMARY:Materiali v jedrski tehniki (JET-1\, JET-2)\, Predavanja (P)
DTSTART;TZID=Europe/Ljubljana:20260113T160000
DTEND;TZID=Europe/Ljubljana:20260113T180000
DTSTAMP:20260425T125637Z
UID:fmf-AFLABS-URNIK:premaknjeno-srecanje:227509
ATTENDEE:1. letnik (Jedrska tehnika, 2. stopnja)
ATTENDEE:2. letnik (Jedrska tehnika, 2. stopnja)
CATEGORIES:Entry,Standard
COLOR:darkgreen
DESCRIPTION:Predmet: Materiali v jedrski tehniki (JET-1\, JET-2)\, Predava
 nja (P)\nLetniki: 1. letnik (Jedrska tehnika\, 2. stopnja)\, 2. letnik (Je
 drska tehnika\, 2. stopnja)\nIzvajalci: Leon Cizelj\nProstor: F7
LOCATION:F7
ORGANIZER:Leon Cizelj
RELATED-TO:fmf-AFLABS-URNIK:srecanje:16147
X-WR-TIMEZONE:Europe/Ljubljana
END:VEVENT
END:VCALENDAR
