BEGIN:VCALENDAR
VERSION:2.0
PRODID:-//AFLabs urnik izvoz - fmf//aflabs.si//SI
DTSTAMP:20260424T072555Z
NAME:UL FMF urnik
REFRESH-INTERVAL:PT1H
SOURCE:https://urnik.fmf.uni-lj.si/teacher/286?day=2022-04-18&export=1
URL:https://urnik.fmf.uni-lj.si/teacher/286?day=2022-04-18&export=1
X-PUBLISHED-TTL:PT1H
X-WR-CALNAME:UL FMF urnik
X-WR-TIMEZONE:Europe/Ljubljana
BEGIN:VTIMEZONE
TZID:Europe/Ljubljana
BEGIN:DAYLIGHT
DTSTART:20260329T020000
RDATE:20260329T020000
RDATE:20270328T020000
TZNAME:CEST
TZOFFSETFROM:+0100
TZOFFSETTO:+0200
END:DAYLIGHT
BEGIN:STANDARD
DTSTART:20261025T030000
RDATE:20261025T030000
RDATE:20271031T030000
TZNAME:CET
TZOFFSETFROM:+0200
TZOFFSETTO:+0100
END:STANDARD
END:VTIMEZONE
BEGIN:VEVENT
SUMMARY:Zdravstvena fizika (MEF-1\, MEF-2)\, Predavanja (P)
DTSTART;TZID=Europe/Ljubljana:20220214T120000
DTEND;TZID=Europe/Ljubljana:20220214T150000
DTSTAMP:20260424T072555Z
UID:fmf-AFLABS-URNIK:premaknjeno-srecanje:122032
ATTENDEE:1. letnik (Medicinska fizika, 2. stopnja)
ATTENDEE:2. letnik (Medicinska fizika, 2. stopnja)
CATEGORIES:Entry,Standard
COLOR:darkgreen
DESCRIPTION:Predmet: Zdravstvena fizika (MEF-1\, MEF-2)\, Predavanja (P)\n
 Letniki: 1. letnik (Medicinska fizika\, 2. stopnja)\, 2. letnik (Medicinsk
 a fizika\, 2. stopnja)\nIzvajalci: Damijan Škrk\, Andrej Studen\nProstor:
  F5
LOCATION:F5
ORGANIZER:Damijan Škrk, Andrej Studen
RELATED-TO:fmf-AFLABS-URNIK:srecanje:7360
X-WR-TIMEZONE:Europe/Ljubljana
END:VEVENT
BEGIN:VEVENT
SUMMARY:Zdravstvena fizika (MEF-1\, MEF-2)\, Predavanja (P)
DTSTART;TZID=Europe/Ljubljana:20220221T120000
DTEND;TZID=Europe/Ljubljana:20220221T150000
DTSTAMP:20260424T072555Z
UID:fmf-AFLABS-URNIK:premaknjeno-srecanje:122033
ATTENDEE:1. letnik (Medicinska fizika, 2. stopnja)
ATTENDEE:2. letnik (Medicinska fizika, 2. stopnja)
CATEGORIES:Entry,Standard
COLOR:darkgreen
DESCRIPTION:Predmet: Zdravstvena fizika (MEF-1\, MEF-2)\, Predavanja (P)\n
 Letniki: 1. letnik (Medicinska fizika\, 2. stopnja)\, 2. letnik (Medicinsk
 a fizika\, 2. stopnja)\nIzvajalci: Damijan Škrk\, Andrej Studen\nProstor:
  F5
LOCATION:F5
ORGANIZER:Damijan Škrk, Andrej Studen
RELATED-TO:fmf-AFLABS-URNIK:srecanje:7360
X-WR-TIMEZONE:Europe/Ljubljana
END:VEVENT
BEGIN:VEVENT
SUMMARY:Zdravstvena fizika (MEF-1\, MEF-2)\, Predavanja (P)
DTSTART;TZID=Europe/Ljubljana:20220228T120000
DTEND;TZID=Europe/Ljubljana:20220228T150000
DTSTAMP:20260424T072555Z
UID:fmf-AFLABS-URNIK:premaknjeno-srecanje:122034
ATTENDEE:1. letnik (Medicinska fizika, 2. stopnja)
ATTENDEE:2. letnik (Medicinska fizika, 2. stopnja)
CATEGORIES:Entry,Standard
COLOR:darkgreen
DESCRIPTION:Predmet: Zdravstvena fizika (MEF-1\, MEF-2)\, Predavanja (P)\n
 Letniki: 1. letnik (Medicinska fizika\, 2. stopnja)\, 2. letnik (Medicinsk
 a fizika\, 2. stopnja)\nIzvajalci: Damijan Škrk\, Andrej Studen\nProstor:
  F5
LOCATION:F5
ORGANIZER:Damijan Škrk, Andrej Studen
RELATED-TO:fmf-AFLABS-URNIK:srecanje:7360
X-WR-TIMEZONE:Europe/Ljubljana
END:VEVENT
BEGIN:VEVENT
SUMMARY:Zdravstvena fizika (MEF-1\, MEF-2)\, Predavanja (P)
DTSTART;TZID=Europe/Ljubljana:20220307T120000
DTEND;TZID=Europe/Ljubljana:20220307T150000
DTSTAMP:20260424T072555Z
UID:fmf-AFLABS-URNIK:premaknjeno-srecanje:122035
ATTENDEE:1. letnik (Medicinska fizika, 2. stopnja)
ATTENDEE:2. letnik (Medicinska fizika, 2. stopnja)
CATEGORIES:Entry,Standard
COLOR:darkgreen
DESCRIPTION:Predmet: Zdravstvena fizika (MEF-1\, MEF-2)\, Predavanja (P)\n
 Letniki: 1. letnik (Medicinska fizika\, 2. stopnja)\, 2. letnik (Medicinsk
 a fizika\, 2. stopnja)\nIzvajalci: Damijan Škrk\, Andrej Studen\nProstor:
  F5
LOCATION:F5
ORGANIZER:Damijan Škrk, Andrej Studen
RELATED-TO:fmf-AFLABS-URNIK:srecanje:7360
X-WR-TIMEZONE:Europe/Ljubljana
END:VEVENT
BEGIN:VEVENT
SUMMARY:Zdravstvena fizika (MEF-1\, MEF-2)\, Predavanja (P)
DTSTART;TZID=Europe/Ljubljana:20220314T120000
DTEND;TZID=Europe/Ljubljana:20220314T150000
DTSTAMP:20260424T072555Z
UID:fmf-AFLABS-URNIK:premaknjeno-srecanje:122036
ATTENDEE:1. letnik (Medicinska fizika, 2. stopnja)
ATTENDEE:2. letnik (Medicinska fizika, 2. stopnja)
CATEGORIES:Entry,Standard
COLOR:darkgreen
DESCRIPTION:Predmet: Zdravstvena fizika (MEF-1\, MEF-2)\, Predavanja (P)\n
 Letniki: 1. letnik (Medicinska fizika\, 2. stopnja)\, 2. letnik (Medicinsk
 a fizika\, 2. stopnja)\nIzvajalci: Damijan Škrk\, Andrej Studen\nProstor:
  F5
LOCATION:F5
ORGANIZER:Damijan Škrk, Andrej Studen
RELATED-TO:fmf-AFLABS-URNIK:srecanje:7360
X-WR-TIMEZONE:Europe/Ljubljana
END:VEVENT
BEGIN:VEVENT
SUMMARY:Zdravstvena fizika (MEF-1\, MEF-2)\, Predavanja (P)
DTSTART;TZID=Europe/Ljubljana:20220321T120000
DTEND;TZID=Europe/Ljubljana:20220321T150000
DTSTAMP:20260424T072555Z
UID:fmf-AFLABS-URNIK:premaknjeno-srecanje:122037
ATTENDEE:1. letnik (Medicinska fizika, 2. stopnja)
ATTENDEE:2. letnik (Medicinska fizika, 2. stopnja)
CATEGORIES:Entry,Standard
COLOR:darkgreen
DESCRIPTION:Predmet: Zdravstvena fizika (MEF-1\, MEF-2)\, Predavanja (P)\n
 Letniki: 1. letnik (Medicinska fizika\, 2. stopnja)\, 2. letnik (Medicinsk
 a fizika\, 2. stopnja)\nIzvajalci: Damijan Škrk\, Andrej Studen\nProstor:
  F5
LOCATION:F5
ORGANIZER:Damijan Škrk, Andrej Studen
RELATED-TO:fmf-AFLABS-URNIK:srecanje:7360
X-WR-TIMEZONE:Europe/Ljubljana
END:VEVENT
BEGIN:VEVENT
SUMMARY:Zdravstvena fizika (MEF-1\, MEF-2)\, Predavanja (P)
DTSTART;TZID=Europe/Ljubljana:20220328T120000
DTEND;TZID=Europe/Ljubljana:20220328T150000
DTSTAMP:20260424T072555Z
UID:fmf-AFLABS-URNIK:premaknjeno-srecanje:122038
ATTENDEE:1. letnik (Medicinska fizika, 2. stopnja)
ATTENDEE:2. letnik (Medicinska fizika, 2. stopnja)
CATEGORIES:Entry,Standard
COLOR:darkgreen
DESCRIPTION:Predmet: Zdravstvena fizika (MEF-1\, MEF-2)\, Predavanja (P)\n
 Letniki: 1. letnik (Medicinska fizika\, 2. stopnja)\, 2. letnik (Medicinsk
 a fizika\, 2. stopnja)\nIzvajalci: Damijan Škrk\, Andrej Studen\nProstor:
  F5
LOCATION:F5
ORGANIZER:Damijan Škrk, Andrej Studen
RELATED-TO:fmf-AFLABS-URNIK:srecanje:7360
X-WR-TIMEZONE:Europe/Ljubljana
END:VEVENT
BEGIN:VEVENT
SUMMARY:Zdravstvena fizika (MEF-1\, MEF-2)\, Predavanja (P)
DTSTART;TZID=Europe/Ljubljana:20220404T120000
DTEND;TZID=Europe/Ljubljana:20220404T150000
DTSTAMP:20260424T072555Z
UID:fmf-AFLABS-URNIK:premaknjeno-srecanje:122039
ATTENDEE:1. letnik (Medicinska fizika, 2. stopnja)
ATTENDEE:2. letnik (Medicinska fizika, 2. stopnja)
CATEGORIES:Entry,Standard
COLOR:darkgreen
DESCRIPTION:Predmet: Zdravstvena fizika (MEF-1\, MEF-2)\, Predavanja (P)\n
 Letniki: 1. letnik (Medicinska fizika\, 2. stopnja)\, 2. letnik (Medicinsk
 a fizika\, 2. stopnja)\nIzvajalci: Damijan Škrk\, Andrej Studen\nProstor:
  F5
LOCATION:F5
ORGANIZER:Damijan Škrk, Andrej Studen
RELATED-TO:fmf-AFLABS-URNIK:srecanje:7360
X-WR-TIMEZONE:Europe/Ljubljana
END:VEVENT
BEGIN:VEVENT
SUMMARY:Zdravstvena fizika (MEF-1\, MEF-2)\, Predavanja (P)
DTSTART;TZID=Europe/Ljubljana:20220411T120000
DTEND;TZID=Europe/Ljubljana:20220411T150000
DTSTAMP:20260424T072555Z
UID:fmf-AFLABS-URNIK:premaknjeno-srecanje:122040
ATTENDEE:1. letnik (Medicinska fizika, 2. stopnja)
ATTENDEE:2. letnik (Medicinska fizika, 2. stopnja)
CATEGORIES:Entry,Standard
COLOR:darkgreen
DESCRIPTION:Predmet: Zdravstvena fizika (MEF-1\, MEF-2)\, Predavanja (P)\n
 Letniki: 1. letnik (Medicinska fizika\, 2. stopnja)\, 2. letnik (Medicinsk
 a fizika\, 2. stopnja)\nIzvajalci: Damijan Škrk\, Andrej Studen\nProstor:
  F5
LOCATION:F5
ORGANIZER:Damijan Škrk, Andrej Studen
RELATED-TO:fmf-AFLABS-URNIK:srecanje:7360
X-WR-TIMEZONE:Europe/Ljubljana
END:VEVENT
BEGIN:VEVENT
SUMMARY:Zdravstvena fizika (MEF-1\, MEF-2)\, Predavanja (P)
DTSTART;TZID=Europe/Ljubljana:20220418T120000
DTEND;TZID=Europe/Ljubljana:20220418T150000
DTSTAMP:20260424T072555Z
UID:fmf-AFLABS-URNIK:premaknjeno-srecanje:122041
ATTENDEE:1. letnik (Medicinska fizika, 2. stopnja)
ATTENDEE:2. letnik (Medicinska fizika, 2. stopnja)
CATEGORIES:Entry,Standard
COLOR:darkgreen
DESCRIPTION:Predmet: Zdravstvena fizika (MEF-1\, MEF-2)\, Predavanja (P)\n
 Letniki: 1. letnik (Medicinska fizika\, 2. stopnja)\, 2. letnik (Medicinsk
 a fizika\, 2. stopnja)\nIzvajalci: Damijan Škrk\, Andrej Studen\nProstor:
  F5
LOCATION:F5
ORGANIZER:Damijan Škrk, Andrej Studen
RELATED-TO:fmf-AFLABS-URNIK:srecanje:7360
X-WR-TIMEZONE:Europe/Ljubljana
END:VEVENT
BEGIN:VEVENT
SUMMARY:Zdravstvena fizika (MEF-1\, MEF-2)\, Predavanja (P)
DTSTART;TZID=Europe/Ljubljana:20220425T120000
DTEND;TZID=Europe/Ljubljana:20220425T150000
DTSTAMP:20260424T072555Z
UID:fmf-AFLABS-URNIK:premaknjeno-srecanje:122042
ATTENDEE:1. letnik (Medicinska fizika, 2. stopnja)
ATTENDEE:2. letnik (Medicinska fizika, 2. stopnja)
CATEGORIES:Entry,Standard
COLOR:darkgreen
DESCRIPTION:Predmet: Zdravstvena fizika (MEF-1\, MEF-2)\, Predavanja (P)\n
 Letniki: 1. letnik (Medicinska fizika\, 2. stopnja)\, 2. letnik (Medicinsk
 a fizika\, 2. stopnja)\nIzvajalci: Damijan Škrk\, Andrej Studen\nProstor:
  F5
LOCATION:F5
ORGANIZER:Damijan Škrk, Andrej Studen
RELATED-TO:fmf-AFLABS-URNIK:srecanje:7360
X-WR-TIMEZONE:Europe/Ljubljana
END:VEVENT
BEGIN:VEVENT
SUMMARY:Zdravstvena fizika (MEF-1\, MEF-2)\, Predavanja (P)
DTSTART;TZID=Europe/Ljubljana:20220502T120000
DTEND;TZID=Europe/Ljubljana:20220502T150000
DTSTAMP:20260424T072555Z
UID:fmf-AFLABS-URNIK:premaknjeno-srecanje:122043
ATTENDEE:1. letnik (Medicinska fizika, 2. stopnja)
ATTENDEE:2. letnik (Medicinska fizika, 2. stopnja)
CATEGORIES:Entry,Standard
COLOR:darkgreen
DESCRIPTION:Predmet: Zdravstvena fizika (MEF-1\, MEF-2)\, Predavanja (P)\n
 Letniki: 1. letnik (Medicinska fizika\, 2. stopnja)\, 2. letnik (Medicinsk
 a fizika\, 2. stopnja)\nIzvajalci: Damijan Škrk\, Andrej Studen\nProstor:
  F5
LOCATION:F5
ORGANIZER:Damijan Škrk, Andrej Studen
RELATED-TO:fmf-AFLABS-URNIK:srecanje:7360
X-WR-TIMEZONE:Europe/Ljubljana
END:VEVENT
BEGIN:VEVENT
SUMMARY:Zdravstvena fizika (MEF-1\, MEF-2)\, Predavanja (P)
DTSTART;TZID=Europe/Ljubljana:20220509T120000
DTEND;TZID=Europe/Ljubljana:20220509T150000
DTSTAMP:20260424T072555Z
UID:fmf-AFLABS-URNIK:premaknjeno-srecanje:122044
ATTENDEE:1. letnik (Medicinska fizika, 2. stopnja)
ATTENDEE:2. letnik (Medicinska fizika, 2. stopnja)
CATEGORIES:Entry,Standard
COLOR:darkgreen
DESCRIPTION:Predmet: Zdravstvena fizika (MEF-1\, MEF-2)\, Predavanja (P)\n
 Letniki: 1. letnik (Medicinska fizika\, 2. stopnja)\, 2. letnik (Medicinsk
 a fizika\, 2. stopnja)\nIzvajalci: Damijan Škrk\, Andrej Studen\nProstor:
  F5
LOCATION:F5
ORGANIZER:Damijan Škrk, Andrej Studen
RELATED-TO:fmf-AFLABS-URNIK:srecanje:7360
X-WR-TIMEZONE:Europe/Ljubljana
END:VEVENT
BEGIN:VEVENT
SUMMARY:Zdravstvena fizika (MEF-1\, MEF-2)\, Predavanja (P)
DTSTART;TZID=Europe/Ljubljana:20220516T120000
DTEND;TZID=Europe/Ljubljana:20220516T150000
DTSTAMP:20260424T072555Z
UID:fmf-AFLABS-URNIK:premaknjeno-srecanje:122045
ATTENDEE:1. letnik (Medicinska fizika, 2. stopnja)
ATTENDEE:2. letnik (Medicinska fizika, 2. stopnja)
CATEGORIES:Entry,Standard
COLOR:darkgreen
DESCRIPTION:Predmet: Zdravstvena fizika (MEF-1\, MEF-2)\, Predavanja (P)\n
 Letniki: 1. letnik (Medicinska fizika\, 2. stopnja)\, 2. letnik (Medicinsk
 a fizika\, 2. stopnja)\nIzvajalci: Damijan Škrk\, Andrej Studen\nProstor:
  F5
LOCATION:F5
ORGANIZER:Damijan Škrk, Andrej Studen
RELATED-TO:fmf-AFLABS-URNIK:srecanje:7360
X-WR-TIMEZONE:Europe/Ljubljana
END:VEVENT
BEGIN:VEVENT
SUMMARY:Zdravstvena fizika (MEF-1\, MEF-2)\, Predavanja (P)
DTSTART;TZID=Europe/Ljubljana:20220523T120000
DTEND;TZID=Europe/Ljubljana:20220523T150000
DTSTAMP:20260424T072555Z
UID:fmf-AFLABS-URNIK:premaknjeno-srecanje:122046
ATTENDEE:1. letnik (Medicinska fizika, 2. stopnja)
ATTENDEE:2. letnik (Medicinska fizika, 2. stopnja)
CATEGORIES:Entry,Standard
COLOR:darkgreen
DESCRIPTION:Predmet: Zdravstvena fizika (MEF-1\, MEF-2)\, Predavanja (P)\n
 Letniki: 1. letnik (Medicinska fizika\, 2. stopnja)\, 2. letnik (Medicinsk
 a fizika\, 2. stopnja)\nIzvajalci: Damijan Škrk\, Andrej Studen\nProstor:
  F5
LOCATION:F5
ORGANIZER:Damijan Škrk, Andrej Studen
RELATED-TO:fmf-AFLABS-URNIK:srecanje:7360
X-WR-TIMEZONE:Europe/Ljubljana
END:VEVENT
BEGIN:VEVENT
SUMMARY:Zdravstvena fizika (MEF-1\, MEF-2)\, Predavanja (P)
DTSTART;TZID=Europe/Ljubljana:20220530T120000
DTEND;TZID=Europe/Ljubljana:20220530T150000
DTSTAMP:20260424T072555Z
UID:fmf-AFLABS-URNIK:premaknjeno-srecanje:122047
ATTENDEE:1. letnik (Medicinska fizika, 2. stopnja)
ATTENDEE:2. letnik (Medicinska fizika, 2. stopnja)
CATEGORIES:Entry,Standard
COLOR:darkgreen
DESCRIPTION:Predmet: Zdravstvena fizika (MEF-1\, MEF-2)\, Predavanja (P)\n
 Letniki: 1. letnik (Medicinska fizika\, 2. stopnja)\, 2. letnik (Medicinsk
 a fizika\, 2. stopnja)\nIzvajalci: Damijan Škrk\, Andrej Studen\nProstor:
  F5
LOCATION:F5
ORGANIZER:Damijan Škrk, Andrej Studen
RELATED-TO:fmf-AFLABS-URNIK:srecanje:7360
X-WR-TIMEZONE:Europe/Ljubljana
END:VEVENT
BEGIN:VEVENT
SUMMARY:Rezervacija
DTSTART;TZID=Europe/Ljubljana:20220302T080000
DTEND;TZID=Europe/Ljubljana:20220302T110000
DTSTAMP:20260424T072555Z
UID:fmf-AFLABS-URNIK:rezervacija:8656
ATTENDEE:1. letnik (Medicinska fizika, 2. stopnja)
ATTENDEE:2. letnik (Medicinska fizika, 2. stopnja)
CATEGORIES:Reservation
COLOR:royalblue
DESCRIPTION:Predmeti: Zdravstvena fizika (MEF-1\, MEF-2)\nLetniki: 1. letn
 ik (Medicinska fizika\, 2. stopnja)\, 2. letnik (Medicinska fizika\, 2. st
 opnja)\nIzvajalci: Andrej Studen\nProstori: P.01
LOCATION:P.01
ORGANIZER:Andrej Studen
X-WR-TIMEZONE:Europe/Ljubljana
END:VEVENT
BEGIN:VEVENT
SUMMARY:Rezervacija
DTSTART;TZID=Europe/Ljubljana:20220315T110000
DTEND;TZID=Europe/Ljubljana:20220315T130000
DTSTAMP:20260424T072555Z
UID:fmf-AFLABS-URNIK:rezervacija:8712
CATEGORIES:Reservation
COLOR:royalblue
DESCRIPTION:Predmeti: \nLetniki: \nIzvajalci: Andrej Studen\nProstori: F8
LOCATION:F8
ORGANIZER:Andrej Studen
X-WR-TIMEZONE:Europe/Ljubljana
END:VEVENT
BEGIN:VEVENT
SUMMARY:Rezervacija
DTSTART;TZID=Europe/Ljubljana:20220506T080000
DTEND;TZID=Europe/Ljubljana:20220506T120000
DTSTAMP:20260424T072555Z
UID:fmf-AFLABS-URNIK:rezervacija:8975
CATEGORIES:Reservation
COLOR:royalblue
DESCRIPTION:Predmeti: \nLetniki: \nIzvajalci: Andrej Studen\nProstori: Ku
 ščerjev seminar
LOCATION:Kuščerjev seminar
ORGANIZER:Andrej Studen
X-WR-TIMEZONE:Europe/Ljubljana
END:VEVENT
BEGIN:VEVENT
SUMMARY:Rezervacija
DTSTART;TZID=Europe/Ljubljana:20220506T120000
DTEND;TZID=Europe/Ljubljana:20220506T150000
DTSTAMP:20260424T072555Z
UID:fmf-AFLABS-URNIK:rezervacija:8978
CATEGORIES:Reservation
COLOR:royalblue
DESCRIPTION:Predmeti: \nLetniki: \nIzvajalci: Andrej Studen\nProstori: F2
LOCATION:F2
ORGANIZER:Andrej Studen
X-WR-TIMEZONE:Europe/Ljubljana
END:VEVENT
BEGIN:VEVENT
SUMMARY:Rezervacija
DTSTART;TZID=Europe/Ljubljana:20220513T080000
DTEND;TZID=Europe/Ljubljana:20220513T110000
DTSTAMP:20260424T072555Z
UID:fmf-AFLABS-URNIK:rezervacija:9019
CATEGORIES:Reservation
COLOR:royalblue
DESCRIPTION:Predmeti: \nLetniki: \nIzvajalci: Andrej Studen\nProstori: F7
LOCATION:F7
ORGANIZER:Andrej Studen
X-WR-TIMEZONE:Europe/Ljubljana
END:VEVENT
BEGIN:VEVENT
SUMMARY:Rezervacija
DTSTART;TZID=Europe/Ljubljana:20220513T110000
DTEND;TZID=Europe/Ljubljana:20220513T150000
DTSTAMP:20260424T072555Z
UID:fmf-AFLABS-URNIK:rezervacija:9025
CATEGORIES:Reservation
COLOR:royalblue
DESCRIPTION:Predmeti: \nLetniki: \nIzvajalci: Andrej Studen\nProstori: F2
LOCATION:F2
ORGANIZER:Andrej Studen
X-WR-TIMEZONE:Europe/Ljubljana
END:VEVENT
END:VCALENDAR
