BEGIN:VCALENDAR
VERSION:2.0
PRODID:-//AFLabs urnik izvoz - fmf//aflabs.si//SI
DTSTAMP:20260422T214638Z
NAME:UL FMF urnik
REFRESH-INTERVAL:PT1H
SOURCE:https://urnik.fmf.uni-lj.si/teacher/287?day=2017-09-25&export=1
URL:https://urnik.fmf.uni-lj.si/teacher/287?day=2017-09-25&export=1
X-PUBLISHED-TTL:PT1H
X-WR-CALNAME:UL FMF urnik
X-WR-TIMEZONE:Europe/Ljubljana
BEGIN:VTIMEZONE
TZID:Europe/Ljubljana
BEGIN:DAYLIGHT
DTSTART:20260329T020000
RDATE:20260329T020000
RDATE:20270328T020000
TZNAME:CEST
TZOFFSETFROM:+0100
TZOFFSETTO:+0200
END:DAYLIGHT
BEGIN:STANDARD
DTSTART:20261025T030000
RDATE:20261025T030000
RDATE:20271031T030000
TZNAME:CET
TZOFFSETFROM:+0200
TZOFFSETTO:+0100
END:STANDARD
END:VTIMEZONE
BEGIN:VEVENT
SUMMARY:Verjetnost v fiziki (FIZ-2\, FIZ-3)\, Vaje (V)
DTSTART;TZID=Europe/Ljubljana:20171004T140000
DTEND;TZID=Europe/Ljubljana:20171004T150000
DTSTAMP:20260422T214638Z
UID:fmf-AFLABS-URNIK:premaknjeno-srecanje:119478
ATTENDEE:2. letnik (Fizika, 1. stopnja)
ATTENDEE:3. letnik (Fizika, 1. stopnja)
CATEGORIES:Entry,Standard
COLOR:darkgreen
DESCRIPTION:Predmet: Verjetnost v fiziki (FIZ-2\, FIZ-3)\, Vaje (V)\nLetni
 ki: 2. letnik (Fizika\, 1. stopnja)\, 3. letnik (Fizika\, 1. stopnja)\nIzv
 ajalci: Miha Mihovilovič\nProstor: F1
LOCATION:F1
ORGANIZER:Miha Mihovilovič
RELATED-TO:fmf-AFLABS-URNIK:srecanje:783
X-WR-TIMEZONE:Europe/Ljubljana
END:VEVENT
BEGIN:VEVENT
SUMMARY:Verjetnost v fiziki (FIZ-2\, FIZ-3)\, Vaje (V)
DTSTART;TZID=Europe/Ljubljana:20171011T140000
DTEND;TZID=Europe/Ljubljana:20171011T150000
DTSTAMP:20260422T214638Z
UID:fmf-AFLABS-URNIK:premaknjeno-srecanje:119479
ATTENDEE:2. letnik (Fizika, 1. stopnja)
ATTENDEE:3. letnik (Fizika, 1. stopnja)
CATEGORIES:Entry,Standard
COLOR:darkgreen
DESCRIPTION:Predmet: Verjetnost v fiziki (FIZ-2\, FIZ-3)\, Vaje (V)\nLetni
 ki: 2. letnik (Fizika\, 1. stopnja)\, 3. letnik (Fizika\, 1. stopnja)\nIzv
 ajalci: Miha Mihovilovič\nProstor: F1
LOCATION:F1
ORGANIZER:Miha Mihovilovič
RELATED-TO:fmf-AFLABS-URNIK:srecanje:783
X-WR-TIMEZONE:Europe/Ljubljana
END:VEVENT
BEGIN:VEVENT
SUMMARY:Verjetnost v fiziki (FIZ-2\, FIZ-3)\, Vaje (V)
DTSTART;TZID=Europe/Ljubljana:20171018T140000
DTEND;TZID=Europe/Ljubljana:20171018T150000
DTSTAMP:20260422T214638Z
UID:fmf-AFLABS-URNIK:premaknjeno-srecanje:119480
ATTENDEE:2. letnik (Fizika, 1. stopnja)
ATTENDEE:3. letnik (Fizika, 1. stopnja)
CATEGORIES:Entry,Standard
COLOR:darkgreen
DESCRIPTION:Predmet: Verjetnost v fiziki (FIZ-2\, FIZ-3)\, Vaje (V)\nLetni
 ki: 2. letnik (Fizika\, 1. stopnja)\, 3. letnik (Fizika\, 1. stopnja)\nIzv
 ajalci: Miha Mihovilovič\nProstor: F1
LOCATION:F1
ORGANIZER:Miha Mihovilovič
RELATED-TO:fmf-AFLABS-URNIK:srecanje:783
X-WR-TIMEZONE:Europe/Ljubljana
END:VEVENT
BEGIN:VEVENT
SUMMARY:Verjetnost v fiziki (FIZ-2\, FIZ-3)\, Vaje (V)
DTSTART;TZID=Europe/Ljubljana:20171025T140000
DTEND;TZID=Europe/Ljubljana:20171025T150000
DTSTAMP:20260422T214638Z
UID:fmf-AFLABS-URNIK:premaknjeno-srecanje:119481
ATTENDEE:2. letnik (Fizika, 1. stopnja)
ATTENDEE:3. letnik (Fizika, 1. stopnja)
CATEGORIES:Entry,Standard
COLOR:darkgreen
DESCRIPTION:Predmet: Verjetnost v fiziki (FIZ-2\, FIZ-3)\, Vaje (V)\nLetni
 ki: 2. letnik (Fizika\, 1. stopnja)\, 3. letnik (Fizika\, 1. stopnja)\nIzv
 ajalci: Miha Mihovilovič\nProstor: F1
LOCATION:F1
ORGANIZER:Miha Mihovilovič
RELATED-TO:fmf-AFLABS-URNIK:srecanje:783
X-WR-TIMEZONE:Europe/Ljubljana
END:VEVENT
BEGIN:VEVENT
SUMMARY:Fizika (BF živ.) ()\, Vaje (V)\, [1]
DTSTART;TZID=Europe/Ljubljana:20171006T080000
DTEND;TZID=Europe/Ljubljana:20171006T100000
DTSTAMP:20260422T214638Z
UID:fmf-AFLABS-URNIK:premaknjeno-srecanje:21788
CATEGORIES:Entry,Standard
COLOR:darkgreen
DESCRIPTION:Predmet: Fizika (BF živ.) ()\, Vaje (V)\, [1]\nLetniki: \nIzv
 ajalci: Miha Mihovilovič\nProstor: Ž1 (BF)
LOCATION:Ž1 (BF)
ORGANIZER:Miha Mihovilovič
RELATED-TO:fmf-AFLABS-URNIK:srecanje:285
X-WR-TIMEZONE:Europe/Ljubljana
END:VEVENT
BEGIN:VEVENT
SUMMARY:Fizika (BF živ.) ()\, Vaje (V)\, [1]
DTSTART;TZID=Europe/Ljubljana:20171013T080000
DTEND;TZID=Europe/Ljubljana:20171013T100000
DTSTAMP:20260422T214638Z
UID:fmf-AFLABS-URNIK:premaknjeno-srecanje:21789
CATEGORIES:Entry,Standard
COLOR:darkgreen
DESCRIPTION:Predmet: Fizika (BF živ.) ()\, Vaje (V)\, [1]\nLetniki: \nIzv
 ajalci: Miha Mihovilovič\nProstor: Ž1 (BF)
LOCATION:Ž1 (BF)
ORGANIZER:Miha Mihovilovič
RELATED-TO:fmf-AFLABS-URNIK:srecanje:285
X-WR-TIMEZONE:Europe/Ljubljana
END:VEVENT
BEGIN:VEVENT
SUMMARY:Fizika (BF živ.) ()\, Vaje (V)\, [1]
DTSTART;TZID=Europe/Ljubljana:20171020T080000
DTEND;TZID=Europe/Ljubljana:20171020T100000
DTSTAMP:20260422T214638Z
UID:fmf-AFLABS-URNIK:premaknjeno-srecanje:21790
CATEGORIES:Entry,Standard
COLOR:darkgreen
DESCRIPTION:Predmet: Fizika (BF živ.) ()\, Vaje (V)\, [1]\nLetniki: \nIzv
 ajalci: Miha Mihovilovič\nProstor: Ž1 (BF)
LOCATION:Ž1 (BF)
ORGANIZER:Miha Mihovilovič
RELATED-TO:fmf-AFLABS-URNIK:srecanje:285
X-WR-TIMEZONE:Europe/Ljubljana
END:VEVENT
BEGIN:VEVENT
SUMMARY:Fizika (BF živ.) ()\, Vaje (V)\, [1]
DTSTART;TZID=Europe/Ljubljana:20171027T080000
DTEND;TZID=Europe/Ljubljana:20171027T100000
DTSTAMP:20260422T214638Z
UID:fmf-AFLABS-URNIK:premaknjeno-srecanje:21791
CATEGORIES:Entry,Standard
COLOR:darkgreen
DESCRIPTION:Predmet: Fizika (BF živ.) ()\, Vaje (V)\, [1]\nLetniki: \nIzv
 ajalci: Miha Mihovilovič\nProstor: Ž1 (BF)
LOCATION:Ž1 (BF)
ORGANIZER:Miha Mihovilovič
RELATED-TO:fmf-AFLABS-URNIK:srecanje:285
X-WR-TIMEZONE:Europe/Ljubljana
END:VEVENT
BEGIN:VEVENT
SUMMARY:Fizika (BF živ.) ()\, Vaje (V)\, [2]
DTSTART;TZID=Europe/Ljubljana:20171006T100000
DTEND;TZID=Europe/Ljubljana:20171006T120000
DTSTAMP:20260422T214638Z
UID:fmf-AFLABS-URNIK:premaknjeno-srecanje:21899
CATEGORIES:Entry,Standard
COLOR:darkgreen
DESCRIPTION:Predmet: Fizika (BF živ.) ()\, Vaje (V)\, [2]\nLetniki: \nIzv
 ajalci: Miha Mihovilovič\nProstor: Ž1 (BF)
LOCATION:Ž1 (BF)
ORGANIZER:Miha Mihovilovič
RELATED-TO:fmf-AFLABS-URNIK:srecanje:711
X-WR-TIMEZONE:Europe/Ljubljana
END:VEVENT
BEGIN:VEVENT
SUMMARY:Fizika (BF živ.) ()\, Vaje (V)\, [2]
DTSTART;TZID=Europe/Ljubljana:20171013T100000
DTEND;TZID=Europe/Ljubljana:20171013T120000
DTSTAMP:20260422T214638Z
UID:fmf-AFLABS-URNIK:premaknjeno-srecanje:21900
CATEGORIES:Entry,Standard
COLOR:darkgreen
DESCRIPTION:Predmet: Fizika (BF živ.) ()\, Vaje (V)\, [2]\nLetniki: \nIzv
 ajalci: Miha Mihovilovič\nProstor: Ž1 (BF)
LOCATION:Ž1 (BF)
ORGANIZER:Miha Mihovilovič
RELATED-TO:fmf-AFLABS-URNIK:srecanje:711
X-WR-TIMEZONE:Europe/Ljubljana
END:VEVENT
BEGIN:VEVENT
SUMMARY:Fizika (BF živ.) ()\, Vaje (V)\, [2]
DTSTART;TZID=Europe/Ljubljana:20171020T100000
DTEND;TZID=Europe/Ljubljana:20171020T120000
DTSTAMP:20260422T214638Z
UID:fmf-AFLABS-URNIK:premaknjeno-srecanje:21901
CATEGORIES:Entry,Standard
COLOR:darkgreen
DESCRIPTION:Predmet: Fizika (BF živ.) ()\, Vaje (V)\, [2]\nLetniki: \nIzv
 ajalci: Miha Mihovilovič\nProstor: Ž1 (BF)
LOCATION:Ž1 (BF)
ORGANIZER:Miha Mihovilovič
RELATED-TO:fmf-AFLABS-URNIK:srecanje:711
X-WR-TIMEZONE:Europe/Ljubljana
END:VEVENT
BEGIN:VEVENT
SUMMARY:Fizika (BF živ.) ()\, Vaje (V)\, [2]
DTSTART;TZID=Europe/Ljubljana:20171027T100000
DTEND;TZID=Europe/Ljubljana:20171027T120000
DTSTAMP:20260422T214638Z
UID:fmf-AFLABS-URNIK:premaknjeno-srecanje:21902
CATEGORIES:Entry,Standard
COLOR:darkgreen
DESCRIPTION:Predmet: Fizika (BF živ.) ()\, Vaje (V)\, [2]\nLetniki: \nIzv
 ajalci: Miha Mihovilovič\nProstor: Ž1 (BF)
LOCATION:Ž1 (BF)
ORGANIZER:Miha Mihovilovič
RELATED-TO:fmf-AFLABS-URNIK:srecanje:711
X-WR-TIMEZONE:Europe/Ljubljana
END:VEVENT
END:VCALENDAR
