BEGIN:VCALENDAR
VERSION:2.0
PRODID:-//AFLabs urnik izvoz - fmf//aflabs.si//SI
DTSTAMP:20260421T231022Z
NAME:UL FMF urnik
REFRESH-INTERVAL:PT1H
SOURCE:https://urnik.fmf.uni-lj.si/teacher/287?day=2018-02-12&export=1
URL:https://urnik.fmf.uni-lj.si/teacher/287?day=2018-02-12&export=1
X-PUBLISHED-TTL:PT1H
X-WR-CALNAME:UL FMF urnik
X-WR-TIMEZONE:Europe/Ljubljana
BEGIN:VTIMEZONE
TZID:Europe/Ljubljana
BEGIN:DAYLIGHT
DTSTART:20260329T020000
RDATE:20260329T020000
RDATE:20270328T020000
TZNAME:CEST
TZOFFSETFROM:+0100
TZOFFSETTO:+0200
END:DAYLIGHT
BEGIN:STANDARD
DTSTART:20261025T030000
RDATE:20261025T030000
RDATE:20271031T030000
TZNAME:CET
TZOFFSETFROM:+0200
TZOFFSETTO:+0100
END:STANDARD
END:VTIMEZONE
BEGIN:VEVENT
SUMMARY:Verjetnost v fiziki (FIZ-2\, FIZ-3)\, Vaje (V)
DTSTART;TZID=Europe/Ljubljana:20180110T140000
DTEND;TZID=Europe/Ljubljana:20180110T150000
DTSTAMP:20260421T231022Z
UID:fmf-AFLABS-URNIK:premaknjeno-srecanje:119492
ATTENDEE:2. letnik (Fizika, 1. stopnja)
ATTENDEE:3. letnik (Fizika, 1. stopnja)
CATEGORIES:Entry,Standard
COLOR:darkgreen
DESCRIPTION:Predmet: Verjetnost v fiziki (FIZ-2\, FIZ-3)\, Vaje (V)\nLetni
 ki: 2. letnik (Fizika\, 1. stopnja)\, 3. letnik (Fizika\, 1. stopnja)\nIzv
 ajalci: Miha Mihovilovič\nProstor: F1
LOCATION:F1
ORGANIZER:Miha Mihovilovič
RELATED-TO:fmf-AFLABS-URNIK:srecanje:783
X-WR-TIMEZONE:Europe/Ljubljana
END:VEVENT
BEGIN:VEVENT
SUMMARY:Verjetnost v fiziki (FIZ-2\, FIZ-3)\, Vaje (V)
DTSTART;TZID=Europe/Ljubljana:20180117T140000
DTEND;TZID=Europe/Ljubljana:20180117T150000
DTSTAMP:20260421T231022Z
UID:fmf-AFLABS-URNIK:premaknjeno-srecanje:119493
ATTENDEE:2. letnik (Fizika, 1. stopnja)
ATTENDEE:3. letnik (Fizika, 1. stopnja)
CATEGORIES:Entry,Standard
COLOR:darkgreen
DESCRIPTION:Predmet: Verjetnost v fiziki (FIZ-2\, FIZ-3)\, Vaje (V)\nLetni
 ki: 2. letnik (Fizika\, 1. stopnja)\, 3. letnik (Fizika\, 1. stopnja)\nIzv
 ajalci: Miha Mihovilovič\nProstor: F1
LOCATION:F1
ORGANIZER:Miha Mihovilovič
RELATED-TO:fmf-AFLABS-URNIK:srecanje:783
X-WR-TIMEZONE:Europe/Ljubljana
END:VEVENT
BEGIN:VEVENT
SUMMARY:Fizika (BF živ.) ()\, Vaje (V)\, [1]
DTSTART;TZID=Europe/Ljubljana:20180112T080000
DTEND;TZID=Europe/Ljubljana:20180112T100000
DTSTAMP:20260421T231022Z
UID:fmf-AFLABS-URNIK:premaknjeno-srecanje:21802
CATEGORIES:Entry,Standard
COLOR:darkgreen
DESCRIPTION:Predmet: Fizika (BF živ.) ()\, Vaje (V)\, [1]\nLetniki: \nIzv
 ajalci: Miha Mihovilovič\nProstor: Ž1 (BF)
LOCATION:Ž1 (BF)
ORGANIZER:Miha Mihovilovič
RELATED-TO:fmf-AFLABS-URNIK:srecanje:285
X-WR-TIMEZONE:Europe/Ljubljana
END:VEVENT
BEGIN:VEVENT
SUMMARY:Fizika (BF živ.) ()\, Vaje (V)\, [1]
DTSTART;TZID=Europe/Ljubljana:20180119T080000
DTEND;TZID=Europe/Ljubljana:20180119T100000
DTSTAMP:20260421T231022Z
UID:fmf-AFLABS-URNIK:premaknjeno-srecanje:21803
CATEGORIES:Entry,Standard
COLOR:darkgreen
DESCRIPTION:Predmet: Fizika (BF živ.) ()\, Vaje (V)\, [1]\nLetniki: \nIzv
 ajalci: Miha Mihovilovič\nProstor: Ž1 (BF)
LOCATION:Ž1 (BF)
ORGANIZER:Miha Mihovilovič
RELATED-TO:fmf-AFLABS-URNIK:srecanje:285
X-WR-TIMEZONE:Europe/Ljubljana
END:VEVENT
BEGIN:VEVENT
SUMMARY:Fizika (BF živ.) ()\, Vaje (V)\, [2]
DTSTART;TZID=Europe/Ljubljana:20180112T100000
DTEND;TZID=Europe/Ljubljana:20180112T120000
DTSTAMP:20260421T231022Z
UID:fmf-AFLABS-URNIK:premaknjeno-srecanje:21913
CATEGORIES:Entry,Standard
COLOR:darkgreen
DESCRIPTION:Predmet: Fizika (BF živ.) ()\, Vaje (V)\, [2]\nLetniki: \nIzv
 ajalci: Miha Mihovilovič\nProstor: Ž1 (BF)
LOCATION:Ž1 (BF)
ORGANIZER:Miha Mihovilovič
RELATED-TO:fmf-AFLABS-URNIK:srecanje:711
X-WR-TIMEZONE:Europe/Ljubljana
END:VEVENT
BEGIN:VEVENT
SUMMARY:Fizika (BF živ.) ()\, Vaje (V)\, [2]
DTSTART;TZID=Europe/Ljubljana:20180119T100000
DTEND;TZID=Europe/Ljubljana:20180119T120000
DTSTAMP:20260421T231022Z
UID:fmf-AFLABS-URNIK:premaknjeno-srecanje:21914
CATEGORIES:Entry,Standard
COLOR:darkgreen
DESCRIPTION:Predmet: Fizika (BF živ.) ()\, Vaje (V)\, [2]\nLetniki: \nIzv
 ajalci: Miha Mihovilovič\nProstor: Ž1 (BF)
LOCATION:Ž1 (BF)
ORGANIZER:Miha Mihovilovič
RELATED-TO:fmf-AFLABS-URNIK:srecanje:711
X-WR-TIMEZONE:Europe/Ljubljana
END:VEVENT
BEGIN:VEVENT
SUMMARY:Fizikalni praktikum VI (FIZ-3)\, Laboratorijske vaje (L)\, [1]
DTSTART;TZID=Europe/Ljubljana:20180219T160000
DTEND;TZID=Europe/Ljubljana:20180219T200000
DTSTAMP:20260421T231022Z
UID:fmf-AFLABS-URNIK:premaknjeno-srecanje:37406
ATTENDEE:3. letnik (Fizika, 1. stopnja)
CATEGORIES:Entry,Standard
COLOR:darkgreen
DESCRIPTION:Predmet: Fizikalni praktikum VI (FIZ-3)\, Laboratorijske vaje 
 (L)\, [1]\nLetniki: 3. letnik (Fizika\, 1. stopnja)\nIzvajalci: Miha Mihov
 ilovič\nProstor: Praktikum 3
LOCATION:Praktikum 3
ORGANIZER:Miha Mihovilovič
RELATED-TO:fmf-AFLABS-URNIK:srecanje:1306
X-WR-TIMEZONE:Europe/Ljubljana
END:VEVENT
BEGIN:VEVENT
SUMMARY:Fizikalni praktikum VI (FIZ-3)\, Laboratorijske vaje (L)\, [1]
DTSTART;TZID=Europe/Ljubljana:20180226T160000
DTEND;TZID=Europe/Ljubljana:20180226T200000
DTSTAMP:20260421T231022Z
UID:fmf-AFLABS-URNIK:premaknjeno-srecanje:37407
ATTENDEE:3. letnik (Fizika, 1. stopnja)
CATEGORIES:Entry,Standard
COLOR:darkgreen
DESCRIPTION:Predmet: Fizikalni praktikum VI (FIZ-3)\, Laboratorijske vaje 
 (L)\, [1]\nLetniki: 3. letnik (Fizika\, 1. stopnja)\nIzvajalci: Miha Mihov
 ilovič\nProstor: Praktikum 3
LOCATION:Praktikum 3
ORGANIZER:Miha Mihovilovič
RELATED-TO:fmf-AFLABS-URNIK:srecanje:1306
X-WR-TIMEZONE:Europe/Ljubljana
END:VEVENT
BEGIN:VEVENT
SUMMARY:Fizikalni praktikum VI (FIZ-3)\, Laboratorijske vaje (L)\, [1]
DTSTART;TZID=Europe/Ljubljana:20180305T160000
DTEND;TZID=Europe/Ljubljana:20180305T200000
DTSTAMP:20260421T231022Z
UID:fmf-AFLABS-URNIK:premaknjeno-srecanje:37408
ATTENDEE:3. letnik (Fizika, 1. stopnja)
CATEGORIES:Entry,Standard
COLOR:darkgreen
DESCRIPTION:Predmet: Fizikalni praktikum VI (FIZ-3)\, Laboratorijske vaje 
 (L)\, [1]\nLetniki: 3. letnik (Fizika\, 1. stopnja)\nIzvajalci: Miha Mihov
 ilovič\nProstor: Praktikum 3
LOCATION:Praktikum 3
ORGANIZER:Miha Mihovilovič
RELATED-TO:fmf-AFLABS-URNIK:srecanje:1306
X-WR-TIMEZONE:Europe/Ljubljana
END:VEVENT
BEGIN:VEVENT
SUMMARY:Fizikalni praktikum VI (FIZ-3)\, Laboratorijske vaje (L)\, [1]
DTSTART;TZID=Europe/Ljubljana:20180312T160000
DTEND;TZID=Europe/Ljubljana:20180312T200000
DTSTAMP:20260421T231022Z
UID:fmf-AFLABS-URNIK:premaknjeno-srecanje:37409
ATTENDEE:3. letnik (Fizika, 1. stopnja)
CATEGORIES:Entry,Standard
COLOR:darkgreen
DESCRIPTION:Predmet: Fizikalni praktikum VI (FIZ-3)\, Laboratorijske vaje 
 (L)\, [1]\nLetniki: 3. letnik (Fizika\, 1. stopnja)\nIzvajalci: Miha Mihov
 ilovič\nProstor: Praktikum 3
LOCATION:Praktikum 3
ORGANIZER:Miha Mihovilovič
RELATED-TO:fmf-AFLABS-URNIK:srecanje:1306
X-WR-TIMEZONE:Europe/Ljubljana
END:VEVENT
BEGIN:VEVENT
SUMMARY:Fizikalni praktikum VI (FIZ-3)\, Laboratorijske vaje (L)\, [1]
DTSTART;TZID=Europe/Ljubljana:20180319T160000
DTEND;TZID=Europe/Ljubljana:20180319T200000
DTSTAMP:20260421T231022Z
UID:fmf-AFLABS-URNIK:premaknjeno-srecanje:37410
ATTENDEE:3. letnik (Fizika, 1. stopnja)
CATEGORIES:Entry,Standard
COLOR:darkgreen
DESCRIPTION:Predmet: Fizikalni praktikum VI (FIZ-3)\, Laboratorijske vaje 
 (L)\, [1]\nLetniki: 3. letnik (Fizika\, 1. stopnja)\nIzvajalci: Miha Mihov
 ilovič\nProstor: Praktikum 3
LOCATION:Praktikum 3
ORGANIZER:Miha Mihovilovič
RELATED-TO:fmf-AFLABS-URNIK:srecanje:1306
X-WR-TIMEZONE:Europe/Ljubljana
END:VEVENT
BEGIN:VEVENT
SUMMARY:Matematična orodja v fiziki (APM-2)\, Vaje (V)
DTSTART;TZID=Europe/Ljubljana:20180222T110000
DTEND;TZID=Europe/Ljubljana:20180222T140000
DTSTAMP:20260421T231022Z
UID:fmf-AFLABS-URNIK:premaknjeno-srecanje:68686
ATTENDEE:2. letnik (APM)
CATEGORIES:Entry,Standard
COLOR:darkgreen
DESCRIPTION:Predmet: Matematična orodja v fiziki (APM-2)\, Vaje (V)\nLetn
 iki: 2. letnik (APM)\nIzvajalci: Miha Mihovilovič\nProstor: 3.05
LOCATION:3.05
ORGANIZER:Miha Mihovilovič
RELATED-TO:fmf-AFLABS-URNIK:srecanje:1046
X-WR-TIMEZONE:Europe/Ljubljana
END:VEVENT
BEGIN:VEVENT
SUMMARY:Matematična orodja v fiziki (APM-2)\, Vaje (V)
DTSTART;TZID=Europe/Ljubljana:20180301T110000
DTEND;TZID=Europe/Ljubljana:20180301T140000
DTSTAMP:20260421T231022Z
UID:fmf-AFLABS-URNIK:premaknjeno-srecanje:68687
ATTENDEE:2. letnik (APM)
CATEGORIES:Entry,Standard
COLOR:darkgreen
DESCRIPTION:Predmet: Matematična orodja v fiziki (APM-2)\, Vaje (V)\nLetn
 iki: 2. letnik (APM)\nIzvajalci: Miha Mihovilovič\nProstor: 3.05
LOCATION:3.05
ORGANIZER:Miha Mihovilovič
RELATED-TO:fmf-AFLABS-URNIK:srecanje:1046
X-WR-TIMEZONE:Europe/Ljubljana
END:VEVENT
BEGIN:VEVENT
SUMMARY:Matematična orodja v fiziki (APM-2)\, Vaje (V)
DTSTART;TZID=Europe/Ljubljana:20180308T110000
DTEND;TZID=Europe/Ljubljana:20180308T140000
DTSTAMP:20260421T231022Z
UID:fmf-AFLABS-URNIK:premaknjeno-srecanje:68688
ATTENDEE:2. letnik (APM)
CATEGORIES:Entry,Standard
COLOR:darkgreen
DESCRIPTION:Predmet: Matematična orodja v fiziki (APM-2)\, Vaje (V)\nLetn
 iki: 2. letnik (APM)\nIzvajalci: Miha Mihovilovič\nProstor: 3.05
LOCATION:3.05
ORGANIZER:Miha Mihovilovič
RELATED-TO:fmf-AFLABS-URNIK:srecanje:1046
X-WR-TIMEZONE:Europe/Ljubljana
END:VEVENT
BEGIN:VEVENT
SUMMARY:Matematična orodja v fiziki (APM-2)\, Vaje (V)
DTSTART;TZID=Europe/Ljubljana:20180315T110000
DTEND;TZID=Europe/Ljubljana:20180315T140000
DTSTAMP:20260421T231022Z
UID:fmf-AFLABS-URNIK:premaknjeno-srecanje:68689
ATTENDEE:2. letnik (APM)
CATEGORIES:Entry,Standard
COLOR:darkgreen
DESCRIPTION:Predmet: Matematična orodja v fiziki (APM-2)\, Vaje (V)\nLetn
 iki: 2. letnik (APM)\nIzvajalci: Miha Mihovilovič\nProstor: 3.05
LOCATION:3.05
ORGANIZER:Miha Mihovilovič
RELATED-TO:fmf-AFLABS-URNIK:srecanje:1046
X-WR-TIMEZONE:Europe/Ljubljana
END:VEVENT
BEGIN:VEVENT
SUMMARY:Rezervacija
DTSTART;TZID=Europe/Ljubljana:20180130T100000
DTEND;TZID=Europe/Ljubljana:20180130T120000
DTSTAMP:20260421T231022Z
UID:fmf-AFLABS-URNIK:rezervacija:427
CATEGORIES:Reservation
COLOR:royalblue
DESCRIPTION:Predmeti: \nLetniki: \nIzvajalci: Miha Mihovilovič\nProstori:
  F5
LOCATION:F5
ORGANIZER:Miha Mihovilovič
X-WR-TIMEZONE:Europe/Ljubljana
END:VEVENT
END:VCALENDAR
