BEGIN:VCALENDAR
VERSION:2.0
PRODID:-//AFLabs urnik izvoz - fmf//aflabs.si//SI
DTSTAMP:20260424T000021Z
NAME:UL FMF urnik
REFRESH-INTERVAL:PT1H
SOURCE:https://urnik.fmf.uni-lj.si/teacher/291?day=2021-11-29&export=1
URL:https://urnik.fmf.uni-lj.si/teacher/291?day=2021-11-29&export=1
X-PUBLISHED-TTL:PT1H
X-WR-CALNAME:UL FMF urnik
X-WR-TIMEZONE:Europe/Ljubljana
BEGIN:VTIMEZONE
TZID:Europe/Ljubljana
BEGIN:DAYLIGHT
DTSTART:20260329T020000
RDATE:20260329T020000
RDATE:20270328T020000
TZNAME:CEST
TZOFFSETFROM:+0100
TZOFFSETTO:+0200
END:DAYLIGHT
BEGIN:STANDARD
DTSTART:20261025T030000
RDATE:20261025T030000
RDATE:20271031T030000
TZNAME:CET
TZOFFSETFROM:+0200
TZOFFSETTO:+0100
END:STANDARD
END:VTIMEZONE
BEGIN:VEVENT
SUMMARY:Eksperimentalna medicinska fizika (MEF-1\, MEF-2)\, Seminar (S)
DTSTART;TZID=Europe/Ljubljana:20211006T160000
DTEND;TZID=Europe/Ljubljana:20211006T170000
DTSTAMP:20260424T000021Z
UID:fmf-AFLABS-URNIK:premaknjeno-srecanje:17844
ATTENDEE:1. letnik (Medicinska fizika, 2. stopnja)
ATTENDEE:2. letnik (Medicinska fizika, 2. stopnja)
CATEGORIES:Entry,Standard
COLOR:darkgreen
DESCRIPTION:Predmet: Eksperimentalna medicinska fizika (MEF-1\, MEF-2)\, S
 eminar (S)\nLetniki: 1. letnik (Medicinska fizika\, 2. stopnja)\, 2. letni
 k (Medicinska fizika\, 2. stopnja)\nIzvajalci: Igor Serša\, Damijan Škrk
 \, Andrej Studen\nProstor: F6
LOCATION:F6
ORGANIZER:Igor Serša, Damijan Škrk, Andrej Studen
RELATED-TO:fmf-AFLABS-URNIK:srecanje:6748
X-WR-TIMEZONE:Europe/Ljubljana
END:VEVENT
BEGIN:VEVENT
SUMMARY:Eksperimentalna medicinska fizika (MEF-1\, MEF-2)\, Seminar (S)
DTSTART;TZID=Europe/Ljubljana:20211013T160000
DTEND;TZID=Europe/Ljubljana:20211013T170000
DTSTAMP:20260424T000021Z
UID:fmf-AFLABS-URNIK:premaknjeno-srecanje:17845
ATTENDEE:1. letnik (Medicinska fizika, 2. stopnja)
ATTENDEE:2. letnik (Medicinska fizika, 2. stopnja)
CATEGORIES:Entry,Standard
COLOR:darkgreen
DESCRIPTION:Predmet: Eksperimentalna medicinska fizika (MEF-1\, MEF-2)\, S
 eminar (S)\nLetniki: 1. letnik (Medicinska fizika\, 2. stopnja)\, 2. letni
 k (Medicinska fizika\, 2. stopnja)\nIzvajalci: Igor Serša\, Damijan Škrk
 \, Andrej Studen\nProstor: F6
LOCATION:F6
ORGANIZER:Igor Serša, Damijan Škrk, Andrej Studen
RELATED-TO:fmf-AFLABS-URNIK:srecanje:6748
X-WR-TIMEZONE:Europe/Ljubljana
END:VEVENT
BEGIN:VEVENT
SUMMARY:Eksperimentalna medicinska fizika (MEF-1\, MEF-2)\, Seminar (S)
DTSTART;TZID=Europe/Ljubljana:20211020T160000
DTEND;TZID=Europe/Ljubljana:20211020T170000
DTSTAMP:20260424T000021Z
UID:fmf-AFLABS-URNIK:premaknjeno-srecanje:17846
ATTENDEE:1. letnik (Medicinska fizika, 2. stopnja)
ATTENDEE:2. letnik (Medicinska fizika, 2. stopnja)
CATEGORIES:Entry,Standard
COLOR:darkgreen
DESCRIPTION:Predmet: Eksperimentalna medicinska fizika (MEF-1\, MEF-2)\, S
 eminar (S)\nLetniki: 1. letnik (Medicinska fizika\, 2. stopnja)\, 2. letni
 k (Medicinska fizika\, 2. stopnja)\nIzvajalci: Igor Serša\, Damijan Škrk
 \, Andrej Studen\nProstor: F6
LOCATION:F6
ORGANIZER:Igor Serša, Damijan Škrk, Andrej Studen
RELATED-TO:fmf-AFLABS-URNIK:srecanje:6748
X-WR-TIMEZONE:Europe/Ljubljana
END:VEVENT
BEGIN:VEVENT
SUMMARY:Eksperimentalna medicinska fizika (MEF-1\, MEF-2)\, Seminar (S)
DTSTART;TZID=Europe/Ljubljana:20211027T160000
DTEND;TZID=Europe/Ljubljana:20211027T170000
DTSTAMP:20260424T000021Z
UID:fmf-AFLABS-URNIK:premaknjeno-srecanje:17847
ATTENDEE:1. letnik (Medicinska fizika, 2. stopnja)
ATTENDEE:2. letnik (Medicinska fizika, 2. stopnja)
CATEGORIES:Entry,Standard
COLOR:darkgreen
DESCRIPTION:Predmet: Eksperimentalna medicinska fizika (MEF-1\, MEF-2)\, S
 eminar (S)\nLetniki: 1. letnik (Medicinska fizika\, 2. stopnja)\, 2. letni
 k (Medicinska fizika\, 2. stopnja)\nIzvajalci: Igor Serša\, Damijan Škrk
 \, Andrej Studen\nProstor: F6
LOCATION:F6
ORGANIZER:Igor Serša, Damijan Škrk, Andrej Studen
RELATED-TO:fmf-AFLABS-URNIK:srecanje:6748
X-WR-TIMEZONE:Europe/Ljubljana
END:VEVENT
BEGIN:VEVENT
SUMMARY:Eksperimentalna medicinska fizika (MEF-1\, MEF-2)\, Seminar (S)
DTSTART;TZID=Europe/Ljubljana:20211103T160000
DTEND;TZID=Europe/Ljubljana:20211103T170000
DTSTAMP:20260424T000021Z
UID:fmf-AFLABS-URNIK:premaknjeno-srecanje:17848
ATTENDEE:1. letnik (Medicinska fizika, 2. stopnja)
ATTENDEE:2. letnik (Medicinska fizika, 2. stopnja)
CATEGORIES:Entry,Standard
COLOR:darkgreen
DESCRIPTION:Predmet: Eksperimentalna medicinska fizika (MEF-1\, MEF-2)\, S
 eminar (S)\nLetniki: 1. letnik (Medicinska fizika\, 2. stopnja)\, 2. letni
 k (Medicinska fizika\, 2. stopnja)\nIzvajalci: Igor Serša\, Damijan Škrk
 \, Andrej Studen\nProstor: F6
LOCATION:F6
ORGANIZER:Igor Serša, Damijan Škrk, Andrej Studen
RELATED-TO:fmf-AFLABS-URNIK:srecanje:6748
X-WR-TIMEZONE:Europe/Ljubljana
END:VEVENT
BEGIN:VEVENT
SUMMARY:Eksperimentalna medicinska fizika (MEF-1\, MEF-2)\, Seminar (S)
DTSTART;TZID=Europe/Ljubljana:20211110T160000
DTEND;TZID=Europe/Ljubljana:20211110T170000
DTSTAMP:20260424T000021Z
UID:fmf-AFLABS-URNIK:premaknjeno-srecanje:17849
ATTENDEE:1. letnik (Medicinska fizika, 2. stopnja)
ATTENDEE:2. letnik (Medicinska fizika, 2. stopnja)
CATEGORIES:Entry,Standard
COLOR:darkgreen
DESCRIPTION:Predmet: Eksperimentalna medicinska fizika (MEF-1\, MEF-2)\, S
 eminar (S)\nLetniki: 1. letnik (Medicinska fizika\, 2. stopnja)\, 2. letni
 k (Medicinska fizika\, 2. stopnja)\nIzvajalci: Igor Serša\, Damijan Škrk
 \, Andrej Studen\nProstor: F6
LOCATION:F6
ORGANIZER:Igor Serša, Damijan Škrk, Andrej Studen
RELATED-TO:fmf-AFLABS-URNIK:srecanje:6748
X-WR-TIMEZONE:Europe/Ljubljana
END:VEVENT
BEGIN:VEVENT
SUMMARY:Eksperimentalna medicinska fizika (MEF-1\, MEF-2)\, Seminar (S)
DTSTART;TZID=Europe/Ljubljana:20211117T160000
DTEND;TZID=Europe/Ljubljana:20211117T170000
DTSTAMP:20260424T000021Z
UID:fmf-AFLABS-URNIK:premaknjeno-srecanje:17850
ATTENDEE:1. letnik (Medicinska fizika, 2. stopnja)
ATTENDEE:2. letnik (Medicinska fizika, 2. stopnja)
CATEGORIES:Entry,Standard
COLOR:darkgreen
DESCRIPTION:Predmet: Eksperimentalna medicinska fizika (MEF-1\, MEF-2)\, S
 eminar (S)\nLetniki: 1. letnik (Medicinska fizika\, 2. stopnja)\, 2. letni
 k (Medicinska fizika\, 2. stopnja)\nIzvajalci: Igor Serša\, Damijan Škrk
 \, Andrej Studen\nProstor: F6
LOCATION:F6
ORGANIZER:Igor Serša, Damijan Škrk, Andrej Studen
RELATED-TO:fmf-AFLABS-URNIK:srecanje:6748
X-WR-TIMEZONE:Europe/Ljubljana
END:VEVENT
BEGIN:VEVENT
SUMMARY:Eksperimentalna medicinska fizika (MEF-1\, MEF-2)\, Seminar (S)
DTSTART;TZID=Europe/Ljubljana:20211124T160000
DTEND;TZID=Europe/Ljubljana:20211124T170000
DTSTAMP:20260424T000021Z
UID:fmf-AFLABS-URNIK:premaknjeno-srecanje:17851
ATTENDEE:1. letnik (Medicinska fizika, 2. stopnja)
ATTENDEE:2. letnik (Medicinska fizika, 2. stopnja)
CATEGORIES:Entry,Standard
COLOR:darkgreen
DESCRIPTION:Predmet: Eksperimentalna medicinska fizika (MEF-1\, MEF-2)\, S
 eminar (S)\nLetniki: 1. letnik (Medicinska fizika\, 2. stopnja)\, 2. letni
 k (Medicinska fizika\, 2. stopnja)\nIzvajalci: Igor Serša\, Damijan Škrk
 \, Andrej Studen\nProstor: F6
LOCATION:F6
ORGANIZER:Igor Serša, Damijan Škrk, Andrej Studen
RELATED-TO:fmf-AFLABS-URNIK:srecanje:6748
X-WR-TIMEZONE:Europe/Ljubljana
END:VEVENT
BEGIN:VEVENT
SUMMARY:Eksperimentalna medicinska fizika (MEF-1\, MEF-2)\, Seminar (S)
DTSTART;TZID=Europe/Ljubljana:20211201T160000
DTEND;TZID=Europe/Ljubljana:20211201T170000
DTSTAMP:20260424T000021Z
UID:fmf-AFLABS-URNIK:premaknjeno-srecanje:17852
ATTENDEE:1. letnik (Medicinska fizika, 2. stopnja)
ATTENDEE:2. letnik (Medicinska fizika, 2. stopnja)
CATEGORIES:Entry,Standard
COLOR:darkgreen
DESCRIPTION:Predmet: Eksperimentalna medicinska fizika (MEF-1\, MEF-2)\, S
 eminar (S)\nLetniki: 1. letnik (Medicinska fizika\, 2. stopnja)\, 2. letni
 k (Medicinska fizika\, 2. stopnja)\nIzvajalci: Igor Serša\, Damijan Škrk
 \, Andrej Studen\nProstor: F6
LOCATION:F6
ORGANIZER:Igor Serša, Damijan Škrk, Andrej Studen
RELATED-TO:fmf-AFLABS-URNIK:srecanje:6748
X-WR-TIMEZONE:Europe/Ljubljana
END:VEVENT
BEGIN:VEVENT
SUMMARY:Eksperimentalna medicinska fizika (MEF-1\, MEF-2)\, Seminar (S)
DTSTART;TZID=Europe/Ljubljana:20211208T160000
DTEND;TZID=Europe/Ljubljana:20211208T170000
DTSTAMP:20260424T000021Z
UID:fmf-AFLABS-URNIK:premaknjeno-srecanje:17853
ATTENDEE:1. letnik (Medicinska fizika, 2. stopnja)
ATTENDEE:2. letnik (Medicinska fizika, 2. stopnja)
CATEGORIES:Entry,Standard
COLOR:darkgreen
DESCRIPTION:Predmet: Eksperimentalna medicinska fizika (MEF-1\, MEF-2)\, S
 eminar (S)\nLetniki: 1. letnik (Medicinska fizika\, 2. stopnja)\, 2. letni
 k (Medicinska fizika\, 2. stopnja)\nIzvajalci: Igor Serša\, Damijan Škrk
 \, Andrej Studen\nProstor: F6
LOCATION:F6
ORGANIZER:Igor Serša, Damijan Škrk, Andrej Studen
RELATED-TO:fmf-AFLABS-URNIK:srecanje:6748
X-WR-TIMEZONE:Europe/Ljubljana
END:VEVENT
BEGIN:VEVENT
SUMMARY:Eksperimentalna medicinska fizika (MEF-1\, MEF-2)\, Seminar (S)
DTSTART;TZID=Europe/Ljubljana:20211215T160000
DTEND;TZID=Europe/Ljubljana:20211215T170000
DTSTAMP:20260424T000021Z
UID:fmf-AFLABS-URNIK:premaknjeno-srecanje:17854
ATTENDEE:1. letnik (Medicinska fizika, 2. stopnja)
ATTENDEE:2. letnik (Medicinska fizika, 2. stopnja)
CATEGORIES:Entry,Standard
COLOR:darkgreen
DESCRIPTION:Predmet: Eksperimentalna medicinska fizika (MEF-1\, MEF-2)\, S
 eminar (S)\nLetniki: 1. letnik (Medicinska fizika\, 2. stopnja)\, 2. letni
 k (Medicinska fizika\, 2. stopnja)\nIzvajalci: Igor Serša\, Damijan Škrk
 \, Andrej Studen\nProstor: F6
LOCATION:F6
ORGANIZER:Igor Serša, Damijan Škrk, Andrej Studen
RELATED-TO:fmf-AFLABS-URNIK:srecanje:6748
X-WR-TIMEZONE:Europe/Ljubljana
END:VEVENT
BEGIN:VEVENT
SUMMARY:Eksperimentalna medicinska fizika (MEF-1\, MEF-2)\, Seminar (S)
DTSTART;TZID=Europe/Ljubljana:20211222T160000
DTEND;TZID=Europe/Ljubljana:20211222T170000
DTSTAMP:20260424T000021Z
UID:fmf-AFLABS-URNIK:premaknjeno-srecanje:17855
ATTENDEE:1. letnik (Medicinska fizika, 2. stopnja)
ATTENDEE:2. letnik (Medicinska fizika, 2. stopnja)
CATEGORIES:Entry,Standard
COLOR:darkgreen
DESCRIPTION:Predmet: Eksperimentalna medicinska fizika (MEF-1\, MEF-2)\, S
 eminar (S)\nLetniki: 1. letnik (Medicinska fizika\, 2. stopnja)\, 2. letni
 k (Medicinska fizika\, 2. stopnja)\nIzvajalci: Igor Serša\, Damijan Škrk
 \, Andrej Studen\nProstor: F6
LOCATION:F6
ORGANIZER:Igor Serša, Damijan Škrk, Andrej Studen
RELATED-TO:fmf-AFLABS-URNIK:srecanje:6748
X-WR-TIMEZONE:Europe/Ljubljana
END:VEVENT
BEGIN:VEVENT
SUMMARY:Eksperimentalna medicinska fizika (MEF-1\, MEF-2)\, Seminar (S)
DTSTART;TZID=Europe/Ljubljana:20211229T160000
DTEND;TZID=Europe/Ljubljana:20211229T170000
DTSTAMP:20260424T000021Z
UID:fmf-AFLABS-URNIK:premaknjeno-srecanje:17856
ATTENDEE:1. letnik (Medicinska fizika, 2. stopnja)
ATTENDEE:2. letnik (Medicinska fizika, 2. stopnja)
CATEGORIES:Entry,Standard
COLOR:darkgreen
DESCRIPTION:Predmet: Eksperimentalna medicinska fizika (MEF-1\, MEF-2)\, S
 eminar (S)\nLetniki: 1. letnik (Medicinska fizika\, 2. stopnja)\, 2. letni
 k (Medicinska fizika\, 2. stopnja)\nIzvajalci: Igor Serša\, Damijan Škrk
 \, Andrej Studen\nProstor: F6
LOCATION:F6
ORGANIZER:Igor Serša, Damijan Škrk, Andrej Studen
RELATED-TO:fmf-AFLABS-URNIK:srecanje:6748
X-WR-TIMEZONE:Europe/Ljubljana
END:VEVENT
BEGIN:VEVENT
SUMMARY:Eksperimentalna medicinska fizika (MEF-1\, MEF-2)\, Seminar (S)
DTSTART;TZID=Europe/Ljubljana:20220105T160000
DTEND;TZID=Europe/Ljubljana:20220105T170000
DTSTAMP:20260424T000021Z
UID:fmf-AFLABS-URNIK:premaknjeno-srecanje:17857
ATTENDEE:1. letnik (Medicinska fizika, 2. stopnja)
ATTENDEE:2. letnik (Medicinska fizika, 2. stopnja)
CATEGORIES:Entry,Standard
COLOR:darkgreen
DESCRIPTION:Predmet: Eksperimentalna medicinska fizika (MEF-1\, MEF-2)\, S
 eminar (S)\nLetniki: 1. letnik (Medicinska fizika\, 2. stopnja)\, 2. letni
 k (Medicinska fizika\, 2. stopnja)\nIzvajalci: Igor Serša\, Damijan Škrk
 \, Andrej Studen\nProstor: F6
LOCATION:F6
ORGANIZER:Igor Serša, Damijan Škrk, Andrej Studen
RELATED-TO:fmf-AFLABS-URNIK:srecanje:6748
X-WR-TIMEZONE:Europe/Ljubljana
END:VEVENT
BEGIN:VEVENT
SUMMARY:Eksperimentalna medicinska fizika (MEF-1\, MEF-2)\, Seminar (S)
DTSTART;TZID=Europe/Ljubljana:20220112T160000
DTEND;TZID=Europe/Ljubljana:20220112T170000
DTSTAMP:20260424T000021Z
UID:fmf-AFLABS-URNIK:premaknjeno-srecanje:17858
ATTENDEE:1. letnik (Medicinska fizika, 2. stopnja)
ATTENDEE:2. letnik (Medicinska fizika, 2. stopnja)
CATEGORIES:Entry,Standard
COLOR:darkgreen
DESCRIPTION:Predmet: Eksperimentalna medicinska fizika (MEF-1\, MEF-2)\, S
 eminar (S)\nLetniki: 1. letnik (Medicinska fizika\, 2. stopnja)\, 2. letni
 k (Medicinska fizika\, 2. stopnja)\nIzvajalci: Igor Serša\, Damijan Škrk
 \, Andrej Studen\nProstor: F6
LOCATION:F6
ORGANIZER:Igor Serša, Damijan Škrk, Andrej Studen
RELATED-TO:fmf-AFLABS-URNIK:srecanje:6748
X-WR-TIMEZONE:Europe/Ljubljana
END:VEVENT
END:VCALENDAR
