BEGIN:VCALENDAR
VERSION:2.0
PRODID:-//AFLabs urnik izvoz - fmf//aflabs.si//SI
DTSTAMP:20260423T231143Z
NAME:UL FMF urnik
REFRESH-INTERVAL:PT1H
SOURCE:https://urnik.fmf.uni-lj.si/teacher/291?day=2022-01-24&export=1
URL:https://urnik.fmf.uni-lj.si/teacher/291?day=2022-01-24&export=1
X-PUBLISHED-TTL:PT1H
X-WR-CALNAME:UL FMF urnik
X-WR-TIMEZONE:Europe/Ljubljana
BEGIN:VTIMEZONE
TZID:Europe/Ljubljana
BEGIN:DAYLIGHT
DTSTART:20260329T020000
RDATE:20260329T020000
RDATE:20270328T020000
TZNAME:CEST
TZOFFSETFROM:+0100
TZOFFSETTO:+0200
END:DAYLIGHT
BEGIN:STANDARD
DTSTART:20261025T030000
RDATE:20261025T030000
RDATE:20271031T030000
TZNAME:CET
TZOFFSETFROM:+0200
TZOFFSETTO:+0100
END:STANDARD
END:VTIMEZONE
BEGIN:VEVENT
SUMMARY:Eksperimentalna medicinska fizika (MEF-1\, MEF-2)\, Seminar (S)
DTSTART;TZID=Europe/Ljubljana:20211222T160000
DTEND;TZID=Europe/Ljubljana:20211222T170000
DTSTAMP:20260423T231143Z
UID:fmf-AFLABS-URNIK:premaknjeno-srecanje:17855
ATTENDEE:1. letnik (Medicinska fizika, 2. stopnja)
ATTENDEE:2. letnik (Medicinska fizika, 2. stopnja)
CATEGORIES:Entry,Standard
COLOR:darkgreen
DESCRIPTION:Predmet: Eksperimentalna medicinska fizika (MEF-1\, MEF-2)\, S
 eminar (S)\nLetniki: 1. letnik (Medicinska fizika\, 2. stopnja)\, 2. letni
 k (Medicinska fizika\, 2. stopnja)\nIzvajalci: Igor Serša\, Damijan Škrk
 \, Andrej Studen\nProstor: F6
LOCATION:F6
ORGANIZER:Igor Serša, Damijan Škrk, Andrej Studen
RELATED-TO:fmf-AFLABS-URNIK:srecanje:6748
X-WR-TIMEZONE:Europe/Ljubljana
END:VEVENT
BEGIN:VEVENT
SUMMARY:Eksperimentalna medicinska fizika (MEF-1\, MEF-2)\, Seminar (S)
DTSTART;TZID=Europe/Ljubljana:20211229T160000
DTEND;TZID=Europe/Ljubljana:20211229T170000
DTSTAMP:20260423T231143Z
UID:fmf-AFLABS-URNIK:premaknjeno-srecanje:17856
ATTENDEE:1. letnik (Medicinska fizika, 2. stopnja)
ATTENDEE:2. letnik (Medicinska fizika, 2. stopnja)
CATEGORIES:Entry,Standard
COLOR:darkgreen
DESCRIPTION:Predmet: Eksperimentalna medicinska fizika (MEF-1\, MEF-2)\, S
 eminar (S)\nLetniki: 1. letnik (Medicinska fizika\, 2. stopnja)\, 2. letni
 k (Medicinska fizika\, 2. stopnja)\nIzvajalci: Igor Serša\, Damijan Škrk
 \, Andrej Studen\nProstor: F6
LOCATION:F6
ORGANIZER:Igor Serša, Damijan Škrk, Andrej Studen
RELATED-TO:fmf-AFLABS-URNIK:srecanje:6748
X-WR-TIMEZONE:Europe/Ljubljana
END:VEVENT
BEGIN:VEVENT
SUMMARY:Eksperimentalna medicinska fizika (MEF-1\, MEF-2)\, Seminar (S)
DTSTART;TZID=Europe/Ljubljana:20220105T160000
DTEND;TZID=Europe/Ljubljana:20220105T170000
DTSTAMP:20260423T231143Z
UID:fmf-AFLABS-URNIK:premaknjeno-srecanje:17857
ATTENDEE:1. letnik (Medicinska fizika, 2. stopnja)
ATTENDEE:2. letnik (Medicinska fizika, 2. stopnja)
CATEGORIES:Entry,Standard
COLOR:darkgreen
DESCRIPTION:Predmet: Eksperimentalna medicinska fizika (MEF-1\, MEF-2)\, S
 eminar (S)\nLetniki: 1. letnik (Medicinska fizika\, 2. stopnja)\, 2. letni
 k (Medicinska fizika\, 2. stopnja)\nIzvajalci: Igor Serša\, Damijan Škrk
 \, Andrej Studen\nProstor: F6
LOCATION:F6
ORGANIZER:Igor Serša, Damijan Škrk, Andrej Studen
RELATED-TO:fmf-AFLABS-URNIK:srecanje:6748
X-WR-TIMEZONE:Europe/Ljubljana
END:VEVENT
BEGIN:VEVENT
SUMMARY:Eksperimentalna medicinska fizika (MEF-1\, MEF-2)\, Seminar (S)
DTSTART;TZID=Europe/Ljubljana:20220112T160000
DTEND;TZID=Europe/Ljubljana:20220112T170000
DTSTAMP:20260423T231143Z
UID:fmf-AFLABS-URNIK:premaknjeno-srecanje:17858
ATTENDEE:1. letnik (Medicinska fizika, 2. stopnja)
ATTENDEE:2. letnik (Medicinska fizika, 2. stopnja)
CATEGORIES:Entry,Standard
COLOR:darkgreen
DESCRIPTION:Predmet: Eksperimentalna medicinska fizika (MEF-1\, MEF-2)\, S
 eminar (S)\nLetniki: 1. letnik (Medicinska fizika\, 2. stopnja)\, 2. letni
 k (Medicinska fizika\, 2. stopnja)\nIzvajalci: Igor Serša\, Damijan Škrk
 \, Andrej Studen\nProstor: F6
LOCATION:F6
ORGANIZER:Igor Serša, Damijan Škrk, Andrej Studen
RELATED-TO:fmf-AFLABS-URNIK:srecanje:6748
X-WR-TIMEZONE:Europe/Ljubljana
END:VEVENT
BEGIN:VEVENT
SUMMARY:Eksperimentalna medicinska fizika (MEF-1\, MEF-2)\, Vaje (V)
DTSTART;TZID=Europe/Ljubljana:20220214T140000
DTEND;TZID=Europe/Ljubljana:20220214T150000
DTSTAMP:20260423T231143Z
UID:fmf-AFLABS-URNIK:premaknjeno-srecanje:17875
ATTENDEE:1. letnik (Medicinska fizika, 2. stopnja)
ATTENDEE:2. letnik (Medicinska fizika, 2. stopnja)
CATEGORIES:Entry,Standard
COLOR:darkgreen
DESCRIPTION:Predmet: Eksperimentalna medicinska fizika (MEF-1\, MEF-2)\, V
 aje (V)\nLetniki: 1. letnik (Medicinska fizika\, 2. stopnja)\, 2. letnik (
 Medicinska fizika\, 2. stopnja)\nIzvajalci: Igor Serša\nProstor: P.02
LOCATION:P.02
ORGANIZER:Igor Serša
RELATED-TO:fmf-AFLABS-URNIK:srecanje:7405
X-WR-TIMEZONE:Europe/Ljubljana
END:VEVENT
BEGIN:VEVENT
SUMMARY:Eksperimentalna medicinska fizika (MEF-1\, MEF-2)\, Vaje (V)
DTSTART;TZID=Europe/Ljubljana:20220221T140000
DTEND;TZID=Europe/Ljubljana:20220221T150000
DTSTAMP:20260423T231143Z
UID:fmf-AFLABS-URNIK:premaknjeno-srecanje:17876
ATTENDEE:1. letnik (Medicinska fizika, 2. stopnja)
ATTENDEE:2. letnik (Medicinska fizika, 2. stopnja)
CATEGORIES:Entry,Standard
COLOR:darkgreen
DESCRIPTION:Predmet: Eksperimentalna medicinska fizika (MEF-1\, MEF-2)\, V
 aje (V)\nLetniki: 1. letnik (Medicinska fizika\, 2. stopnja)\, 2. letnik (
 Medicinska fizika\, 2. stopnja)\nIzvajalci: Igor Serša\nProstor: P.02
LOCATION:P.02
ORGANIZER:Igor Serša
RELATED-TO:fmf-AFLABS-URNIK:srecanje:7405
X-WR-TIMEZONE:Europe/Ljubljana
END:VEVENT
BEGIN:VEVENT
SUMMARY:Eksperimentalna medicinska fizika (MEF-1\, MEF-2)\, Vaje (V)
DTSTART;TZID=Europe/Ljubljana:20220228T140000
DTEND;TZID=Europe/Ljubljana:20220228T150000
DTSTAMP:20260423T231143Z
UID:fmf-AFLABS-URNIK:premaknjeno-srecanje:17877
ATTENDEE:1. letnik (Medicinska fizika, 2. stopnja)
ATTENDEE:2. letnik (Medicinska fizika, 2. stopnja)
CATEGORIES:Entry,Standard
COLOR:darkgreen
DESCRIPTION:Predmet: Eksperimentalna medicinska fizika (MEF-1\, MEF-2)\, V
 aje (V)\nLetniki: 1. letnik (Medicinska fizika\, 2. stopnja)\, 2. letnik (
 Medicinska fizika\, 2. stopnja)\nIzvajalci: Igor Serša\nProstor: P.02
LOCATION:P.02
ORGANIZER:Igor Serša
RELATED-TO:fmf-AFLABS-URNIK:srecanje:7405
X-WR-TIMEZONE:Europe/Ljubljana
END:VEVENT
END:VCALENDAR
