BEGIN:VCALENDAR
VERSION:2.0
PRODID:-//AFLabs urnik izvoz - fmf//aflabs.si//SI
DTSTAMP:20260425T105309Z
NAME:UL FMF urnik
REFRESH-INTERVAL:PT1H
SOURCE:https://urnik.fmf.uni-lj.si/teacher/291?day=2024-02-12&export=1
URL:https://urnik.fmf.uni-lj.si/teacher/291?day=2024-02-12&export=1
X-PUBLISHED-TTL:PT1H
X-WR-CALNAME:UL FMF urnik
X-WR-TIMEZONE:Europe/Ljubljana
BEGIN:VTIMEZONE
TZID:Europe/Ljubljana
BEGIN:DAYLIGHT
DTSTART:20260329T020000
RDATE:20260329T020000
RDATE:20270328T020000
TZNAME:CEST
TZOFFSETFROM:+0100
TZOFFSETTO:+0200
END:DAYLIGHT
BEGIN:STANDARD
DTSTART:20261025T030000
RDATE:20261025T030000
RDATE:20271031T030000
TZNAME:CET
TZOFFSETFROM:+0200
TZOFFSETTO:+0100
END:STANDARD
END:VTIMEZONE
BEGIN:VEVENT
SUMMARY:Izbrana poglavja iz medicinske fizike (MEF-1\, MEF-2)\, Seminar (S
 )
DTSTART;TZID=Europe/Ljubljana:20240109T170000
DTEND;TZID=Europe/Ljubljana:20240109T180000
DTSTAMP:20260425T105309Z
UID:fmf-AFLABS-URNIK:premaknjeno-srecanje:43324
ATTENDEE:1. letnik (Medicinska fizika, 2. stopnja)
ATTENDEE:2. letnik (Medicinska fizika, 2. stopnja)
CATEGORIES:Entry,Standard
COLOR:darkgreen
DESCRIPTION:Predmet: Izbrana poglavja iz medicinske fizike (MEF-1\, MEF-2)
 \, Seminar (S)\nLetniki: 1. letnik (Medicinska fizika\, 2. stopnja)\, 2. l
 etnik (Medicinska fizika\, 2. stopnja)\nIzvajalci: Igor Serša\nProstor: F
 3
LOCATION:F3
ORGANIZER:Igor Serša
RELATED-TO:fmf-AFLABS-URNIK:srecanje:9626
X-WR-TIMEZONE:Europe/Ljubljana
END:VEVENT
BEGIN:VEVENT
SUMMARY:Izbrana poglavja iz medicinske fizike (MEF-1\, MEF-2)\, Seminar (S
 )
DTSTART;TZID=Europe/Ljubljana:20240116T170000
DTEND;TZID=Europe/Ljubljana:20240116T180000
DTSTAMP:20260425T105309Z
UID:fmf-AFLABS-URNIK:premaknjeno-srecanje:43325
ATTENDEE:1. letnik (Medicinska fizika, 2. stopnja)
ATTENDEE:2. letnik (Medicinska fizika, 2. stopnja)
CATEGORIES:Entry,Standard
COLOR:darkgreen
DESCRIPTION:Predmet: Izbrana poglavja iz medicinske fizike (MEF-1\, MEF-2)
 \, Seminar (S)\nLetniki: 1. letnik (Medicinska fizika\, 2. stopnja)\, 2. l
 etnik (Medicinska fizika\, 2. stopnja)\nIzvajalci: Igor Serša\nProstor: F
 3
LOCATION:F3
ORGANIZER:Igor Serša
RELATED-TO:fmf-AFLABS-URNIK:srecanje:9626
X-WR-TIMEZONE:Europe/Ljubljana
END:VEVENT
BEGIN:VEVENT
SUMMARY:Izbrana poglavja iz medicinske fizike (MEF-1\, MEF-2)\, Seminar (S
 )
DTSTART;TZID=Europe/Ljubljana:20240123T170000
DTEND;TZID=Europe/Ljubljana:20240123T180000
DTSTAMP:20260425T105309Z
UID:fmf-AFLABS-URNIK:premaknjeno-srecanje:43326
ATTENDEE:1. letnik (Medicinska fizika, 2. stopnja)
ATTENDEE:2. letnik (Medicinska fizika, 2. stopnja)
CATEGORIES:Entry,Standard
COLOR:darkgreen
DESCRIPTION:Predmet: Izbrana poglavja iz medicinske fizike (MEF-1\, MEF-2)
 \, Seminar (S)\nLetniki: 1. letnik (Medicinska fizika\, 2. stopnja)\, 2. l
 etnik (Medicinska fizika\, 2. stopnja)\nIzvajalci: Igor Serša\nProstor: F
 3
LOCATION:F3
ORGANIZER:Igor Serša
RELATED-TO:fmf-AFLABS-URNIK:srecanje:9626
X-WR-TIMEZONE:Europe/Ljubljana
END:VEVENT
BEGIN:VEVENT
SUMMARY:Eksperimentalna medicinska fizika (MEF-1\, MEF-2)\, Seminar (S)
DTSTART;TZID=Europe/Ljubljana:20240110T170000
DTEND;TZID=Europe/Ljubljana:20240110T180000
DTSTAMP:20260425T105309Z
UID:fmf-AFLABS-URNIK:premaknjeno-srecanje:17873
ATTENDEE:1. letnik (Medicinska fizika, 2. stopnja)
ATTENDEE:2. letnik (Medicinska fizika, 2. stopnja)
CATEGORIES:Entry,Standard
COLOR:darkgreen
DESCRIPTION:Predmet: Eksperimentalna medicinska fizika (MEF-1\, MEF-2)\, S
 eminar (S)\nLetniki: 1. letnik (Medicinska fizika\, 2. stopnja)\, 2. letni
 k (Medicinska fizika\, 2. stopnja)\nIzvajalci: Igor Serša\, Damijan Škrk
 \, Andrej Studen\nProstor: F6
LOCATION:F6
ORGANIZER:Igor Serša, Damijan Škrk, Andrej Studen
RELATED-TO:fmf-AFLABS-URNIK:srecanje:9038
X-WR-TIMEZONE:Europe/Ljubljana
END:VEVENT
BEGIN:VEVENT
SUMMARY:Eksperimentalna medicinska fizika (MEF-1\, MEF-2)\, Seminar (S)
DTSTART;TZID=Europe/Ljubljana:20240117T170000
DTEND;TZID=Europe/Ljubljana:20240117T180000
DTSTAMP:20260425T105309Z
UID:fmf-AFLABS-URNIK:premaknjeno-srecanje:17874
ATTENDEE:1. letnik (Medicinska fizika, 2. stopnja)
ATTENDEE:2. letnik (Medicinska fizika, 2. stopnja)
CATEGORIES:Entry,Standard
COLOR:darkgreen
DESCRIPTION:Predmet: Eksperimentalna medicinska fizika (MEF-1\, MEF-2)\, S
 eminar (S)\nLetniki: 1. letnik (Medicinska fizika\, 2. stopnja)\, 2. letni
 k (Medicinska fizika\, 2. stopnja)\nIzvajalci: Igor Serša\, Damijan Škrk
 \, Andrej Studen\nProstor: F6
LOCATION:F6
ORGANIZER:Igor Serša, Damijan Škrk, Andrej Studen
RELATED-TO:fmf-AFLABS-URNIK:srecanje:9038
X-WR-TIMEZONE:Europe/Ljubljana
END:VEVENT
BEGIN:VEVENT
SUMMARY:Izbrana poglavja iz medicinske fizike (MEF-1\, MEF-2)\, Seminar (S
 )
DTSTART;TZID=Europe/Ljubljana:20240220T140000
DTEND;TZID=Europe/Ljubljana:20240220T150000
DTSTAMP:20260425T105309Z
UID:fmf-AFLABS-URNIK:premaknjeno-srecanje:136939
ATTENDEE:1. letnik (Medicinska fizika, 2. stopnja)
ATTENDEE:2. letnik (Medicinska fizika, 2. stopnja)
CATEGORIES:Entry,Standard
COLOR:darkgreen
DESCRIPTION:Predmet: Izbrana poglavja iz medicinske fizike (MEF-1\, MEF-2)
 \, Seminar (S)\nLetniki: 1. letnik (Medicinska fizika\, 2. stopnja)\, 2. l
 etnik (Medicinska fizika\, 2. stopnja)\nIzvajalci: Igor Serša\nProstor: F
 3
LOCATION:F3
ORGANIZER:Igor Serša
RELATED-TO:fmf-AFLABS-URNIK:srecanje:10770
X-WR-TIMEZONE:Europe/Ljubljana
END:VEVENT
BEGIN:VEVENT
SUMMARY:Izbrana poglavja iz medicinske fizike (MEF-1\, MEF-2)\, Seminar (S
 )
DTSTART;TZID=Europe/Ljubljana:20240227T140000
DTEND;TZID=Europe/Ljubljana:20240227T150000
DTSTAMP:20260425T105309Z
UID:fmf-AFLABS-URNIK:premaknjeno-srecanje:136940
ATTENDEE:1. letnik (Medicinska fizika, 2. stopnja)
ATTENDEE:2. letnik (Medicinska fizika, 2. stopnja)
CATEGORIES:Entry,Standard
COLOR:darkgreen
DESCRIPTION:Predmet: Izbrana poglavja iz medicinske fizike (MEF-1\, MEF-2)
 \, Seminar (S)\nLetniki: 1. letnik (Medicinska fizika\, 2. stopnja)\, 2. l
 etnik (Medicinska fizika\, 2. stopnja)\nIzvajalci: Igor Serša\nProstor: F
 3
LOCATION:F3
ORGANIZER:Igor Serša
RELATED-TO:fmf-AFLABS-URNIK:srecanje:10770
X-WR-TIMEZONE:Europe/Ljubljana
END:VEVENT
BEGIN:VEVENT
SUMMARY:Izbrana poglavja iz medicinske fizike (MEF-1\, MEF-2)\, Seminar (S
 )
DTSTART;TZID=Europe/Ljubljana:20240305T140000
DTEND;TZID=Europe/Ljubljana:20240305T150000
DTSTAMP:20260425T105309Z
UID:fmf-AFLABS-URNIK:premaknjeno-srecanje:136941
ATTENDEE:1. letnik (Medicinska fizika, 2. stopnja)
ATTENDEE:2. letnik (Medicinska fizika, 2. stopnja)
CATEGORIES:Entry,Standard
COLOR:darkgreen
DESCRIPTION:Predmet: Izbrana poglavja iz medicinske fizike (MEF-1\, MEF-2)
 \, Seminar (S)\nLetniki: 1. letnik (Medicinska fizika\, 2. stopnja)\, 2. l
 etnik (Medicinska fizika\, 2. stopnja)\nIzvajalci: Igor Serša\nProstor: F
 3
LOCATION:F3
ORGANIZER:Igor Serša
RELATED-TO:fmf-AFLABS-URNIK:srecanje:10770
X-WR-TIMEZONE:Europe/Ljubljana
END:VEVENT
BEGIN:VEVENT
SUMMARY:Izbrana poglavja iz medicinske fizike (MEF-1\, MEF-2)\, Seminar (S
 )
DTSTART;TZID=Europe/Ljubljana:20240312T140000
DTEND;TZID=Europe/Ljubljana:20240312T150000
DTSTAMP:20260425T105309Z
UID:fmf-AFLABS-URNIK:premaknjeno-srecanje:136942
ATTENDEE:1. letnik (Medicinska fizika, 2. stopnja)
ATTENDEE:2. letnik (Medicinska fizika, 2. stopnja)
CATEGORIES:Entry,Standard
COLOR:darkgreen
DESCRIPTION:Predmet: Izbrana poglavja iz medicinske fizike (MEF-1\, MEF-2)
 \, Seminar (S)\nLetniki: 1. letnik (Medicinska fizika\, 2. stopnja)\, 2. l
 etnik (Medicinska fizika\, 2. stopnja)\nIzvajalci: Igor Serša\nProstor: F
 3
LOCATION:F3
ORGANIZER:Igor Serša
RELATED-TO:fmf-AFLABS-URNIK:srecanje:10770
X-WR-TIMEZONE:Europe/Ljubljana
END:VEVENT
BEGIN:VEVENT
SUMMARY:Eksperimentalna medicinska fizika (MEF-1\, MEF-2)\, Seminar (S)
DTSTART;TZID=Europe/Ljubljana:20240221T140000
DTEND;TZID=Europe/Ljubljana:20240221T150000
DTSTAMP:20260425T105309Z
UID:fmf-AFLABS-URNIK:premaknjeno-srecanje:136206
ATTENDEE:1. letnik (Medicinska fizika, 2. stopnja)
ATTENDEE:2. letnik (Medicinska fizika, 2. stopnja)
CATEGORIES:Entry,Standard
COLOR:darkgreen
DESCRIPTION:Predmet: Eksperimentalna medicinska fizika (MEF-1\, MEF-2)\, S
 eminar (S)\nLetniki: 1. letnik (Medicinska fizika\, 2. stopnja)\, 2. letni
 k (Medicinska fizika\, 2. stopnja)\nIzvajalci: Igor Serša\nProstor: Kuš
 čerjev seminar
LOCATION:Kuščerjev seminar
ORGANIZER:Igor Serša
RELATED-TO:fmf-AFLABS-URNIK:srecanje:10894
X-WR-TIMEZONE:Europe/Ljubljana
END:VEVENT
BEGIN:VEVENT
SUMMARY:Eksperimentalna medicinska fizika (MEF-1\, MEF-2)\, Seminar (S)
DTSTART;TZID=Europe/Ljubljana:20240228T140000
DTEND;TZID=Europe/Ljubljana:20240228T150000
DTSTAMP:20260425T105309Z
UID:fmf-AFLABS-URNIK:premaknjeno-srecanje:136207
ATTENDEE:1. letnik (Medicinska fizika, 2. stopnja)
ATTENDEE:2. letnik (Medicinska fizika, 2. stopnja)
CATEGORIES:Entry,Standard
COLOR:darkgreen
DESCRIPTION:Predmet: Eksperimentalna medicinska fizika (MEF-1\, MEF-2)\, S
 eminar (S)\nLetniki: 1. letnik (Medicinska fizika\, 2. stopnja)\, 2. letni
 k (Medicinska fizika\, 2. stopnja)\nIzvajalci: Igor Serša\nProstor: Kuš
 čerjev seminar
LOCATION:Kuščerjev seminar
ORGANIZER:Igor Serša
RELATED-TO:fmf-AFLABS-URNIK:srecanje:10894
X-WR-TIMEZONE:Europe/Ljubljana
END:VEVENT
BEGIN:VEVENT
SUMMARY:Eksperimentalna medicinska fizika (MEF-1\, MEF-2)\, Seminar (S)
DTSTART;TZID=Europe/Ljubljana:20240306T140000
DTEND;TZID=Europe/Ljubljana:20240306T150000
DTSTAMP:20260425T105309Z
UID:fmf-AFLABS-URNIK:premaknjeno-srecanje:136208
ATTENDEE:1. letnik (Medicinska fizika, 2. stopnja)
ATTENDEE:2. letnik (Medicinska fizika, 2. stopnja)
CATEGORIES:Entry,Standard
COLOR:darkgreen
DESCRIPTION:Predmet: Eksperimentalna medicinska fizika (MEF-1\, MEF-2)\, S
 eminar (S)\nLetniki: 1. letnik (Medicinska fizika\, 2. stopnja)\, 2. letni
 k (Medicinska fizika\, 2. stopnja)\nIzvajalci: Igor Serša\nProstor: Kuš
 čerjev seminar
LOCATION:Kuščerjev seminar
ORGANIZER:Igor Serša
RELATED-TO:fmf-AFLABS-URNIK:srecanje:10894
X-WR-TIMEZONE:Europe/Ljubljana
END:VEVENT
BEGIN:VEVENT
SUMMARY:Eksperimentalna medicinska fizika (MEF-1\, MEF-2)\, Seminar (S)
DTSTART;TZID=Europe/Ljubljana:20240313T140000
DTEND;TZID=Europe/Ljubljana:20240313T150000
DTSTAMP:20260425T105309Z
UID:fmf-AFLABS-URNIK:premaknjeno-srecanje:136209
ATTENDEE:1. letnik (Medicinska fizika, 2. stopnja)
ATTENDEE:2. letnik (Medicinska fizika, 2. stopnja)
CATEGORIES:Entry,Standard
COLOR:darkgreen
DESCRIPTION:Predmet: Eksperimentalna medicinska fizika (MEF-1\, MEF-2)\, S
 eminar (S)\nLetniki: 1. letnik (Medicinska fizika\, 2. stopnja)\, 2. letni
 k (Medicinska fizika\, 2. stopnja)\nIzvajalci: Igor Serša\nProstor: Kuš
 čerjev seminar
LOCATION:Kuščerjev seminar
ORGANIZER:Igor Serša
RELATED-TO:fmf-AFLABS-URNIK:srecanje:10894
X-WR-TIMEZONE:Europe/Ljubljana
END:VEVENT
END:VCALENDAR
