BEGIN:VCALENDAR
VERSION:2.0
PRODID:-//AFLabs urnik izvoz - fmf//aflabs.si//SI
DTSTAMP:20260419T135758Z
NAME:UL FMF urnik
REFRESH-INTERVAL:PT1H
SOURCE:https://urnik.fmf.uni-lj.si/teacher/291?day=2026-03-09&export=1
URL:https://urnik.fmf.uni-lj.si/teacher/291?day=2026-03-09&export=1
X-PUBLISHED-TTL:PT1H
X-WR-CALNAME:UL FMF urnik
X-WR-TIMEZONE:Europe/Ljubljana
BEGIN:VTIMEZONE
TZID:Europe/Ljubljana
BEGIN:DAYLIGHT
DTSTART:20260329T020000
RDATE:20260329T020000
RDATE:20270328T020000
TZNAME:CEST
TZOFFSETFROM:+0100
TZOFFSETTO:+0200
END:DAYLIGHT
BEGIN:STANDARD
DTSTART:20261025T030000
RDATE:20261025T030000
RDATE:20271031T030000
TZNAME:CET
TZOFFSETFROM:+0200
TZOFFSETTO:+0100
END:STANDARD
END:VTIMEZONE
BEGIN:VEVENT
SUMMARY:Eksperimentalna medicinska fizika (MEF-1\, MEF-2)\, Seminar (S)
DTSTART;TZID=Europe/Ljubljana:20260219T120000
DTEND;TZID=Europe/Ljubljana:20260219T130000
DTSTAMP:20260419T135758Z
UID:fmf-AFLABS-URNIK:premaknjeno-srecanje:250443
ATTENDEE:1. letnik (Medicinska fizika, 2. stopnja)
ATTENDEE:2. letnik (Medicinska fizika, 2. stopnja)
CATEGORIES:Entry,Standard
COLOR:darkgreen
DESCRIPTION:Predmet: Eksperimentalna medicinska fizika (MEF-1\, MEF-2)\, S
 eminar (S)\nLetniki: 1. letnik (Medicinska fizika\, 2. stopnja)\, 2. letni
 k (Medicinska fizika\, 2. stopnja)\nIzvajalci: Igor Serša\nProstor: Kuš
 čerjev seminar
LOCATION:Kuščerjev seminar
ORGANIZER:Igor Serša
RELATED-TO:fmf-AFLABS-URNIK:srecanje:17123
X-WR-TIMEZONE:Europe/Ljubljana
END:VEVENT
BEGIN:VEVENT
SUMMARY:Eksperimentalna medicinska fizika (MEF-1\, MEF-2)\, Seminar (S)
DTSTART;TZID=Europe/Ljubljana:20260226T120000
DTEND;TZID=Europe/Ljubljana:20260226T130000
DTSTAMP:20260419T135758Z
UID:fmf-AFLABS-URNIK:premaknjeno-srecanje:250444
ATTENDEE:1. letnik (Medicinska fizika, 2. stopnja)
ATTENDEE:2. letnik (Medicinska fizika, 2. stopnja)
CATEGORIES:Entry,Standard
COLOR:darkgreen
DESCRIPTION:Predmet: Eksperimentalna medicinska fizika (MEF-1\, MEF-2)\, S
 eminar (S)\nLetniki: 1. letnik (Medicinska fizika\, 2. stopnja)\, 2. letni
 k (Medicinska fizika\, 2. stopnja)\nIzvajalci: Igor Serša\nProstor: Kuš
 čerjev seminar
LOCATION:Kuščerjev seminar
ORGANIZER:Igor Serša
RELATED-TO:fmf-AFLABS-URNIK:srecanje:17123
X-WR-TIMEZONE:Europe/Ljubljana
END:VEVENT
BEGIN:VEVENT
SUMMARY:Eksperimentalna medicinska fizika (MEF-1\, MEF-2)\, Seminar (S)
DTSTART;TZID=Europe/Ljubljana:20260305T120000
DTEND;TZID=Europe/Ljubljana:20260305T130000
DTSTAMP:20260419T135758Z
UID:fmf-AFLABS-URNIK:premaknjeno-srecanje:250445
ATTENDEE:1. letnik (Medicinska fizika, 2. stopnja)
ATTENDEE:2. letnik (Medicinska fizika, 2. stopnja)
CATEGORIES:Entry,Standard
COLOR:darkgreen
DESCRIPTION:Predmet: Eksperimentalna medicinska fizika (MEF-1\, MEF-2)\, S
 eminar (S)\nLetniki: 1. letnik (Medicinska fizika\, 2. stopnja)\, 2. letni
 k (Medicinska fizika\, 2. stopnja)\nIzvajalci: Igor Serša\nProstor: Kuš
 čerjev seminar
LOCATION:Kuščerjev seminar
ORGANIZER:Igor Serša
RELATED-TO:fmf-AFLABS-URNIK:srecanje:17123
X-WR-TIMEZONE:Europe/Ljubljana
END:VEVENT
BEGIN:VEVENT
SUMMARY:Eksperimentalna medicinska fizika (MEF-1\, MEF-2)\, Seminar (S)
DTSTART;TZID=Europe/Ljubljana:20260312T120000
DTEND;TZID=Europe/Ljubljana:20260312T130000
DTSTAMP:20260419T135758Z
UID:fmf-AFLABS-URNIK:premaknjeno-srecanje:250446
ATTENDEE:1. letnik (Medicinska fizika, 2. stopnja)
ATTENDEE:2. letnik (Medicinska fizika, 2. stopnja)
CATEGORIES:Entry,Standard
COLOR:darkgreen
DESCRIPTION:Predmet: Eksperimentalna medicinska fizika (MEF-1\, MEF-2)\, S
 eminar (S)\nLetniki: 1. letnik (Medicinska fizika\, 2. stopnja)\, 2. letni
 k (Medicinska fizika\, 2. stopnja)\nIzvajalci: Igor Serša\nProstor: Kuš
 čerjev seminar
LOCATION:Kuščerjev seminar
ORGANIZER:Igor Serša
RELATED-TO:fmf-AFLABS-URNIK:srecanje:17123
X-WR-TIMEZONE:Europe/Ljubljana
END:VEVENT
BEGIN:VEVENT
SUMMARY:Eksperimentalna medicinska fizika (MEF-1\, MEF-2)\, Seminar (S)
DTSTART;TZID=Europe/Ljubljana:20260319T120000
DTEND;TZID=Europe/Ljubljana:20260319T130000
DTSTAMP:20260419T135758Z
UID:fmf-AFLABS-URNIK:premaknjeno-srecanje:250447
ATTENDEE:1. letnik (Medicinska fizika, 2. stopnja)
ATTENDEE:2. letnik (Medicinska fizika, 2. stopnja)
CATEGORIES:Entry,Standard
COLOR:darkgreen
DESCRIPTION:Predmet: Eksperimentalna medicinska fizika (MEF-1\, MEF-2)\, S
 eminar (S)\nLetniki: 1. letnik (Medicinska fizika\, 2. stopnja)\, 2. letni
 k (Medicinska fizika\, 2. stopnja)\nIzvajalci: Igor Serša\nProstor: Kuš
 čerjev seminar
LOCATION:Kuščerjev seminar
ORGANIZER:Igor Serša
RELATED-TO:fmf-AFLABS-URNIK:srecanje:17123
X-WR-TIMEZONE:Europe/Ljubljana
END:VEVENT
BEGIN:VEVENT
SUMMARY:Eksperimentalna medicinska fizika (MEF-1\, MEF-2)\, Seminar (S)
DTSTART;TZID=Europe/Ljubljana:20260326T120000
DTEND;TZID=Europe/Ljubljana:20260326T130000
DTSTAMP:20260419T135758Z
UID:fmf-AFLABS-URNIK:premaknjeno-srecanje:250448
ATTENDEE:1. letnik (Medicinska fizika, 2. stopnja)
ATTENDEE:2. letnik (Medicinska fizika, 2. stopnja)
CATEGORIES:Entry,Standard
COLOR:darkgreen
DESCRIPTION:Predmet: Eksperimentalna medicinska fizika (MEF-1\, MEF-2)\, S
 eminar (S)\nLetniki: 1. letnik (Medicinska fizika\, 2. stopnja)\, 2. letni
 k (Medicinska fizika\, 2. stopnja)\nIzvajalci: Igor Serša\nProstor: Kuš
 čerjev seminar
LOCATION:Kuščerjev seminar
ORGANIZER:Igor Serša
RELATED-TO:fmf-AFLABS-URNIK:srecanje:17123
X-WR-TIMEZONE:Europe/Ljubljana
END:VEVENT
BEGIN:VEVENT
SUMMARY:Eksperimentalna medicinska fizika (MEF-1\, MEF-2)\, Seminar (S)
DTSTART;TZID=Europe/Ljubljana:20260402T120000
DTEND;TZID=Europe/Ljubljana:20260402T130000
DTSTAMP:20260419T135758Z
UID:fmf-AFLABS-URNIK:premaknjeno-srecanje:250449
ATTENDEE:1. letnik (Medicinska fizika, 2. stopnja)
ATTENDEE:2. letnik (Medicinska fizika, 2. stopnja)
CATEGORIES:Entry,Standard
COLOR:darkgreen
DESCRIPTION:Predmet: Eksperimentalna medicinska fizika (MEF-1\, MEF-2)\, S
 eminar (S)\nLetniki: 1. letnik (Medicinska fizika\, 2. stopnja)\, 2. letni
 k (Medicinska fizika\, 2. stopnja)\nIzvajalci: Igor Serša\nProstor: Kuš
 čerjev seminar
LOCATION:Kuščerjev seminar
ORGANIZER:Igor Serša
RELATED-TO:fmf-AFLABS-URNIK:srecanje:17123
X-WR-TIMEZONE:Europe/Ljubljana
END:VEVENT
BEGIN:VEVENT
SUMMARY:Eksperimentalna medicinska fizika (MEF-1\, MEF-2)\, Seminar (S)
DTSTART;TZID=Europe/Ljubljana:20260409T120000
DTEND;TZID=Europe/Ljubljana:20260409T130000
DTSTAMP:20260419T135758Z
UID:fmf-AFLABS-URNIK:premaknjeno-srecanje:250450
ATTENDEE:1. letnik (Medicinska fizika, 2. stopnja)
ATTENDEE:2. letnik (Medicinska fizika, 2. stopnja)
CATEGORIES:Entry,Standard
COLOR:darkgreen
DESCRIPTION:Predmet: Eksperimentalna medicinska fizika (MEF-1\, MEF-2)\, S
 eminar (S)\nLetniki: 1. letnik (Medicinska fizika\, 2. stopnja)\, 2. letni
 k (Medicinska fizika\, 2. stopnja)\nIzvajalci: Igor Serša\nProstor: Kuš
 čerjev seminar
LOCATION:Kuščerjev seminar
ORGANIZER:Igor Serša
RELATED-TO:fmf-AFLABS-URNIK:srecanje:17123
X-WR-TIMEZONE:Europe/Ljubljana
END:VEVENT
BEGIN:VEVENT
SUMMARY:Eksperimentalna medicinska fizika (MEF-1\, MEF-2)\, Seminar (S)
DTSTART;TZID=Europe/Ljubljana:20260416T120000
DTEND;TZID=Europe/Ljubljana:20260416T130000
DTSTAMP:20260419T135758Z
UID:fmf-AFLABS-URNIK:premaknjeno-srecanje:250451
ATTENDEE:1. letnik (Medicinska fizika, 2. stopnja)
ATTENDEE:2. letnik (Medicinska fizika, 2. stopnja)
CATEGORIES:Entry,Standard
COLOR:darkgreen
DESCRIPTION:Predmet: Eksperimentalna medicinska fizika (MEF-1\, MEF-2)\, S
 eminar (S)\nLetniki: 1. letnik (Medicinska fizika\, 2. stopnja)\, 2. letni
 k (Medicinska fizika\, 2. stopnja)\nIzvajalci: Igor Serša\nProstor: Kuš
 čerjev seminar
LOCATION:Kuščerjev seminar
ORGANIZER:Igor Serša
RELATED-TO:fmf-AFLABS-URNIK:srecanje:17123
X-WR-TIMEZONE:Europe/Ljubljana
END:VEVENT
BEGIN:VEVENT
SUMMARY:Eksperimentalna medicinska fizika (MEF-1\, MEF-2)\, Seminar (S)
DTSTART;TZID=Europe/Ljubljana:20260423T120000
DTEND;TZID=Europe/Ljubljana:20260423T130000
DTSTAMP:20260419T135758Z
UID:fmf-AFLABS-URNIK:premaknjeno-srecanje:250452
ATTENDEE:1. letnik (Medicinska fizika, 2. stopnja)
ATTENDEE:2. letnik (Medicinska fizika, 2. stopnja)
CATEGORIES:Entry,Standard
COLOR:darkgreen
DESCRIPTION:Predmet: Eksperimentalna medicinska fizika (MEF-1\, MEF-2)\, S
 eminar (S)\nLetniki: 1. letnik (Medicinska fizika\, 2. stopnja)\, 2. letni
 k (Medicinska fizika\, 2. stopnja)\nIzvajalci: Igor Serša\nProstor: Kuš
 čerjev seminar
LOCATION:Kuščerjev seminar
ORGANIZER:Igor Serša
RELATED-TO:fmf-AFLABS-URNIK:srecanje:17123
X-WR-TIMEZONE:Europe/Ljubljana
END:VEVENT
BEGIN:VEVENT
SUMMARY:Eksperimentalna medicinska fizika (MEF-1\, MEF-2)\, Seminar (S)
DTSTART;TZID=Europe/Ljubljana:20260430T120000
DTEND;TZID=Europe/Ljubljana:20260430T130000
DTSTAMP:20260419T135758Z
UID:fmf-AFLABS-URNIK:premaknjeno-srecanje:250453
ATTENDEE:1. letnik (Medicinska fizika, 2. stopnja)
ATTENDEE:2. letnik (Medicinska fizika, 2. stopnja)
CATEGORIES:Entry,Standard
COLOR:darkgreen
DESCRIPTION:Predmet: Eksperimentalna medicinska fizika (MEF-1\, MEF-2)\, S
 eminar (S)\nLetniki: 1. letnik (Medicinska fizika\, 2. stopnja)\, 2. letni
 k (Medicinska fizika\, 2. stopnja)\nIzvajalci: Igor Serša\nProstor: Kuš
 čerjev seminar
LOCATION:Kuščerjev seminar
ORGANIZER:Igor Serša
RELATED-TO:fmf-AFLABS-URNIK:srecanje:17123
X-WR-TIMEZONE:Europe/Ljubljana
END:VEVENT
BEGIN:VEVENT
SUMMARY:Eksperimentalna medicinska fizika (MEF-1\, MEF-2)\, Seminar (S)
DTSTART;TZID=Europe/Ljubljana:20260507T120000
DTEND;TZID=Europe/Ljubljana:20260507T130000
DTSTAMP:20260419T135758Z
UID:fmf-AFLABS-URNIK:premaknjeno-srecanje:250454
ATTENDEE:1. letnik (Medicinska fizika, 2. stopnja)
ATTENDEE:2. letnik (Medicinska fizika, 2. stopnja)
CATEGORIES:Entry,Standard
COLOR:darkgreen
DESCRIPTION:Predmet: Eksperimentalna medicinska fizika (MEF-1\, MEF-2)\, S
 eminar (S)\nLetniki: 1. letnik (Medicinska fizika\, 2. stopnja)\, 2. letni
 k (Medicinska fizika\, 2. stopnja)\nIzvajalci: Igor Serša\nProstor: Kuš
 čerjev seminar
LOCATION:Kuščerjev seminar
ORGANIZER:Igor Serša
RELATED-TO:fmf-AFLABS-URNIK:srecanje:17123
X-WR-TIMEZONE:Europe/Ljubljana
END:VEVENT
BEGIN:VEVENT
SUMMARY:Eksperimentalna medicinska fizika (MEF-1\, MEF-2)\, Seminar (S)
DTSTART;TZID=Europe/Ljubljana:20260514T120000
DTEND;TZID=Europe/Ljubljana:20260514T130000
DTSTAMP:20260419T135758Z
UID:fmf-AFLABS-URNIK:premaknjeno-srecanje:250455
ATTENDEE:1. letnik (Medicinska fizika, 2. stopnja)
ATTENDEE:2. letnik (Medicinska fizika, 2. stopnja)
CATEGORIES:Entry,Standard
COLOR:darkgreen
DESCRIPTION:Predmet: Eksperimentalna medicinska fizika (MEF-1\, MEF-2)\, S
 eminar (S)\nLetniki: 1. letnik (Medicinska fizika\, 2. stopnja)\, 2. letni
 k (Medicinska fizika\, 2. stopnja)\nIzvajalci: Igor Serša\nProstor: Kuš
 čerjev seminar
LOCATION:Kuščerjev seminar
ORGANIZER:Igor Serša
RELATED-TO:fmf-AFLABS-URNIK:srecanje:17123
X-WR-TIMEZONE:Europe/Ljubljana
END:VEVENT
BEGIN:VEVENT
SUMMARY:Eksperimentalna medicinska fizika (MEF-1\, MEF-2)\, Seminar (S)
DTSTART;TZID=Europe/Ljubljana:20260521T120000
DTEND;TZID=Europe/Ljubljana:20260521T130000
DTSTAMP:20260419T135758Z
UID:fmf-AFLABS-URNIK:premaknjeno-srecanje:250456
ATTENDEE:1. letnik (Medicinska fizika, 2. stopnja)
ATTENDEE:2. letnik (Medicinska fizika, 2. stopnja)
CATEGORIES:Entry,Standard
COLOR:darkgreen
DESCRIPTION:Predmet: Eksperimentalna medicinska fizika (MEF-1\, MEF-2)\, S
 eminar (S)\nLetniki: 1. letnik (Medicinska fizika\, 2. stopnja)\, 2. letni
 k (Medicinska fizika\, 2. stopnja)\nIzvajalci: Igor Serša\nProstor: Kuš
 čerjev seminar
LOCATION:Kuščerjev seminar
ORGANIZER:Igor Serša
RELATED-TO:fmf-AFLABS-URNIK:srecanje:17123
X-WR-TIMEZONE:Europe/Ljubljana
END:VEVENT
BEGIN:VEVENT
SUMMARY:Eksperimentalna medicinska fizika (MEF-1\, MEF-2)\, Seminar (S)
DTSTART;TZID=Europe/Ljubljana:20260528T120000
DTEND;TZID=Europe/Ljubljana:20260528T130000
DTSTAMP:20260419T135758Z
UID:fmf-AFLABS-URNIK:premaknjeno-srecanje:250457
ATTENDEE:1. letnik (Medicinska fizika, 2. stopnja)
ATTENDEE:2. letnik (Medicinska fizika, 2. stopnja)
CATEGORIES:Entry,Standard
COLOR:darkgreen
DESCRIPTION:Predmet: Eksperimentalna medicinska fizika (MEF-1\, MEF-2)\, S
 eminar (S)\nLetniki: 1. letnik (Medicinska fizika\, 2. stopnja)\, 2. letni
 k (Medicinska fizika\, 2. stopnja)\nIzvajalci: Igor Serša\nProstor: Kuš
 čerjev seminar
LOCATION:Kuščerjev seminar
ORGANIZER:Igor Serša
RELATED-TO:fmf-AFLABS-URNIK:srecanje:17123
X-WR-TIMEZONE:Europe/Ljubljana
END:VEVENT
BEGIN:VEVENT
SUMMARY:Izbrana poglavja iz medicinske fizike (MEF-1\, MEF-2)\, Seminar (S
 )
DTSTART;TZID=Europe/Ljubljana:20260219T150000
DTEND;TZID=Europe/Ljubljana:20260219T170000
DTSTAMP:20260419T135758Z
UID:fmf-AFLABS-URNIK:premaknjeno-srecanje:252118
ATTENDEE:1. letnik (Medicinska fizika, 2. stopnja)
ATTENDEE:2. letnik (Medicinska fizika, 2. stopnja)
CATEGORIES:Entry,Standard
COLOR:darkgreen
DESCRIPTION:Predmet: Izbrana poglavja iz medicinske fizike (MEF-1\, MEF-2)
 \, Seminar (S)\nLetniki: 1. letnik (Medicinska fizika\, 2. stopnja)\, 2. l
 etnik (Medicinska fizika\, 2. stopnja)\nIzvajalci: Igor Serša\nProstor: F
 7
LOCATION:F7
ORGANIZER:Igor Serša
RELATED-TO:fmf-AFLABS-URNIK:srecanje:17250
X-WR-TIMEZONE:Europe/Ljubljana
END:VEVENT
BEGIN:VEVENT
SUMMARY:Izbrana poglavja iz medicinske fizike (MEF-1\, MEF-2)\, Seminar (S
 )
DTSTART;TZID=Europe/Ljubljana:20260226T150000
DTEND;TZID=Europe/Ljubljana:20260226T170000
DTSTAMP:20260419T135758Z
UID:fmf-AFLABS-URNIK:premaknjeno-srecanje:252119
ATTENDEE:1. letnik (Medicinska fizika, 2. stopnja)
ATTENDEE:2. letnik (Medicinska fizika, 2. stopnja)
CATEGORIES:Entry,Standard
COLOR:darkgreen
DESCRIPTION:Predmet: Izbrana poglavja iz medicinske fizike (MEF-1\, MEF-2)
 \, Seminar (S)\nLetniki: 1. letnik (Medicinska fizika\, 2. stopnja)\, 2. l
 etnik (Medicinska fizika\, 2. stopnja)\nIzvajalci: Igor Serša\nProstor: F
 7
LOCATION:F7
ORGANIZER:Igor Serša
RELATED-TO:fmf-AFLABS-URNIK:srecanje:17250
X-WR-TIMEZONE:Europe/Ljubljana
END:VEVENT
BEGIN:VEVENT
SUMMARY:Izbrana poglavja iz medicinske fizike (MEF-1\, MEF-2)\, Seminar (S
 )
DTSTART;TZID=Europe/Ljubljana:20260305T150000
DTEND;TZID=Europe/Ljubljana:20260305T170000
DTSTAMP:20260419T135758Z
UID:fmf-AFLABS-URNIK:premaknjeno-srecanje:252120
ATTENDEE:1. letnik (Medicinska fizika, 2. stopnja)
ATTENDEE:2. letnik (Medicinska fizika, 2. stopnja)
CATEGORIES:Entry,Standard
COLOR:darkgreen
DESCRIPTION:Predmet: Izbrana poglavja iz medicinske fizike (MEF-1\, MEF-2)
 \, Seminar (S)\nLetniki: 1. letnik (Medicinska fizika\, 2. stopnja)\, 2. l
 etnik (Medicinska fizika\, 2. stopnja)\nIzvajalci: Igor Serša\nProstor: F
 7
LOCATION:F7
ORGANIZER:Igor Serša
RELATED-TO:fmf-AFLABS-URNIK:srecanje:17250
X-WR-TIMEZONE:Europe/Ljubljana
END:VEVENT
BEGIN:VEVENT
SUMMARY:Izbrana poglavja iz medicinske fizike (MEF-1\, MEF-2)\, Seminar (S
 )
DTSTART;TZID=Europe/Ljubljana:20260312T150000
DTEND;TZID=Europe/Ljubljana:20260312T170000
DTSTAMP:20260419T135758Z
UID:fmf-AFLABS-URNIK:premaknjeno-srecanje:252121
ATTENDEE:1. letnik (Medicinska fizika, 2. stopnja)
ATTENDEE:2. letnik (Medicinska fizika, 2. stopnja)
CATEGORIES:Entry,Standard
COLOR:darkgreen
DESCRIPTION:Predmet: Izbrana poglavja iz medicinske fizike (MEF-1\, MEF-2)
 \, Seminar (S)\nLetniki: 1. letnik (Medicinska fizika\, 2. stopnja)\, 2. l
 etnik (Medicinska fizika\, 2. stopnja)\nIzvajalci: Igor Serša\nProstor: F
 7
LOCATION:F7
ORGANIZER:Igor Serša
RELATED-TO:fmf-AFLABS-URNIK:srecanje:17250
X-WR-TIMEZONE:Europe/Ljubljana
END:VEVENT
BEGIN:VEVENT
SUMMARY:Izbrana poglavja iz medicinske fizike (MEF-1\, MEF-2)\, Seminar (S
 )
DTSTART;TZID=Europe/Ljubljana:20260319T150000
DTEND;TZID=Europe/Ljubljana:20260319T170000
DTSTAMP:20260419T135758Z
UID:fmf-AFLABS-URNIK:premaknjeno-srecanje:252122
ATTENDEE:1. letnik (Medicinska fizika, 2. stopnja)
ATTENDEE:2. letnik (Medicinska fizika, 2. stopnja)
CATEGORIES:Entry,Standard
COLOR:darkgreen
DESCRIPTION:Predmet: Izbrana poglavja iz medicinske fizike (MEF-1\, MEF-2)
 \, Seminar (S)\nLetniki: 1. letnik (Medicinska fizika\, 2. stopnja)\, 2. l
 etnik (Medicinska fizika\, 2. stopnja)\nIzvajalci: Igor Serša\nProstor: F
 7
LOCATION:F7
ORGANIZER:Igor Serša
RELATED-TO:fmf-AFLABS-URNIK:srecanje:17250
X-WR-TIMEZONE:Europe/Ljubljana
END:VEVENT
BEGIN:VEVENT
SUMMARY:Izbrana poglavja iz medicinske fizike (MEF-1\, MEF-2)\, Seminar (S
 )
DTSTART;TZID=Europe/Ljubljana:20260326T150000
DTEND;TZID=Europe/Ljubljana:20260326T170000
DTSTAMP:20260419T135758Z
UID:fmf-AFLABS-URNIK:premaknjeno-srecanje:252123
ATTENDEE:1. letnik (Medicinska fizika, 2. stopnja)
ATTENDEE:2. letnik (Medicinska fizika, 2. stopnja)
CATEGORIES:Entry,Standard
COLOR:darkgreen
DESCRIPTION:Predmet: Izbrana poglavja iz medicinske fizike (MEF-1\, MEF-2)
 \, Seminar (S)\nLetniki: 1. letnik (Medicinska fizika\, 2. stopnja)\, 2. l
 etnik (Medicinska fizika\, 2. stopnja)\nIzvajalci: Igor Serša\nProstor: F
 7
LOCATION:F7
ORGANIZER:Igor Serša
RELATED-TO:fmf-AFLABS-URNIK:srecanje:17250
X-WR-TIMEZONE:Europe/Ljubljana
END:VEVENT
BEGIN:VEVENT
SUMMARY:Izbrana poglavja iz medicinske fizike (MEF-1\, MEF-2)\, Seminar (S
 )
DTSTART;TZID=Europe/Ljubljana:20260402T150000
DTEND;TZID=Europe/Ljubljana:20260402T170000
DTSTAMP:20260419T135758Z
UID:fmf-AFLABS-URNIK:premaknjeno-srecanje:252124
ATTENDEE:1. letnik (Medicinska fizika, 2. stopnja)
ATTENDEE:2. letnik (Medicinska fizika, 2. stopnja)
CATEGORIES:Entry,Standard
COLOR:darkgreen
DESCRIPTION:Predmet: Izbrana poglavja iz medicinske fizike (MEF-1\, MEF-2)
 \, Seminar (S)\nLetniki: 1. letnik (Medicinska fizika\, 2. stopnja)\, 2. l
 etnik (Medicinska fizika\, 2. stopnja)\nIzvajalci: Igor Serša\nProstor: F
 7
LOCATION:F7
ORGANIZER:Igor Serša
RELATED-TO:fmf-AFLABS-URNIK:srecanje:17250
X-WR-TIMEZONE:Europe/Ljubljana
END:VEVENT
BEGIN:VEVENT
SUMMARY:Izbrana poglavja iz medicinske fizike (MEF-1\, MEF-2)\, Seminar (S
 )
DTSTART;TZID=Europe/Ljubljana:20260409T150000
DTEND;TZID=Europe/Ljubljana:20260409T170000
DTSTAMP:20260419T135758Z
UID:fmf-AFLABS-URNIK:premaknjeno-srecanje:252125
ATTENDEE:1. letnik (Medicinska fizika, 2. stopnja)
ATTENDEE:2. letnik (Medicinska fizika, 2. stopnja)
CATEGORIES:Entry,Standard
COLOR:darkgreen
DESCRIPTION:Predmet: Izbrana poglavja iz medicinske fizike (MEF-1\, MEF-2)
 \, Seminar (S)\nLetniki: 1. letnik (Medicinska fizika\, 2. stopnja)\, 2. l
 etnik (Medicinska fizika\, 2. stopnja)\nIzvajalci: Igor Serša\nProstor: F
 7
LOCATION:F7
ORGANIZER:Igor Serša
RELATED-TO:fmf-AFLABS-URNIK:srecanje:17250
X-WR-TIMEZONE:Europe/Ljubljana
END:VEVENT
BEGIN:VEVENT
SUMMARY:Izbrana poglavja iz medicinske fizike (MEF-1\, MEF-2)\, Seminar (S
 )
DTSTART;TZID=Europe/Ljubljana:20260416T150000
DTEND;TZID=Europe/Ljubljana:20260416T170000
DTSTAMP:20260419T135758Z
UID:fmf-AFLABS-URNIK:premaknjeno-srecanje:252126
ATTENDEE:1. letnik (Medicinska fizika, 2. stopnja)
ATTENDEE:2. letnik (Medicinska fizika, 2. stopnja)
CATEGORIES:Entry,Standard
COLOR:darkgreen
DESCRIPTION:Predmet: Izbrana poglavja iz medicinske fizike (MEF-1\, MEF-2)
 \, Seminar (S)\nLetniki: 1. letnik (Medicinska fizika\, 2. stopnja)\, 2. l
 etnik (Medicinska fizika\, 2. stopnja)\nIzvajalci: Igor Serša\nProstor: F
 7
LOCATION:F7
ORGANIZER:Igor Serša
RELATED-TO:fmf-AFLABS-URNIK:srecanje:17250
X-WR-TIMEZONE:Europe/Ljubljana
END:VEVENT
BEGIN:VEVENT
SUMMARY:Izbrana poglavja iz medicinske fizike (MEF-1\, MEF-2)\, Seminar (S
 )
DTSTART;TZID=Europe/Ljubljana:20260423T150000
DTEND;TZID=Europe/Ljubljana:20260423T170000
DTSTAMP:20260419T135758Z
UID:fmf-AFLABS-URNIK:premaknjeno-srecanje:252127
ATTENDEE:1. letnik (Medicinska fizika, 2. stopnja)
ATTENDEE:2. letnik (Medicinska fizika, 2. stopnja)
CATEGORIES:Entry,Standard
COLOR:darkgreen
DESCRIPTION:Predmet: Izbrana poglavja iz medicinske fizike (MEF-1\, MEF-2)
 \, Seminar (S)\nLetniki: 1. letnik (Medicinska fizika\, 2. stopnja)\, 2. l
 etnik (Medicinska fizika\, 2. stopnja)\nIzvajalci: Igor Serša\nProstor: F
 7
LOCATION:F7
ORGANIZER:Igor Serša
RELATED-TO:fmf-AFLABS-URNIK:srecanje:17250
X-WR-TIMEZONE:Europe/Ljubljana
END:VEVENT
BEGIN:VEVENT
SUMMARY:Izbrana poglavja iz medicinske fizike (MEF-1\, MEF-2)\, Seminar (S
 )
DTSTART;TZID=Europe/Ljubljana:20260430T150000
DTEND;TZID=Europe/Ljubljana:20260430T170000
DTSTAMP:20260419T135758Z
UID:fmf-AFLABS-URNIK:premaknjeno-srecanje:252128
ATTENDEE:1. letnik (Medicinska fizika, 2. stopnja)
ATTENDEE:2. letnik (Medicinska fizika, 2. stopnja)
CATEGORIES:Entry,Standard
COLOR:darkgreen
DESCRIPTION:Predmet: Izbrana poglavja iz medicinske fizike (MEF-1\, MEF-2)
 \, Seminar (S)\nLetniki: 1. letnik (Medicinska fizika\, 2. stopnja)\, 2. l
 etnik (Medicinska fizika\, 2. stopnja)\nIzvajalci: Igor Serša\nProstor: F
 7
LOCATION:F7
ORGANIZER:Igor Serša
RELATED-TO:fmf-AFLABS-URNIK:srecanje:17250
X-WR-TIMEZONE:Europe/Ljubljana
END:VEVENT
BEGIN:VEVENT
SUMMARY:Izbrana poglavja iz medicinske fizike (MEF-1\, MEF-2)\, Seminar (S
 )
DTSTART;TZID=Europe/Ljubljana:20260507T150000
DTEND;TZID=Europe/Ljubljana:20260507T170000
DTSTAMP:20260419T135758Z
UID:fmf-AFLABS-URNIK:premaknjeno-srecanje:252129
ATTENDEE:1. letnik (Medicinska fizika, 2. stopnja)
ATTENDEE:2. letnik (Medicinska fizika, 2. stopnja)
CATEGORIES:Entry,Standard
COLOR:darkgreen
DESCRIPTION:Predmet: Izbrana poglavja iz medicinske fizike (MEF-1\, MEF-2)
 \, Seminar (S)\nLetniki: 1. letnik (Medicinska fizika\, 2. stopnja)\, 2. l
 etnik (Medicinska fizika\, 2. stopnja)\nIzvajalci: Igor Serša\nProstor: F
 7
LOCATION:F7
ORGANIZER:Igor Serša
RELATED-TO:fmf-AFLABS-URNIK:srecanje:17250
X-WR-TIMEZONE:Europe/Ljubljana
END:VEVENT
BEGIN:VEVENT
SUMMARY:Izbrana poglavja iz medicinske fizike (MEF-1\, MEF-2)\, Seminar (S
 )
DTSTART;TZID=Europe/Ljubljana:20260514T150000
DTEND;TZID=Europe/Ljubljana:20260514T170000
DTSTAMP:20260419T135758Z
UID:fmf-AFLABS-URNIK:premaknjeno-srecanje:252130
ATTENDEE:1. letnik (Medicinska fizika, 2. stopnja)
ATTENDEE:2. letnik (Medicinska fizika, 2. stopnja)
CATEGORIES:Entry,Standard
COLOR:darkgreen
DESCRIPTION:Predmet: Izbrana poglavja iz medicinske fizike (MEF-1\, MEF-2)
 \, Seminar (S)\nLetniki: 1. letnik (Medicinska fizika\, 2. stopnja)\, 2. l
 etnik (Medicinska fizika\, 2. stopnja)\nIzvajalci: Igor Serša\nProstor: F
 7
LOCATION:F7
ORGANIZER:Igor Serša
RELATED-TO:fmf-AFLABS-URNIK:srecanje:17250
X-WR-TIMEZONE:Europe/Ljubljana
END:VEVENT
BEGIN:VEVENT
SUMMARY:Izbrana poglavja iz medicinske fizike (MEF-1\, MEF-2)\, Seminar (S
 )
DTSTART;TZID=Europe/Ljubljana:20260521T150000
DTEND;TZID=Europe/Ljubljana:20260521T170000
DTSTAMP:20260419T135758Z
UID:fmf-AFLABS-URNIK:premaknjeno-srecanje:252131
ATTENDEE:1. letnik (Medicinska fizika, 2. stopnja)
ATTENDEE:2. letnik (Medicinska fizika, 2. stopnja)
CATEGORIES:Entry,Standard
COLOR:darkgreen
DESCRIPTION:Predmet: Izbrana poglavja iz medicinske fizike (MEF-1\, MEF-2)
 \, Seminar (S)\nLetniki: 1. letnik (Medicinska fizika\, 2. stopnja)\, 2. l
 etnik (Medicinska fizika\, 2. stopnja)\nIzvajalci: Igor Serša\nProstor: F
 7
LOCATION:F7
ORGANIZER:Igor Serša
RELATED-TO:fmf-AFLABS-URNIK:srecanje:17250
X-WR-TIMEZONE:Europe/Ljubljana
END:VEVENT
BEGIN:VEVENT
SUMMARY:Izbrana poglavja iz medicinske fizike (MEF-1\, MEF-2)\, Seminar (S
 )
DTSTART;TZID=Europe/Ljubljana:20260528T150000
DTEND;TZID=Europe/Ljubljana:20260528T170000
DTSTAMP:20260419T135758Z
UID:fmf-AFLABS-URNIK:premaknjeno-srecanje:252132
ATTENDEE:1. letnik (Medicinska fizika, 2. stopnja)
ATTENDEE:2. letnik (Medicinska fizika, 2. stopnja)
CATEGORIES:Entry,Standard
COLOR:darkgreen
DESCRIPTION:Predmet: Izbrana poglavja iz medicinske fizike (MEF-1\, MEF-2)
 \, Seminar (S)\nLetniki: 1. letnik (Medicinska fizika\, 2. stopnja)\, 2. l
 etnik (Medicinska fizika\, 2. stopnja)\nIzvajalci: Igor Serša\nProstor: F
 7
LOCATION:F7
ORGANIZER:Igor Serša
RELATED-TO:fmf-AFLABS-URNIK:srecanje:17250
X-WR-TIMEZONE:Europe/Ljubljana
END:VEVENT
END:VCALENDAR
