BEGIN:VCALENDAR
VERSION:2.0
PRODID:-//AFLabs urnik izvoz - fmf//aflabs.si//SI
DTSTAMP:20260425T160239Z
NAME:UL FMF urnik
REFRESH-INTERVAL:PT1H
SOURCE:https://urnik.fmf.uni-lj.si/teacher/297?day=2019-09-09&export=1
URL:https://urnik.fmf.uni-lj.si/teacher/297?day=2019-09-09&export=1
X-PUBLISHED-TTL:PT1H
X-WR-CALNAME:UL FMF urnik
X-WR-TIMEZONE:Europe/Ljubljana
BEGIN:VTIMEZONE
TZID:Europe/Ljubljana
BEGIN:DAYLIGHT
DTSTART:20260329T020000
RDATE:20260329T020000
RDATE:20270328T020000
TZNAME:CEST
TZOFFSETFROM:+0100
TZOFFSETTO:+0200
END:DAYLIGHT
BEGIN:STANDARD
DTSTART:20261025T030000
RDATE:20261025T030000
RDATE:20271031T030000
TZNAME:CET
TZOFFSETFROM:+0200
TZOFFSETTO:+0100
END:STANDARD
END:VTIMEZONE
BEGIN:VEVENT
SUMMARY:MAT (FKKT) ()\, Vaje (V)\, [BK]
DTSTART;TZID=Europe/Ljubljana:20191002T130000
DTEND;TZID=Europe/Ljubljana:20191002T150000
DTSTAMP:20260425T160239Z
UID:fmf-AFLABS-URNIK:premaknjeno-srecanje:58688
CATEGORIES:Entry,Standard
COLOR:darkgreen
DESCRIPTION:Predmet: MAT (FKKT) ()\, Vaje (V)\, [BK]\nLetniki: \nIzvajalci
 : Nika Novak\nProstor: FKKT
LOCATION:FKKT
ORGANIZER:Nika Novak
RELATED-TO:fmf-AFLABS-URNIK:srecanje:3514
X-WR-TIMEZONE:Europe/Ljubljana
END:VEVENT
BEGIN:VEVENT
SUMMARY:MAT (FKKT) ()\, Vaje (V)\, [BK]
DTSTART;TZID=Europe/Ljubljana:20191009T130000
DTEND;TZID=Europe/Ljubljana:20191009T150000
DTSTAMP:20260425T160239Z
UID:fmf-AFLABS-URNIK:premaknjeno-srecanje:58689
CATEGORIES:Entry,Standard
COLOR:darkgreen
DESCRIPTION:Predmet: MAT (FKKT) ()\, Vaje (V)\, [BK]\nLetniki: \nIzvajalci
 : Nika Novak\nProstor: FKKT
LOCATION:FKKT
ORGANIZER:Nika Novak
RELATED-TO:fmf-AFLABS-URNIK:srecanje:3514
X-WR-TIMEZONE:Europe/Ljubljana
END:VEVENT
BEGIN:VEVENT
SUMMARY:MAT (FKKT) ()\, Vaje (V)\, [KEM]
DTSTART;TZID=Europe/Ljubljana:20191002T150000
DTEND;TZID=Europe/Ljubljana:20191002T170000
DTSTAMP:20260425T160239Z
UID:fmf-AFLABS-URNIK:premaknjeno-srecanje:58829
CATEGORIES:Entry,Standard
COLOR:darkgreen
DESCRIPTION:Predmet: MAT (FKKT) ()\, Vaje (V)\, [KEM]\nLetniki: \nIzvajalc
 i: Nika Novak\nProstor: FKKT
LOCATION:FKKT
ORGANIZER:Nika Novak
RELATED-TO:fmf-AFLABS-URNIK:srecanje:3917
X-WR-TIMEZONE:Europe/Ljubljana
END:VEVENT
BEGIN:VEVENT
SUMMARY:MAT (FKKT) ()\, Vaje (V)\, [KEM]
DTSTART;TZID=Europe/Ljubljana:20191009T150000
DTEND;TZID=Europe/Ljubljana:20191009T170000
DTSTAMP:20260425T160239Z
UID:fmf-AFLABS-URNIK:premaknjeno-srecanje:58830
CATEGORIES:Entry,Standard
COLOR:darkgreen
DESCRIPTION:Predmet: MAT (FKKT) ()\, Vaje (V)\, [KEM]\nLetniki: \nIzvajalc
 i: Nika Novak\nProstor: FKKT
LOCATION:FKKT
ORGANIZER:Nika Novak
RELATED-TO:fmf-AFLABS-URNIK:srecanje:3917
X-WR-TIMEZONE:Europe/Ljubljana
END:VEVENT
BEGIN:VEVENT
SUMMARY:KOZ ()\, Vaje (V)
DTSTART;TZID=Europe/Ljubljana:20191003T100000
DTEND;TZID=Europe/Ljubljana:20191003T110000
DTSTAMP:20260425T160239Z
UID:fmf-AFLABS-URNIK:premaknjeno-srecanje:48274
CATEGORIES:Entry,Standard
COLOR:darkgreen
DESCRIPTION:Predmet: KOZ ()\, Vaje (V)\nLetniki: \nIzvajalci: Nika Novak\n
 Prostor: FFA
LOCATION:FFA
ORGANIZER:Nika Novak
RELATED-TO:fmf-AFLABS-URNIK:srecanje:3465
X-WR-TIMEZONE:Europe/Ljubljana
END:VEVENT
BEGIN:VEVENT
SUMMARY:KOZ ()\, Vaje (V)
DTSTART;TZID=Europe/Ljubljana:20191010T100000
DTEND;TZID=Europe/Ljubljana:20191010T110000
DTSTAMP:20260425T160239Z
UID:fmf-AFLABS-URNIK:premaknjeno-srecanje:48275
CATEGORIES:Entry,Standard
COLOR:darkgreen
DESCRIPTION:Predmet: KOZ ()\, Vaje (V)\nLetniki: \nIzvajalci: Nika Novak\n
 Prostor: FFA
LOCATION:FFA
ORGANIZER:Nika Novak
RELATED-TO:fmf-AFLABS-URNIK:srecanje:3465
X-WR-TIMEZONE:Europe/Ljubljana
END:VEVENT
BEGIN:VEVENT
SUMMARY:LBM ()\, Vaje (V)
DTSTART;TZID=Europe/Ljubljana:20191003T130000
DTEND;TZID=Europe/Ljubljana:20191003T150000
DTSTAMP:20260425T160239Z
UID:fmf-AFLABS-URNIK:premaknjeno-srecanje:56340
CATEGORIES:Entry,Standard
COLOR:darkgreen
DESCRIPTION:Predmet: LBM ()\, Vaje (V)\nLetniki: \nIzvajalci: Nika Novak\n
 Prostor: FFA
LOCATION:FFA
ORGANIZER:Nika Novak
RELATED-TO:fmf-AFLABS-URNIK:srecanje:3502
X-WR-TIMEZONE:Europe/Ljubljana
END:VEVENT
BEGIN:VEVENT
SUMMARY:LBM ()\, Vaje (V)
DTSTART;TZID=Europe/Ljubljana:20191010T130000
DTEND;TZID=Europe/Ljubljana:20191010T150000
DTSTAMP:20260425T160239Z
UID:fmf-AFLABS-URNIK:premaknjeno-srecanje:56341
CATEGORIES:Entry,Standard
COLOR:darkgreen
DESCRIPTION:Predmet: LBM ()\, Vaje (V)\nLetniki: \nIzvajalci: Nika Novak\n
 Prostor: FFA
LOCATION:FFA
ORGANIZER:Nika Novak
RELATED-TO:fmf-AFLABS-URNIK:srecanje:3502
X-WR-TIMEZONE:Europe/Ljubljana
END:VEVENT
BEGIN:VEVENT
SUMMARY:None\, Vaje (V)
DTSTART;TZID=Europe/Ljubljana:20191004T110000
DTEND;TZID=Europe/Ljubljana:20191004T160000
DTSTAMP:20260425T160239Z
UID:fmf-AFLABS-URNIK:premaknjeno-srecanje:496
CATEGORIES:Entry,Standard
COLOR:darkgreen
DESCRIPTION:Predmet: None\, Vaje (V)\nLetniki: /\nIzvajalci: Nika Novak\nP
 rostor: EF
LOCATION:EF
ORGANIZER:Nika Novak
RELATED-TO:fmf-AFLABS-URNIK:srecanje:3215
X-WR-TIMEZONE:Europe/Ljubljana
END:VEVENT
BEGIN:VEVENT
SUMMARY:None\, Vaje (V)
DTSTART;TZID=Europe/Ljubljana:20191011T110000
DTEND;TZID=Europe/Ljubljana:20191011T160000
DTSTAMP:20260425T160239Z
UID:fmf-AFLABS-URNIK:premaknjeno-srecanje:497
CATEGORIES:Entry,Standard
COLOR:darkgreen
DESCRIPTION:Predmet: None\, Vaje (V)\nLetniki: /\nIzvajalci: Nika Novak\nP
 rostor: EF
LOCATION:EF
ORGANIZER:Nika Novak
RELATED-TO:fmf-AFLABS-URNIK:srecanje:3215
X-WR-TIMEZONE:Europe/Ljubljana
END:VEVENT
BEGIN:VEVENT
SUMMARY:FP (FM-3)\, Vaje (V)
DTSTART;TZID=Europe/Ljubljana:20191004T070000
DTEND;TZID=Europe/Ljubljana:20191004T100000
DTSTAMP:20260425T160239Z
UID:fmf-AFLABS-URNIK:premaknjeno-srecanje:20437
ATTENDEE:3. letnik (FM)
CATEGORIES:Entry,Standard
COLOR:darkgreen
DESCRIPTION:Predmet: FP (FM-3)\, Vaje (V)\nLetniki: 3. letnik (FM)\nIzvaja
 lci: Nika Novak\, Matjaž Zaveršnik\nProstor: 3.10
LOCATION:3.10
ORGANIZER:Nika Novak, Matjaž Zaveršnik
RELATED-TO:fmf-AFLABS-URNIK:srecanje:3310
X-WR-TIMEZONE:Europe/Ljubljana
END:VEVENT
BEGIN:VEVENT
SUMMARY:FP (FM-3)\, Vaje (V)
DTSTART;TZID=Europe/Ljubljana:20191011T070000
DTEND;TZID=Europe/Ljubljana:20191011T100000
DTSTAMP:20260425T160239Z
UID:fmf-AFLABS-URNIK:premaknjeno-srecanje:20438
ATTENDEE:3. letnik (FM)
CATEGORIES:Entry,Standard
COLOR:darkgreen
DESCRIPTION:Predmet: FP (FM-3)\, Vaje (V)\nLetniki: 3. letnik (FM)\nIzvaja
 lci: Nika Novak\, Matjaž Zaveršnik\nProstor: 3.10
LOCATION:3.10
ORGANIZER:Nika Novak, Matjaž Zaveršnik
RELATED-TO:fmf-AFLABS-URNIK:srecanje:3310
X-WR-TIMEZONE:Europe/Ljubljana
END:VEVENT
BEGIN:VEVENT
SUMMARY:Rezervacija
DTSTART;TZID=Europe/Ljubljana:20190823T100000
DTEND;TZID=Europe/Ljubljana:20190823T130000
DTSTAMP:20260425T160239Z
UID:fmf-AFLABS-URNIK:rezervacija:3967
CATEGORIES:Reservation
COLOR:royalblue
DESCRIPTION:Predmeti: \nLetniki: \nIzvajalci: Nika Novak\nProstori: 2.01
LOCATION:2.01
ORGANIZER:Nika Novak
X-WR-TIMEZONE:Europe/Ljubljana
END:VEVENT
BEGIN:VEVENT
SUMMARY:Rezervacija
DTSTART;TZID=Europe/Ljubljana:20190906T100000
DTEND;TZID=Europe/Ljubljana:20190906T120000
DTSTAMP:20260425T160239Z
UID:fmf-AFLABS-URNIK:rezervacija:4167
CATEGORIES:Reservation
COLOR:royalblue
DESCRIPTION:Predmeti: \nLetniki: \nIzvajalci: Nika Novak\nProstori: 3.05
LOCATION:3.05
ORGANIZER:Nika Novak
X-WR-TIMEZONE:Europe/Ljubljana
END:VEVENT
BEGIN:VEVENT
SUMMARY:Rezervacija
DTSTART;TZID=Europe/Ljubljana:20190906T120000
DTEND;TZID=Europe/Ljubljana:20190906T150000
DTSTAMP:20260425T160239Z
UID:fmf-AFLABS-URNIK:rezervacija:4180
CATEGORIES:Reservation
COLOR:royalblue
DESCRIPTION:Predmeti: \nLetniki: \nIzvajalci: Nika Novak\nProstori: 2.05
LOCATION:2.05
ORGANIZER:Nika Novak
X-WR-TIMEZONE:Europe/Ljubljana
END:VEVENT
BEGIN:VEVENT
SUMMARY:Rezervacija
DTSTART;TZID=Europe/Ljubljana:20190909T100000
DTEND;TZID=Europe/Ljubljana:20190909T130000
DTSTAMP:20260425T160239Z
UID:fmf-AFLABS-URNIK:rezervacija:4197
CATEGORIES:Reservation
COLOR:royalblue
DESCRIPTION:Predmeti: \nLetniki: \nIzvajalci: Nika Novak\nProstori: 2.01
LOCATION:2.01
ORGANIZER:Nika Novak
X-WR-TIMEZONE:Europe/Ljubljana
END:VEVENT
END:VCALENDAR
