BEGIN:VCALENDAR
VERSION:2.0
PRODID:-//AFLabs urnik izvoz - fmf//aflabs.si//SI
DTSTAMP:20260425T233657Z
NAME:UL FMF urnik
REFRESH-INTERVAL:PT1H
SOURCE:https://urnik.fmf.uni-lj.si/teacher/297?day=2025-02-10&export=1
URL:https://urnik.fmf.uni-lj.si/teacher/297?day=2025-02-10&export=1
X-PUBLISHED-TTL:PT1H
X-WR-CALNAME:UL FMF urnik
X-WR-TIMEZONE:Europe/Ljubljana
BEGIN:VTIMEZONE
TZID:Europe/Ljubljana
BEGIN:DAYLIGHT
DTSTART:20260329T020000
RDATE:20260329T020000
RDATE:20270328T020000
TZNAME:CEST
TZOFFSETFROM:+0100
TZOFFSETTO:+0200
END:DAYLIGHT
BEGIN:STANDARD
DTSTART:20261025T030000
RDATE:20261025T030000
RDATE:20271031T030000
TZNAME:CET
TZOFFSETFROM:+0200
TZOFFSETTO:+0100
END:STANDARD
END:VTIMEZONE
BEGIN:VEVENT
SUMMARY:MAT (FKKT) ()\, Vaje (V)
DTSTART;TZID=Europe/Ljubljana:20250217T100000
DTEND;TZID=Europe/Ljubljana:20250217T120000
DTSTAMP:20260425T233657Z
UID:fmf-AFLABS-URNIK:premaknjeno-srecanje:203128
CATEGORIES:Entry,Standard
COLOR:darkgreen
DESCRIPTION:Predmet: MAT (FKKT) ()\, Vaje (V)\nLetniki: \nIzvajalci: Nika 
 Novak\nProstor: FKKT
LOCATION:FKKT
ORGANIZER:Nika Novak
RELATED-TO:fmf-AFLABS-URNIK:srecanje:15008
X-WR-TIMEZONE:Europe/Ljubljana
END:VEVENT
BEGIN:VEVENT
SUMMARY:MAT (FKKT) ()\, Vaje (V)
DTSTART;TZID=Europe/Ljubljana:20250224T100000
DTEND;TZID=Europe/Ljubljana:20250224T120000
DTSTAMP:20260425T233657Z
UID:fmf-AFLABS-URNIK:premaknjeno-srecanje:203129
CATEGORIES:Entry,Standard
COLOR:darkgreen
DESCRIPTION:Predmet: MAT (FKKT) ()\, Vaje (V)\nLetniki: \nIzvajalci: Nika 
 Novak\nProstor: FKKT
LOCATION:FKKT
ORGANIZER:Nika Novak
RELATED-TO:fmf-AFLABS-URNIK:srecanje:15008
X-WR-TIMEZONE:Europe/Ljubljana
END:VEVENT
BEGIN:VEVENT
SUMMARY:MAT (FKKT) ()\, Vaje (V)
DTSTART;TZID=Europe/Ljubljana:20250303T100000
DTEND;TZID=Europe/Ljubljana:20250303T120000
DTSTAMP:20260425T233657Z
UID:fmf-AFLABS-URNIK:premaknjeno-srecanje:203130
CATEGORIES:Entry,Standard
COLOR:darkgreen
DESCRIPTION:Predmet: MAT (FKKT) ()\, Vaje (V)\nLetniki: \nIzvajalci: Nika 
 Novak\nProstor: FKKT
LOCATION:FKKT
ORGANIZER:Nika Novak
RELATED-TO:fmf-AFLABS-URNIK:srecanje:15008
X-WR-TIMEZONE:Europe/Ljubljana
END:VEVENT
BEGIN:VEVENT
SUMMARY:MAT (FKKT) ()\, Vaje (V)
DTSTART;TZID=Europe/Ljubljana:20250310T100000
DTEND;TZID=Europe/Ljubljana:20250310T120000
DTSTAMP:20260425T233657Z
UID:fmf-AFLABS-URNIK:premaknjeno-srecanje:203131
CATEGORIES:Entry,Standard
COLOR:darkgreen
DESCRIPTION:Predmet: MAT (FKKT) ()\, Vaje (V)\nLetniki: \nIzvajalci: Nika 
 Novak\nProstor: FKKT
LOCATION:FKKT
ORGANIZER:Nika Novak
RELATED-TO:fmf-AFLABS-URNIK:srecanje:15008
X-WR-TIMEZONE:Europe/Ljubljana
END:VEVENT
BEGIN:VEVENT
SUMMARY:MAT (FKKT) ()\, Vaje (V)
DTSTART;TZID=Europe/Ljubljana:20250317T100000
DTEND;TZID=Europe/Ljubljana:20250317T120000
DTSTAMP:20260425T233657Z
UID:fmf-AFLABS-URNIK:premaknjeno-srecanje:203132
CATEGORIES:Entry,Standard
COLOR:darkgreen
DESCRIPTION:Predmet: MAT (FKKT) ()\, Vaje (V)\nLetniki: \nIzvajalci: Nika 
 Novak\nProstor: FKKT
LOCATION:FKKT
ORGANIZER:Nika Novak
RELATED-TO:fmf-AFLABS-URNIK:srecanje:15008
X-WR-TIMEZONE:Europe/Ljubljana
END:VEVENT
BEGIN:VEVENT
SUMMARY:MAT (FKKT) ()\, Vaje (V)
DTSTART;TZID=Europe/Ljubljana:20250217T120000
DTEND;TZID=Europe/Ljubljana:20250217T140000
DTSTAMP:20260425T233657Z
UID:fmf-AFLABS-URNIK:premaknjeno-srecanje:203144
CATEGORIES:Entry,Standard
COLOR:darkgreen
DESCRIPTION:Predmet: MAT (FKKT) ()\, Vaje (V)\nLetniki: \nIzvajalci: Nika 
 Novak\nProstor: FKKT
LOCATION:FKKT
ORGANIZER:Nika Novak
RELATED-TO:fmf-AFLABS-URNIK:srecanje:15009
X-WR-TIMEZONE:Europe/Ljubljana
END:VEVENT
BEGIN:VEVENT
SUMMARY:MAT (FKKT) ()\, Vaje (V)
DTSTART;TZID=Europe/Ljubljana:20250224T120000
DTEND;TZID=Europe/Ljubljana:20250224T140000
DTSTAMP:20260425T233657Z
UID:fmf-AFLABS-URNIK:premaknjeno-srecanje:203145
CATEGORIES:Entry,Standard
COLOR:darkgreen
DESCRIPTION:Predmet: MAT (FKKT) ()\, Vaje (V)\nLetniki: \nIzvajalci: Nika 
 Novak\nProstor: FKKT
LOCATION:FKKT
ORGANIZER:Nika Novak
RELATED-TO:fmf-AFLABS-URNIK:srecanje:15009
X-WR-TIMEZONE:Europe/Ljubljana
END:VEVENT
BEGIN:VEVENT
SUMMARY:MAT (FKKT) ()\, Vaje (V)
DTSTART;TZID=Europe/Ljubljana:20250303T120000
DTEND;TZID=Europe/Ljubljana:20250303T140000
DTSTAMP:20260425T233657Z
UID:fmf-AFLABS-URNIK:premaknjeno-srecanje:203146
CATEGORIES:Entry,Standard
COLOR:darkgreen
DESCRIPTION:Predmet: MAT (FKKT) ()\, Vaje (V)\nLetniki: \nIzvajalci: Nika 
 Novak\nProstor: FKKT
LOCATION:FKKT
ORGANIZER:Nika Novak
RELATED-TO:fmf-AFLABS-URNIK:srecanje:15009
X-WR-TIMEZONE:Europe/Ljubljana
END:VEVENT
BEGIN:VEVENT
SUMMARY:MAT (FKKT) ()\, Vaje (V)
DTSTART;TZID=Europe/Ljubljana:20250310T120000
DTEND;TZID=Europe/Ljubljana:20250310T140000
DTSTAMP:20260425T233657Z
UID:fmf-AFLABS-URNIK:premaknjeno-srecanje:203147
CATEGORIES:Entry,Standard
COLOR:darkgreen
DESCRIPTION:Predmet: MAT (FKKT) ()\, Vaje (V)\nLetniki: \nIzvajalci: Nika 
 Novak\nProstor: FKKT
LOCATION:FKKT
ORGANIZER:Nika Novak
RELATED-TO:fmf-AFLABS-URNIK:srecanje:15009
X-WR-TIMEZONE:Europe/Ljubljana
END:VEVENT
BEGIN:VEVENT
SUMMARY:MAT (FKKT) ()\, Vaje (V)
DTSTART;TZID=Europe/Ljubljana:20250317T120000
DTEND;TZID=Europe/Ljubljana:20250317T140000
DTSTAMP:20260425T233657Z
UID:fmf-AFLABS-URNIK:premaknjeno-srecanje:203148
CATEGORIES:Entry,Standard
COLOR:darkgreen
DESCRIPTION:Predmet: MAT (FKKT) ()\, Vaje (V)\nLetniki: \nIzvajalci: Nika 
 Novak\nProstor: FKKT
LOCATION:FKKT
ORGANIZER:Nika Novak
RELATED-TO:fmf-AFLABS-URNIK:srecanje:15009
X-WR-TIMEZONE:Europe/Ljubljana
END:VEVENT
BEGIN:VEVENT
SUMMARY:Statistika (APM-2)\, Vaje (V)
DTSTART;TZID=Europe/Ljubljana:20250218T120000
DTEND;TZID=Europe/Ljubljana:20250218T140000
DTSTAMP:20260425T233657Z
UID:fmf-AFLABS-URNIK:premaknjeno-srecanje:206168
ATTENDEE:2. letnik (APM)
CATEGORIES:Entry,Standard
COLOR:darkgreen
DESCRIPTION:Predmet: Statistika (APM-2)\, Vaje (V)\nLetniki: 2. letnik (AP
 M)\nIzvajalci: Nika Novak\nProstor: 3.11
LOCATION:3.11
ORGANIZER:Nika Novak
RELATED-TO:fmf-AFLABS-URNIK:srecanje:15198
X-WR-TIMEZONE:Europe/Ljubljana
END:VEVENT
BEGIN:VEVENT
SUMMARY:Statistika (APM-2)\, Vaje (V)
DTSTART;TZID=Europe/Ljubljana:20250225T120000
DTEND;TZID=Europe/Ljubljana:20250225T140000
DTSTAMP:20260425T233657Z
UID:fmf-AFLABS-URNIK:premaknjeno-srecanje:206169
ATTENDEE:2. letnik (APM)
CATEGORIES:Entry,Standard
COLOR:darkgreen
DESCRIPTION:Predmet: Statistika (APM-2)\, Vaje (V)\nLetniki: 2. letnik (AP
 M)\nIzvajalci: Nika Novak\nProstor: 3.11
LOCATION:3.11
ORGANIZER:Nika Novak
RELATED-TO:fmf-AFLABS-URNIK:srecanje:15198
X-WR-TIMEZONE:Europe/Ljubljana
END:VEVENT
BEGIN:VEVENT
SUMMARY:Statistika (APM-2)\, Vaje (V)
DTSTART;TZID=Europe/Ljubljana:20250304T120000
DTEND;TZID=Europe/Ljubljana:20250304T140000
DTSTAMP:20260425T233657Z
UID:fmf-AFLABS-URNIK:premaknjeno-srecanje:206170
ATTENDEE:2. letnik (APM)
CATEGORIES:Entry,Standard
COLOR:darkgreen
DESCRIPTION:Predmet: Statistika (APM-2)\, Vaje (V)\nLetniki: 2. letnik (AP
 M)\nIzvajalci: Nika Novak\nProstor: 3.11
LOCATION:3.11
ORGANIZER:Nika Novak
RELATED-TO:fmf-AFLABS-URNIK:srecanje:15198
X-WR-TIMEZONE:Europe/Ljubljana
END:VEVENT
BEGIN:VEVENT
SUMMARY:Statistika (APM-2)\, Vaje (V)
DTSTART;TZID=Europe/Ljubljana:20250311T120000
DTEND;TZID=Europe/Ljubljana:20250311T140000
DTSTAMP:20260425T233657Z
UID:fmf-AFLABS-URNIK:premaknjeno-srecanje:206171
ATTENDEE:2. letnik (APM)
CATEGORIES:Entry,Standard
COLOR:darkgreen
DESCRIPTION:Predmet: Statistika (APM-2)\, Vaje (V)\nLetniki: 2. letnik (AP
 M)\nIzvajalci: Nika Novak\nProstor: 3.11
LOCATION:3.11
ORGANIZER:Nika Novak
RELATED-TO:fmf-AFLABS-URNIK:srecanje:15198
X-WR-TIMEZONE:Europe/Ljubljana
END:VEVENT
BEGIN:VEVENT
SUMMARY:Statistika (MAT-3)\, Vaje (V)
DTSTART;TZID=Europe/Ljubljana:20250218T070000
DTEND;TZID=Europe/Ljubljana:20250218T100000
DTSTAMP:20260425T233657Z
UID:fmf-AFLABS-URNIK:premaknjeno-srecanje:210040
ATTENDEE:3. letnik (M)
CATEGORIES:Entry,Standard
COLOR:darkgreen
DESCRIPTION:Predmet: Statistika (MAT-3)\, Vaje (V)\nLetniki: 3. letnik (M)
 \nIzvajalci: Nika Novak\nProstor: 2.03
LOCATION:2.03
ORGANIZER:Nika Novak
RELATED-TO:fmf-AFLABS-URNIK:srecanje:15197
X-WR-TIMEZONE:Europe/Ljubljana
END:VEVENT
BEGIN:VEVENT
SUMMARY:Statistika (MAT-3)\, Vaje (V)
DTSTART;TZID=Europe/Ljubljana:20250225T070000
DTEND;TZID=Europe/Ljubljana:20250225T100000
DTSTAMP:20260425T233657Z
UID:fmf-AFLABS-URNIK:premaknjeno-srecanje:210041
ATTENDEE:3. letnik (M)
CATEGORIES:Entry,Standard
COLOR:darkgreen
DESCRIPTION:Predmet: Statistika (MAT-3)\, Vaje (V)\nLetniki: 3. letnik (M)
 \nIzvajalci: Nika Novak\nProstor: 2.03
LOCATION:2.03
ORGANIZER:Nika Novak
RELATED-TO:fmf-AFLABS-URNIK:srecanje:15197
X-WR-TIMEZONE:Europe/Ljubljana
END:VEVENT
BEGIN:VEVENT
SUMMARY:Statistika (MAT-3)\, Vaje (V)
DTSTART;TZID=Europe/Ljubljana:20250304T070000
DTEND;TZID=Europe/Ljubljana:20250304T100000
DTSTAMP:20260425T233657Z
UID:fmf-AFLABS-URNIK:premaknjeno-srecanje:210042
ATTENDEE:3. letnik (M)
CATEGORIES:Entry,Standard
COLOR:darkgreen
DESCRIPTION:Predmet: Statistika (MAT-3)\, Vaje (V)\nLetniki: 3. letnik (M)
 \nIzvajalci: Nika Novak\nProstor: 2.03
LOCATION:2.03
ORGANIZER:Nika Novak
RELATED-TO:fmf-AFLABS-URNIK:srecanje:15197
X-WR-TIMEZONE:Europe/Ljubljana
END:VEVENT
BEGIN:VEVENT
SUMMARY:Statistika (MAT-3)\, Vaje (V)
DTSTART;TZID=Europe/Ljubljana:20250311T070000
DTEND;TZID=Europe/Ljubljana:20250311T100000
DTSTAMP:20260425T233657Z
UID:fmf-AFLABS-URNIK:premaknjeno-srecanje:210043
ATTENDEE:3. letnik (M)
CATEGORIES:Entry,Standard
COLOR:darkgreen
DESCRIPTION:Predmet: Statistika (MAT-3)\, Vaje (V)\nLetniki: 3. letnik (M)
 \nIzvajalci: Nika Novak\nProstor: 2.03
LOCATION:2.03
ORGANIZER:Nika Novak
RELATED-TO:fmf-AFLABS-URNIK:srecanje:15197
X-WR-TIMEZONE:Europe/Ljubljana
END:VEVENT
BEGIN:VEVENT
SUMMARY:Finančna matematika 1 (FM-2\, IŠRM-3\, MAT-3\, PM-4)\, Vaje (V)
DTSTART;TZID=Europe/Ljubljana:20250219T120000
DTEND;TZID=Europe/Ljubljana:20250219T140000
DTSTAMP:20260425T233657Z
UID:fmf-AFLABS-URNIK:premaknjeno-srecanje:199288
ATTENDEE:2. letnik (FM)
ATTENDEE:3. letnik (IŠRM)
ATTENDEE:3. letnik (M)
ATTENDEE:4. letnik (PM)
CATEGORIES:Entry,Standard
COLOR:darkgreen
DESCRIPTION:Predmet: Finančna matematika 1 (FM-2\, IŠRM-3\, MAT-3\, PM-4
 )\, Vaje (V)\nLetniki: 2. letnik (FM)\, 3. letnik (IŠRM)\, 3. letnik (M)\
 , 4. letnik (PM)\nIzvajalci: Nika Novak\nProstor: 2.02
LOCATION:2.02
ORGANIZER:Nika Novak
RELATED-TO:fmf-AFLABS-URNIK:srecanje:14768
X-WR-TIMEZONE:Europe/Ljubljana
END:VEVENT
BEGIN:VEVENT
SUMMARY:Finančna matematika 1 (FM-2\, IŠRM-3\, MAT-3\, PM-4)\, Vaje (V)
DTSTART;TZID=Europe/Ljubljana:20250226T120000
DTEND;TZID=Europe/Ljubljana:20250226T140000
DTSTAMP:20260425T233657Z
UID:fmf-AFLABS-URNIK:premaknjeno-srecanje:199289
ATTENDEE:2. letnik (FM)
ATTENDEE:3. letnik (IŠRM)
ATTENDEE:3. letnik (M)
ATTENDEE:4. letnik (PM)
CATEGORIES:Entry,Standard
COLOR:darkgreen
DESCRIPTION:Predmet: Finančna matematika 1 (FM-2\, IŠRM-3\, MAT-3\, PM-4
 )\, Vaje (V)\nLetniki: 2. letnik (FM)\, 3. letnik (IŠRM)\, 3. letnik (M)\
 , 4. letnik (PM)\nIzvajalci: Nika Novak\nProstor: 2.02
LOCATION:2.02
ORGANIZER:Nika Novak
RELATED-TO:fmf-AFLABS-URNIK:srecanje:14768
X-WR-TIMEZONE:Europe/Ljubljana
END:VEVENT
BEGIN:VEVENT
SUMMARY:Finančna matematika 1 (FM-2\, IŠRM-3\, MAT-3\, PM-4)\, Vaje (V)
DTSTART;TZID=Europe/Ljubljana:20250305T120000
DTEND;TZID=Europe/Ljubljana:20250305T140000
DTSTAMP:20260425T233657Z
UID:fmf-AFLABS-URNIK:premaknjeno-srecanje:199290
ATTENDEE:2. letnik (FM)
ATTENDEE:3. letnik (IŠRM)
ATTENDEE:3. letnik (M)
ATTENDEE:4. letnik (PM)
CATEGORIES:Entry,Standard
COLOR:darkgreen
DESCRIPTION:Predmet: Finančna matematika 1 (FM-2\, IŠRM-3\, MAT-3\, PM-4
 )\, Vaje (V)\nLetniki: 2. letnik (FM)\, 3. letnik (IŠRM)\, 3. letnik (M)\
 , 4. letnik (PM)\nIzvajalci: Nika Novak\nProstor: 2.02
LOCATION:2.02
ORGANIZER:Nika Novak
RELATED-TO:fmf-AFLABS-URNIK:srecanje:14768
X-WR-TIMEZONE:Europe/Ljubljana
END:VEVENT
BEGIN:VEVENT
SUMMARY:Finančna matematika 1 (FM-2\, IŠRM-3\, MAT-3\, PM-4)\, Vaje (V)
DTSTART;TZID=Europe/Ljubljana:20250312T120000
DTEND;TZID=Europe/Ljubljana:20250312T140000
DTSTAMP:20260425T233657Z
UID:fmf-AFLABS-URNIK:premaknjeno-srecanje:199291
ATTENDEE:2. letnik (FM)
ATTENDEE:3. letnik (IŠRM)
ATTENDEE:3. letnik (M)
ATTENDEE:4. letnik (PM)
CATEGORIES:Entry,Standard
COLOR:darkgreen
DESCRIPTION:Predmet: Finančna matematika 1 (FM-2\, IŠRM-3\, MAT-3\, PM-4
 )\, Vaje (V)\nLetniki: 2. letnik (FM)\, 3. letnik (IŠRM)\, 3. letnik (M)\
 , 4. letnik (PM)\nIzvajalci: Nika Novak\nProstor: 2.02
LOCATION:2.02
ORGANIZER:Nika Novak
RELATED-TO:fmf-AFLABS-URNIK:srecanje:14768
X-WR-TIMEZONE:Europe/Ljubljana
END:VEVENT
BEGIN:VEVENT
SUMMARY:Finančna matematika 3 (FM-M\, MAT-M\, PM-5)\, Vaje (V)
DTSTART;TZID=Europe/Ljubljana:20250219T100000
DTEND;TZID=Europe/Ljubljana:20250219T120000
DTSTAMP:20260425T233657Z
UID:fmf-AFLABS-URNIK:premaknjeno-srecanje:213421
ATTENDEE:5. letnik (PM)
ATTENDEE:magistrski študij (FM)
ATTENDEE:magistrski študij (M)
CATEGORIES:Entry,Standard
COLOR:darkgreen
DESCRIPTION:Predmet: Finančna matematika 3 (FM-M\, MAT-M\, PM-5)\, Vaje (
 V)\nLetniki: magistrski študij (FM)\, magistrski študij (M)\, 5. letnik 
 (PM)\nIzvajalci: Nika Novak\nProstor: 1.01
LOCATION:1.01
ORGANIZER:Nika Novak
RELATED-TO:fmf-AFLABS-URNIK:srecanje:14772
X-WR-TIMEZONE:Europe/Ljubljana
END:VEVENT
BEGIN:VEVENT
SUMMARY:Finančna matematika 3 (FM-M\, MAT-M\, PM-5)\, Vaje (V)
DTSTART;TZID=Europe/Ljubljana:20250226T100000
DTEND;TZID=Europe/Ljubljana:20250226T120000
DTSTAMP:20260425T233657Z
UID:fmf-AFLABS-URNIK:premaknjeno-srecanje:213422
ATTENDEE:5. letnik (PM)
ATTENDEE:magistrski študij (FM)
ATTENDEE:magistrski študij (M)
CATEGORIES:Entry,Standard
COLOR:darkgreen
DESCRIPTION:Predmet: Finančna matematika 3 (FM-M\, MAT-M\, PM-5)\, Vaje (
 V)\nLetniki: magistrski študij (FM)\, magistrski študij (M)\, 5. letnik 
 (PM)\nIzvajalci: Nika Novak\nProstor: 1.01
LOCATION:1.01
ORGANIZER:Nika Novak
RELATED-TO:fmf-AFLABS-URNIK:srecanje:14772
X-WR-TIMEZONE:Europe/Ljubljana
END:VEVENT
BEGIN:VEVENT
SUMMARY:Finančna matematika 3 (FM-M\, MAT-M\, PM-5)\, Vaje (V)
DTSTART;TZID=Europe/Ljubljana:20250305T100000
DTEND;TZID=Europe/Ljubljana:20250305T120000
DTSTAMP:20260425T233657Z
UID:fmf-AFLABS-URNIK:premaknjeno-srecanje:213423
ATTENDEE:5. letnik (PM)
ATTENDEE:magistrski študij (FM)
ATTENDEE:magistrski študij (M)
CATEGORIES:Entry,Standard
COLOR:darkgreen
DESCRIPTION:Predmet: Finančna matematika 3 (FM-M\, MAT-M\, PM-5)\, Vaje (
 V)\nLetniki: magistrski študij (FM)\, magistrski študij (M)\, 5. letnik 
 (PM)\nIzvajalci: Nika Novak\nProstor: 1.01
LOCATION:1.01
ORGANIZER:Nika Novak
RELATED-TO:fmf-AFLABS-URNIK:srecanje:14772
X-WR-TIMEZONE:Europe/Ljubljana
END:VEVENT
BEGIN:VEVENT
SUMMARY:Finančna matematika 3 (FM-M\, MAT-M\, PM-5)\, Vaje (V)
DTSTART;TZID=Europe/Ljubljana:20250312T100000
DTEND;TZID=Europe/Ljubljana:20250312T120000
DTSTAMP:20260425T233657Z
UID:fmf-AFLABS-URNIK:premaknjeno-srecanje:213424
ATTENDEE:5. letnik (PM)
ATTENDEE:magistrski študij (FM)
ATTENDEE:magistrski študij (M)
CATEGORIES:Entry,Standard
COLOR:darkgreen
DESCRIPTION:Predmet: Finančna matematika 3 (FM-M\, MAT-M\, PM-5)\, Vaje (
 V)\nLetniki: magistrski študij (FM)\, magistrski študij (M)\, 5. letnik 
 (PM)\nIzvajalci: Nika Novak\nProstor: 1.01
LOCATION:1.01
ORGANIZER:Nika Novak
RELATED-TO:fmf-AFLABS-URNIK:srecanje:14772
X-WR-TIMEZONE:Europe/Ljubljana
END:VEVENT
BEGIN:VEVENT
SUMMARY:MAT (FKKT) ()\, Vaje (V)
DTSTART;TZID=Europe/Ljubljana:20250220T130000
DTEND;TZID=Europe/Ljubljana:20250220T150000
DTSTAMP:20260425T233657Z
UID:fmf-AFLABS-URNIK:premaknjeno-srecanje:203160
CATEGORIES:Entry,Standard
COLOR:darkgreen
DESCRIPTION:Predmet: MAT (FKKT) ()\, Vaje (V)\nLetniki: \nIzvajalci: Nika 
 Novak\nProstor: FKKT
LOCATION:FKKT
ORGANIZER:Nika Novak
RELATED-TO:fmf-AFLABS-URNIK:srecanje:15010
X-WR-TIMEZONE:Europe/Ljubljana
END:VEVENT
BEGIN:VEVENT
SUMMARY:MAT (FKKT) ()\, Vaje (V)
DTSTART;TZID=Europe/Ljubljana:20250227T130000
DTEND;TZID=Europe/Ljubljana:20250227T150000
DTSTAMP:20260425T233657Z
UID:fmf-AFLABS-URNIK:premaknjeno-srecanje:203161
CATEGORIES:Entry,Standard
COLOR:darkgreen
DESCRIPTION:Predmet: MAT (FKKT) ()\, Vaje (V)\nLetniki: \nIzvajalci: Nika 
 Novak\nProstor: FKKT
LOCATION:FKKT
ORGANIZER:Nika Novak
RELATED-TO:fmf-AFLABS-URNIK:srecanje:15010
X-WR-TIMEZONE:Europe/Ljubljana
END:VEVENT
BEGIN:VEVENT
SUMMARY:MAT (FKKT) ()\, Vaje (V)
DTSTART;TZID=Europe/Ljubljana:20250306T130000
DTEND;TZID=Europe/Ljubljana:20250306T150000
DTSTAMP:20260425T233657Z
UID:fmf-AFLABS-URNIK:premaknjeno-srecanje:203162
CATEGORIES:Entry,Standard
COLOR:darkgreen
DESCRIPTION:Predmet: MAT (FKKT) ()\, Vaje (V)\nLetniki: \nIzvajalci: Nika 
 Novak\nProstor: FKKT
LOCATION:FKKT
ORGANIZER:Nika Novak
RELATED-TO:fmf-AFLABS-URNIK:srecanje:15010
X-WR-TIMEZONE:Europe/Ljubljana
END:VEVENT
BEGIN:VEVENT
SUMMARY:MAT (FKKT) ()\, Vaje (V)
DTSTART;TZID=Europe/Ljubljana:20250313T130000
DTEND;TZID=Europe/Ljubljana:20250313T150000
DTSTAMP:20260425T233657Z
UID:fmf-AFLABS-URNIK:premaknjeno-srecanje:203163
CATEGORIES:Entry,Standard
COLOR:darkgreen
DESCRIPTION:Predmet: MAT (FKKT) ()\, Vaje (V)\nLetniki: \nIzvajalci: Nika 
 Novak\nProstor: FKKT
LOCATION:FKKT
ORGANIZER:Nika Novak
RELATED-TO:fmf-AFLABS-URNIK:srecanje:15010
X-WR-TIMEZONE:Europe/Ljubljana
END:VEVENT
BEGIN:VEVENT
SUMMARY:MAT (FKKT) ()\, Vaje (V)
DTSTART;TZID=Europe/Ljubljana:20250220T150000
DTEND;TZID=Europe/Ljubljana:20250220T170000
DTSTAMP:20260425T233657Z
UID:fmf-AFLABS-URNIK:premaknjeno-srecanje:203176
CATEGORIES:Entry,Standard
COLOR:darkgreen
DESCRIPTION:Predmet: MAT (FKKT) ()\, Vaje (V)\nLetniki: \nIzvajalci: Nika 
 Novak\nProstor: FKKT
LOCATION:FKKT
ORGANIZER:Nika Novak
RELATED-TO:fmf-AFLABS-URNIK:srecanje:15011
X-WR-TIMEZONE:Europe/Ljubljana
END:VEVENT
BEGIN:VEVENT
SUMMARY:MAT (FKKT) ()\, Vaje (V)
DTSTART;TZID=Europe/Ljubljana:20250227T150000
DTEND;TZID=Europe/Ljubljana:20250227T170000
DTSTAMP:20260425T233657Z
UID:fmf-AFLABS-URNIK:premaknjeno-srecanje:203177
CATEGORIES:Entry,Standard
COLOR:darkgreen
DESCRIPTION:Predmet: MAT (FKKT) ()\, Vaje (V)\nLetniki: \nIzvajalci: Nika 
 Novak\nProstor: FKKT
LOCATION:FKKT
ORGANIZER:Nika Novak
RELATED-TO:fmf-AFLABS-URNIK:srecanje:15011
X-WR-TIMEZONE:Europe/Ljubljana
END:VEVENT
BEGIN:VEVENT
SUMMARY:MAT (FKKT) ()\, Vaje (V)
DTSTART;TZID=Europe/Ljubljana:20250306T150000
DTEND;TZID=Europe/Ljubljana:20250306T170000
DTSTAMP:20260425T233657Z
UID:fmf-AFLABS-URNIK:premaknjeno-srecanje:203178
CATEGORIES:Entry,Standard
COLOR:darkgreen
DESCRIPTION:Predmet: MAT (FKKT) ()\, Vaje (V)\nLetniki: \nIzvajalci: Nika 
 Novak\nProstor: FKKT
LOCATION:FKKT
ORGANIZER:Nika Novak
RELATED-TO:fmf-AFLABS-URNIK:srecanje:15011
X-WR-TIMEZONE:Europe/Ljubljana
END:VEVENT
BEGIN:VEVENT
SUMMARY:MAT (FKKT) ()\, Vaje (V)
DTSTART;TZID=Europe/Ljubljana:20250313T150000
DTEND;TZID=Europe/Ljubljana:20250313T170000
DTSTAMP:20260425T233657Z
UID:fmf-AFLABS-URNIK:premaknjeno-srecanje:203179
CATEGORIES:Entry,Standard
COLOR:darkgreen
DESCRIPTION:Predmet: MAT (FKKT) ()\, Vaje (V)\nLetniki: \nIzvajalci: Nika 
 Novak\nProstor: FKKT
LOCATION:FKKT
ORGANIZER:Nika Novak
RELATED-TO:fmf-AFLABS-URNIK:srecanje:15011
X-WR-TIMEZONE:Europe/Ljubljana
END:VEVENT
BEGIN:VEVENT
SUMMARY:izpit FM2
DTSTART;TZID=Europe/Ljubljana:20250207T100000
DTEND;TZID=Europe/Ljubljana:20250207T140000
DTSTAMP:20260425T233657Z
UID:fmf-AFLABS-URNIK:rezervacija:20392
CATEGORIES:Reservation
COLOR:royalblue
DESCRIPTION:Predmeti: \nLetniki: \nIzvajalci: Nika Novak\nProstori: 1.01
LOCATION:1.01
ORGANIZER:Nika Novak
X-WR-TIMEZONE:Europe/Ljubljana
END:VEVENT
END:VCALENDAR
