BEGIN:VCALENDAR
VERSION:2.0
PRODID:-//AFLabs urnik izvoz - fmf//aflabs.si//SI
DTSTAMP:20260424T115209Z
NAME:UL FMF urnik
REFRESH-INTERVAL:PT1H
SOURCE:https://urnik.fmf.uni-lj.si/teacher/304?day=2021-05-31&export=1
URL:https://urnik.fmf.uni-lj.si/teacher/304?day=2021-05-31&export=1
X-PUBLISHED-TTL:PT1H
X-WR-CALNAME:UL FMF urnik
X-WR-TIMEZONE:Europe/Ljubljana
BEGIN:VTIMEZONE
TZID:Europe/Ljubljana
BEGIN:DAYLIGHT
DTSTART:20260329T020000
RDATE:20260329T020000
RDATE:20270328T020000
TZNAME:CEST
TZOFFSETFROM:+0100
TZOFFSETTO:+0200
END:DAYLIGHT
BEGIN:STANDARD
DTSTART:20261025T030000
RDATE:20261025T030000
RDATE:20271031T030000
TZNAME:CET
TZOFFSETFROM:+0200
TZOFFSETTO:+0100
END:STANDARD
END:VTIMEZONE
BEGIN:VEVENT
SUMMARY:Optične metode v medicini (MEF-1\, MEF-2)\, Predavanja (P)
DTSTART;TZID=Europe/Ljubljana:20210217T080000
DTEND;TZID=Europe/Ljubljana:20210217T100000
DTSTAMP:20260424T115209Z
UID:fmf-AFLABS-URNIK:premaknjeno-srecanje:80903
ATTENDEE:1. letnik (Medicinska fizika, 2. stopnja)
ATTENDEE:2. letnik (Medicinska fizika, 2. stopnja)
CATEGORIES:Entry,Standard
COLOR:darkgreen
DESCRIPTION:Predmet: Optične metode v medicini (MEF-1\, MEF-2)\, Predavan
 ja (P)\nLetniki: 1. letnik (Medicinska fizika\, 2. stopnja)\, 2. letnik (M
 edicinska fizika\, 2. stopnja)\nIzvajalci: Boris Majaron\nProstor: Kušče
 rjev seminar
LOCATION:Kuščerjev seminar
ORGANIZER:Boris Majaron
RELATED-TO:fmf-AFLABS-URNIK:srecanje:5796
X-WR-TIMEZONE:Europe/Ljubljana
END:VEVENT
BEGIN:VEVENT
SUMMARY:Optične metode v medicini (MEF-1\, MEF-2)\, Predavanja (P)
DTSTART;TZID=Europe/Ljubljana:20210224T080000
DTEND;TZID=Europe/Ljubljana:20210224T100000
DTSTAMP:20260424T115209Z
UID:fmf-AFLABS-URNIK:premaknjeno-srecanje:80904
ATTENDEE:1. letnik (Medicinska fizika, 2. stopnja)
ATTENDEE:2. letnik (Medicinska fizika, 2. stopnja)
CATEGORIES:Entry,Standard
COLOR:darkgreen
DESCRIPTION:Predmet: Optične metode v medicini (MEF-1\, MEF-2)\, Predavan
 ja (P)\nLetniki: 1. letnik (Medicinska fizika\, 2. stopnja)\, 2. letnik (M
 edicinska fizika\, 2. stopnja)\nIzvajalci: Boris Majaron\nProstor: Kušče
 rjev seminar
LOCATION:Kuščerjev seminar
ORGANIZER:Boris Majaron
RELATED-TO:fmf-AFLABS-URNIK:srecanje:5796
X-WR-TIMEZONE:Europe/Ljubljana
END:VEVENT
BEGIN:VEVENT
SUMMARY:Optične metode v medicini (MEF-1\, MEF-2)\, Predavanja (P)
DTSTART;TZID=Europe/Ljubljana:20210303T080000
DTEND;TZID=Europe/Ljubljana:20210303T100000
DTSTAMP:20260424T115209Z
UID:fmf-AFLABS-URNIK:premaknjeno-srecanje:80905
ATTENDEE:1. letnik (Medicinska fizika, 2. stopnja)
ATTENDEE:2. letnik (Medicinska fizika, 2. stopnja)
CATEGORIES:Entry,Standard
COLOR:darkgreen
DESCRIPTION:Predmet: Optične metode v medicini (MEF-1\, MEF-2)\, Predavan
 ja (P)\nLetniki: 1. letnik (Medicinska fizika\, 2. stopnja)\, 2. letnik (M
 edicinska fizika\, 2. stopnja)\nIzvajalci: Boris Majaron\nProstor: Kušče
 rjev seminar
LOCATION:Kuščerjev seminar
ORGANIZER:Boris Majaron
RELATED-TO:fmf-AFLABS-URNIK:srecanje:5796
X-WR-TIMEZONE:Europe/Ljubljana
END:VEVENT
BEGIN:VEVENT
SUMMARY:Optične metode v medicini (MEF-1\, MEF-2)\, Predavanja (P)
DTSTART;TZID=Europe/Ljubljana:20210310T080000
DTEND;TZID=Europe/Ljubljana:20210310T100000
DTSTAMP:20260424T115209Z
UID:fmf-AFLABS-URNIK:premaknjeno-srecanje:80906
ATTENDEE:1. letnik (Medicinska fizika, 2. stopnja)
ATTENDEE:2. letnik (Medicinska fizika, 2. stopnja)
CATEGORIES:Entry,Standard
COLOR:darkgreen
DESCRIPTION:Predmet: Optične metode v medicini (MEF-1\, MEF-2)\, Predavan
 ja (P)\nLetniki: 1. letnik (Medicinska fizika\, 2. stopnja)\, 2. letnik (M
 edicinska fizika\, 2. stopnja)\nIzvajalci: Boris Majaron\nProstor: Kušče
 rjev seminar
LOCATION:Kuščerjev seminar
ORGANIZER:Boris Majaron
RELATED-TO:fmf-AFLABS-URNIK:srecanje:5796
X-WR-TIMEZONE:Europe/Ljubljana
END:VEVENT
BEGIN:VEVENT
SUMMARY:Optične metode v medicini (MEF-1\, MEF-2)\, Predavanja (P)
DTSTART;TZID=Europe/Ljubljana:20210317T080000
DTEND;TZID=Europe/Ljubljana:20210317T100000
DTSTAMP:20260424T115209Z
UID:fmf-AFLABS-URNIK:premaknjeno-srecanje:80907
ATTENDEE:1. letnik (Medicinska fizika, 2. stopnja)
ATTENDEE:2. letnik (Medicinska fizika, 2. stopnja)
CATEGORIES:Entry,Standard
COLOR:darkgreen
DESCRIPTION:Predmet: Optične metode v medicini (MEF-1\, MEF-2)\, Predavan
 ja (P)\nLetniki: 1. letnik (Medicinska fizika\, 2. stopnja)\, 2. letnik (M
 edicinska fizika\, 2. stopnja)\nIzvajalci: Boris Majaron\nProstor: Kušče
 rjev seminar
LOCATION:Kuščerjev seminar
ORGANIZER:Boris Majaron
RELATED-TO:fmf-AFLABS-URNIK:srecanje:5796
X-WR-TIMEZONE:Europe/Ljubljana
END:VEVENT
BEGIN:VEVENT
SUMMARY:Optične metode v medicini (MEF-1\, MEF-2)\, Predavanja (P)
DTSTART;TZID=Europe/Ljubljana:20210324T080000
DTEND;TZID=Europe/Ljubljana:20210324T100000
DTSTAMP:20260424T115209Z
UID:fmf-AFLABS-URNIK:premaknjeno-srecanje:80908
ATTENDEE:1. letnik (Medicinska fizika, 2. stopnja)
ATTENDEE:2. letnik (Medicinska fizika, 2. stopnja)
CATEGORIES:Entry,Standard
COLOR:darkgreen
DESCRIPTION:Predmet: Optične metode v medicini (MEF-1\, MEF-2)\, Predavan
 ja (P)\nLetniki: 1. letnik (Medicinska fizika\, 2. stopnja)\, 2. letnik (M
 edicinska fizika\, 2. stopnja)\nIzvajalci: Boris Majaron\nProstor: Kušče
 rjev seminar
LOCATION:Kuščerjev seminar
ORGANIZER:Boris Majaron
RELATED-TO:fmf-AFLABS-URNIK:srecanje:5796
X-WR-TIMEZONE:Europe/Ljubljana
END:VEVENT
BEGIN:VEVENT
SUMMARY:Optične metode v medicini (MEF-1\, MEF-2)\, Predavanja (P)
DTSTART;TZID=Europe/Ljubljana:20210331T080000
DTEND;TZID=Europe/Ljubljana:20210331T100000
DTSTAMP:20260424T115209Z
UID:fmf-AFLABS-URNIK:premaknjeno-srecanje:80909
ATTENDEE:1. letnik (Medicinska fizika, 2. stopnja)
ATTENDEE:2. letnik (Medicinska fizika, 2. stopnja)
CATEGORIES:Entry,Standard
COLOR:darkgreen
DESCRIPTION:Predmet: Optične metode v medicini (MEF-1\, MEF-2)\, Predavan
 ja (P)\nLetniki: 1. letnik (Medicinska fizika\, 2. stopnja)\, 2. letnik (M
 edicinska fizika\, 2. stopnja)\nIzvajalci: Boris Majaron\nProstor: Kušče
 rjev seminar
LOCATION:Kuščerjev seminar
ORGANIZER:Boris Majaron
RELATED-TO:fmf-AFLABS-URNIK:srecanje:5796
X-WR-TIMEZONE:Europe/Ljubljana
END:VEVENT
BEGIN:VEVENT
SUMMARY:Optične metode v medicini (MEF-1\, MEF-2)\, Predavanja (P)
DTSTART;TZID=Europe/Ljubljana:20210407T080000
DTEND;TZID=Europe/Ljubljana:20210407T100000
DTSTAMP:20260424T115209Z
UID:fmf-AFLABS-URNIK:premaknjeno-srecanje:80910
ATTENDEE:1. letnik (Medicinska fizika, 2. stopnja)
ATTENDEE:2. letnik (Medicinska fizika, 2. stopnja)
CATEGORIES:Entry,Standard
COLOR:darkgreen
DESCRIPTION:Predmet: Optične metode v medicini (MEF-1\, MEF-2)\, Predavan
 ja (P)\nLetniki: 1. letnik (Medicinska fizika\, 2. stopnja)\, 2. letnik (M
 edicinska fizika\, 2. stopnja)\nIzvajalci: Boris Majaron\nProstor: Kušče
 rjev seminar
LOCATION:Kuščerjev seminar
ORGANIZER:Boris Majaron
RELATED-TO:fmf-AFLABS-URNIK:srecanje:5796
X-WR-TIMEZONE:Europe/Ljubljana
END:VEVENT
BEGIN:VEVENT
SUMMARY:Optične metode v medicini (MEF-1\, MEF-2)\, Predavanja (P)
DTSTART;TZID=Europe/Ljubljana:20210414T080000
DTEND;TZID=Europe/Ljubljana:20210414T100000
DTSTAMP:20260424T115209Z
UID:fmf-AFLABS-URNIK:premaknjeno-srecanje:80911
ATTENDEE:1. letnik (Medicinska fizika, 2. stopnja)
ATTENDEE:2. letnik (Medicinska fizika, 2. stopnja)
CATEGORIES:Entry,Standard
COLOR:darkgreen
DESCRIPTION:Predmet: Optične metode v medicini (MEF-1\, MEF-2)\, Predavan
 ja (P)\nLetniki: 1. letnik (Medicinska fizika\, 2. stopnja)\, 2. letnik (M
 edicinska fizika\, 2. stopnja)\nIzvajalci: Boris Majaron\nProstor: Kušče
 rjev seminar
LOCATION:Kuščerjev seminar
ORGANIZER:Boris Majaron
RELATED-TO:fmf-AFLABS-URNIK:srecanje:5796
X-WR-TIMEZONE:Europe/Ljubljana
END:VEVENT
BEGIN:VEVENT
SUMMARY:Optične metode v medicini (MEF-1\, MEF-2)\, Predavanja (P)
DTSTART;TZID=Europe/Ljubljana:20210421T080000
DTEND;TZID=Europe/Ljubljana:20210421T100000
DTSTAMP:20260424T115209Z
UID:fmf-AFLABS-URNIK:premaknjeno-srecanje:80912
ATTENDEE:1. letnik (Medicinska fizika, 2. stopnja)
ATTENDEE:2. letnik (Medicinska fizika, 2. stopnja)
CATEGORIES:Entry,Standard
COLOR:darkgreen
DESCRIPTION:Predmet: Optične metode v medicini (MEF-1\, MEF-2)\, Predavan
 ja (P)\nLetniki: 1. letnik (Medicinska fizika\, 2. stopnja)\, 2. letnik (M
 edicinska fizika\, 2. stopnja)\nIzvajalci: Boris Majaron\nProstor: Kušče
 rjev seminar
LOCATION:Kuščerjev seminar
ORGANIZER:Boris Majaron
RELATED-TO:fmf-AFLABS-URNIK:srecanje:5796
X-WR-TIMEZONE:Europe/Ljubljana
END:VEVENT
BEGIN:VEVENT
SUMMARY:Optične metode v medicini (MEF-1\, MEF-2)\, Predavanja (P)
DTSTART;TZID=Europe/Ljubljana:20210428T080000
DTEND;TZID=Europe/Ljubljana:20210428T100000
DTSTAMP:20260424T115209Z
UID:fmf-AFLABS-URNIK:premaknjeno-srecanje:80913
ATTENDEE:1. letnik (Medicinska fizika, 2. stopnja)
ATTENDEE:2. letnik (Medicinska fizika, 2. stopnja)
CATEGORIES:Entry,Standard
COLOR:darkgreen
DESCRIPTION:Predmet: Optične metode v medicini (MEF-1\, MEF-2)\, Predavan
 ja (P)\nLetniki: 1. letnik (Medicinska fizika\, 2. stopnja)\, 2. letnik (M
 edicinska fizika\, 2. stopnja)\nIzvajalci: Boris Majaron\nProstor: Kušče
 rjev seminar
LOCATION:Kuščerjev seminar
ORGANIZER:Boris Majaron
RELATED-TO:fmf-AFLABS-URNIK:srecanje:5796
X-WR-TIMEZONE:Europe/Ljubljana
END:VEVENT
BEGIN:VEVENT
SUMMARY:Optične metode v medicini (MEF-1\, MEF-2)\, Predavanja (P)
DTSTART;TZID=Europe/Ljubljana:20210505T080000
DTEND;TZID=Europe/Ljubljana:20210505T100000
DTSTAMP:20260424T115209Z
UID:fmf-AFLABS-URNIK:premaknjeno-srecanje:80914
ATTENDEE:1. letnik (Medicinska fizika, 2. stopnja)
ATTENDEE:2. letnik (Medicinska fizika, 2. stopnja)
CATEGORIES:Entry,Standard
COLOR:darkgreen
DESCRIPTION:Predmet: Optične metode v medicini (MEF-1\, MEF-2)\, Predavan
 ja (P)\nLetniki: 1. letnik (Medicinska fizika\, 2. stopnja)\, 2. letnik (M
 edicinska fizika\, 2. stopnja)\nIzvajalci: Boris Majaron\nProstor: Kušče
 rjev seminar
LOCATION:Kuščerjev seminar
ORGANIZER:Boris Majaron
RELATED-TO:fmf-AFLABS-URNIK:srecanje:5796
X-WR-TIMEZONE:Europe/Ljubljana
END:VEVENT
BEGIN:VEVENT
SUMMARY:Optične metode v medicini (MEF-1\, MEF-2)\, Predavanja (P)
DTSTART;TZID=Europe/Ljubljana:20210512T080000
DTEND;TZID=Europe/Ljubljana:20210512T100000
DTSTAMP:20260424T115209Z
UID:fmf-AFLABS-URNIK:premaknjeno-srecanje:80915
ATTENDEE:1. letnik (Medicinska fizika, 2. stopnja)
ATTENDEE:2. letnik (Medicinska fizika, 2. stopnja)
CATEGORIES:Entry,Standard
COLOR:darkgreen
DESCRIPTION:Predmet: Optične metode v medicini (MEF-1\, MEF-2)\, Predavan
 ja (P)\nLetniki: 1. letnik (Medicinska fizika\, 2. stopnja)\, 2. letnik (M
 edicinska fizika\, 2. stopnja)\nIzvajalci: Boris Majaron\nProstor: Kušče
 rjev seminar
LOCATION:Kuščerjev seminar
ORGANIZER:Boris Majaron
RELATED-TO:fmf-AFLABS-URNIK:srecanje:5796
X-WR-TIMEZONE:Europe/Ljubljana
END:VEVENT
BEGIN:VEVENT
SUMMARY:Optične metode v medicini (MEF-1\, MEF-2)\, Predavanja (P)
DTSTART;TZID=Europe/Ljubljana:20210519T080000
DTEND;TZID=Europe/Ljubljana:20210519T100000
DTSTAMP:20260424T115209Z
UID:fmf-AFLABS-URNIK:premaknjeno-srecanje:80916
ATTENDEE:1. letnik (Medicinska fizika, 2. stopnja)
ATTENDEE:2. letnik (Medicinska fizika, 2. stopnja)
CATEGORIES:Entry,Standard
COLOR:darkgreen
DESCRIPTION:Predmet: Optične metode v medicini (MEF-1\, MEF-2)\, Predavan
 ja (P)\nLetniki: 1. letnik (Medicinska fizika\, 2. stopnja)\, 2. letnik (M
 edicinska fizika\, 2. stopnja)\nIzvajalci: Boris Majaron\nProstor: Kušče
 rjev seminar
LOCATION:Kuščerjev seminar
ORGANIZER:Boris Majaron
RELATED-TO:fmf-AFLABS-URNIK:srecanje:5796
X-WR-TIMEZONE:Europe/Ljubljana
END:VEVENT
BEGIN:VEVENT
SUMMARY:Optične metode v medicini (MEF-1\, MEF-2)\, Predavanja (P)
DTSTART;TZID=Europe/Ljubljana:20210526T080000
DTEND;TZID=Europe/Ljubljana:20210526T100000
DTSTAMP:20260424T115209Z
UID:fmf-AFLABS-URNIK:premaknjeno-srecanje:80917
ATTENDEE:1. letnik (Medicinska fizika, 2. stopnja)
ATTENDEE:2. letnik (Medicinska fizika, 2. stopnja)
CATEGORIES:Entry,Standard
COLOR:darkgreen
DESCRIPTION:Predmet: Optične metode v medicini (MEF-1\, MEF-2)\, Predavan
 ja (P)\nLetniki: 1. letnik (Medicinska fizika\, 2. stopnja)\, 2. letnik (M
 edicinska fizika\, 2. stopnja)\nIzvajalci: Boris Majaron\nProstor: Kušče
 rjev seminar
LOCATION:Kuščerjev seminar
ORGANIZER:Boris Majaron
RELATED-TO:fmf-AFLABS-URNIK:srecanje:5796
X-WR-TIMEZONE:Europe/Ljubljana
END:VEVENT
BEGIN:VEVENT
SUMMARY:Optične metode v medicini (MEF-1\, MEF-2)\, Vaje (V)
DTSTART;TZID=Europe/Ljubljana:20210217T100000
DTEND;TZID=Europe/Ljubljana:20210217T110000
DTSTAMP:20260424T115209Z
UID:fmf-AFLABS-URNIK:premaknjeno-srecanje:80949
ATTENDEE:1. letnik (Medicinska fizika, 2. stopnja)
ATTENDEE:2. letnik (Medicinska fizika, 2. stopnja)
CATEGORIES:Entry,Standard
COLOR:darkgreen
DESCRIPTION:Predmet: Optične metode v medicini (MEF-1\, MEF-2)\, Vaje (V)
 \nLetniki: 1. letnik (Medicinska fizika\, 2. stopnja)\, 2. letnik (Medicin
 ska fizika\, 2. stopnja)\nIzvajalci: Boris Majaron\nProstor: Kuščerjev s
 eminar
LOCATION:Kuščerjev seminar
ORGANIZER:Boris Majaron
RELATED-TO:fmf-AFLABS-URNIK:srecanje:5797
X-WR-TIMEZONE:Europe/Ljubljana
END:VEVENT
BEGIN:VEVENT
SUMMARY:Optične metode v medicini (MEF-1\, MEF-2)\, Vaje (V)
DTSTART;TZID=Europe/Ljubljana:20210224T100000
DTEND;TZID=Europe/Ljubljana:20210224T110000
DTSTAMP:20260424T115209Z
UID:fmf-AFLABS-URNIK:premaknjeno-srecanje:80950
ATTENDEE:1. letnik (Medicinska fizika, 2. stopnja)
ATTENDEE:2. letnik (Medicinska fizika, 2. stopnja)
CATEGORIES:Entry,Standard
COLOR:darkgreen
DESCRIPTION:Predmet: Optične metode v medicini (MEF-1\, MEF-2)\, Vaje (V)
 \nLetniki: 1. letnik (Medicinska fizika\, 2. stopnja)\, 2. letnik (Medicin
 ska fizika\, 2. stopnja)\nIzvajalci: Boris Majaron\nProstor: Kuščerjev s
 eminar
LOCATION:Kuščerjev seminar
ORGANIZER:Boris Majaron
RELATED-TO:fmf-AFLABS-URNIK:srecanje:5797
X-WR-TIMEZONE:Europe/Ljubljana
END:VEVENT
BEGIN:VEVENT
SUMMARY:Optične metode v medicini (MEF-1\, MEF-2)\, Vaje (V)
DTSTART;TZID=Europe/Ljubljana:20210303T100000
DTEND;TZID=Europe/Ljubljana:20210303T110000
DTSTAMP:20260424T115209Z
UID:fmf-AFLABS-URNIK:premaknjeno-srecanje:80951
ATTENDEE:1. letnik (Medicinska fizika, 2. stopnja)
ATTENDEE:2. letnik (Medicinska fizika, 2. stopnja)
CATEGORIES:Entry,Standard
COLOR:darkgreen
DESCRIPTION:Predmet: Optične metode v medicini (MEF-1\, MEF-2)\, Vaje (V)
 \nLetniki: 1. letnik (Medicinska fizika\, 2. stopnja)\, 2. letnik (Medicin
 ska fizika\, 2. stopnja)\nIzvajalci: Boris Majaron\nProstor: Kuščerjev s
 eminar
LOCATION:Kuščerjev seminar
ORGANIZER:Boris Majaron
RELATED-TO:fmf-AFLABS-URNIK:srecanje:5797
X-WR-TIMEZONE:Europe/Ljubljana
END:VEVENT
BEGIN:VEVENT
SUMMARY:Optične metode v medicini (MEF-1\, MEF-2)\, Vaje (V)
DTSTART;TZID=Europe/Ljubljana:20210310T100000
DTEND;TZID=Europe/Ljubljana:20210310T110000
DTSTAMP:20260424T115209Z
UID:fmf-AFLABS-URNIK:premaknjeno-srecanje:80952
ATTENDEE:1. letnik (Medicinska fizika, 2. stopnja)
ATTENDEE:2. letnik (Medicinska fizika, 2. stopnja)
CATEGORIES:Entry,Standard
COLOR:darkgreen
DESCRIPTION:Predmet: Optične metode v medicini (MEF-1\, MEF-2)\, Vaje (V)
 \nLetniki: 1. letnik (Medicinska fizika\, 2. stopnja)\, 2. letnik (Medicin
 ska fizika\, 2. stopnja)\nIzvajalci: Boris Majaron\nProstor: Kuščerjev s
 eminar
LOCATION:Kuščerjev seminar
ORGANIZER:Boris Majaron
RELATED-TO:fmf-AFLABS-URNIK:srecanje:5797
X-WR-TIMEZONE:Europe/Ljubljana
END:VEVENT
BEGIN:VEVENT
SUMMARY:Optične metode v medicini (MEF-1\, MEF-2)\, Vaje (V)
DTSTART;TZID=Europe/Ljubljana:20210317T100000
DTEND;TZID=Europe/Ljubljana:20210317T110000
DTSTAMP:20260424T115209Z
UID:fmf-AFLABS-URNIK:premaknjeno-srecanje:80953
ATTENDEE:1. letnik (Medicinska fizika, 2. stopnja)
ATTENDEE:2. letnik (Medicinska fizika, 2. stopnja)
CATEGORIES:Entry,Standard
COLOR:darkgreen
DESCRIPTION:Predmet: Optične metode v medicini (MEF-1\, MEF-2)\, Vaje (V)
 \nLetniki: 1. letnik (Medicinska fizika\, 2. stopnja)\, 2. letnik (Medicin
 ska fizika\, 2. stopnja)\nIzvajalci: Boris Majaron\nProstor: Kuščerjev s
 eminar
LOCATION:Kuščerjev seminar
ORGANIZER:Boris Majaron
RELATED-TO:fmf-AFLABS-URNIK:srecanje:5797
X-WR-TIMEZONE:Europe/Ljubljana
END:VEVENT
BEGIN:VEVENT
SUMMARY:Optične metode v medicini (MEF-1\, MEF-2)\, Vaje (V)
DTSTART;TZID=Europe/Ljubljana:20210324T100000
DTEND;TZID=Europe/Ljubljana:20210324T110000
DTSTAMP:20260424T115209Z
UID:fmf-AFLABS-URNIK:premaknjeno-srecanje:80954
ATTENDEE:1. letnik (Medicinska fizika, 2. stopnja)
ATTENDEE:2. letnik (Medicinska fizika, 2. stopnja)
CATEGORIES:Entry,Standard
COLOR:darkgreen
DESCRIPTION:Predmet: Optične metode v medicini (MEF-1\, MEF-2)\, Vaje (V)
 \nLetniki: 1. letnik (Medicinska fizika\, 2. stopnja)\, 2. letnik (Medicin
 ska fizika\, 2. stopnja)\nIzvajalci: Boris Majaron\nProstor: Kuščerjev s
 eminar
LOCATION:Kuščerjev seminar
ORGANIZER:Boris Majaron
RELATED-TO:fmf-AFLABS-URNIK:srecanje:5797
X-WR-TIMEZONE:Europe/Ljubljana
END:VEVENT
BEGIN:VEVENT
SUMMARY:Optične metode v medicini (MEF-1\, MEF-2)\, Vaje (V)
DTSTART;TZID=Europe/Ljubljana:20210331T100000
DTEND;TZID=Europe/Ljubljana:20210331T110000
DTSTAMP:20260424T115209Z
UID:fmf-AFLABS-URNIK:premaknjeno-srecanje:80955
ATTENDEE:1. letnik (Medicinska fizika, 2. stopnja)
ATTENDEE:2. letnik (Medicinska fizika, 2. stopnja)
CATEGORIES:Entry,Standard
COLOR:darkgreen
DESCRIPTION:Predmet: Optične metode v medicini (MEF-1\, MEF-2)\, Vaje (V)
 \nLetniki: 1. letnik (Medicinska fizika\, 2. stopnja)\, 2. letnik (Medicin
 ska fizika\, 2. stopnja)\nIzvajalci: Boris Majaron\nProstor: Kuščerjev s
 eminar
LOCATION:Kuščerjev seminar
ORGANIZER:Boris Majaron
RELATED-TO:fmf-AFLABS-URNIK:srecanje:5797
X-WR-TIMEZONE:Europe/Ljubljana
END:VEVENT
BEGIN:VEVENT
SUMMARY:Optične metode v medicini (MEF-1\, MEF-2)\, Vaje (V)
DTSTART;TZID=Europe/Ljubljana:20210407T100000
DTEND;TZID=Europe/Ljubljana:20210407T110000
DTSTAMP:20260424T115209Z
UID:fmf-AFLABS-URNIK:premaknjeno-srecanje:80956
ATTENDEE:1. letnik (Medicinska fizika, 2. stopnja)
ATTENDEE:2. letnik (Medicinska fizika, 2. stopnja)
CATEGORIES:Entry,Standard
COLOR:darkgreen
DESCRIPTION:Predmet: Optične metode v medicini (MEF-1\, MEF-2)\, Vaje (V)
 \nLetniki: 1. letnik (Medicinska fizika\, 2. stopnja)\, 2. letnik (Medicin
 ska fizika\, 2. stopnja)\nIzvajalci: Boris Majaron\nProstor: Kuščerjev s
 eminar
LOCATION:Kuščerjev seminar
ORGANIZER:Boris Majaron
RELATED-TO:fmf-AFLABS-URNIK:srecanje:5797
X-WR-TIMEZONE:Europe/Ljubljana
END:VEVENT
BEGIN:VEVENT
SUMMARY:Optične metode v medicini (MEF-1\, MEF-2)\, Vaje (V)
DTSTART;TZID=Europe/Ljubljana:20210414T100000
DTEND;TZID=Europe/Ljubljana:20210414T110000
DTSTAMP:20260424T115209Z
UID:fmf-AFLABS-URNIK:premaknjeno-srecanje:80957
ATTENDEE:1. letnik (Medicinska fizika, 2. stopnja)
ATTENDEE:2. letnik (Medicinska fizika, 2. stopnja)
CATEGORIES:Entry,Standard
COLOR:darkgreen
DESCRIPTION:Predmet: Optične metode v medicini (MEF-1\, MEF-2)\, Vaje (V)
 \nLetniki: 1. letnik (Medicinska fizika\, 2. stopnja)\, 2. letnik (Medicin
 ska fizika\, 2. stopnja)\nIzvajalci: Boris Majaron\nProstor: Kuščerjev s
 eminar
LOCATION:Kuščerjev seminar
ORGANIZER:Boris Majaron
RELATED-TO:fmf-AFLABS-URNIK:srecanje:5797
X-WR-TIMEZONE:Europe/Ljubljana
END:VEVENT
BEGIN:VEVENT
SUMMARY:Optične metode v medicini (MEF-1\, MEF-2)\, Vaje (V)
DTSTART;TZID=Europe/Ljubljana:20210421T100000
DTEND;TZID=Europe/Ljubljana:20210421T110000
DTSTAMP:20260424T115209Z
UID:fmf-AFLABS-URNIK:premaknjeno-srecanje:80958
ATTENDEE:1. letnik (Medicinska fizika, 2. stopnja)
ATTENDEE:2. letnik (Medicinska fizika, 2. stopnja)
CATEGORIES:Entry,Standard
COLOR:darkgreen
DESCRIPTION:Predmet: Optične metode v medicini (MEF-1\, MEF-2)\, Vaje (V)
 \nLetniki: 1. letnik (Medicinska fizika\, 2. stopnja)\, 2. letnik (Medicin
 ska fizika\, 2. stopnja)\nIzvajalci: Boris Majaron\nProstor: Kuščerjev s
 eminar
LOCATION:Kuščerjev seminar
ORGANIZER:Boris Majaron
RELATED-TO:fmf-AFLABS-URNIK:srecanje:5797
X-WR-TIMEZONE:Europe/Ljubljana
END:VEVENT
BEGIN:VEVENT
SUMMARY:Optične metode v medicini (MEF-1\, MEF-2)\, Vaje (V)
DTSTART;TZID=Europe/Ljubljana:20210428T100000
DTEND;TZID=Europe/Ljubljana:20210428T110000
DTSTAMP:20260424T115209Z
UID:fmf-AFLABS-URNIK:premaknjeno-srecanje:80959
ATTENDEE:1. letnik (Medicinska fizika, 2. stopnja)
ATTENDEE:2. letnik (Medicinska fizika, 2. stopnja)
CATEGORIES:Entry,Standard
COLOR:darkgreen
DESCRIPTION:Predmet: Optične metode v medicini (MEF-1\, MEF-2)\, Vaje (V)
 \nLetniki: 1. letnik (Medicinska fizika\, 2. stopnja)\, 2. letnik (Medicin
 ska fizika\, 2. stopnja)\nIzvajalci: Boris Majaron\nProstor: Kuščerjev s
 eminar
LOCATION:Kuščerjev seminar
ORGANIZER:Boris Majaron
RELATED-TO:fmf-AFLABS-URNIK:srecanje:5797
X-WR-TIMEZONE:Europe/Ljubljana
END:VEVENT
BEGIN:VEVENT
SUMMARY:Optične metode v medicini (MEF-1\, MEF-2)\, Vaje (V)
DTSTART;TZID=Europe/Ljubljana:20210505T100000
DTEND;TZID=Europe/Ljubljana:20210505T110000
DTSTAMP:20260424T115209Z
UID:fmf-AFLABS-URNIK:premaknjeno-srecanje:80960
ATTENDEE:1. letnik (Medicinska fizika, 2. stopnja)
ATTENDEE:2. letnik (Medicinska fizika, 2. stopnja)
CATEGORIES:Entry,Standard
COLOR:darkgreen
DESCRIPTION:Predmet: Optične metode v medicini (MEF-1\, MEF-2)\, Vaje (V)
 \nLetniki: 1. letnik (Medicinska fizika\, 2. stopnja)\, 2. letnik (Medicin
 ska fizika\, 2. stopnja)\nIzvajalci: Boris Majaron\nProstor: Kuščerjev s
 eminar
LOCATION:Kuščerjev seminar
ORGANIZER:Boris Majaron
RELATED-TO:fmf-AFLABS-URNIK:srecanje:5797
X-WR-TIMEZONE:Europe/Ljubljana
END:VEVENT
BEGIN:VEVENT
SUMMARY:Optične metode v medicini (MEF-1\, MEF-2)\, Vaje (V)
DTSTART;TZID=Europe/Ljubljana:20210512T100000
DTEND;TZID=Europe/Ljubljana:20210512T110000
DTSTAMP:20260424T115209Z
UID:fmf-AFLABS-URNIK:premaknjeno-srecanje:80961
ATTENDEE:1. letnik (Medicinska fizika, 2. stopnja)
ATTENDEE:2. letnik (Medicinska fizika, 2. stopnja)
CATEGORIES:Entry,Standard
COLOR:darkgreen
DESCRIPTION:Predmet: Optične metode v medicini (MEF-1\, MEF-2)\, Vaje (V)
 \nLetniki: 1. letnik (Medicinska fizika\, 2. stopnja)\, 2. letnik (Medicin
 ska fizika\, 2. stopnja)\nIzvajalci: Boris Majaron\nProstor: Kuščerjev s
 eminar
LOCATION:Kuščerjev seminar
ORGANIZER:Boris Majaron
RELATED-TO:fmf-AFLABS-URNIK:srecanje:5797
X-WR-TIMEZONE:Europe/Ljubljana
END:VEVENT
BEGIN:VEVENT
SUMMARY:Optične metode v medicini (MEF-1\, MEF-2)\, Vaje (V)
DTSTART;TZID=Europe/Ljubljana:20210519T100000
DTEND;TZID=Europe/Ljubljana:20210519T110000
DTSTAMP:20260424T115209Z
UID:fmf-AFLABS-URNIK:premaknjeno-srecanje:80962
ATTENDEE:1. letnik (Medicinska fizika, 2. stopnja)
ATTENDEE:2. letnik (Medicinska fizika, 2. stopnja)
CATEGORIES:Entry,Standard
COLOR:darkgreen
DESCRIPTION:Predmet: Optične metode v medicini (MEF-1\, MEF-2)\, Vaje (V)
 \nLetniki: 1. letnik (Medicinska fizika\, 2. stopnja)\, 2. letnik (Medicin
 ska fizika\, 2. stopnja)\nIzvajalci: Boris Majaron\nProstor: Kuščerjev s
 eminar
LOCATION:Kuščerjev seminar
ORGANIZER:Boris Majaron
RELATED-TO:fmf-AFLABS-URNIK:srecanje:5797
X-WR-TIMEZONE:Europe/Ljubljana
END:VEVENT
BEGIN:VEVENT
SUMMARY:Optične metode v medicini (MEF-1\, MEF-2)\, Vaje (V)
DTSTART;TZID=Europe/Ljubljana:20210526T100000
DTEND;TZID=Europe/Ljubljana:20210526T110000
DTSTAMP:20260424T115209Z
UID:fmf-AFLABS-URNIK:premaknjeno-srecanje:80963
ATTENDEE:1. letnik (Medicinska fizika, 2. stopnja)
ATTENDEE:2. letnik (Medicinska fizika, 2. stopnja)
CATEGORIES:Entry,Standard
COLOR:darkgreen
DESCRIPTION:Predmet: Optične metode v medicini (MEF-1\, MEF-2)\, Vaje (V)
 \nLetniki: 1. letnik (Medicinska fizika\, 2. stopnja)\, 2. letnik (Medicin
 ska fizika\, 2. stopnja)\nIzvajalci: Boris Majaron\nProstor: Kuščerjev s
 eminar
LOCATION:Kuščerjev seminar
ORGANIZER:Boris Majaron
RELATED-TO:fmf-AFLABS-URNIK:srecanje:5797
X-WR-TIMEZONE:Europe/Ljubljana
END:VEVENT
BEGIN:VEVENT
SUMMARY:Rezervacija
DTSTART;TZID=Europe/Ljubljana:20210601T080000
DTEND;TZID=Europe/Ljubljana:20210601T100000
DTSTAMP:20260424T115209Z
UID:fmf-AFLABS-URNIK:rezervacija:6698
CATEGORIES:Reservation
COLOR:royalblue
DESCRIPTION:Predmeti: \nLetniki: \nIzvajalci: Boris Majaron\nProstori: F5
LOCATION:F5
ORGANIZER:Boris Majaron
X-WR-TIMEZONE:Europe/Ljubljana
END:VEVENT
BEGIN:VEVENT
SUMMARY:Rezervacija
DTSTART;TZID=Europe/Ljubljana:20210604T080000
DTEND;TZID=Europe/Ljubljana:20210604T130000
DTSTAMP:20260424T115209Z
UID:fmf-AFLABS-URNIK:rezervacija:6736
ATTENDEE:1. letnik (Medicinska fizika, 2. stopnja)
ATTENDEE:2. letnik (Medicinska fizika, 2. stopnja)
CATEGORIES:Reservation
COLOR:royalblue
DESCRIPTION:Predmeti: Optične metode v medicini (MEF-1\, MEF-2)\nLetniki:
  1. letnik (Medicinska fizika\, 2. stopnja)\, 2. letnik (Medicinska fizika
 \, 2. stopnja)\nIzvajalci: Boris Majaron\nProstori: F5
LOCATION:F5
ORGANIZER:Boris Majaron
X-WR-TIMEZONE:Europe/Ljubljana
END:VEVENT
BEGIN:VEVENT
SUMMARY:Rezervacija
DTSTART;TZID=Europe/Ljubljana:20210610T090000
DTEND;TZID=Europe/Ljubljana:20210610T110000
DTSTAMP:20260424T115209Z
UID:fmf-AFLABS-URNIK:rezervacija:6808
ATTENDEE:1. letnik (Medicinska fizika, 2. stopnja)
ATTENDEE:2. letnik (Medicinska fizika, 2. stopnja)
CATEGORIES:Reservation
COLOR:royalblue
DESCRIPTION:Predmeti: Optične metode v medicini (MEF-1\, MEF-2)\nLetniki:
  1. letnik (Medicinska fizika\, 2. stopnja)\, 2. letnik (Medicinska fizika
 \, 2. stopnja)\nIzvajalci: Boris Majaron\nProstori: F6
LOCATION:F6
ORGANIZER:Boris Majaron
X-WR-TIMEZONE:Europe/Ljubljana
END:VEVENT
BEGIN:VEVENT
SUMMARY:Rezervacija
DTSTART;TZID=Europe/Ljubljana:20210624T090000
DTEND;TZID=Europe/Ljubljana:20210624T110000
DTSTAMP:20260424T115209Z
UID:fmf-AFLABS-URNIK:rezervacija:7045
ATTENDEE:1. letnik (Medicinska fizika, 2. stopnja)
ATTENDEE:2. letnik (Medicinska fizika, 2. stopnja)
CATEGORIES:Reservation
COLOR:royalblue
DESCRIPTION:Predmeti: Optične metode v medicini (MEF-1\, MEF-2)\nLetniki:
  1. letnik (Medicinska fizika\, 2. stopnja)\, 2. letnik (Medicinska fizika
 \, 2. stopnja)\nIzvajalci: Boris Majaron\nProstori: F3
LOCATION:F3
ORGANIZER:Boris Majaron
X-WR-TIMEZONE:Europe/Ljubljana
END:VEVENT
BEGIN:VEVENT
SUMMARY:Rezervacija
DTSTART;TZID=Europe/Ljubljana:20210624T110000
DTEND;TZID=Europe/Ljubljana:20210624T120000
DTSTAMP:20260424T115209Z
UID:fmf-AFLABS-URNIK:rezervacija:7056
ATTENDEE:1. letnik (Medicinska fizika, 2. stopnja)
ATTENDEE:2. letnik (Medicinska fizika, 2. stopnja)
CATEGORIES:Reservation
COLOR:royalblue
DESCRIPTION:Predmeti: Optične metode v medicini (MEF-1\, MEF-2)\nLetniki:
  1. letnik (Medicinska fizika\, 2. stopnja)\, 2. letnik (Medicinska fizika
 \, 2. stopnja)\nIzvajalci: Boris Majaron\nProstori: F3
LOCATION:F3
ORGANIZER:Boris Majaron
X-WR-TIMEZONE:Europe/Ljubljana
END:VEVENT
END:VCALENDAR
