BEGIN:VCALENDAR
VERSION:2.0
PRODID:-//AFLabs urnik izvoz - fmf//aflabs.si//SI
DTSTAMP:20260422T221657Z
NAME:UL FMF urnik
REFRESH-INTERVAL:PT1H
SOURCE:https://urnik.fmf.uni-lj.si/teacher/307?day=2020-11-30&export=1
URL:https://urnik.fmf.uni-lj.si/teacher/307?day=2020-11-30&export=1
X-PUBLISHED-TTL:PT1H
X-WR-CALNAME:UL FMF urnik
X-WR-TIMEZONE:Europe/Ljubljana
BEGIN:VTIMEZONE
TZID:Europe/Ljubljana
BEGIN:DAYLIGHT
DTSTART:20260329T020000
RDATE:20260329T020000
RDATE:20270328T020000
TZNAME:CEST
TZOFFSETFROM:+0100
TZOFFSETTO:+0200
END:DAYLIGHT
BEGIN:STANDARD
DTSTART:20261025T030000
RDATE:20261025T030000
RDATE:20271031T030000
TZNAME:CET
TZOFFSETFROM:+0200
TZOFFSETTO:+0100
END:STANDARD
END:VTIMEZONE
BEGIN:VEVENT
SUMMARY:Računalništvo (FIZ-2)\, Vaje (V)
DTSTART;TZID=Europe/Ljubljana:20201001T140000
DTEND;TZID=Europe/Ljubljana:20201001T150000
DTSTAMP:20260422T221657Z
UID:fmf-AFLABS-URNIK:premaknjeno-srecanje:94776
ATTENDEE:2. letnik (Fizika, 1. stopnja)
CATEGORIES:Entry,Standard
COLOR:darkgreen
DESCRIPTION:Predmet: Računalništvo (FIZ-2)\, Vaje (V)\nLetniki: 2. letni
 k (Fizika\, 1. stopnja)\nIzvajalci: Aljaž Osojnik\nProstor: 3.11
LOCATION:3.11
ORGANIZER:Aljaž Osojnik
RELATED-TO:fmf-AFLABS-URNIK:srecanje:5150
X-WR-TIMEZONE:Europe/Ljubljana
END:VEVENT
BEGIN:VEVENT
SUMMARY:Računalništvo (FIZ-2)\, Vaje (V)
DTSTART;TZID=Europe/Ljubljana:20201008T140000
DTEND;TZID=Europe/Ljubljana:20201008T150000
DTSTAMP:20260422T221657Z
UID:fmf-AFLABS-URNIK:premaknjeno-srecanje:94777
ATTENDEE:2. letnik (Fizika, 1. stopnja)
CATEGORIES:Entry,Standard
COLOR:darkgreen
DESCRIPTION:Predmet: Računalništvo (FIZ-2)\, Vaje (V)\nLetniki: 2. letni
 k (Fizika\, 1. stopnja)\nIzvajalci: Aljaž Osojnik\nProstor: 3.11
LOCATION:3.11
ORGANIZER:Aljaž Osojnik
RELATED-TO:fmf-AFLABS-URNIK:srecanje:5150
X-WR-TIMEZONE:Europe/Ljubljana
END:VEVENT
BEGIN:VEVENT
SUMMARY:Računalništvo (FIZ-2)\, Vaje (V)
DTSTART;TZID=Europe/Ljubljana:20201015T140000
DTEND;TZID=Europe/Ljubljana:20201015T150000
DTSTAMP:20260422T221657Z
UID:fmf-AFLABS-URNIK:premaknjeno-srecanje:94778
ATTENDEE:2. letnik (Fizika, 1. stopnja)
CATEGORIES:Entry,Standard
COLOR:darkgreen
DESCRIPTION:Predmet: Računalništvo (FIZ-2)\, Vaje (V)\nLetniki: 2. letni
 k (Fizika\, 1. stopnja)\nIzvajalci: Aljaž Osojnik\nProstor: 3.11
LOCATION:3.11
ORGANIZER:Aljaž Osojnik
RELATED-TO:fmf-AFLABS-URNIK:srecanje:5150
X-WR-TIMEZONE:Europe/Ljubljana
END:VEVENT
BEGIN:VEVENT
SUMMARY:Računalništvo (FIZ-2)\, Vaje (V)
DTSTART;TZID=Europe/Ljubljana:20201022T140000
DTEND;TZID=Europe/Ljubljana:20201022T150000
DTSTAMP:20260422T221657Z
UID:fmf-AFLABS-URNIK:premaknjeno-srecanje:94779
ATTENDEE:2. letnik (Fizika, 1. stopnja)
CATEGORIES:Entry,Standard
COLOR:darkgreen
DESCRIPTION:Predmet: Računalništvo (FIZ-2)\, Vaje (V)\nLetniki: 2. letni
 k (Fizika\, 1. stopnja)\nIzvajalci: Aljaž Osojnik\nProstor: 3.11
LOCATION:3.11
ORGANIZER:Aljaž Osojnik
RELATED-TO:fmf-AFLABS-URNIK:srecanje:5150
X-WR-TIMEZONE:Europe/Ljubljana
END:VEVENT
BEGIN:VEVENT
SUMMARY:Računalništvo (FIZ-2)\, Vaje (V)
DTSTART;TZID=Europe/Ljubljana:20201029T140000
DTEND;TZID=Europe/Ljubljana:20201029T150000
DTSTAMP:20260422T221657Z
UID:fmf-AFLABS-URNIK:premaknjeno-srecanje:94780
ATTENDEE:2. letnik (Fizika, 1. stopnja)
CATEGORIES:Entry,Standard
COLOR:darkgreen
DESCRIPTION:Predmet: Računalništvo (FIZ-2)\, Vaje (V)\nLetniki: 2. letni
 k (Fizika\, 1. stopnja)\nIzvajalci: Aljaž Osojnik\nProstor: 3.11
LOCATION:3.11
ORGANIZER:Aljaž Osojnik
RELATED-TO:fmf-AFLABS-URNIK:srecanje:5150
X-WR-TIMEZONE:Europe/Ljubljana
END:VEVENT
BEGIN:VEVENT
SUMMARY:Računalništvo (FIZ-2)\, Vaje (V)
DTSTART;TZID=Europe/Ljubljana:20201105T140000
DTEND;TZID=Europe/Ljubljana:20201105T150000
DTSTAMP:20260422T221657Z
UID:fmf-AFLABS-URNIK:premaknjeno-srecanje:94781
ATTENDEE:2. letnik (Fizika, 1. stopnja)
CATEGORIES:Entry,Standard
COLOR:darkgreen
DESCRIPTION:Predmet: Računalništvo (FIZ-2)\, Vaje (V)\nLetniki: 2. letni
 k (Fizika\, 1. stopnja)\nIzvajalci: Aljaž Osojnik\nProstor: 3.11
LOCATION:3.11
ORGANIZER:Aljaž Osojnik
RELATED-TO:fmf-AFLABS-URNIK:srecanje:5150
X-WR-TIMEZONE:Europe/Ljubljana
END:VEVENT
BEGIN:VEVENT
SUMMARY:Računalništvo (FIZ-2)\, Vaje (V)
DTSTART;TZID=Europe/Ljubljana:20201112T140000
DTEND;TZID=Europe/Ljubljana:20201112T150000
DTSTAMP:20260422T221657Z
UID:fmf-AFLABS-URNIK:premaknjeno-srecanje:94782
ATTENDEE:2. letnik (Fizika, 1. stopnja)
CATEGORIES:Entry,Standard
COLOR:darkgreen
DESCRIPTION:Predmet: Računalništvo (FIZ-2)\, Vaje (V)\nLetniki: 2. letni
 k (Fizika\, 1. stopnja)\nIzvajalci: Aljaž Osojnik\nProstor: 3.11
LOCATION:3.11
ORGANIZER:Aljaž Osojnik
RELATED-TO:fmf-AFLABS-URNIK:srecanje:5150
X-WR-TIMEZONE:Europe/Ljubljana
END:VEVENT
BEGIN:VEVENT
SUMMARY:Računalništvo (FIZ-2)\, Vaje (V)
DTSTART;TZID=Europe/Ljubljana:20201119T140000
DTEND;TZID=Europe/Ljubljana:20201119T150000
DTSTAMP:20260422T221657Z
UID:fmf-AFLABS-URNIK:premaknjeno-srecanje:94783
ATTENDEE:2. letnik (Fizika, 1. stopnja)
CATEGORIES:Entry,Standard
COLOR:darkgreen
DESCRIPTION:Predmet: Računalništvo (FIZ-2)\, Vaje (V)\nLetniki: 2. letni
 k (Fizika\, 1. stopnja)\nIzvajalci: Aljaž Osojnik\nProstor: 3.11
LOCATION:3.11
ORGANIZER:Aljaž Osojnik
RELATED-TO:fmf-AFLABS-URNIK:srecanje:5150
X-WR-TIMEZONE:Europe/Ljubljana
END:VEVENT
BEGIN:VEVENT
SUMMARY:Računalništvo (FIZ-2)\, Vaje (V)
DTSTART;TZID=Europe/Ljubljana:20201126T140000
DTEND;TZID=Europe/Ljubljana:20201126T150000
DTSTAMP:20260422T221657Z
UID:fmf-AFLABS-URNIK:premaknjeno-srecanje:94784
ATTENDEE:2. letnik (Fizika, 1. stopnja)
CATEGORIES:Entry,Standard
COLOR:darkgreen
DESCRIPTION:Predmet: Računalništvo (FIZ-2)\, Vaje (V)\nLetniki: 2. letni
 k (Fizika\, 1. stopnja)\nIzvajalci: Aljaž Osojnik\nProstor: 3.11
LOCATION:3.11
ORGANIZER:Aljaž Osojnik
RELATED-TO:fmf-AFLABS-URNIK:srecanje:5150
X-WR-TIMEZONE:Europe/Ljubljana
END:VEVENT
BEGIN:VEVENT
SUMMARY:Računalništvo (FIZ-2)\, Vaje (V)
DTSTART;TZID=Europe/Ljubljana:20201203T140000
DTEND;TZID=Europe/Ljubljana:20201203T150000
DTSTAMP:20260422T221657Z
UID:fmf-AFLABS-URNIK:premaknjeno-srecanje:94785
ATTENDEE:2. letnik (Fizika, 1. stopnja)
CATEGORIES:Entry,Standard
COLOR:darkgreen
DESCRIPTION:Predmet: Računalništvo (FIZ-2)\, Vaje (V)\nLetniki: 2. letni
 k (Fizika\, 1. stopnja)\nIzvajalci: Aljaž Osojnik\nProstor: 3.11
LOCATION:3.11
ORGANIZER:Aljaž Osojnik
RELATED-TO:fmf-AFLABS-URNIK:srecanje:5150
X-WR-TIMEZONE:Europe/Ljubljana
END:VEVENT
BEGIN:VEVENT
SUMMARY:Računalništvo (FIZ-2)\, Vaje (V)
DTSTART;TZID=Europe/Ljubljana:20201210T140000
DTEND;TZID=Europe/Ljubljana:20201210T150000
DTSTAMP:20260422T221657Z
UID:fmf-AFLABS-URNIK:premaknjeno-srecanje:94786
ATTENDEE:2. letnik (Fizika, 1. stopnja)
CATEGORIES:Entry,Standard
COLOR:darkgreen
DESCRIPTION:Predmet: Računalništvo (FIZ-2)\, Vaje (V)\nLetniki: 2. letni
 k (Fizika\, 1. stopnja)\nIzvajalci: Aljaž Osojnik\nProstor: 3.11
LOCATION:3.11
ORGANIZER:Aljaž Osojnik
RELATED-TO:fmf-AFLABS-URNIK:srecanje:5150
X-WR-TIMEZONE:Europe/Ljubljana
END:VEVENT
BEGIN:VEVENT
SUMMARY:Računalništvo (FIZ-2)\, Vaje (V)
DTSTART;TZID=Europe/Ljubljana:20201217T140000
DTEND;TZID=Europe/Ljubljana:20201217T150000
DTSTAMP:20260422T221657Z
UID:fmf-AFLABS-URNIK:premaknjeno-srecanje:94787
ATTENDEE:2. letnik (Fizika, 1. stopnja)
CATEGORIES:Entry,Standard
COLOR:darkgreen
DESCRIPTION:Predmet: Računalništvo (FIZ-2)\, Vaje (V)\nLetniki: 2. letni
 k (Fizika\, 1. stopnja)\nIzvajalci: Aljaž Osojnik\nProstor: 3.11
LOCATION:3.11
ORGANIZER:Aljaž Osojnik
RELATED-TO:fmf-AFLABS-URNIK:srecanje:5150
X-WR-TIMEZONE:Europe/Ljubljana
END:VEVENT
BEGIN:VEVENT
SUMMARY:Računalništvo (FIZ-2)\, Vaje (V)
DTSTART;TZID=Europe/Ljubljana:20201224T140000
DTEND;TZID=Europe/Ljubljana:20201224T150000
DTSTAMP:20260422T221657Z
UID:fmf-AFLABS-URNIK:premaknjeno-srecanje:94788
ATTENDEE:2. letnik (Fizika, 1. stopnja)
CATEGORIES:Entry,Standard
COLOR:darkgreen
DESCRIPTION:Predmet: Računalništvo (FIZ-2)\, Vaje (V)\nLetniki: 2. letni
 k (Fizika\, 1. stopnja)\nIzvajalci: Aljaž Osojnik\nProstor: 3.11
LOCATION:3.11
ORGANIZER:Aljaž Osojnik
RELATED-TO:fmf-AFLABS-URNIK:srecanje:5150
X-WR-TIMEZONE:Europe/Ljubljana
END:VEVENT
BEGIN:VEVENT
SUMMARY:Računalništvo (FIZ-2)\, Vaje (V)
DTSTART;TZID=Europe/Ljubljana:20201231T140000
DTEND;TZID=Europe/Ljubljana:20201231T150000
DTSTAMP:20260422T221657Z
UID:fmf-AFLABS-URNIK:premaknjeno-srecanje:94789
ATTENDEE:2. letnik (Fizika, 1. stopnja)
CATEGORIES:Entry,Standard
COLOR:darkgreen
DESCRIPTION:Predmet: Računalništvo (FIZ-2)\, Vaje (V)\nLetniki: 2. letni
 k (Fizika\, 1. stopnja)\nIzvajalci: Aljaž Osojnik\nProstor: 3.11
LOCATION:3.11
ORGANIZER:Aljaž Osojnik
RELATED-TO:fmf-AFLABS-URNIK:srecanje:5150
X-WR-TIMEZONE:Europe/Ljubljana
END:VEVENT
BEGIN:VEVENT
SUMMARY:Računalništvo (FIZ-2)\, Vaje (V)
DTSTART;TZID=Europe/Ljubljana:20210107T140000
DTEND;TZID=Europe/Ljubljana:20210107T150000
DTSTAMP:20260422T221657Z
UID:fmf-AFLABS-URNIK:premaknjeno-srecanje:94790
ATTENDEE:2. letnik (Fizika, 1. stopnja)
CATEGORIES:Entry,Standard
COLOR:darkgreen
DESCRIPTION:Predmet: Računalništvo (FIZ-2)\, Vaje (V)\nLetniki: 2. letni
 k (Fizika\, 1. stopnja)\nIzvajalci: Aljaž Osojnik\nProstor: 3.11
LOCATION:3.11
ORGANIZER:Aljaž Osojnik
RELATED-TO:fmf-AFLABS-URNIK:srecanje:5150
X-WR-TIMEZONE:Europe/Ljubljana
END:VEVENT
BEGIN:VEVENT
SUMMARY:Računalništvo (FIZ-2)\, Vaje (V)
DTSTART;TZID=Europe/Ljubljana:20210114T140000
DTEND;TZID=Europe/Ljubljana:20210114T150000
DTSTAMP:20260422T221657Z
UID:fmf-AFLABS-URNIK:premaknjeno-srecanje:94791
ATTENDEE:2. letnik (Fizika, 1. stopnja)
CATEGORIES:Entry,Standard
COLOR:darkgreen
DESCRIPTION:Predmet: Računalništvo (FIZ-2)\, Vaje (V)\nLetniki: 2. letni
 k (Fizika\, 1. stopnja)\nIzvajalci: Aljaž Osojnik\nProstor: 3.11
LOCATION:3.11
ORGANIZER:Aljaž Osojnik
RELATED-TO:fmf-AFLABS-URNIK:srecanje:5150
X-WR-TIMEZONE:Europe/Ljubljana
END:VEVENT
BEGIN:VEVENT
SUMMARY:Računalništvo (FIZ-2)\, Vaje (V)
DTSTART;TZID=Europe/Ljubljana:20201001T150000
DTEND;TZID=Europe/Ljubljana:20201001T160000
DTSTAMP:20260422T221657Z
UID:fmf-AFLABS-URNIK:premaknjeno-srecanje:94840
ATTENDEE:2. letnik (Fizika, 1. stopnja)
CATEGORIES:Entry,Standard
COLOR:darkgreen
DESCRIPTION:Predmet: Računalništvo (FIZ-2)\, Vaje (V)\nLetniki: 2. letni
 k (Fizika\, 1. stopnja)\nIzvajalci: Aljaž Osojnik\nProstor: 3.11
LOCATION:3.11
ORGANIZER:Aljaž Osojnik
RELATED-TO:fmf-AFLABS-URNIK:srecanje:5151
X-WR-TIMEZONE:Europe/Ljubljana
END:VEVENT
BEGIN:VEVENT
SUMMARY:Računalništvo (FIZ-2)\, Vaje (V)
DTSTART;TZID=Europe/Ljubljana:20201008T150000
DTEND;TZID=Europe/Ljubljana:20201008T160000
DTSTAMP:20260422T221657Z
UID:fmf-AFLABS-URNIK:premaknjeno-srecanje:94841
ATTENDEE:2. letnik (Fizika, 1. stopnja)
CATEGORIES:Entry,Standard
COLOR:darkgreen
DESCRIPTION:Predmet: Računalništvo (FIZ-2)\, Vaje (V)\nLetniki: 2. letni
 k (Fizika\, 1. stopnja)\nIzvajalci: Aljaž Osojnik\nProstor: 3.11
LOCATION:3.11
ORGANIZER:Aljaž Osojnik
RELATED-TO:fmf-AFLABS-URNIK:srecanje:5151
X-WR-TIMEZONE:Europe/Ljubljana
END:VEVENT
BEGIN:VEVENT
SUMMARY:Računalništvo (FIZ-2)\, Vaje (V)
DTSTART;TZID=Europe/Ljubljana:20201015T150000
DTEND;TZID=Europe/Ljubljana:20201015T160000
DTSTAMP:20260422T221657Z
UID:fmf-AFLABS-URNIK:premaknjeno-srecanje:94842
ATTENDEE:2. letnik (Fizika, 1. stopnja)
CATEGORIES:Entry,Standard
COLOR:darkgreen
DESCRIPTION:Predmet: Računalništvo (FIZ-2)\, Vaje (V)\nLetniki: 2. letni
 k (Fizika\, 1. stopnja)\nIzvajalci: Aljaž Osojnik\nProstor: 3.11
LOCATION:3.11
ORGANIZER:Aljaž Osojnik
RELATED-TO:fmf-AFLABS-URNIK:srecanje:5151
X-WR-TIMEZONE:Europe/Ljubljana
END:VEVENT
BEGIN:VEVENT
SUMMARY:Računalništvo (FIZ-2)\, Vaje (V)
DTSTART;TZID=Europe/Ljubljana:20201022T150000
DTEND;TZID=Europe/Ljubljana:20201022T160000
DTSTAMP:20260422T221657Z
UID:fmf-AFLABS-URNIK:premaknjeno-srecanje:94843
ATTENDEE:2. letnik (Fizika, 1. stopnja)
CATEGORIES:Entry,Standard
COLOR:darkgreen
DESCRIPTION:Predmet: Računalništvo (FIZ-2)\, Vaje (V)\nLetniki: 2. letni
 k (Fizika\, 1. stopnja)\nIzvajalci: Aljaž Osojnik\nProstor: 3.11
LOCATION:3.11
ORGANIZER:Aljaž Osojnik
RELATED-TO:fmf-AFLABS-URNIK:srecanje:5151
X-WR-TIMEZONE:Europe/Ljubljana
END:VEVENT
BEGIN:VEVENT
SUMMARY:Računalništvo (FIZ-2)\, Vaje (V)
DTSTART;TZID=Europe/Ljubljana:20201029T150000
DTEND;TZID=Europe/Ljubljana:20201029T160000
DTSTAMP:20260422T221657Z
UID:fmf-AFLABS-URNIK:premaknjeno-srecanje:94844
ATTENDEE:2. letnik (Fizika, 1. stopnja)
CATEGORIES:Entry,Standard
COLOR:darkgreen
DESCRIPTION:Predmet: Računalništvo (FIZ-2)\, Vaje (V)\nLetniki: 2. letni
 k (Fizika\, 1. stopnja)\nIzvajalci: Aljaž Osojnik\nProstor: 3.11
LOCATION:3.11
ORGANIZER:Aljaž Osojnik
RELATED-TO:fmf-AFLABS-URNIK:srecanje:5151
X-WR-TIMEZONE:Europe/Ljubljana
END:VEVENT
BEGIN:VEVENT
SUMMARY:Računalništvo (FIZ-2)\, Vaje (V)
DTSTART;TZID=Europe/Ljubljana:20201105T150000
DTEND;TZID=Europe/Ljubljana:20201105T160000
DTSTAMP:20260422T221657Z
UID:fmf-AFLABS-URNIK:premaknjeno-srecanje:94845
ATTENDEE:2. letnik (Fizika, 1. stopnja)
CATEGORIES:Entry,Standard
COLOR:darkgreen
DESCRIPTION:Predmet: Računalništvo (FIZ-2)\, Vaje (V)\nLetniki: 2. letni
 k (Fizika\, 1. stopnja)\nIzvajalci: Aljaž Osojnik\nProstor: 3.11
LOCATION:3.11
ORGANIZER:Aljaž Osojnik
RELATED-TO:fmf-AFLABS-URNIK:srecanje:5151
X-WR-TIMEZONE:Europe/Ljubljana
END:VEVENT
BEGIN:VEVENT
SUMMARY:Računalništvo (FIZ-2)\, Vaje (V)
DTSTART;TZID=Europe/Ljubljana:20201112T150000
DTEND;TZID=Europe/Ljubljana:20201112T160000
DTSTAMP:20260422T221657Z
UID:fmf-AFLABS-URNIK:premaknjeno-srecanje:94846
ATTENDEE:2. letnik (Fizika, 1. stopnja)
CATEGORIES:Entry,Standard
COLOR:darkgreen
DESCRIPTION:Predmet: Računalništvo (FIZ-2)\, Vaje (V)\nLetniki: 2. letni
 k (Fizika\, 1. stopnja)\nIzvajalci: Aljaž Osojnik\nProstor: 3.11
LOCATION:3.11
ORGANIZER:Aljaž Osojnik
RELATED-TO:fmf-AFLABS-URNIK:srecanje:5151
X-WR-TIMEZONE:Europe/Ljubljana
END:VEVENT
BEGIN:VEVENT
SUMMARY:Računalništvo (FIZ-2)\, Vaje (V)
DTSTART;TZID=Europe/Ljubljana:20201119T150000
DTEND;TZID=Europe/Ljubljana:20201119T160000
DTSTAMP:20260422T221657Z
UID:fmf-AFLABS-URNIK:premaknjeno-srecanje:94847
ATTENDEE:2. letnik (Fizika, 1. stopnja)
CATEGORIES:Entry,Standard
COLOR:darkgreen
DESCRIPTION:Predmet: Računalništvo (FIZ-2)\, Vaje (V)\nLetniki: 2. letni
 k (Fizika\, 1. stopnja)\nIzvajalci: Aljaž Osojnik\nProstor: 3.11
LOCATION:3.11
ORGANIZER:Aljaž Osojnik
RELATED-TO:fmf-AFLABS-URNIK:srecanje:5151
X-WR-TIMEZONE:Europe/Ljubljana
END:VEVENT
BEGIN:VEVENT
SUMMARY:Računalništvo (FIZ-2)\, Vaje (V)
DTSTART;TZID=Europe/Ljubljana:20201126T150000
DTEND;TZID=Europe/Ljubljana:20201126T160000
DTSTAMP:20260422T221657Z
UID:fmf-AFLABS-URNIK:premaknjeno-srecanje:94848
ATTENDEE:2. letnik (Fizika, 1. stopnja)
CATEGORIES:Entry,Standard
COLOR:darkgreen
DESCRIPTION:Predmet: Računalništvo (FIZ-2)\, Vaje (V)\nLetniki: 2. letni
 k (Fizika\, 1. stopnja)\nIzvajalci: Aljaž Osojnik\nProstor: 3.11
LOCATION:3.11
ORGANIZER:Aljaž Osojnik
RELATED-TO:fmf-AFLABS-URNIK:srecanje:5151
X-WR-TIMEZONE:Europe/Ljubljana
END:VEVENT
BEGIN:VEVENT
SUMMARY:Računalništvo (FIZ-2)\, Vaje (V)
DTSTART;TZID=Europe/Ljubljana:20201203T150000
DTEND;TZID=Europe/Ljubljana:20201203T160000
DTSTAMP:20260422T221657Z
UID:fmf-AFLABS-URNIK:premaknjeno-srecanje:94849
ATTENDEE:2. letnik (Fizika, 1. stopnja)
CATEGORIES:Entry,Standard
COLOR:darkgreen
DESCRIPTION:Predmet: Računalništvo (FIZ-2)\, Vaje (V)\nLetniki: 2. letni
 k (Fizika\, 1. stopnja)\nIzvajalci: Aljaž Osojnik\nProstor: 3.11
LOCATION:3.11
ORGANIZER:Aljaž Osojnik
RELATED-TO:fmf-AFLABS-URNIK:srecanje:5151
X-WR-TIMEZONE:Europe/Ljubljana
END:VEVENT
BEGIN:VEVENT
SUMMARY:Računalništvo (FIZ-2)\, Vaje (V)
DTSTART;TZID=Europe/Ljubljana:20201210T150000
DTEND;TZID=Europe/Ljubljana:20201210T160000
DTSTAMP:20260422T221657Z
UID:fmf-AFLABS-URNIK:premaknjeno-srecanje:94850
ATTENDEE:2. letnik (Fizika, 1. stopnja)
CATEGORIES:Entry,Standard
COLOR:darkgreen
DESCRIPTION:Predmet: Računalništvo (FIZ-2)\, Vaje (V)\nLetniki: 2. letni
 k (Fizika\, 1. stopnja)\nIzvajalci: Aljaž Osojnik\nProstor: 3.11
LOCATION:3.11
ORGANIZER:Aljaž Osojnik
RELATED-TO:fmf-AFLABS-URNIK:srecanje:5151
X-WR-TIMEZONE:Europe/Ljubljana
END:VEVENT
BEGIN:VEVENT
SUMMARY:Računalništvo (FIZ-2)\, Vaje (V)
DTSTART;TZID=Europe/Ljubljana:20201217T150000
DTEND;TZID=Europe/Ljubljana:20201217T160000
DTSTAMP:20260422T221657Z
UID:fmf-AFLABS-URNIK:premaknjeno-srecanje:94851
ATTENDEE:2. letnik (Fizika, 1. stopnja)
CATEGORIES:Entry,Standard
COLOR:darkgreen
DESCRIPTION:Predmet: Računalništvo (FIZ-2)\, Vaje (V)\nLetniki: 2. letni
 k (Fizika\, 1. stopnja)\nIzvajalci: Aljaž Osojnik\nProstor: 3.11
LOCATION:3.11
ORGANIZER:Aljaž Osojnik
RELATED-TO:fmf-AFLABS-URNIK:srecanje:5151
X-WR-TIMEZONE:Europe/Ljubljana
END:VEVENT
BEGIN:VEVENT
SUMMARY:Računalništvo (FIZ-2)\, Vaje (V)
DTSTART;TZID=Europe/Ljubljana:20201224T150000
DTEND;TZID=Europe/Ljubljana:20201224T160000
DTSTAMP:20260422T221657Z
UID:fmf-AFLABS-URNIK:premaknjeno-srecanje:94852
ATTENDEE:2. letnik (Fizika, 1. stopnja)
CATEGORIES:Entry,Standard
COLOR:darkgreen
DESCRIPTION:Predmet: Računalništvo (FIZ-2)\, Vaje (V)\nLetniki: 2. letni
 k (Fizika\, 1. stopnja)\nIzvajalci: Aljaž Osojnik\nProstor: 3.11
LOCATION:3.11
ORGANIZER:Aljaž Osojnik
RELATED-TO:fmf-AFLABS-URNIK:srecanje:5151
X-WR-TIMEZONE:Europe/Ljubljana
END:VEVENT
BEGIN:VEVENT
SUMMARY:Računalništvo (FIZ-2)\, Vaje (V)
DTSTART;TZID=Europe/Ljubljana:20201231T150000
DTEND;TZID=Europe/Ljubljana:20201231T160000
DTSTAMP:20260422T221657Z
UID:fmf-AFLABS-URNIK:premaknjeno-srecanje:94853
ATTENDEE:2. letnik (Fizika, 1. stopnja)
CATEGORIES:Entry,Standard
COLOR:darkgreen
DESCRIPTION:Predmet: Računalništvo (FIZ-2)\, Vaje (V)\nLetniki: 2. letni
 k (Fizika\, 1. stopnja)\nIzvajalci: Aljaž Osojnik\nProstor: 3.11
LOCATION:3.11
ORGANIZER:Aljaž Osojnik
RELATED-TO:fmf-AFLABS-URNIK:srecanje:5151
X-WR-TIMEZONE:Europe/Ljubljana
END:VEVENT
BEGIN:VEVENT
SUMMARY:Računalništvo (FIZ-2)\, Vaje (V)
DTSTART;TZID=Europe/Ljubljana:20210107T150000
DTEND;TZID=Europe/Ljubljana:20210107T160000
DTSTAMP:20260422T221657Z
UID:fmf-AFLABS-URNIK:premaknjeno-srecanje:94854
ATTENDEE:2. letnik (Fizika, 1. stopnja)
CATEGORIES:Entry,Standard
COLOR:darkgreen
DESCRIPTION:Predmet: Računalništvo (FIZ-2)\, Vaje (V)\nLetniki: 2. letni
 k (Fizika\, 1. stopnja)\nIzvajalci: Aljaž Osojnik\nProstor: 3.11
LOCATION:3.11
ORGANIZER:Aljaž Osojnik
RELATED-TO:fmf-AFLABS-URNIK:srecanje:5151
X-WR-TIMEZONE:Europe/Ljubljana
END:VEVENT
BEGIN:VEVENT
SUMMARY:Računalništvo (FIZ-2)\, Vaje (V)
DTSTART;TZID=Europe/Ljubljana:20210114T150000
DTEND;TZID=Europe/Ljubljana:20210114T160000
DTSTAMP:20260422T221657Z
UID:fmf-AFLABS-URNIK:premaknjeno-srecanje:94855
ATTENDEE:2. letnik (Fizika, 1. stopnja)
CATEGORIES:Entry,Standard
COLOR:darkgreen
DESCRIPTION:Predmet: Računalništvo (FIZ-2)\, Vaje (V)\nLetniki: 2. letni
 k (Fizika\, 1. stopnja)\nIzvajalci: Aljaž Osojnik\nProstor: 3.11
LOCATION:3.11
ORGANIZER:Aljaž Osojnik
RELATED-TO:fmf-AFLABS-URNIK:srecanje:5151
X-WR-TIMEZONE:Europe/Ljubljana
END:VEVENT
END:VCALENDAR
