BEGIN:VCALENDAR
VERSION:2.0
PRODID:-//AFLabs urnik izvoz - fmf//aflabs.si//SI
DTSTAMP:20260420T233938Z
NAME:UL FMF urnik
REFRESH-INTERVAL:PT1H
SOURCE:https://urnik.fmf.uni-lj.si/teacher/308?day=2024-07-08&export=1
URL:https://urnik.fmf.uni-lj.si/teacher/308?day=2024-07-08&export=1
X-PUBLISHED-TTL:PT1H
X-WR-CALNAME:UL FMF urnik
X-WR-TIMEZONE:Europe/Ljubljana
BEGIN:VTIMEZONE
TZID:Europe/Ljubljana
BEGIN:DAYLIGHT
DTSTART:20260329T020000
RDATE:20260329T020000
RDATE:20270328T020000
TZNAME:CEST
TZOFFSETFROM:+0100
TZOFFSETTO:+0200
END:DAYLIGHT
BEGIN:STANDARD
DTSTART:20261025T030000
RDATE:20261025T030000
RDATE:20271031T030000
TZNAME:CET
TZOFFSETFROM:+0200
TZOFFSETTO:+0100
END:STANDARD
END:VTIMEZONE
BEGIN:VEVENT
SUMMARY:Test Kako stvari delujejo.
DTSTART;TZID=Europe/Ljubljana:20240603T130000
DTEND;TZID=Europe/Ljubljana:20240603T150000
DTSTAMP:20260420T233938Z
UID:fmf-AFLABS-URNIK:rezervacija:16120
ATTENDEE:1. letnik (Fizika, 1. stopnja)
ATTENDEE:1. letnik (Pedagoška fizika, 2. stopnja)
ATTENDEE:2. letnik (Pedagoška fizika, 2. stopnja)
CATEGORIES:Reservation
COLOR:royalblue
DESCRIPTION:Predmeti: Kako stvari delujejo? (FIZ-1\, PEF-1\, PEF-2)\nLetni
 ki: 1. letnik (Fizika\, 1. stopnja)\, 1. letnik (Pedagoška fizika\, 2. st
 opnja)\, 2. letnik (Pedagoška fizika\, 2. stopnja)\nIzvajalci: Rok Dolene
 c\, Sergej Faletič\, Nastja Mahne\nProstori: F1\, MFP
LOCATION:F1\, MFP
ORGANIZER:Rok Dolenec, Sergej Faletič, Nastja Mahne
X-WR-TIMEZONE:Europe/Ljubljana
END:VEVENT
END:VCALENDAR
