BEGIN:VCALENDAR
VERSION:2.0
PRODID:-//AFLabs urnik izvoz - fmf//aflabs.si//SI
DTSTAMP:20260425T120402Z
NAME:UL FMF urnik
REFRESH-INTERVAL:PT1H
SOURCE:https://urnik.fmf.uni-lj.si/teacher/30?day=2020-01-20&export=1
URL:https://urnik.fmf.uni-lj.si/teacher/30?day=2020-01-20&export=1
X-PUBLISHED-TTL:PT1H
X-WR-CALNAME:UL FMF urnik
X-WR-TIMEZONE:Europe/Ljubljana
BEGIN:VTIMEZONE
TZID:Europe/Ljubljana
BEGIN:DAYLIGHT
DTSTART:20260329T020000
RDATE:20260329T020000
RDATE:20270328T020000
TZNAME:CEST
TZOFFSETFROM:+0100
TZOFFSETTO:+0200
END:DAYLIGHT
BEGIN:STANDARD
DTSTART:20261025T030000
RDATE:20261025T030000
RDATE:20271031T030000
TZNAME:CET
TZOFFSETFROM:+0200
TZOFFSETTO:+0100
END:STANDARD
END:VTIMEZONE
BEGIN:VEVENT
SUMMARY:Govorilna ura ()\, Ostalo (O)
DTSTART;TZID=Europe/Ljubljana:20191217T150000
DTEND;TZID=Europe/Ljubljana:20191217T160000
DTSTAMP:20260425T120402Z
UID:fmf-AFLABS-URNIK:premaknjeno-srecanje:39492
CATEGORIES:Entry,Standard
COLOR:darkgreen
DESCRIPTION:Predmet: Govorilna ura ()\, Ostalo (O)\nLetniki: \nIzvajalci: 
 Arjana Žitnik\nProstor: 5.04
LOCATION:5.04
ORGANIZER:Arjana Žitnik
RELATED-TO:fmf-AFLABS-URNIK:srecanje:3419
X-WR-TIMEZONE:Europe/Ljubljana
END:VEVENT
BEGIN:VEVENT
SUMMARY:Govorilna ura ()\, Ostalo (O)
DTSTART;TZID=Europe/Ljubljana:20191224T150000
DTEND;TZID=Europe/Ljubljana:20191224T160000
DTSTAMP:20260425T120402Z
UID:fmf-AFLABS-URNIK:premaknjeno-srecanje:39493
CATEGORIES:Entry,Standard
COLOR:darkgreen
DESCRIPTION:Predmet: Govorilna ura ()\, Ostalo (O)\nLetniki: \nIzvajalci: 
 Arjana Žitnik\nProstor: 5.04
LOCATION:5.04
ORGANIZER:Arjana Žitnik
RELATED-TO:fmf-AFLABS-URNIK:srecanje:3419
X-WR-TIMEZONE:Europe/Ljubljana
END:VEVENT
BEGIN:VEVENT
SUMMARY:Govorilna ura ()\, Ostalo (O)
DTSTART;TZID=Europe/Ljubljana:20191231T150000
DTEND;TZID=Europe/Ljubljana:20191231T160000
DTSTAMP:20260425T120402Z
UID:fmf-AFLABS-URNIK:premaknjeno-srecanje:39494
CATEGORIES:Entry,Standard
COLOR:darkgreen
DESCRIPTION:Predmet: Govorilna ura ()\, Ostalo (O)\nLetniki: \nIzvajalci: 
 Arjana Žitnik\nProstor: 5.04
LOCATION:5.04
ORGANIZER:Arjana Žitnik
RELATED-TO:fmf-AFLABS-URNIK:srecanje:3419
X-WR-TIMEZONE:Europe/Ljubljana
END:VEVENT
BEGIN:VEVENT
SUMMARY:Govorilna ura ()\, Ostalo (O)
DTSTART;TZID=Europe/Ljubljana:20200107T150000
DTEND;TZID=Europe/Ljubljana:20200107T160000
DTSTAMP:20260425T120402Z
UID:fmf-AFLABS-URNIK:premaknjeno-srecanje:39495
CATEGORIES:Entry,Standard
COLOR:darkgreen
DESCRIPTION:Predmet: Govorilna ura ()\, Ostalo (O)\nLetniki: \nIzvajalci: 
 Arjana Žitnik\nProstor: 5.04
LOCATION:5.04
ORGANIZER:Arjana Žitnik
RELATED-TO:fmf-AFLABS-URNIK:srecanje:3419
X-WR-TIMEZONE:Europe/Ljubljana
END:VEVENT
BEGIN:VEVENT
SUMMARY:Govorilna ura ()\, Ostalo (O)
DTSTART;TZID=Europe/Ljubljana:20200114T150000
DTEND;TZID=Europe/Ljubljana:20200114T160000
DTSTAMP:20260425T120402Z
UID:fmf-AFLABS-URNIK:premaknjeno-srecanje:39496
CATEGORIES:Entry,Standard
COLOR:darkgreen
DESCRIPTION:Predmet: Govorilna ura ()\, Ostalo (O)\nLetniki: \nIzvajalci: 
 Arjana Žitnik\nProstor: 5.04
LOCATION:5.04
ORGANIZER:Arjana Žitnik
RELATED-TO:fmf-AFLABS-URNIK:srecanje:3419
X-WR-TIMEZONE:Europe/Ljubljana
END:VEVENT
BEGIN:VEVENT
SUMMARY:Kombinatorika (IŠRM-2)\, Vaje (V)
DTSTART;TZID=Europe/Ljubljana:20191217T120000
DTEND;TZID=Europe/Ljubljana:20191217T150000
DTSTAMP:20260425T120402Z
UID:fmf-AFLABS-URNIK:premaknjeno-srecanje:54502
ATTENDEE:2. letnik (IŠRM)
CATEGORIES:Entry,Standard
COLOR:darkgreen
DESCRIPTION:Predmet: Kombinatorika (IŠRM-2)\, Vaje (V)\nLetniki: 2. letni
 k (IŠRM)\nIzvajalci: Arjana Žitnik\nProstor: 3.04
LOCATION:3.04
ORGANIZER:Arjana Žitnik
RELATED-TO:fmf-AFLABS-URNIK:srecanje:3483
X-WR-TIMEZONE:Europe/Ljubljana
END:VEVENT
BEGIN:VEVENT
SUMMARY:Kombinatorika (IŠRM-2)\, Vaje (V)
DTSTART;TZID=Europe/Ljubljana:20191224T120000
DTEND;TZID=Europe/Ljubljana:20191224T150000
DTSTAMP:20260425T120402Z
UID:fmf-AFLABS-URNIK:premaknjeno-srecanje:54503
ATTENDEE:2. letnik (IŠRM)
CATEGORIES:Entry,Standard
COLOR:darkgreen
DESCRIPTION:Predmet: Kombinatorika (IŠRM-2)\, Vaje (V)\nLetniki: 2. letni
 k (IŠRM)\nIzvajalci: Arjana Žitnik\nProstor: 3.04
LOCATION:3.04
ORGANIZER:Arjana Žitnik
RELATED-TO:fmf-AFLABS-URNIK:srecanje:3483
X-WR-TIMEZONE:Europe/Ljubljana
END:VEVENT
BEGIN:VEVENT
SUMMARY:Kombinatorika (IŠRM-2)\, Vaje (V)
DTSTART;TZID=Europe/Ljubljana:20191231T120000
DTEND;TZID=Europe/Ljubljana:20191231T150000
DTSTAMP:20260425T120402Z
UID:fmf-AFLABS-URNIK:premaknjeno-srecanje:54504
ATTENDEE:2. letnik (IŠRM)
CATEGORIES:Entry,Standard
COLOR:darkgreen
DESCRIPTION:Predmet: Kombinatorika (IŠRM-2)\, Vaje (V)\nLetniki: 2. letni
 k (IŠRM)\nIzvajalci: Arjana Žitnik\nProstor: 3.04
LOCATION:3.04
ORGANIZER:Arjana Žitnik
RELATED-TO:fmf-AFLABS-URNIK:srecanje:3483
X-WR-TIMEZONE:Europe/Ljubljana
END:VEVENT
BEGIN:VEVENT
SUMMARY:Kombinatorika (IŠRM-2)\, Vaje (V)
DTSTART;TZID=Europe/Ljubljana:20200107T120000
DTEND;TZID=Europe/Ljubljana:20200107T150000
DTSTAMP:20260425T120402Z
UID:fmf-AFLABS-URNIK:premaknjeno-srecanje:54505
ATTENDEE:2. letnik (IŠRM)
CATEGORIES:Entry,Standard
COLOR:darkgreen
DESCRIPTION:Predmet: Kombinatorika (IŠRM-2)\, Vaje (V)\nLetniki: 2. letni
 k (IŠRM)\nIzvajalci: Arjana Žitnik\nProstor: 3.04
LOCATION:3.04
ORGANIZER:Arjana Žitnik
RELATED-TO:fmf-AFLABS-URNIK:srecanje:3483
X-WR-TIMEZONE:Europe/Ljubljana
END:VEVENT
BEGIN:VEVENT
SUMMARY:Kombinatorika (IŠRM-2)\, Vaje (V)
DTSTART;TZID=Europe/Ljubljana:20200114T120000
DTEND;TZID=Europe/Ljubljana:20200114T150000
DTSTAMP:20260425T120402Z
UID:fmf-AFLABS-URNIK:premaknjeno-srecanje:54506
ATTENDEE:2. letnik (IŠRM)
CATEGORIES:Entry,Standard
COLOR:darkgreen
DESCRIPTION:Predmet: Kombinatorika (IŠRM-2)\, Vaje (V)\nLetniki: 2. letni
 k (IŠRM)\nIzvajalci: Arjana Žitnik\nProstor: 3.04
LOCATION:3.04
ORGANIZER:Arjana Žitnik
RELATED-TO:fmf-AFLABS-URNIK:srecanje:3483
X-WR-TIMEZONE:Europe/Ljubljana
END:VEVENT
BEGIN:VEVENT
SUMMARY:Optimizacija 1 (MAT-3\, PM-4)\, Vaje (V)
DTSTART;TZID=Europe/Ljubljana:20191217T080000
DTEND;TZID=Europe/Ljubljana:20191217T100000
DTSTAMP:20260425T120402Z
UID:fmf-AFLABS-URNIK:premaknjeno-srecanje:79972
ATTENDEE:3. letnik (M)
ATTENDEE:4. letnik (PM)
CATEGORIES:Entry,Standard
COLOR:darkgreen
DESCRIPTION:Predmet: Optimizacija 1 (MAT-3\, PM-4)\, Vaje (V)\nLetniki: 3.
  letnik (M)\, 4. letnik (PM)\nIzvajalci: Arjana Žitnik\nProstor: 3.04
LOCATION:3.04
ORGANIZER:Arjana Žitnik
RELATED-TO:fmf-AFLABS-URNIK:srecanje:3618
X-WR-TIMEZONE:Europe/Ljubljana
END:VEVENT
BEGIN:VEVENT
SUMMARY:Optimizacija 1 (MAT-3\, PM-4)\, Vaje (V)
DTSTART;TZID=Europe/Ljubljana:20191224T080000
DTEND;TZID=Europe/Ljubljana:20191224T100000
DTSTAMP:20260425T120402Z
UID:fmf-AFLABS-URNIK:premaknjeno-srecanje:79973
ATTENDEE:3. letnik (M)
ATTENDEE:4. letnik (PM)
CATEGORIES:Entry,Standard
COLOR:darkgreen
DESCRIPTION:Predmet: Optimizacija 1 (MAT-3\, PM-4)\, Vaje (V)\nLetniki: 3.
  letnik (M)\, 4. letnik (PM)\nIzvajalci: Arjana Žitnik\nProstor: 3.04
LOCATION:3.04
ORGANIZER:Arjana Žitnik
RELATED-TO:fmf-AFLABS-URNIK:srecanje:3618
X-WR-TIMEZONE:Europe/Ljubljana
END:VEVENT
BEGIN:VEVENT
SUMMARY:Optimizacija 1 (MAT-3\, PM-4)\, Vaje (V)
DTSTART;TZID=Europe/Ljubljana:20191231T080000
DTEND;TZID=Europe/Ljubljana:20191231T100000
DTSTAMP:20260425T120402Z
UID:fmf-AFLABS-URNIK:premaknjeno-srecanje:79974
ATTENDEE:3. letnik (M)
ATTENDEE:4. letnik (PM)
CATEGORIES:Entry,Standard
COLOR:darkgreen
DESCRIPTION:Predmet: Optimizacija 1 (MAT-3\, PM-4)\, Vaje (V)\nLetniki: 3.
  letnik (M)\, 4. letnik (PM)\nIzvajalci: Arjana Žitnik\nProstor: 3.04
LOCATION:3.04
ORGANIZER:Arjana Žitnik
RELATED-TO:fmf-AFLABS-URNIK:srecanje:3618
X-WR-TIMEZONE:Europe/Ljubljana
END:VEVENT
BEGIN:VEVENT
SUMMARY:Optimizacija 1 (MAT-3\, PM-4)\, Vaje (V)
DTSTART;TZID=Europe/Ljubljana:20200107T080000
DTEND;TZID=Europe/Ljubljana:20200107T100000
DTSTAMP:20260425T120402Z
UID:fmf-AFLABS-URNIK:premaknjeno-srecanje:79975
ATTENDEE:3. letnik (M)
ATTENDEE:4. letnik (PM)
CATEGORIES:Entry,Standard
COLOR:darkgreen
DESCRIPTION:Predmet: Optimizacija 1 (MAT-3\, PM-4)\, Vaje (V)\nLetniki: 3.
  letnik (M)\, 4. letnik (PM)\nIzvajalci: Arjana Žitnik\nProstor: 3.04
LOCATION:3.04
ORGANIZER:Arjana Žitnik
RELATED-TO:fmf-AFLABS-URNIK:srecanje:3618
X-WR-TIMEZONE:Europe/Ljubljana
END:VEVENT
BEGIN:VEVENT
SUMMARY:Optimizacija 1 (MAT-3\, PM-4)\, Vaje (V)
DTSTART;TZID=Europe/Ljubljana:20200114T080000
DTEND;TZID=Europe/Ljubljana:20200114T100000
DTSTAMP:20260425T120402Z
UID:fmf-AFLABS-URNIK:premaknjeno-srecanje:79976
ATTENDEE:3. letnik (M)
ATTENDEE:4. letnik (PM)
CATEGORIES:Entry,Standard
COLOR:darkgreen
DESCRIPTION:Predmet: Optimizacija 1 (MAT-3\, PM-4)\, Vaje (V)\nLetniki: 3.
  letnik (M)\, 4. letnik (PM)\nIzvajalci: Arjana Žitnik\nProstor: 3.04
LOCATION:3.04
ORGANIZER:Arjana Žitnik
RELATED-TO:fmf-AFLABS-URNIK:srecanje:3618
X-WR-TIMEZONE:Europe/Ljubljana
END:VEVENT
BEGIN:VEVENT
SUMMARY:Optimizacija 1 (MAT-3\, PM-4)\, Predavanja (P)
DTSTART;TZID=Europe/Ljubljana:20191218T120000
DTEND;TZID=Europe/Ljubljana:20191218T140000
DTSTAMP:20260425T120402Z
UID:fmf-AFLABS-URNIK:premaknjeno-srecanje:79909
ATTENDEE:3. letnik (M)
ATTENDEE:4. letnik (PM)
CATEGORIES:Entry,Standard
COLOR:darkgreen
DESCRIPTION:Predmet: Optimizacija 1 (MAT-3\, PM-4)\, Predavanja (P)\nLetni
 ki: 3. letnik (M)\, 4. letnik (PM)\nIzvajalci: Arjana Žitnik\nProstor: 2.
 03
LOCATION:2.03
ORGANIZER:Arjana Žitnik
RELATED-TO:fmf-AFLABS-URNIK:srecanje:3617
X-WR-TIMEZONE:Europe/Ljubljana
END:VEVENT
BEGIN:VEVENT
SUMMARY:Optimizacija 1 (MAT-3\, PM-4)\, Predavanja (P)
DTSTART;TZID=Europe/Ljubljana:20191225T120000
DTEND;TZID=Europe/Ljubljana:20191225T140000
DTSTAMP:20260425T120402Z
UID:fmf-AFLABS-URNIK:premaknjeno-srecanje:79910
ATTENDEE:3. letnik (M)
ATTENDEE:4. letnik (PM)
CATEGORIES:Entry,Standard
COLOR:darkgreen
DESCRIPTION:Predmet: Optimizacija 1 (MAT-3\, PM-4)\, Predavanja (P)\nLetni
 ki: 3. letnik (M)\, 4. letnik (PM)\nIzvajalci: Arjana Žitnik\nProstor: 2.
 03
LOCATION:2.03
ORGANIZER:Arjana Žitnik
RELATED-TO:fmf-AFLABS-URNIK:srecanje:3617
X-WR-TIMEZONE:Europe/Ljubljana
END:VEVENT
BEGIN:VEVENT
SUMMARY:Optimizacija 1 (MAT-3\, PM-4)\, Predavanja (P)
DTSTART;TZID=Europe/Ljubljana:20200101T120000
DTEND;TZID=Europe/Ljubljana:20200101T140000
DTSTAMP:20260425T120402Z
UID:fmf-AFLABS-URNIK:premaknjeno-srecanje:79911
ATTENDEE:3. letnik (M)
ATTENDEE:4. letnik (PM)
CATEGORIES:Entry,Standard
COLOR:darkgreen
DESCRIPTION:Predmet: Optimizacija 1 (MAT-3\, PM-4)\, Predavanja (P)\nLetni
 ki: 3. letnik (M)\, 4. letnik (PM)\nIzvajalci: Arjana Žitnik\nProstor: 2.
 03
LOCATION:2.03
ORGANIZER:Arjana Žitnik
RELATED-TO:fmf-AFLABS-URNIK:srecanje:3617
X-WR-TIMEZONE:Europe/Ljubljana
END:VEVENT
BEGIN:VEVENT
SUMMARY:Optimizacija 1 (MAT-3\, PM-4)\, Predavanja (P)
DTSTART;TZID=Europe/Ljubljana:20200108T120000
DTEND;TZID=Europe/Ljubljana:20200108T140000
DTSTAMP:20260425T120402Z
UID:fmf-AFLABS-URNIK:premaknjeno-srecanje:79912
ATTENDEE:3. letnik (M)
ATTENDEE:4. letnik (PM)
CATEGORIES:Entry,Standard
COLOR:darkgreen
DESCRIPTION:Predmet: Optimizacija 1 (MAT-3\, PM-4)\, Predavanja (P)\nLetni
 ki: 3. letnik (M)\, 4. letnik (PM)\nIzvajalci: Arjana Žitnik\nProstor: 2.
 03
LOCATION:2.03
ORGANIZER:Arjana Žitnik
RELATED-TO:fmf-AFLABS-URNIK:srecanje:3617
X-WR-TIMEZONE:Europe/Ljubljana
END:VEVENT
BEGIN:VEVENT
SUMMARY:Optimizacija 1 (MAT-3\, PM-4)\, Predavanja (P)
DTSTART;TZID=Europe/Ljubljana:20200115T120000
DTEND;TZID=Europe/Ljubljana:20200115T140000
DTSTAMP:20260425T120402Z
UID:fmf-AFLABS-URNIK:premaknjeno-srecanje:79913
ATTENDEE:3. letnik (M)
ATTENDEE:4. letnik (PM)
CATEGORIES:Entry,Standard
COLOR:darkgreen
DESCRIPTION:Predmet: Optimizacija 1 (MAT-3\, PM-4)\, Predavanja (P)\nLetni
 ki: 3. letnik (M)\, 4. letnik (PM)\nIzvajalci: Arjana Žitnik\nProstor: 2.
 03
LOCATION:2.03
ORGANIZER:Arjana Žitnik
RELATED-TO:fmf-AFLABS-URNIK:srecanje:3617
X-WR-TIMEZONE:Europe/Ljubljana
END:VEVENT
BEGIN:VEVENT
SUMMARY:Teorija kodiranja in kriptografija (FM-3\, IŠRM-3\, MAT-3\, PM-4)
 \, Predavanja (P)
DTSTART;TZID=Europe/Ljubljana:20200218T140000
DTEND;TZID=Europe/Ljubljana:20200218T160000
DTSTAMP:20260425T120402Z
UID:fmf-AFLABS-URNIK:premaknjeno-srecanje:109488
ATTENDEE:3. letnik (FM)
ATTENDEE:3. letnik (IŠRM)
ATTENDEE:3. letnik (M)
ATTENDEE:4. letnik (PM)
CATEGORIES:Entry,Standard
COLOR:darkgreen
DESCRIPTION:Predmet: Teorija kodiranja in kriptografija (FM-3\, IŠRM-3\, 
 MAT-3\, PM-4)\, Predavanja (P)\nLetniki: 3. letnik (FM)\, 3. letnik (IŠRM
 )\, 3. letnik (M)\, 4. letnik (PM)\nIzvajalci: Arjana Žitnik\nProstor: 2.
 01
LOCATION:2.01
ORGANIZER:Arjana Žitnik
RELATED-TO:fmf-AFLABS-URNIK:srecanje:4474
X-WR-TIMEZONE:Europe/Ljubljana
END:VEVENT
BEGIN:VEVENT
SUMMARY:Diskretna matematika 1 (FM-3\, MAT-2\, PM-2)\, Vaje (V)\, [1]
DTSTART;TZID=Europe/Ljubljana:20200219T140000
DTEND;TZID=Europe/Ljubljana:20200219T160000
DTSTAMP:20260425T120402Z
UID:fmf-AFLABS-URNIK:premaknjeno-srecanje:16135
ATTENDEE:2. letnik (M)
ATTENDEE:2. letnik (PM)
ATTENDEE:3. letnik (FM)
CATEGORIES:Entry,Standard
COLOR:darkgreen
DESCRIPTION:Predmet: Diskretna matematika 1 (FM-3\, MAT-2\, PM-2)\, Vaje (
 V)\, [1]\nLetniki: 3. letnik (FM)\, 2. letnik (M)\, 2. letnik (PM)\nIzvaja
 lci: Arjana Žitnik\nProstor: 2.02
LOCATION:2.02
ORGANIZER:Arjana Žitnik
RELATED-TO:fmf-AFLABS-URNIK:srecanje:4046
X-WR-TIMEZONE:Europe/Ljubljana
END:VEVENT
BEGIN:VEVENT
SUMMARY:Govorilna ura ()\, Ostalo (O)
DTSTART;TZID=Europe/Ljubljana:20200219T160000
DTEND;TZID=Europe/Ljubljana:20200219T170000
DTSTAMP:20260425T120402Z
UID:fmf-AFLABS-URNIK:premaknjeno-srecanje:39759
CATEGORIES:Entry,Standard
COLOR:darkgreen
DESCRIPTION:Predmet: Govorilna ura ()\, Ostalo (O)\nLetniki: \nIzvajalci: 
 Arjana Žitnik\nProstor: 5.04
LOCATION:5.04
ORGANIZER:Arjana Žitnik
RELATED-TO:fmf-AFLABS-URNIK:srecanje:4158
X-WR-TIMEZONE:Europe/Ljubljana
END:VEVENT
BEGIN:VEVENT
SUMMARY:Operacijske raziskave (FM-2)\, Predavanja (P)
DTSTART;TZID=Europe/Ljubljana:20200219T120000
DTEND;TZID=Europe/Ljubljana:20200219T140000
DTSTAMP:20260425T120402Z
UID:fmf-AFLABS-URNIK:premaknjeno-srecanje:79242
ATTENDEE:2. letnik (FM)
CATEGORIES:Entry,Standard
COLOR:darkgreen
DESCRIPTION:Predmet: Operacijske raziskave (FM-2)\, Predavanja (P)\nLetnik
 i: 2. letnik (FM)\nIzvajalci: Arjana Žitnik\nProstor: 2.03
LOCATION:2.03
ORGANIZER:Arjana Žitnik
RELATED-TO:fmf-AFLABS-URNIK:srecanje:4340
X-WR-TIMEZONE:Europe/Ljubljana
END:VEVENT
BEGIN:VEVENT
SUMMARY:Diskretna matematika 1 (FM-3\, MAT-2\, PM-2)\, Vaje (V)\, [2]
DTSTART;TZID=Europe/Ljubljana:20200220T080000
DTEND;TZID=Europe/Ljubljana:20200220T100000
DTSTAMP:20260425T120402Z
UID:fmf-AFLABS-URNIK:premaknjeno-srecanje:16197
ATTENDEE:2. letnik (M)
ATTENDEE:2. letnik (PM)
ATTENDEE:3. letnik (FM)
CATEGORIES:Entry,Standard
COLOR:darkgreen
DESCRIPTION:Predmet: Diskretna matematika 1 (FM-3\, MAT-2\, PM-2)\, Vaje (
 V)\, [2]\nLetniki: 3. letnik (FM)\, 2. letnik (M)\, 2. letnik (PM)\nIzvaja
 lci: Arjana Žitnik\nProstor: 2.02
LOCATION:2.02
ORGANIZER:Arjana Žitnik
RELATED-TO:fmf-AFLABS-URNIK:srecanje:4551
X-WR-TIMEZONE:Europe/Ljubljana
END:VEVENT
BEGIN:VEVENT
SUMMARY:Optimizacijske metode (IŠRM-2)\, Vaje (V)
DTSTART;TZID=Europe/Ljubljana:20200221T120000
DTEND;TZID=Europe/Ljubljana:20200221T150000
DTSTAMP:20260425T120402Z
UID:fmf-AFLABS-URNIK:premaknjeno-srecanje:80503
ATTENDEE:2. letnik (IŠRM)
CATEGORIES:Entry,Standard
COLOR:darkgreen
DESCRIPTION:Predmet: Optimizacijske metode (IŠRM-2)\, Vaje (V)\nLetniki: 
 2. letnik (IŠRM)\nIzvajalci: Arjana Žitnik\nProstor: 2.04
LOCATION:2.04
ORGANIZER:Arjana Žitnik
RELATED-TO:fmf-AFLABS-URNIK:srecanje:4347
X-WR-TIMEZONE:Europe/Ljubljana
END:VEVENT
BEGIN:VEVENT
SUMMARY:Optimizacijske metode (IŠRM-2)\, Vaje (V)
DTSTART;TZID=Europe/Ljubljana:20200221T140000
DTEND;TZID=Europe/Ljubljana:20200221T150000
DTSTAMP:20260425T120402Z
UID:fmf-AFLABS-URNIK:premaknjeno-srecanje:80548
ATTENDEE:2. letnik (IŠRM)
CATEGORIES:Entry,Standard
COLOR:darkgreen
DESCRIPTION:Predmet: Optimizacijske metode (IŠRM-2)\, Vaje (V)\nLetniki: 
 2. letnik (IŠRM)\nIzvajalci: Arjana Žitnik\nProstor: 3.10
LOCATION:3.10
ORGANIZER:Arjana Žitnik
RELATED-TO:fmf-AFLABS-URNIK:srecanje:4348
X-WR-TIMEZONE:Europe/Ljubljana
END:VEVENT
BEGIN:VEVENT
SUMMARY:Rezervacija
DTSTART;TZID=Europe/Ljubljana:20191217T150000
DTEND;TZID=Europe/Ljubljana:20191217T170000
DTSTAMP:20260425T120402Z
UID:fmf-AFLABS-URNIK:rezervacija:4708
CATEGORIES:Reservation
COLOR:royalblue
DESCRIPTION:Predmeti: \nLetniki: \nIzvajalci: Arjana Žitnik\nProstori: 2.
 04
LOCATION:2.04
ORGANIZER:Arjana Žitnik
X-WR-TIMEZONE:Europe/Ljubljana
END:VEVENT
BEGIN:VEVENT
SUMMARY:Rezervacija
DTSTART;TZID=Europe/Ljubljana:20191218T140000
DTEND;TZID=Europe/Ljubljana:20191218T160000
DTSTAMP:20260425T120402Z
UID:fmf-AFLABS-URNIK:rezervacija:4715
CATEGORIES:Reservation
COLOR:royalblue
DESCRIPTION:Predmeti: \nLetniki: \nIzvajalci: Arjana Žitnik\nProstori: 3.
 04
LOCATION:3.04
ORGANIZER:Arjana Žitnik
X-WR-TIMEZONE:Europe/Ljubljana
END:VEVENT
BEGIN:VEVENT
SUMMARY:Rezervacija
DTSTART;TZID=Europe/Ljubljana:20191223T080000
DTEND;TZID=Europe/Ljubljana:20191223T090000
DTSTAMP:20260425T120402Z
UID:fmf-AFLABS-URNIK:rezervacija:4728
CATEGORIES:Reservation
COLOR:royalblue
DESCRIPTION:Predmeti: \nLetniki: \nIzvajalci: Arjana Žitnik\nProstori: 3.
 04
LOCATION:3.04
ORGANIZER:Arjana Žitnik
X-WR-TIMEZONE:Europe/Ljubljana
END:VEVENT
BEGIN:VEVENT
SUMMARY:Rezervacija
DTSTART;TZID=Europe/Ljubljana:20200107T160000
DTEND;TZID=Europe/Ljubljana:20200107T180000
DTSTAMP:20260425T120402Z
UID:fmf-AFLABS-URNIK:rezervacija:4754
CATEGORIES:Reservation
COLOR:royalblue
DESCRIPTION:Predmeti: \nLetniki: \nIzvajalci: Arjana Žitnik\nProstori: 2.
 05
LOCATION:2.05
ORGANIZER:Arjana Žitnik
X-WR-TIMEZONE:Europe/Ljubljana
END:VEVENT
BEGIN:VEVENT
SUMMARY:Rezervacija
DTSTART;TZID=Europe/Ljubljana:20200109T160000
DTEND;TZID=Europe/Ljubljana:20200109T180000
DTSTAMP:20260425T120402Z
UID:fmf-AFLABS-URNIK:rezervacija:4773
CATEGORIES:Reservation
COLOR:royalblue
DESCRIPTION:Predmeti: \nLetniki: \nIzvajalci: Arjana Žitnik\nProstori: 2.
 02
LOCATION:2.02
ORGANIZER:Arjana Žitnik
X-WR-TIMEZONE:Europe/Ljubljana
END:VEVENT
BEGIN:VEVENT
SUMMARY:Rezervacija
DTSTART;TZID=Europe/Ljubljana:20200109T180000
DTEND;TZID=Europe/Ljubljana:20200109T190000
DTSTAMP:20260425T120402Z
UID:fmf-AFLABS-URNIK:rezervacija:4776
CATEGORIES:Reservation
COLOR:royalblue
DESCRIPTION:Predmeti: \nLetniki: \nIzvajalci: Arjana Žitnik\nProstori: 2.
 02
LOCATION:2.02
ORGANIZER:Arjana Žitnik
X-WR-TIMEZONE:Europe/Ljubljana
END:VEVENT
BEGIN:VEVENT
SUMMARY:Rezervacija
DTSTART;TZID=Europe/Ljubljana:20200109T180000
DTEND;TZID=Europe/Ljubljana:20200109T200000
DTSTAMP:20260425T120402Z
UID:fmf-AFLABS-URNIK:rezervacija:4777
CATEGORIES:Reservation
COLOR:royalblue
DESCRIPTION:Predmeti: \nLetniki: \nIzvajalci: Arjana Žitnik\nProstori: 2.
 01
LOCATION:2.01
ORGANIZER:Arjana Žitnik
X-WR-TIMEZONE:Europe/Ljubljana
END:VEVENT
BEGIN:VEVENT
SUMMARY:Rezervacija
DTSTART;TZID=Europe/Ljubljana:20200122T120000
DTEND;TZID=Europe/Ljubljana:20200122T150000
DTSTAMP:20260425T120402Z
UID:fmf-AFLABS-URNIK:rezervacija:4897
CATEGORIES:Reservation
COLOR:royalblue
DESCRIPTION:Predmeti: \nLetniki: \nIzvajalci: Arjana Žitnik\nProstori: 2.
 05
LOCATION:2.05
ORGANIZER:Arjana Žitnik
X-WR-TIMEZONE:Europe/Ljubljana
END:VEVENT
BEGIN:VEVENT
SUMMARY:Rezervacija
DTSTART;TZID=Europe/Ljubljana:20200123T090000
DTEND;TZID=Europe/Ljubljana:20200123T120000
DTSTAMP:20260425T120402Z
UID:fmf-AFLABS-URNIK:rezervacija:4902
CATEGORIES:Reservation
COLOR:royalblue
DESCRIPTION:Predmeti: \nLetniki: \nIzvajalci: Arjana Žitnik\nProstori: 3.
 06
LOCATION:3.06
ORGANIZER:Arjana Žitnik
X-WR-TIMEZONE:Europe/Ljubljana
END:VEVENT
BEGIN:VEVENT
SUMMARY:Rezervacija
DTSTART;TZID=Europe/Ljubljana:20200205T090000
DTEND;TZID=Europe/Ljubljana:20200205T120000
DTSTAMP:20260425T120402Z
UID:fmf-AFLABS-URNIK:rezervacija:5041
CATEGORIES:Reservation
COLOR:royalblue
DESCRIPTION:Predmeti: \nLetniki: \nIzvajalci: Arjana Žitnik\nProstori: 3.
 05
LOCATION:3.05
ORGANIZER:Arjana Žitnik
X-WR-TIMEZONE:Europe/Ljubljana
END:VEVENT
BEGIN:VEVENT
SUMMARY:Rezervacija
DTSTART;TZID=Europe/Ljubljana:20200210T140000
DTEND;TZID=Europe/Ljubljana:20200210T170000
DTSTAMP:20260425T120402Z
UID:fmf-AFLABS-URNIK:rezervacija:5097
CATEGORIES:Reservation
COLOR:royalblue
DESCRIPTION:Predmeti: \nLetniki: \nIzvajalci: Arjana Žitnik\nProstori: 3.
 06
LOCATION:3.06
ORGANIZER:Arjana Žitnik
X-WR-TIMEZONE:Europe/Ljubljana
END:VEVENT
BEGIN:VEVENT
SUMMARY:Rezervacija
DTSTART;TZID=Europe/Ljubljana:20200213T140000
DTEND;TZID=Europe/Ljubljana:20200213T150000
DTSTAMP:20260425T120402Z
UID:fmf-AFLABS-URNIK:rezervacija:5136
CATEGORIES:Reservation
COLOR:royalblue
DESCRIPTION:Predmeti: \nLetniki: \nIzvajalci: Arjana Žitnik\nProstori: 3.
 07
LOCATION:3.07
ORGANIZER:Arjana Žitnik
X-WR-TIMEZONE:Europe/Ljubljana
END:VEVENT
END:VCALENDAR
