BEGIN:VCALENDAR
VERSION:2.0
PRODID:-//AFLabs urnik izvoz - fmf//aflabs.si//SI
DTSTAMP:20260424T042416Z
NAME:UL FMF urnik
REFRESH-INTERVAL:PT1H
SOURCE:https://urnik.fmf.uni-lj.si/teacher/30?day=2020-07-13&export=1
URL:https://urnik.fmf.uni-lj.si/teacher/30?day=2020-07-13&export=1
X-PUBLISHED-TTL:PT1H
X-WR-CALNAME:UL FMF urnik
X-WR-TIMEZONE:Europe/Ljubljana
BEGIN:VTIMEZONE
TZID:Europe/Ljubljana
BEGIN:DAYLIGHT
DTSTART:20260329T020000
RDATE:20260329T020000
RDATE:20270328T020000
TZNAME:CEST
TZOFFSETFROM:+0100
TZOFFSETTO:+0200
END:DAYLIGHT
BEGIN:STANDARD
DTSTART:20261025T030000
RDATE:20261025T030000
RDATE:20271031T030000
TZNAME:CET
TZOFFSETFROM:+0200
TZOFFSETTO:+0100
END:STANDARD
END:VTIMEZONE
BEGIN:VEVENT
SUMMARY:Rezervacija
DTSTART;TZID=Europe/Ljubljana:20200608T090000
DTEND;TZID=Europe/Ljubljana:20200608T110000
DTSTAMP:20260424T042416Z
UID:fmf-AFLABS-URNIK:rezervacija:5429
CATEGORIES:Reservation
COLOR:royalblue
DESCRIPTION:Predmeti: \nLetniki: \nIzvajalci: Janoš Vidali\, Arjana Žitn
 ik\nProstori: P.02
LOCATION:P.02
ORGANIZER:Janoš Vidali, Arjana Žitnik
X-WR-TIMEZONE:Europe/Ljubljana
END:VEVENT
BEGIN:VEVENT
SUMMARY:Rezervacija
DTSTART;TZID=Europe/Ljubljana:20200608T100000
DTEND;TZID=Europe/Ljubljana:20200608T120000
DTSTAMP:20260424T042416Z
UID:fmf-AFLABS-URNIK:rezervacija:5435
CATEGORIES:Reservation
COLOR:royalblue
DESCRIPTION:Predmeti: \nLetniki: \nIzvajalci: Tilen Marc\, Arjana Žitnik\
 nProstori: 2.02\, 2.05
LOCATION:2.02\, 2.05
ORGANIZER:Tilen Marc, Arjana Žitnik
X-WR-TIMEZONE:Europe/Ljubljana
END:VEVENT
BEGIN:VEVENT
SUMMARY:Rezervacija
DTSTART;TZID=Europe/Ljubljana:20200611T100000
DTEND;TZID=Europe/Ljubljana:20200611T120000
DTSTAMP:20260424T042416Z
UID:fmf-AFLABS-URNIK:rezervacija:5474
CATEGORIES:Reservation
COLOR:royalblue
DESCRIPTION:Predmeti: \nLetniki: \nIzvajalci: Matjaž Konvalinka\, Arjana 
 Žitnik\nProstori: 3.04\, 3.05
LOCATION:3.04\, 3.05
ORGANIZER:Matjaž Konvalinka, Arjana Žitnik
X-WR-TIMEZONE:Europe/Ljubljana
END:VEVENT
BEGIN:VEVENT
SUMMARY:Rezervacija
DTSTART;TZID=Europe/Ljubljana:20200615T100000
DTEND;TZID=Europe/Ljubljana:20200615T140000
DTSTAMP:20260424T042416Z
UID:fmf-AFLABS-URNIK:rezervacija:5514
CATEGORIES:Reservation
COLOR:royalblue
DESCRIPTION:Predmeti: \nLetniki: \nIzvajalci: Arjana Žitnik\nProstori: 3.
 07
LOCATION:3.07
ORGANIZER:Arjana Žitnik
X-WR-TIMEZONE:Europe/Ljubljana
END:VEVENT
BEGIN:VEVENT
SUMMARY:Rezervacija
DTSTART;TZID=Europe/Ljubljana:20200622T090000
DTEND;TZID=Europe/Ljubljana:20200622T110000
DTSTAMP:20260424T042416Z
UID:fmf-AFLABS-URNIK:rezervacija:5606
CATEGORIES:Reservation
COLOR:royalblue
DESCRIPTION:Predmeti: \nLetniki: \nIzvajalci: Arjana Žitnik\nProstori: 3.
 04\, 3.05
LOCATION:3.04\, 3.05
ORGANIZER:Arjana Žitnik
X-WR-TIMEZONE:Europe/Ljubljana
END:VEVENT
BEGIN:VEVENT
SUMMARY:Rezervacija
DTSTART;TZID=Europe/Ljubljana:20200622T090000
DTEND;TZID=Europe/Ljubljana:20200622T130000
DTSTAMP:20260424T042416Z
UID:fmf-AFLABS-URNIK:rezervacija:5608
CATEGORIES:Reservation
COLOR:royalblue
DESCRIPTION:Predmeti: \nLetniki: \nIzvajalci: Janoš Vidali\, Arjana Žitn
 ik\nProstori: P.02
LOCATION:P.02
ORGANIZER:Janoš Vidali, Arjana Žitnik
X-WR-TIMEZONE:Europe/Ljubljana
END:VEVENT
BEGIN:VEVENT
SUMMARY:Rezervacija
DTSTART;TZID=Europe/Ljubljana:20200622T140000
DTEND;TZID=Europe/Ljubljana:20200622T160000
DTSTAMP:20260424T042416Z
UID:fmf-AFLABS-URNIK:rezervacija:5618
CATEGORIES:Reservation
COLOR:royalblue
DESCRIPTION:Predmeti: \nLetniki: \nIzvajalci: Matjaž Konvalinka\, Arjana 
 Žitnik\nProstori: P.02
LOCATION:P.02
ORGANIZER:Matjaž Konvalinka, Arjana Žitnik
X-WR-TIMEZONE:Europe/Ljubljana
END:VEVENT
BEGIN:VEVENT
SUMMARY:Rezervacija
DTSTART;TZID=Europe/Ljubljana:20200622T160000
DTEND;TZID=Europe/Ljubljana:20200622T170000
DTSTAMP:20260424T042416Z
UID:fmf-AFLABS-URNIK:rezervacija:5621
CATEGORIES:Reservation
COLOR:royalblue
DESCRIPTION:Predmeti: \nLetniki: \nIzvajalci: Arjana Žitnik\nProstori: P.
 02
LOCATION:P.02
ORGANIZER:Arjana Žitnik
X-WR-TIMEZONE:Europe/Ljubljana
END:VEVENT
BEGIN:VEVENT
SUMMARY:Rezervacija
DTSTART;TZID=Europe/Ljubljana:20200622T170000
DTEND;TZID=Europe/Ljubljana:20200622T180000
DTSTAMP:20260424T042416Z
UID:fmf-AFLABS-URNIK:rezervacija:5622
CATEGORIES:Reservation
COLOR:royalblue
DESCRIPTION:Predmeti: \nLetniki: \nIzvajalci: Arjana Žitnik\nProstori: 3.
 07
LOCATION:3.07
ORGANIZER:Arjana Žitnik
X-WR-TIMEZONE:Europe/Ljubljana
END:VEVENT
BEGIN:VEVENT
SUMMARY:Rezervacija
DTSTART;TZID=Europe/Ljubljana:20200624T140000
DTEND;TZID=Europe/Ljubljana:20200624T170000
DTSTAMP:20260424T042416Z
UID:fmf-AFLABS-URNIK:rezervacija:5662
CATEGORIES:Reservation
COLOR:royalblue
DESCRIPTION:Predmeti: \nLetniki: \nIzvajalci: Arjana Žitnik\nProstori: P.
 01
LOCATION:P.01
ORGANIZER:Arjana Žitnik
X-WR-TIMEZONE:Europe/Ljubljana
END:VEVENT
BEGIN:VEVENT
SUMMARY:Rezervacija
DTSTART;TZID=Europe/Ljubljana:20200703T100000
DTEND;TZID=Europe/Ljubljana:20200703T120000
DTSTAMP:20260424T042416Z
UID:fmf-AFLABS-URNIK:rezervacija:5768
CATEGORIES:Reservation
COLOR:royalblue
DESCRIPTION:Predmeti: \nLetniki: \nIzvajalci: Janoš Vidali\, Arjana Žitn
 ik\nProstori: 2.02
LOCATION:2.02
ORGANIZER:Janoš Vidali, Arjana Žitnik
X-WR-TIMEZONE:Europe/Ljubljana
END:VEVENT
BEGIN:VEVENT
SUMMARY:Rezervacija
DTSTART;TZID=Europe/Ljubljana:20200703T140000
DTEND;TZID=Europe/Ljubljana:20200703T180000
DTSTAMP:20260424T042416Z
UID:fmf-AFLABS-URNIK:rezervacija:5781
CATEGORIES:Reservation
COLOR:royalblue
DESCRIPTION:Predmeti: \nLetniki: \nIzvajalci: Arjana Žitnik\nProstori: 3.
 07
LOCATION:3.07
ORGANIZER:Arjana Žitnik
X-WR-TIMEZONE:Europe/Ljubljana
END:VEVENT
BEGIN:VEVENT
SUMMARY:Rezervacija
DTSTART;TZID=Europe/Ljubljana:20200708T130000
DTEND;TZID=Europe/Ljubljana:20200708T150000
DTSTAMP:20260424T042416Z
UID:fmf-AFLABS-URNIK:rezervacija:5824
CATEGORIES:Reservation
COLOR:royalblue
DESCRIPTION:Predmeti: \nLetniki: \nIzvajalci: Arjana Žitnik\nProstori: 3.
 07
LOCATION:3.07
ORGANIZER:Arjana Žitnik
X-WR-TIMEZONE:Europe/Ljubljana
END:VEVENT
BEGIN:VEVENT
SUMMARY:Rezervacija
DTSTART;TZID=Europe/Ljubljana:20200710T100000
DTEND;TZID=Europe/Ljubljana:20200710T120000
DTSTAMP:20260424T042416Z
UID:fmf-AFLABS-URNIK:rezervacija:5848
CATEGORIES:Reservation
COLOR:royalblue
DESCRIPTION:Predmeti: \nLetniki: \nIzvajalci: Arjana Žitnik\nProstori: 2.
 03
LOCATION:2.03
ORGANIZER:Arjana Žitnik
X-WR-TIMEZONE:Europe/Ljubljana
END:VEVENT
END:VCALENDAR
