BEGIN:VCALENDAR
VERSION:2.0
PRODID:-//AFLabs urnik izvoz - fmf//aflabs.si//SI
DTSTAMP:20260424T025209Z
NAME:UL FMF urnik
REFRESH-INTERVAL:PT1H
SOURCE:https://urnik.fmf.uni-lj.si/teacher/30?day=2020-09-07&export=1
URL:https://urnik.fmf.uni-lj.si/teacher/30?day=2020-09-07&export=1
X-PUBLISHED-TTL:PT1H
X-WR-CALNAME:UL FMF urnik
X-WR-TIMEZONE:Europe/Ljubljana
BEGIN:VTIMEZONE
TZID:Europe/Ljubljana
BEGIN:DAYLIGHT
DTSTART:20260329T020000
RDATE:20260329T020000
RDATE:20270328T020000
TZNAME:CEST
TZOFFSETFROM:+0100
TZOFFSETTO:+0200
END:DAYLIGHT
BEGIN:STANDARD
DTSTART:20261025T030000
RDATE:20261025T030000
RDATE:20271031T030000
TZNAME:CET
TZOFFSETFROM:+0200
TZOFFSETTO:+0100
END:STANDARD
END:VTIMEZONE
BEGIN:VEVENT
SUMMARY:Optimizacija 1 (MAT-3\, PM-4)\, Vaje (V)
DTSTART;TZID=Europe/Ljubljana:20201001T110000
DTEND;TZID=Europe/Ljubljana:20201001T130000
DTSTAMP:20260424T025209Z
UID:fmf-AFLABS-URNIK:premaknjeno-srecanje:80024
ATTENDEE:3. letnik (M)
ATTENDEE:4. letnik (PM)
CATEGORIES:Entry,Standard
COLOR:darkgreen
DESCRIPTION:Predmet: Optimizacija 1 (MAT-3\, PM-4)\, Vaje (V)\nLetniki: 3.
  letnik (M)\, 4. letnik (PM)\nIzvajalci: Arjana Žitnik\nProstor: 2.04
LOCATION:2.04
ORGANIZER:Arjana Žitnik
RELATED-TO:fmf-AFLABS-URNIK:srecanje:5055
X-WR-TIMEZONE:Europe/Ljubljana
END:VEVENT
BEGIN:VEVENT
SUMMARY:Optimizacija 1 (MAT-3\, PM-4)\, Vaje (V)
DTSTART;TZID=Europe/Ljubljana:20201008T110000
DTEND;TZID=Europe/Ljubljana:20201008T130000
DTSTAMP:20260424T025209Z
UID:fmf-AFLABS-URNIK:premaknjeno-srecanje:80025
ATTENDEE:3. letnik (M)
ATTENDEE:4. letnik (PM)
CATEGORIES:Entry,Standard
COLOR:darkgreen
DESCRIPTION:Predmet: Optimizacija 1 (MAT-3\, PM-4)\, Vaje (V)\nLetniki: 3.
  letnik (M)\, 4. letnik (PM)\nIzvajalci: Arjana Žitnik\nProstor: 2.04
LOCATION:2.04
ORGANIZER:Arjana Žitnik
RELATED-TO:fmf-AFLABS-URNIK:srecanje:5055
X-WR-TIMEZONE:Europe/Ljubljana
END:VEVENT
BEGIN:VEVENT
SUMMARY:Izbrana poglavja iz diskretne matematike (FM-M\, IŠRM-M\, MAT-M\,
  PM-5)\, Vaje (V)
DTSTART;TZID=Europe/Ljubljana:20201005T140000
DTEND;TZID=Europe/Ljubljana:20201005T160000
DTSTAMP:20260424T025209Z
UID:fmf-AFLABS-URNIK:premaknjeno-srecanje:42783
ATTENDEE:5. letnik (PM)
ATTENDEE:magistrski študij (FM)
ATTENDEE:magistrski študij (IŠRM)
ATTENDEE:magistrski študij (M)
CATEGORIES:Entry,Standard
COLOR:darkgreen
DESCRIPTION:Predmet: Izbrana poglavja iz diskretne matematike (FM-M\, IŠR
 M-M\, MAT-M\, PM-5)\, Vaje (V)\nLetniki: magistrski študij (FM)\, magistr
 ski študij (IŠRM)\, magistrski študij (M)\, 5. letnik (PM)\nIzvajalci: 
 Arjana Žitnik\nProstor: 3.07
LOCATION:3.07
ORGANIZER:Arjana Žitnik
RELATED-TO:fmf-AFLABS-URNIK:srecanje:5312
X-WR-TIMEZONE:Europe/Ljubljana
END:VEVENT
BEGIN:VEVENT
SUMMARY:Izbrana poglavja iz diskretne matematike (FM-M\, IŠRM-M\, MAT-M\,
  PM-5)\, Vaje (V)
DTSTART;TZID=Europe/Ljubljana:20201012T140000
DTEND;TZID=Europe/Ljubljana:20201012T160000
DTSTAMP:20260424T025209Z
UID:fmf-AFLABS-URNIK:premaknjeno-srecanje:42784
ATTENDEE:5. letnik (PM)
ATTENDEE:magistrski študij (FM)
ATTENDEE:magistrski študij (IŠRM)
ATTENDEE:magistrski študij (M)
CATEGORIES:Entry,Standard
COLOR:darkgreen
DESCRIPTION:Predmet: Izbrana poglavja iz diskretne matematike (FM-M\, IŠR
 M-M\, MAT-M\, PM-5)\, Vaje (V)\nLetniki: magistrski študij (FM)\, magistr
 ski študij (IŠRM)\, magistrski študij (M)\, 5. letnik (PM)\nIzvajalci: 
 Arjana Žitnik\nProstor: 3.07
LOCATION:3.07
ORGANIZER:Arjana Žitnik
RELATED-TO:fmf-AFLABS-URNIK:srecanje:5312
X-WR-TIMEZONE:Europe/Ljubljana
END:VEVENT
BEGIN:VEVENT
SUMMARY:Govorilna ura ()\, Ostalo (O)
DTSTART;TZID=Europe/Ljubljana:20201006T150000
DTEND;TZID=Europe/Ljubljana:20201006T160000
DTSTAMP:20260424T025209Z
UID:fmf-AFLABS-URNIK:premaknjeno-srecanje:39497
CATEGORIES:Entry,Standard
COLOR:darkgreen
DESCRIPTION:Predmet: Govorilna ura ()\, Ostalo (O)\nLetniki: \nIzvajalci: 
 Arjana Žitnik\nProstor: 5.04
LOCATION:5.04
ORGANIZER:Arjana Žitnik
RELATED-TO:fmf-AFLABS-URNIK:srecanje:4853
X-WR-TIMEZONE:Europe/Ljubljana
END:VEVENT
BEGIN:VEVENT
SUMMARY:Kombinatorika (IŠRM-2)\, Vaje (V)
DTSTART;TZID=Europe/Ljubljana:20201006T120000
DTEND;TZID=Europe/Ljubljana:20201006T150000
DTSTAMP:20260424T025209Z
UID:fmf-AFLABS-URNIK:premaknjeno-srecanje:54507
ATTENDEE:2. letnik (IŠRM)
CATEGORIES:Entry,Standard
COLOR:darkgreen
DESCRIPTION:Predmet: Kombinatorika (IŠRM-2)\, Vaje (V)\nLetniki: 2. letni
 k (IŠRM)\nIzvajalci: Arjana Žitnik\nProstor: 2.03
LOCATION:2.03
ORGANIZER:Arjana Žitnik
RELATED-TO:fmf-AFLABS-URNIK:srecanje:4918
X-WR-TIMEZONE:Europe/Ljubljana
END:VEVENT
BEGIN:VEVENT
SUMMARY:Optimizacija 1 (MAT-3\, PM-4)\, Predavanja (P)
DTSTART;TZID=Europe/Ljubljana:20201007T100000
DTEND;TZID=Europe/Ljubljana:20201007T120000
DTSTAMP:20260424T025209Z
UID:fmf-AFLABS-URNIK:premaknjeno-srecanje:79836
ATTENDEE:3. letnik (M)
ATTENDEE:4. letnik (PM)
CATEGORIES:Entry,Standard
COLOR:darkgreen
DESCRIPTION:Predmet: Optimizacija 1 (MAT-3\, PM-4)\, Predavanja (P)\nLetni
 ki: 3. letnik (M)\, 4. letnik (PM)\nIzvajalci: Arjana Žitnik\nProstor: 2.
 03
LOCATION:2.03
ORGANIZER:Arjana Žitnik
RELATED-TO:fmf-AFLABS-URNIK:srecanje:5054
X-WR-TIMEZONE:Europe/Ljubljana
END:VEVENT
BEGIN:VEVENT
SUMMARY:Rezervacija
DTSTART;TZID=Europe/Ljubljana:20200820T100000
DTEND;TZID=Europe/Ljubljana:20200820T130000
DTSTAMP:20260424T025209Z
UID:fmf-AFLABS-URNIK:rezervacija:5986
CATEGORIES:Reservation
COLOR:royalblue
DESCRIPTION:Predmeti: \nLetniki: \nIzvajalci: Arjana Žitnik\nProstori: 3.
 05
LOCATION:3.05
ORGANIZER:Arjana Žitnik
X-WR-TIMEZONE:Europe/Ljubljana
END:VEVENT
BEGIN:VEVENT
SUMMARY:Rezervacija
DTSTART;TZID=Europe/Ljubljana:20200824T100000
DTEND;TZID=Europe/Ljubljana:20200824T120000
DTSTAMP:20260424T025209Z
UID:fmf-AFLABS-URNIK:rezervacija:6016
CATEGORIES:Reservation
COLOR:royalblue
DESCRIPTION:Predmeti: \nLetniki: \nIzvajalci: Arjana Žitnik\nProstori: 3.
 07
LOCATION:3.07
ORGANIZER:Arjana Žitnik
X-WR-TIMEZONE:Europe/Ljubljana
END:VEVENT
BEGIN:VEVENT
SUMMARY:Rezervacija
DTSTART;TZID=Europe/Ljubljana:20200824T130000
DTEND;TZID=Europe/Ljubljana:20200824T160000
DTSTAMP:20260424T025209Z
UID:fmf-AFLABS-URNIK:rezervacija:6028
CATEGORIES:Reservation
COLOR:royalblue
DESCRIPTION:Predmeti: \nLetniki: \nIzvajalci: Arjana Žitnik\nProstori: 2.
 05
LOCATION:2.05
ORGANIZER:Arjana Žitnik
X-WR-TIMEZONE:Europe/Ljubljana
END:VEVENT
BEGIN:VEVENT
SUMMARY:Rezervacija
DTSTART;TZID=Europe/Ljubljana:20200825T100000
DTEND;TZID=Europe/Ljubljana:20200825T130000
DTSTAMP:20260424T025209Z
UID:fmf-AFLABS-URNIK:rezervacija:6047
CATEGORIES:Reservation
COLOR:royalblue
DESCRIPTION:Predmeti: \nLetniki: \nIzvajalci: Arjana Žitnik\nProstori: 3.
 04
LOCATION:3.04
ORGANIZER:Arjana Žitnik
X-WR-TIMEZONE:Europe/Ljubljana
END:VEVENT
BEGIN:VEVENT
SUMMARY:Rezervacija
DTSTART;TZID=Europe/Ljubljana:20200825T120000
DTEND;TZID=Europe/Ljubljana:20200825T140000
DTSTAMP:20260424T025209Z
UID:fmf-AFLABS-URNIK:rezervacija:6050
CATEGORIES:Reservation
COLOR:royalblue
DESCRIPTION:Predmeti: \nLetniki: \nIzvajalci: Arjana Žitnik\nProstori: 3.
 05
LOCATION:3.05
ORGANIZER:Arjana Žitnik
X-WR-TIMEZONE:Europe/Ljubljana
END:VEVENT
BEGIN:VEVENT
SUMMARY:Rezervacija
DTSTART;TZID=Europe/Ljubljana:20200901T100000
DTEND;TZID=Europe/Ljubljana:20200901T130000
DTSTAMP:20260424T025209Z
UID:fmf-AFLABS-URNIK:rezervacija:6162
CATEGORIES:Reservation
COLOR:royalblue
DESCRIPTION:Predmeti: \nLetniki: \nIzvajalci: Arjana Žitnik\nProstori: 3.
 12
LOCATION:3.12
ORGANIZER:Arjana Žitnik
X-WR-TIMEZONE:Europe/Ljubljana
END:VEVENT
BEGIN:VEVENT
SUMMARY:Rezervacija
DTSTART;TZID=Europe/Ljubljana:20200902T150000
DTEND;TZID=Europe/Ljubljana:20200902T170000
DTSTAMP:20260424T025209Z
UID:fmf-AFLABS-URNIK:rezervacija:6201
CATEGORIES:Reservation
COLOR:royalblue
DESCRIPTION:Predmeti: \nLetniki: \nIzvajalci: Arjana Žitnik\nProstori: 3.
 05
LOCATION:3.05
ORGANIZER:Arjana Žitnik
X-WR-TIMEZONE:Europe/Ljubljana
END:VEVENT
BEGIN:VEVENT
SUMMARY:Rezervacija
DTSTART;TZID=Europe/Ljubljana:20200907T100000
DTEND;TZID=Europe/Ljubljana:20200907T130000
DTSTAMP:20260424T025209Z
UID:fmf-AFLABS-URNIK:rezervacija:6281
CATEGORIES:Reservation
COLOR:royalblue
DESCRIPTION:Predmeti: \nLetniki: \nIzvajalci: Arjana Žitnik\nProstori: 3.
 05
LOCATION:3.05
ORGANIZER:Arjana Žitnik
X-WR-TIMEZONE:Europe/Ljubljana
END:VEVENT
BEGIN:VEVENT
SUMMARY:Rezervacija
DTSTART;TZID=Europe/Ljubljana:20200909T100000
DTEND;TZID=Europe/Ljubljana:20200909T120000
DTSTAMP:20260424T025209Z
UID:fmf-AFLABS-URNIK:rezervacija:6323
CATEGORIES:Reservation
COLOR:royalblue
DESCRIPTION:Predmeti: \nLetniki: \nIzvajalci: Arjana Žitnik\nProstori: 3.
 07
LOCATION:3.07
ORGANIZER:Arjana Žitnik
X-WR-TIMEZONE:Europe/Ljubljana
END:VEVENT
BEGIN:VEVENT
SUMMARY:Rezervacija
DTSTART;TZID=Europe/Ljubljana:20200929T100000
DTEND;TZID=Europe/Ljubljana:20200929T110000
DTSTAMP:20260424T025209Z
UID:fmf-AFLABS-URNIK:rezervacija:6472
CATEGORIES:Reservation
COLOR:royalblue
DESCRIPTION:Predmeti: \nLetniki: \nIzvajalci: Arjana Žitnik\nProstori: 3.
 07
LOCATION:3.07
ORGANIZER:Arjana Žitnik
X-WR-TIMEZONE:Europe/Ljubljana
END:VEVENT
BEGIN:VEVENT
SUMMARY:Rezervacija
DTSTART;TZID=Europe/Ljubljana:20200929T110000
DTEND;TZID=Europe/Ljubljana:20200929T120000
DTSTAMP:20260424T025209Z
UID:fmf-AFLABS-URNIK:rezervacija:6474
CATEGORIES:Reservation
COLOR:royalblue
DESCRIPTION:Predmeti: \nLetniki: \nIzvajalci: Arjana Žitnik\nProstori: 2.
 03\, 2.04
LOCATION:2.03\, 2.04
ORGANIZER:Arjana Žitnik
X-WR-TIMEZONE:Europe/Ljubljana
END:VEVENT
BEGIN:VEVENT
SUMMARY:Rezervacija
DTSTART;TZID=Europe/Ljubljana:20200929T120000
DTEND;TZID=Europe/Ljubljana:20200929T130000
DTSTAMP:20260424T025209Z
UID:fmf-AFLABS-URNIK:rezervacija:6476
CATEGORIES:Reservation
COLOR:royalblue
DESCRIPTION:Predmeti: \nLetniki: \nIzvajalci: Arjana Žitnik\nProstori: 2.
 04
LOCATION:2.04
ORGANIZER:Arjana Žitnik
X-WR-TIMEZONE:Europe/Ljubljana
END:VEVENT
END:VCALENDAR
