BEGIN:VCALENDAR
VERSION:2.0
PRODID:-//AFLabs urnik izvoz - fmf//aflabs.si//SI
DTSTAMP:20260423T225436Z
NAME:UL FMF urnik
REFRESH-INTERVAL:PT1H
SOURCE:https://urnik.fmf.uni-lj.si/teacher/30?day=2021-09-27&export=1
URL:https://urnik.fmf.uni-lj.si/teacher/30?day=2021-09-27&export=1
X-PUBLISHED-TTL:PT1H
X-WR-CALNAME:UL FMF urnik
X-WR-TIMEZONE:Europe/Ljubljana
BEGIN:VTIMEZONE
TZID:Europe/Ljubljana
BEGIN:DAYLIGHT
DTSTART:20260329T020000
RDATE:20260329T020000
RDATE:20270328T020000
TZNAME:CEST
TZOFFSETFROM:+0100
TZOFFSETTO:+0200
END:DAYLIGHT
BEGIN:STANDARD
DTSTART:20261025T030000
RDATE:20261025T030000
RDATE:20271031T030000
TZNAME:CET
TZOFFSETFROM:+0200
TZOFFSETTO:+0100
END:STANDARD
END:VTIMEZONE
BEGIN:VEVENT
SUMMARY:Kombinatorika (IŠRM-2)\, Vaje (V)
DTSTART;TZID=Europe/Ljubljana:20211004T100000
DTEND;TZID=Europe/Ljubljana:20211004T130000
DTSTAMP:20260423T225436Z
UID:fmf-AFLABS-URNIK:premaknjeno-srecanje:54444
ATTENDEE:2. letnik (IŠRM)
CATEGORIES:Entry,Standard
COLOR:darkgreen
DESCRIPTION:Predmet: Kombinatorika (IŠRM-2)\, Vaje (V)\nLetniki: 2. letni
 k (IŠRM)\nIzvajalci: Arjana Žitnik\nProstor: 2.02
LOCATION:2.02
ORGANIZER:Arjana Žitnik
RELATED-TO:fmf-AFLABS-URNIK:srecanje:6351
X-WR-TIMEZONE:Europe/Ljubljana
END:VEVENT
BEGIN:VEVENT
SUMMARY:Kombinatorika (IŠRM-2)\, Vaje (V)
DTSTART;TZID=Europe/Ljubljana:20211011T100000
DTEND;TZID=Europe/Ljubljana:20211011T130000
DTSTAMP:20260423T225436Z
UID:fmf-AFLABS-URNIK:premaknjeno-srecanje:54445
ATTENDEE:2. letnik (IŠRM)
CATEGORIES:Entry,Standard
COLOR:darkgreen
DESCRIPTION:Predmet: Kombinatorika (IŠRM-2)\, Vaje (V)\nLetniki: 2. letni
 k (IŠRM)\nIzvajalci: Arjana Žitnik\nProstor: 2.02
LOCATION:2.02
ORGANIZER:Arjana Žitnik
RELATED-TO:fmf-AFLABS-URNIK:srecanje:6351
X-WR-TIMEZONE:Europe/Ljubljana
END:VEVENT
BEGIN:VEVENT
SUMMARY:Kombinatorika (IŠRM-2)\, Vaje (V)
DTSTART;TZID=Europe/Ljubljana:20211018T100000
DTEND;TZID=Europe/Ljubljana:20211018T130000
DTSTAMP:20260423T225436Z
UID:fmf-AFLABS-URNIK:premaknjeno-srecanje:54446
ATTENDEE:2. letnik (IŠRM)
CATEGORIES:Entry,Standard
COLOR:darkgreen
DESCRIPTION:Predmet: Kombinatorika (IŠRM-2)\, Vaje (V)\nLetniki: 2. letni
 k (IŠRM)\nIzvajalci: Arjana Žitnik\nProstor: 2.02
LOCATION:2.02
ORGANIZER:Arjana Žitnik
RELATED-TO:fmf-AFLABS-URNIK:srecanje:6351
X-WR-TIMEZONE:Europe/Ljubljana
END:VEVENT
BEGIN:VEVENT
SUMMARY:Kombinatorika (IŠRM-2)\, Vaje (V)
DTSTART;TZID=Europe/Ljubljana:20211025T100000
DTEND;TZID=Europe/Ljubljana:20211025T130000
DTSTAMP:20260423T225436Z
UID:fmf-AFLABS-URNIK:premaknjeno-srecanje:54447
ATTENDEE:2. letnik (IŠRM)
CATEGORIES:Entry,Standard
COLOR:darkgreen
DESCRIPTION:Predmet: Kombinatorika (IŠRM-2)\, Vaje (V)\nLetniki: 2. letni
 k (IŠRM)\nIzvajalci: Arjana Žitnik\nProstor: 2.02
LOCATION:2.02
ORGANIZER:Arjana Žitnik
RELATED-TO:fmf-AFLABS-URNIK:srecanje:6351
X-WR-TIMEZONE:Europe/Ljubljana
END:VEVENT
BEGIN:VEVENT
SUMMARY:Kombinatorika (IŠRM-2)\, Vaje (V)
DTSTART;TZID=Europe/Ljubljana:20211101T100000
DTEND;TZID=Europe/Ljubljana:20211101T130000
DTSTAMP:20260423T225436Z
UID:fmf-AFLABS-URNIK:premaknjeno-srecanje:54448
ATTENDEE:2. letnik (IŠRM)
CATEGORIES:Entry,Standard
COLOR:darkgreen
DESCRIPTION:Predmet: Kombinatorika (IŠRM-2)\, Vaje (V)\nLetniki: 2. letni
 k (IŠRM)\nIzvajalci: Arjana Žitnik\nProstor: 2.02
LOCATION:2.02
ORGANIZER:Arjana Žitnik
RELATED-TO:fmf-AFLABS-URNIK:srecanje:6351
X-WR-TIMEZONE:Europe/Ljubljana
END:VEVENT
BEGIN:VEVENT
SUMMARY:Govorilna ura ()\, Ostalo (O)
DTSTART;TZID=Europe/Ljubljana:20211005T150000
DTEND;TZID=Europe/Ljubljana:20211005T160000
DTSTAMP:20260423T225436Z
UID:fmf-AFLABS-URNIK:premaknjeno-srecanje:39512
CATEGORIES:Entry,Standard
COLOR:darkgreen
DESCRIPTION:Predmet: Govorilna ura ()\, Ostalo (O)\nLetniki: \nIzvajalci: 
 Arjana Žitnik\nProstor: 5.04
LOCATION:5.04
ORGANIZER:Arjana Žitnik
RELATED-TO:fmf-AFLABS-URNIK:srecanje:6301
X-WR-TIMEZONE:Europe/Ljubljana
END:VEVENT
BEGIN:VEVENT
SUMMARY:Govorilna ura ()\, Ostalo (O)
DTSTART;TZID=Europe/Ljubljana:20211012T150000
DTEND;TZID=Europe/Ljubljana:20211012T160000
DTSTAMP:20260423T225436Z
UID:fmf-AFLABS-URNIK:premaknjeno-srecanje:39513
CATEGORIES:Entry,Standard
COLOR:darkgreen
DESCRIPTION:Predmet: Govorilna ura ()\, Ostalo (O)\nLetniki: \nIzvajalci: 
 Arjana Žitnik\nProstor: 5.04
LOCATION:5.04
ORGANIZER:Arjana Žitnik
RELATED-TO:fmf-AFLABS-URNIK:srecanje:6301
X-WR-TIMEZONE:Europe/Ljubljana
END:VEVENT
BEGIN:VEVENT
SUMMARY:Govorilna ura ()\, Ostalo (O)
DTSTART;TZID=Europe/Ljubljana:20211019T150000
DTEND;TZID=Europe/Ljubljana:20211019T160000
DTSTAMP:20260423T225436Z
UID:fmf-AFLABS-URNIK:premaknjeno-srecanje:39514
CATEGORIES:Entry,Standard
COLOR:darkgreen
DESCRIPTION:Predmet: Govorilna ura ()\, Ostalo (O)\nLetniki: \nIzvajalci: 
 Arjana Žitnik\nProstor: 5.04
LOCATION:5.04
ORGANIZER:Arjana Žitnik
RELATED-TO:fmf-AFLABS-URNIK:srecanje:6301
X-WR-TIMEZONE:Europe/Ljubljana
END:VEVENT
BEGIN:VEVENT
SUMMARY:Govorilna ura ()\, Ostalo (O)
DTSTART;TZID=Europe/Ljubljana:20211026T150000
DTEND;TZID=Europe/Ljubljana:20211026T160000
DTSTAMP:20260423T225436Z
UID:fmf-AFLABS-URNIK:premaknjeno-srecanje:39515
CATEGORIES:Entry,Standard
COLOR:darkgreen
DESCRIPTION:Predmet: Govorilna ura ()\, Ostalo (O)\nLetniki: \nIzvajalci: 
 Arjana Žitnik\nProstor: 5.04
LOCATION:5.04
ORGANIZER:Arjana Žitnik
RELATED-TO:fmf-AFLABS-URNIK:srecanje:6301
X-WR-TIMEZONE:Europe/Ljubljana
END:VEVENT
BEGIN:VEVENT
SUMMARY:Optimizacija 1 (MAT-3\, PM-4)\, Vaje (V)
DTSTART;TZID=Europe/Ljubljana:20211005T080000
DTEND;TZID=Europe/Ljubljana:20211005T100000
DTSTAMP:20260423T225436Z
UID:fmf-AFLABS-URNIK:premaknjeno-srecanje:79977
ATTENDEE:3. letnik (M)
ATTENDEE:4. letnik (PM)
CATEGORIES:Entry,Standard
COLOR:darkgreen
DESCRIPTION:Predmet: Optimizacija 1 (MAT-3\, PM-4)\, Vaje (V)\nLetniki: 3.
  letnik (M)\, 4. letnik (PM)\nIzvajalci: Arjana Žitnik\nProstor: 3.04
LOCATION:3.04
ORGANIZER:Arjana Žitnik
RELATED-TO:fmf-AFLABS-URNIK:srecanje:6475
X-WR-TIMEZONE:Europe/Ljubljana
END:VEVENT
BEGIN:VEVENT
SUMMARY:Optimizacija 1 (MAT-3\, PM-4)\, Vaje (V)
DTSTART;TZID=Europe/Ljubljana:20211012T080000
DTEND;TZID=Europe/Ljubljana:20211012T100000
DTSTAMP:20260423T225436Z
UID:fmf-AFLABS-URNIK:premaknjeno-srecanje:79978
ATTENDEE:3. letnik (M)
ATTENDEE:4. letnik (PM)
CATEGORIES:Entry,Standard
COLOR:darkgreen
DESCRIPTION:Predmet: Optimizacija 1 (MAT-3\, PM-4)\, Vaje (V)\nLetniki: 3.
  letnik (M)\, 4. letnik (PM)\nIzvajalci: Arjana Žitnik\nProstor: 3.04
LOCATION:3.04
ORGANIZER:Arjana Žitnik
RELATED-TO:fmf-AFLABS-URNIK:srecanje:6475
X-WR-TIMEZONE:Europe/Ljubljana
END:VEVENT
BEGIN:VEVENT
SUMMARY:Optimizacija 1 (MAT-3\, PM-4)\, Vaje (V)
DTSTART;TZID=Europe/Ljubljana:20211019T080000
DTEND;TZID=Europe/Ljubljana:20211019T100000
DTSTAMP:20260423T225436Z
UID:fmf-AFLABS-URNIK:premaknjeno-srecanje:79979
ATTENDEE:3. letnik (M)
ATTENDEE:4. letnik (PM)
CATEGORIES:Entry,Standard
COLOR:darkgreen
DESCRIPTION:Predmet: Optimizacija 1 (MAT-3\, PM-4)\, Vaje (V)\nLetniki: 3.
  letnik (M)\, 4. letnik (PM)\nIzvajalci: Arjana Žitnik\nProstor: 3.04
LOCATION:3.04
ORGANIZER:Arjana Žitnik
RELATED-TO:fmf-AFLABS-URNIK:srecanje:6475
X-WR-TIMEZONE:Europe/Ljubljana
END:VEVENT
BEGIN:VEVENT
SUMMARY:Optimizacija 1 (MAT-3\, PM-4)\, Vaje (V)
DTSTART;TZID=Europe/Ljubljana:20211026T080000
DTEND;TZID=Europe/Ljubljana:20211026T100000
DTSTAMP:20260423T225436Z
UID:fmf-AFLABS-URNIK:premaknjeno-srecanje:79980
ATTENDEE:3. letnik (M)
ATTENDEE:4. letnik (PM)
CATEGORIES:Entry,Standard
COLOR:darkgreen
DESCRIPTION:Predmet: Optimizacija 1 (MAT-3\, PM-4)\, Vaje (V)\nLetniki: 3.
  letnik (M)\, 4. letnik (PM)\nIzvajalci: Arjana Žitnik\nProstor: 3.04
LOCATION:3.04
ORGANIZER:Arjana Žitnik
RELATED-TO:fmf-AFLABS-URNIK:srecanje:6475
X-WR-TIMEZONE:Europe/Ljubljana
END:VEVENT
BEGIN:VEVENT
SUMMARY:Optimizacija 1 (MAT-3\, PM-4)\, Predavanja (P)
DTSTART;TZID=Europe/Ljubljana:20211007T140000
DTEND;TZID=Europe/Ljubljana:20211007T160000
DTSTAMP:20260423T225436Z
UID:fmf-AFLABS-URNIK:premaknjeno-srecanje:79930
ATTENDEE:3. letnik (M)
ATTENDEE:4. letnik (PM)
CATEGORIES:Entry,Standard
COLOR:darkgreen
DESCRIPTION:Predmet: Optimizacija 1 (MAT-3\, PM-4)\, Predavanja (P)\nLetni
 ki: 3. letnik (M)\, 4. letnik (PM)\nIzvajalci: Arjana Žitnik\nProstor: 2.
 04
LOCATION:2.04
ORGANIZER:Arjana Žitnik
RELATED-TO:fmf-AFLABS-URNIK:srecanje:6474
X-WR-TIMEZONE:Europe/Ljubljana
END:VEVENT
BEGIN:VEVENT
SUMMARY:Optimizacija 1 (MAT-3\, PM-4)\, Predavanja (P)
DTSTART;TZID=Europe/Ljubljana:20211014T140000
DTEND;TZID=Europe/Ljubljana:20211014T160000
DTSTAMP:20260423T225436Z
UID:fmf-AFLABS-URNIK:premaknjeno-srecanje:79931
ATTENDEE:3. letnik (M)
ATTENDEE:4. letnik (PM)
CATEGORIES:Entry,Standard
COLOR:darkgreen
DESCRIPTION:Predmet: Optimizacija 1 (MAT-3\, PM-4)\, Predavanja (P)\nLetni
 ki: 3. letnik (M)\, 4. letnik (PM)\nIzvajalci: Arjana Žitnik\nProstor: 2.
 04
LOCATION:2.04
ORGANIZER:Arjana Žitnik
RELATED-TO:fmf-AFLABS-URNIK:srecanje:6474
X-WR-TIMEZONE:Europe/Ljubljana
END:VEVENT
BEGIN:VEVENT
SUMMARY:Optimizacija 1 (MAT-3\, PM-4)\, Predavanja (P)
DTSTART;TZID=Europe/Ljubljana:20211021T140000
DTEND;TZID=Europe/Ljubljana:20211021T160000
DTSTAMP:20260423T225436Z
UID:fmf-AFLABS-URNIK:premaknjeno-srecanje:79932
ATTENDEE:3. letnik (M)
ATTENDEE:4. letnik (PM)
CATEGORIES:Entry,Standard
COLOR:darkgreen
DESCRIPTION:Predmet: Optimizacija 1 (MAT-3\, PM-4)\, Predavanja (P)\nLetni
 ki: 3. letnik (M)\, 4. letnik (PM)\nIzvajalci: Arjana Žitnik\nProstor: 2.
 04
LOCATION:2.04
ORGANIZER:Arjana Žitnik
RELATED-TO:fmf-AFLABS-URNIK:srecanje:6474
X-WR-TIMEZONE:Europe/Ljubljana
END:VEVENT
BEGIN:VEVENT
SUMMARY:Optimizacija 1 (MAT-3\, PM-4)\, Predavanja (P)
DTSTART;TZID=Europe/Ljubljana:20211028T140000
DTEND;TZID=Europe/Ljubljana:20211028T160000
DTSTAMP:20260423T225436Z
UID:fmf-AFLABS-URNIK:premaknjeno-srecanje:79933
ATTENDEE:3. letnik (M)
ATTENDEE:4. letnik (PM)
CATEGORIES:Entry,Standard
COLOR:darkgreen
DESCRIPTION:Predmet: Optimizacija 1 (MAT-3\, PM-4)\, Predavanja (P)\nLetni
 ki: 3. letnik (M)\, 4. letnik (PM)\nIzvajalci: Arjana Žitnik\nProstor: 2.
 04
LOCATION:2.04
ORGANIZER:Arjana Žitnik
RELATED-TO:fmf-AFLABS-URNIK:srecanje:6474
X-WR-TIMEZONE:Europe/Ljubljana
END:VEVENT
BEGIN:VEVENT
SUMMARY:Rezervacija
DTSTART;TZID=Europe/Ljubljana:20210823T090000
DTEND;TZID=Europe/Ljubljana:20210823T120000
DTSTAMP:20260423T225436Z
UID:fmf-AFLABS-URNIK:rezervacija:7442
ATTENDEE:2. letnik (M)
ATTENDEE:2. letnik (PM)
ATTENDEE:3. letnik (FM)
CATEGORIES:Reservation
COLOR:royalblue
DESCRIPTION:Predmeti: Diskretna matematika 1 (FM-3\, MAT-2\, PM-2)\nLetnik
 i: 3. letnik (FM)\, 2. letnik (M)\, 2. letnik (PM)\nIzvajalci: Arjana Žit
 nik\nProstori: 2.05
LOCATION:2.05
ORGANIZER:Arjana Žitnik
X-WR-TIMEZONE:Europe/Ljubljana
END:VEVENT
BEGIN:VEVENT
SUMMARY:Rezervacija
DTSTART;TZID=Europe/Ljubljana:20210824T100000
DTEND;TZID=Europe/Ljubljana:20210824T140000
DTSTAMP:20260423T225436Z
UID:fmf-AFLABS-URNIK:rezervacija:7472
ATTENDEE:2. letnik (FM)
CATEGORIES:Reservation
COLOR:royalblue
DESCRIPTION:Predmeti: Operacijske raziskave (FM-2)\nLetniki: 2. letnik (FM
 )\nIzvajalci: Arjana Žitnik\nProstori: 3.05
LOCATION:3.05
ORGANIZER:Arjana Žitnik
X-WR-TIMEZONE:Europe/Ljubljana
END:VEVENT
BEGIN:VEVENT
SUMMARY:Rezervacija
DTSTART;TZID=Europe/Ljubljana:20210830T100000
DTEND;TZID=Europe/Ljubljana:20210830T130000
DTSTAMP:20260423T225436Z
UID:fmf-AFLABS-URNIK:rezervacija:7568
ATTENDEE:2. letnik (IŠRM)
CATEGORIES:Reservation
COLOR:royalblue
DESCRIPTION:Predmeti: Optimizacijske metode (IŠRM-2)\nLetniki: 2. letnik 
 (IŠRM)\nIzvajalci: Arjana Žitnik\nProstori: 3.04
LOCATION:3.04
ORGANIZER:Arjana Žitnik
X-WR-TIMEZONE:Europe/Ljubljana
END:VEVENT
BEGIN:VEVENT
SUMMARY:Rezervacija
DTSTART;TZID=Europe/Ljubljana:20210831T130000
DTEND;TZID=Europe/Ljubljana:20210831T160000
DTSTAMP:20260423T225436Z
UID:fmf-AFLABS-URNIK:rezervacija:7598
ATTENDEE:3. letnik (FM)
ATTENDEE:3. letnik (IŠRM)
ATTENDEE:3. letnik (M)
ATTENDEE:4. letnik (PM)
CATEGORIES:Reservation
COLOR:royalblue
DESCRIPTION:Predmeti: Teorija kodiranja in kriptografija (FM-3\, IŠRM-3\,
  MAT-3\, PM-4)\nLetniki: 3. letnik (FM)\, 3. letnik (IŠRM)\, 3. letnik (M
 )\, 4. letnik (PM)\nIzvajalci: Arjana Žitnik\nProstori: 3.04
LOCATION:3.04
ORGANIZER:Arjana Žitnik
X-WR-TIMEZONE:Europe/Ljubljana
END:VEVENT
BEGIN:VEVENT
SUMMARY:Rezervacija
DTSTART;TZID=Europe/Ljubljana:20210906T090000
DTEND;TZID=Europe/Ljubljana:20210906T120000
DTSTAMP:20260423T225436Z
UID:fmf-AFLABS-URNIK:rezervacija:7692
ATTENDEE:2. letnik (IŠRM)
ATTENDEE:2. letnik (M)
ATTENDEE:2. letnik (PM)
ATTENDEE:3. letnik (FM)
CATEGORIES:Reservation
COLOR:royalblue
DESCRIPTION:Predmeti: Diskretna matematika 1 (FM-3\, MAT-2\, PM-2)\, Kombi
 natorika (IŠRM-2)\nLetniki: 3. letnik (FM)\, 2. letnik (IŠRM)\, 2. letni
 k (M)\, 2. letnik (PM)\nIzvajalci: Arjana Žitnik\nProstori: 2.05
LOCATION:2.05
ORGANIZER:Arjana Žitnik
X-WR-TIMEZONE:Europe/Ljubljana
END:VEVENT
BEGIN:VEVENT
SUMMARY:Rezervacija
DTSTART;TZID=Europe/Ljubljana:20210906T120000
DTEND;TZID=Europe/Ljubljana:20210906T140000
DTSTAMP:20260423T225436Z
UID:fmf-AFLABS-URNIK:rezervacija:7703
CATEGORIES:Reservation
COLOR:royalblue
DESCRIPTION:Predmeti: \nLetniki: \nIzvajalci: Arjana Žitnik\nProstori: 3.
 04
LOCATION:3.04
ORGANIZER:Arjana Žitnik
X-WR-TIMEZONE:Europe/Ljubljana
END:VEVENT
BEGIN:VEVENT
SUMMARY:Rezervacija
DTSTART;TZID=Europe/Ljubljana:20211025T130000
DTEND;TZID=Europe/Ljubljana:20211025T140000
DTSTAMP:20260423T225436Z
UID:fmf-AFLABS-URNIK:rezervacija:7947
CATEGORIES:Reservation
COLOR:royalblue
DESCRIPTION:Predmeti: \nLetniki: \nIzvajalci: Arjana Žitnik\nProstori: 3.
 07
LOCATION:3.07
ORGANIZER:Arjana Žitnik
X-WR-TIMEZONE:Europe/Ljubljana
END:VEVENT
END:VCALENDAR
