BEGIN:VCALENDAR
VERSION:2.0
PRODID:-//AFLabs urnik izvoz - fmf//aflabs.si//SI
DTSTAMP:20260421T174202Z
NAME:UL FMF urnik
REFRESH-INTERVAL:PT1H
SOURCE:https://urnik.fmf.uni-lj.si/teacher/30?day=2022-06-27&export=1
URL:https://urnik.fmf.uni-lj.si/teacher/30?day=2022-06-27&export=1
X-PUBLISHED-TTL:PT1H
X-WR-CALNAME:UL FMF urnik
X-WR-TIMEZONE:Europe/Ljubljana
BEGIN:VTIMEZONE
TZID:Europe/Ljubljana
BEGIN:DAYLIGHT
DTSTART:20260329T020000
RDATE:20260329T020000
RDATE:20270328T020000
TZNAME:CEST
TZOFFSETFROM:+0100
TZOFFSETTO:+0200
END:DAYLIGHT
BEGIN:STANDARD
DTSTART:20261025T030000
RDATE:20261025T030000
RDATE:20271031T030000
TZNAME:CET
TZOFFSETFROM:+0200
TZOFFSETTO:+0100
END:STANDARD
END:VTIMEZONE
BEGIN:VEVENT
SUMMARY:Teorija kodiranja in kriptografija (FM-3\, IŠRM-3\, MAT-3\, PM-4)
 \, Predavanja (P)
DTSTART;TZID=Europe/Ljubljana:20220524T140000
DTEND;TZID=Europe/Ljubljana:20220524T160000
DTSTAMP:20260421T174202Z
UID:fmf-AFLABS-URNIK:premaknjeno-srecanje:109532
ATTENDEE:3. letnik (FM)
ATTENDEE:3. letnik (IŠRM)
ATTENDEE:3. letnik (M)
ATTENDEE:4. letnik (PM)
CATEGORIES:Entry,Standard
COLOR:darkgreen
DESCRIPTION:Predmet: Teorija kodiranja in kriptografija (FM-3\, IŠRM-3\, 
 MAT-3\, PM-4)\, Predavanja (P)\nLetniki: 3. letnik (FM)\, 3. letnik (IŠRM
 )\, 3. letnik (M)\, 4. letnik (PM)\nIzvajalci: Arjana Žitnik\nProstor: 2.
 04
LOCATION:2.04
ORGANIZER:Arjana Žitnik
RELATED-TO:fmf-AFLABS-URNIK:srecanje:7308
X-WR-TIMEZONE:Europe/Ljubljana
END:VEVENT
BEGIN:VEVENT
SUMMARY:Teorija kodiranja in kriptografija (FM-3\, IŠRM-3\, MAT-3\, PM-4)
 \, Predavanja (P)
DTSTART;TZID=Europe/Ljubljana:20220531T140000
DTEND;TZID=Europe/Ljubljana:20220531T160000
DTSTAMP:20260421T174202Z
UID:fmf-AFLABS-URNIK:premaknjeno-srecanje:109533
ATTENDEE:3. letnik (FM)
ATTENDEE:3. letnik (IŠRM)
ATTENDEE:3. letnik (M)
ATTENDEE:4. letnik (PM)
CATEGORIES:Entry,Standard
COLOR:darkgreen
DESCRIPTION:Predmet: Teorija kodiranja in kriptografija (FM-3\, IŠRM-3\, 
 MAT-3\, PM-4)\, Predavanja (P)\nLetniki: 3. letnik (FM)\, 3. letnik (IŠRM
 )\, 3. letnik (M)\, 4. letnik (PM)\nIzvajalci: Arjana Žitnik\nProstor: 2.
 04
LOCATION:2.04
ORGANIZER:Arjana Žitnik
RELATED-TO:fmf-AFLABS-URNIK:srecanje:7308
X-WR-TIMEZONE:Europe/Ljubljana
END:VEVENT
BEGIN:VEVENT
SUMMARY:Diskretna matematika 1 (FM-3\, MAT-2\, PM-2)\, Vaje (V)\, [1]
DTSTART;TZID=Europe/Ljubljana:20220525T140000
DTEND;TZID=Europe/Ljubljana:20220525T160000
DTSTAMP:20260421T174202Z
UID:fmf-AFLABS-URNIK:premaknjeno-srecanje:16164
ATTENDEE:2. letnik (M)
ATTENDEE:2. letnik (PM)
ATTENDEE:3. letnik (FM)
CATEGORIES:Entry,Standard
COLOR:darkgreen
DESCRIPTION:Predmet: Diskretna matematika 1 (FM-3\, MAT-2\, PM-2)\, Vaje (
 V)\, [1]\nLetniki: 3. letnik (FM)\, 2. letnik (M)\, 2. letnik (PM)\nIzvaja
 lci: Arjana Žitnik\nProstor: 2.02
LOCATION:2.02
ORGANIZER:Arjana Žitnik
RELATED-TO:fmf-AFLABS-URNIK:srecanje:6892
X-WR-TIMEZONE:Europe/Ljubljana
END:VEVENT
BEGIN:VEVENT
SUMMARY:Govorilna ura ()\, Ostalo (O)
DTSTART;TZID=Europe/Ljubljana:20220525T160000
DTEND;TZID=Europe/Ljubljana:20220525T170000
DTSTAMP:20260421T174202Z
UID:fmf-AFLABS-URNIK:premaknjeno-srecanje:39788
CATEGORIES:Entry,Standard
COLOR:darkgreen
DESCRIPTION:Predmet: Govorilna ura ()\, Ostalo (O)\nLetniki: \nIzvajalci: 
 Arjana Žitnik\nProstor: 5.04
LOCATION:5.04
ORGANIZER:Arjana Žitnik
RELATED-TO:fmf-AFLABS-URNIK:srecanje:6980
X-WR-TIMEZONE:Europe/Ljubljana
END:VEVENT
BEGIN:VEVENT
SUMMARY:Operacijske raziskave (FM-2)\, Predavanja (P)
DTSTART;TZID=Europe/Ljubljana:20220525T120000
DTEND;TZID=Europe/Ljubljana:20220525T140000
DTSTAMP:20260421T174202Z
UID:fmf-AFLABS-URNIK:premaknjeno-srecanje:79271
ATTENDEE:2. letnik (FM)
CATEGORIES:Entry,Standard
COLOR:darkgreen
DESCRIPTION:Predmet: Operacijske raziskave (FM-2)\, Predavanja (P)\nLetnik
 i: 2. letnik (FM)\nIzvajalci: Arjana Žitnik\nProstor: 2.03
LOCATION:2.03
ORGANIZER:Arjana Žitnik
RELATED-TO:fmf-AFLABS-URNIK:srecanje:7174
X-WR-TIMEZONE:Europe/Ljubljana
END:VEVENT
BEGIN:VEVENT
SUMMARY:Diskretna matematika 1 (FM-3\, MAT-2\, PM-2)\, Vaje (V)\, [2]
DTSTART;TZID=Europe/Ljubljana:20220526T140000
DTEND;TZID=Europe/Ljubljana:20220526T160000
DTSTAMP:20260421T174202Z
UID:fmf-AFLABS-URNIK:premaknjeno-srecanje:16226
ATTENDEE:2. letnik (M)
ATTENDEE:2. letnik (PM)
ATTENDEE:3. letnik (FM)
CATEGORIES:Entry,Standard
COLOR:darkgreen
DESCRIPTION:Predmet: Diskretna matematika 1 (FM-3\, MAT-2\, PM-2)\, Vaje (
 V)\, [2]\nLetniki: 3. letnik (FM)\, 2. letnik (M)\, 2. letnik (PM)\nIzvaja
 lci: Arjana Žitnik\nProstor: 2.04
LOCATION:2.04
ORGANIZER:Arjana Žitnik
RELATED-TO:fmf-AFLABS-URNIK:srecanje:6893
X-WR-TIMEZONE:Europe/Ljubljana
END:VEVENT
BEGIN:VEVENT
SUMMARY:Optimizacijske metode (IŠRM-2)\, Vaje (V)
DTSTART;TZID=Europe/Ljubljana:20220527T120000
DTEND;TZID=Europe/Ljubljana:20220527T150000
DTSTAMP:20260421T174202Z
UID:fmf-AFLABS-URNIK:premaknjeno-srecanje:80532
ATTENDEE:2. letnik (IŠRM)
CATEGORIES:Entry,Standard
COLOR:darkgreen
DESCRIPTION:Predmet: Optimizacijske metode (IŠRM-2)\, Vaje (V)\nLetniki: 
 2. letnik (IŠRM)\nIzvajalci: Arjana Žitnik\nProstor: 2.04
LOCATION:2.04
ORGANIZER:Arjana Žitnik
RELATED-TO:fmf-AFLABS-URNIK:srecanje:7181
X-WR-TIMEZONE:Europe/Ljubljana
END:VEVENT
BEGIN:VEVENT
SUMMARY:Rezervacija
DTSTART;TZID=Europe/Ljubljana:20220527T160000
DTEND;TZID=Europe/Ljubljana:20220527T190000
DTSTAMP:20260421T174202Z
UID:fmf-AFLABS-URNIK:rezervacija:9103
ATTENDEE:2. letnik (M)
ATTENDEE:2. letnik (PM)
ATTENDEE:3. letnik (FM)
CATEGORIES:Reservation
COLOR:royalblue
DESCRIPTION:Predmeti: Diskretna matematika 1 (FM-3\, MAT-2\, PM-2)\nLetnik
 i: 3. letnik (FM)\, 2. letnik (M)\, 2. letnik (PM)\nIzvajalci: Arjana Žit
 nik\nProstori: 2.01\, 2.05
LOCATION:2.01\, 2.05
ORGANIZER:Arjana Žitnik
X-WR-TIMEZONE:Europe/Ljubljana
END:VEVENT
BEGIN:VEVENT
SUMMARY:Rezervacija
DTSTART;TZID=Europe/Ljubljana:20220602T090000
DTEND;TZID=Europe/Ljubljana:20220602T140000
DTSTAMP:20260421T174202Z
UID:fmf-AFLABS-URNIK:rezervacija:9144
ATTENDEE:2. letnik (FM)
CATEGORIES:Reservation
COLOR:royalblue
DESCRIPTION:Predmeti: Operacijske raziskave (FM-2)\nLetniki: 2. letnik (FM
 )\nIzvajalci: Arjana Žitnik\nProstori: 2.01\, 3.04
LOCATION:2.01\, 3.04
ORGANIZER:Arjana Žitnik
X-WR-TIMEZONE:Europe/Ljubljana
END:VEVENT
BEGIN:VEVENT
SUMMARY:Rezervacija
DTSTART;TZID=Europe/Ljubljana:20220603T120000
DTEND;TZID=Europe/Ljubljana:20220603T140000
DTSTAMP:20260421T174202Z
UID:fmf-AFLABS-URNIK:rezervacija:9173
ATTENDEE:2. letnik (FM)
CATEGORIES:Reservation
COLOR:royalblue
DESCRIPTION:Predmeti: Operacijske raziskave (FM-2)\nLetniki: 2. letnik (FM
 )\nIzvajalci: Arjana Žitnik\nProstori: 2.02
LOCATION:2.02
ORGANIZER:Arjana Žitnik
X-WR-TIMEZONE:Europe/Ljubljana
END:VEVENT
BEGIN:VEVENT
SUMMARY:Rezervacija
DTSTART;TZID=Europe/Ljubljana:20220603T120000
DTEND;TZID=Europe/Ljubljana:20220603T140000
DTSTAMP:20260421T174202Z
UID:fmf-AFLABS-URNIK:rezervacija:9174
ATTENDEE:2. letnik (FM)
CATEGORIES:Reservation
COLOR:royalblue
DESCRIPTION:Predmeti: Operacijske raziskave (FM-2)\nLetniki: 2. letnik (FM
 )\nIzvajalci: Arjana Žitnik\nProstori: 3.04
LOCATION:3.04
ORGANIZER:Arjana Žitnik
X-WR-TIMEZONE:Europe/Ljubljana
END:VEVENT
BEGIN:VEVENT
SUMMARY:Rezervacija
DTSTART;TZID=Europe/Ljubljana:20220606T090000
DTEND;TZID=Europe/Ljubljana:20220606T120000
DTSTAMP:20260421T174202Z
UID:fmf-AFLABS-URNIK:rezervacija:9180
ATTENDEE:2. letnik (IŠRM)
CATEGORIES:Reservation
COLOR:royalblue
DESCRIPTION:Predmeti: Optimizacijske metode (IŠRM-2)\nLetniki: 2. letnik 
 (IŠRM)\nIzvajalci: Sergio Cabello Justo\, Arjana Žitnik\nProstori: 2.01\
 , 2.05
LOCATION:2.01\, 2.05
ORGANIZER:Sergio Cabello Justo, Arjana Žitnik
X-WR-TIMEZONE:Europe/Ljubljana
END:VEVENT
BEGIN:VEVENT
SUMMARY:Rezervacija
DTSTART;TZID=Europe/Ljubljana:20220606T130000
DTEND;TZID=Europe/Ljubljana:20220606T160000
DTSTAMP:20260421T174202Z
UID:fmf-AFLABS-URNIK:rezervacija:9191
ATTENDEE:3. letnik (FM)
ATTENDEE:3. letnik (IŠRM)
ATTENDEE:3. letnik (M)
ATTENDEE:4. letnik (PM)
CATEGORIES:Reservation
COLOR:royalblue
DESCRIPTION:Predmeti: Teorija kodiranja in kriptografija (FM-3\, IŠRM-3\,
  MAT-3\, PM-4)\nLetniki: 3. letnik (FM)\, 3. letnik (IŠRM)\, 3. letnik (M
 )\, 4. letnik (PM)\nIzvajalci: Arjana Žitnik\nProstori: 2.01\, 2.02
LOCATION:2.01\, 2.02
ORGANIZER:Arjana Žitnik
X-WR-TIMEZONE:Europe/Ljubljana
END:VEVENT
BEGIN:VEVENT
SUMMARY:Rezervacija
DTSTART;TZID=Europe/Ljubljana:20220615T090000
DTEND;TZID=Europe/Ljubljana:20220615T120000
DTSTAMP:20260421T174202Z
UID:fmf-AFLABS-URNIK:rezervacija:9338
ATTENDEE:2. letnik (M)
ATTENDEE:2. letnik (PM)
ATTENDEE:3. letnik (FM)
CATEGORIES:Reservation
COLOR:royalblue
DESCRIPTION:Predmeti: Diskretna matematika 1 (FM-3\, MAT-2\, PM-2)\nLetnik
 i: 3. letnik (FM)\, 2. letnik (M)\, 2. letnik (PM)\nIzvajalci: Arjana Žit
 nik\nProstori: 2.01
LOCATION:2.01
ORGANIZER:Arjana Žitnik
X-WR-TIMEZONE:Europe/Ljubljana
END:VEVENT
BEGIN:VEVENT
SUMMARY:Rezervacija
DTSTART;TZID=Europe/Ljubljana:20220615T130000
DTEND;TZID=Europe/Ljubljana:20220615T150000
DTSTAMP:20260421T174202Z
UID:fmf-AFLABS-URNIK:rezervacija:9350
ATTENDEE:3. letnik (FM)
ATTENDEE:3. letnik (IŠRM)
ATTENDEE:3. letnik (M)
ATTENDEE:4. letnik (PM)
CATEGORIES:Reservation
COLOR:royalblue
DESCRIPTION:Predmeti: Teorija kodiranja in kriptografija (FM-3\, IŠRM-3\,
  MAT-3\, PM-4)\nLetniki: 3. letnik (FM)\, 3. letnik (IŠRM)\, 3. letnik (M
 )\, 4. letnik (PM)\nIzvajalci: Arjana Žitnik\nProstori: 3.07
LOCATION:3.07
ORGANIZER:Arjana Žitnik
X-WR-TIMEZONE:Europe/Ljubljana
END:VEVENT
BEGIN:VEVENT
SUMMARY:Rezervacija
DTSTART;TZID=Europe/Ljubljana:20220617T090000
DTEND;TZID=Europe/Ljubljana:20220617T140000
DTSTAMP:20260421T174202Z
UID:fmf-AFLABS-URNIK:rezervacija:9381
ATTENDEE:2. letnik (FM)
CATEGORIES:Reservation
COLOR:royalblue
DESCRIPTION:Predmeti: Operacijske raziskave (FM-2)\nLetniki: 2. letnik (FM
 )\nIzvajalci: Arjana Žitnik\nProstori: 2.01\, 3.04
LOCATION:2.01\, 3.04
ORGANIZER:Arjana Žitnik
X-WR-TIMEZONE:Europe/Ljubljana
END:VEVENT
BEGIN:VEVENT
SUMMARY:Rezervacija
DTSTART;TZID=Europe/Ljubljana:20220620T110000
DTEND;TZID=Europe/Ljubljana:20220620T120000
DTSTAMP:20260421T174202Z
UID:fmf-AFLABS-URNIK:rezervacija:9407
ATTENDEE:3. letnik (FM)
ATTENDEE:3. letnik (IŠRM)
ATTENDEE:3. letnik (M)
ATTENDEE:4. letnik (PM)
CATEGORIES:Reservation
COLOR:royalblue
DESCRIPTION:Predmeti: Teorija kodiranja in kriptografija (FM-3\, IŠRM-3\,
  MAT-3\, PM-4)\nLetniki: 3. letnik (FM)\, 3. letnik (IŠRM)\, 3. letnik (M
 )\, 4. letnik (PM)\nIzvajalci: Arjana Žitnik\nProstori: 3.04
LOCATION:3.04
ORGANIZER:Arjana Žitnik
X-WR-TIMEZONE:Europe/Ljubljana
END:VEVENT
BEGIN:VEVENT
SUMMARY:Rezervacija
DTSTART;TZID=Europe/Ljubljana:20220622T140000
DTEND;TZID=Europe/Ljubljana:20220622T170000
DTSTAMP:20260421T174202Z
UID:fmf-AFLABS-URNIK:rezervacija:9467
ATTENDEE:3. letnik (FM)
ATTENDEE:3. letnik (IŠRM)
ATTENDEE:3. letnik (M)
ATTENDEE:4. letnik (PM)
CATEGORIES:Reservation
COLOR:royalblue
DESCRIPTION:Predmeti: Teorija kodiranja in kriptografija (FM-3\, IŠRM-3\,
  MAT-3\, PM-4)\nLetniki: 3. letnik (FM)\, 3. letnik (IŠRM)\, 3. letnik (M
 )\, 4. letnik (PM)\nIzvajalci: Arjana Žitnik\nProstori: 2.01
LOCATION:2.01
ORGANIZER:Arjana Žitnik
X-WR-TIMEZONE:Europe/Ljubljana
END:VEVENT
BEGIN:VEVENT
SUMMARY:Rezervacija
DTSTART;TZID=Europe/Ljubljana:20220624T090000
DTEND;TZID=Europe/Ljubljana:20220624T130000
DTSTAMP:20260421T174202Z
UID:fmf-AFLABS-URNIK:rezervacija:9500
ATTENDEE:3. letnik (FM)
ATTENDEE:3. letnik (IŠRM)
ATTENDEE:3. letnik (M)
ATTENDEE:4. letnik (PM)
CATEGORIES:Reservation
COLOR:royalblue
DESCRIPTION:Predmeti: Teorija kodiranja in kriptografija (FM-3\, IŠRM-3\,
  MAT-3\, PM-4)\nLetniki: 3. letnik (FM)\, 3. letnik (IŠRM)\, 3. letnik (M
 )\, 4. letnik (PM)\nIzvajalci: Arjana Žitnik\nProstori: P.02
LOCATION:P.02
ORGANIZER:Arjana Žitnik
X-WR-TIMEZONE:Europe/Ljubljana
END:VEVENT
BEGIN:VEVENT
SUMMARY:Rezervacija
DTSTART;TZID=Europe/Ljubljana:20220628T110000
DTEND;TZID=Europe/Ljubljana:20220628T140000
DTSTAMP:20260421T174202Z
UID:fmf-AFLABS-URNIK:rezervacija:9558
ATTENDEE:2. letnik (IŠRM)
CATEGORIES:Reservation
COLOR:royalblue
DESCRIPTION:Predmeti: Optimizacijske metode (IŠRM-2)\nLetniki: 2. letnik 
 (IŠRM)\nIzvajalci: Arjana Žitnik\nProstori: 2.01
LOCATION:2.01
ORGANIZER:Arjana Žitnik
X-WR-TIMEZONE:Europe/Ljubljana
END:VEVENT
BEGIN:VEVENT
SUMMARY:Rezervacija
DTSTART;TZID=Europe/Ljubljana:20220628T140000
DTEND;TZID=Europe/Ljubljana:20220628T160000
DTSTAMP:20260421T174202Z
UID:fmf-AFLABS-URNIK:rezervacija:9566
ATTENDEE:3. letnik (FM)
ATTENDEE:3. letnik (IŠRM)
ATTENDEE:3. letnik (M)
ATTENDEE:4. letnik (PM)
CATEGORIES:Reservation
COLOR:royalblue
DESCRIPTION:Predmeti: Teorija kodiranja in kriptografija (FM-3\, IŠRM-3\,
  MAT-3\, PM-4)\nLetniki: 3. letnik (FM)\, 3. letnik (IŠRM)\, 3. letnik (M
 )\, 4. letnik (PM)\nIzvajalci: Arjana Žitnik\nProstori: 3.05
LOCATION:3.05
ORGANIZER:Arjana Žitnik
X-WR-TIMEZONE:Europe/Ljubljana
END:VEVENT
BEGIN:VEVENT
SUMMARY:Rezervacija
DTSTART;TZID=Europe/Ljubljana:20220630T120000
DTEND;TZID=Europe/Ljubljana:20220630T140000
DTSTAMP:20260421T174202Z
UID:fmf-AFLABS-URNIK:rezervacija:9620
ATTENDEE:3. letnik (FM)
ATTENDEE:3. letnik (IŠRM)
ATTENDEE:3. letnik (M)
ATTENDEE:4. letnik (PM)
CATEGORIES:Reservation
COLOR:royalblue
DESCRIPTION:Predmeti: Teorija kodiranja in kriptografija (FM-3\, IŠRM-3\,
  MAT-3\, PM-4)\nLetniki: 3. letnik (FM)\, 3. letnik (IŠRM)\, 3. letnik (M
 )\, 4. letnik (PM)\nIzvajalci: Arjana Žitnik\nProstori: P.02
LOCATION:P.02
ORGANIZER:Arjana Žitnik
X-WR-TIMEZONE:Europe/Ljubljana
END:VEVENT
BEGIN:VEVENT
SUMMARY:Rezervacija
DTSTART;TZID=Europe/Ljubljana:20220704T100000
DTEND;TZID=Europe/Ljubljana:20220704T130000
DTSTAMP:20260421T174202Z
UID:fmf-AFLABS-URNIK:rezervacija:9663
ATTENDEE:3. letnik (FM)
ATTENDEE:3. letnik (IŠRM)
ATTENDEE:3. letnik (M)
ATTENDEE:4. letnik (PM)
CATEGORIES:Reservation
COLOR:royalblue
DESCRIPTION:Predmeti: Teorija kodiranja in kriptografija (FM-3\, IŠRM-3\,
  MAT-3\, PM-4)\nLetniki: 3. letnik (FM)\, 3. letnik (IŠRM)\, 3. letnik (M
 )\, 4. letnik (PM)\nIzvajalci: Arjana Žitnik\nProstori: 3.05
LOCATION:3.05
ORGANIZER:Arjana Žitnik
X-WR-TIMEZONE:Europe/Ljubljana
END:VEVENT
BEGIN:VEVENT
SUMMARY:Rezervacija
DTSTART;TZID=Europe/Ljubljana:20220706T100000
DTEND;TZID=Europe/Ljubljana:20220706T120000
DTSTAMP:20260421T174202Z
UID:fmf-AFLABS-URNIK:rezervacija:9696
ATTENDEE:2. letnik (FM)
CATEGORIES:Reservation
COLOR:royalblue
DESCRIPTION:Predmeti: Operacijske raziskave (FM-2)\nLetniki: 2. letnik (FM
 )\nIzvajalci: Arjana Žitnik\nProstori: 3.05
LOCATION:3.05
ORGANIZER:Arjana Žitnik
X-WR-TIMEZONE:Europe/Ljubljana
END:VEVENT
BEGIN:VEVENT
SUMMARY:Rezervacija
DTSTART;TZID=Europe/Ljubljana:20220706T120000
DTEND;TZID=Europe/Ljubljana:20220706T150000
DTSTAMP:20260421T174202Z
UID:fmf-AFLABS-URNIK:rezervacija:9702
ATTENDEE:3. letnik (FM)
ATTENDEE:3. letnik (IŠRM)
ATTENDEE:3. letnik (M)
ATTENDEE:4. letnik (PM)
CATEGORIES:Reservation
COLOR:royalblue
DESCRIPTION:Predmeti: Teorija kodiranja in kriptografija (FM-3\, IŠRM-3\,
  MAT-3\, PM-4)\nLetniki: 3. letnik (FM)\, 3. letnik (IŠRM)\, 3. letnik (M
 )\, 4. letnik (PM)\nIzvajalci: Arjana Žitnik\nProstori: 3.05
LOCATION:3.05
ORGANIZER:Arjana Žitnik
X-WR-TIMEZONE:Europe/Ljubljana
END:VEVENT
BEGIN:VEVENT
SUMMARY:Rezervacija
DTSTART;TZID=Europe/Ljubljana:20220711T120000
DTEND;TZID=Europe/Ljubljana:20220711T150000
DTSTAMP:20260421T174202Z
UID:fmf-AFLABS-URNIK:rezervacija:9732
ATTENDEE:2. letnik (FM)
ATTENDEE:3. letnik (FM)
ATTENDEE:3. letnik (IŠRM)
ATTENDEE:3. letnik (M)
ATTENDEE:4. letnik (PM)
CATEGORIES:Reservation
COLOR:royalblue
DESCRIPTION:Predmeti: Operacijske raziskave (FM-2)\, Teorija kodiranja in 
 kriptografija (FM-3\, IŠRM-3\, MAT-3\, PM-4)\nLetniki: 2. letnik (FM)\, 3
 . letnik (FM)\, 3. letnik (IŠRM)\, 3. letnik (M)\, 4. letnik (PM)\nIzvaja
 lci: Arjana Žitnik\nProstori: 3.04
LOCATION:3.04
ORGANIZER:Arjana Žitnik
X-WR-TIMEZONE:Europe/Ljubljana
END:VEVENT
BEGIN:VEVENT
SUMMARY:Rezervacija
DTSTART;TZID=Europe/Ljubljana:20220714T100000
DTEND;TZID=Europe/Ljubljana:20220714T140000
DTSTAMP:20260421T174202Z
UID:fmf-AFLABS-URNIK:rezervacija:9749
ATTENDEE:3. letnik (FM)
ATTENDEE:3. letnik (IŠRM)
ATTENDEE:3. letnik (M)
ATTENDEE:4. letnik (PM)
CATEGORIES:Reservation
COLOR:royalblue
DESCRIPTION:Predmeti: Teorija kodiranja in kriptografija (FM-3\, IŠRM-3\,
  MAT-3\, PM-4)\nLetniki: 3. letnik (FM)\, 3. letnik (IŠRM)\, 3. letnik (M
 )\, 4. letnik (PM)\nIzvajalci: Arjana Žitnik\nProstori: 3.04
LOCATION:3.04
ORGANIZER:Arjana Žitnik
X-WR-TIMEZONE:Europe/Ljubljana
END:VEVENT
BEGIN:VEVENT
SUMMARY:Rezervacija
DTSTART;TZID=Europe/Ljubljana:20220714T140000
DTEND;TZID=Europe/Ljubljana:20220714T160000
DTSTAMP:20260421T174202Z
UID:fmf-AFLABS-URNIK:rezervacija:9752
ATTENDEE:3. letnik (FM)
ATTENDEE:3. letnik (IŠRM)
ATTENDEE:3. letnik (M)
ATTENDEE:4. letnik (PM)
CATEGORIES:Reservation
COLOR:royalblue
DESCRIPTION:Predmeti: Teorija kodiranja in kriptografija (FM-3\, IŠRM-3\,
  MAT-3\, PM-4)\nLetniki: 3. letnik (FM)\, 3. letnik (IŠRM)\, 3. letnik (M
 )\, 4. letnik (PM)\nIzvajalci: Arjana Žitnik\nProstori: 3.04
LOCATION:3.04
ORGANIZER:Arjana Žitnik
X-WR-TIMEZONE:Europe/Ljubljana
END:VEVENT
END:VCALENDAR
