BEGIN:VCALENDAR
VERSION:2.0
PRODID:-//AFLabs urnik izvoz - fmf//aflabs.si//SI
DTSTAMP:20260421T215555Z
NAME:UL FMF urnik
REFRESH-INTERVAL:PT1H
SOURCE:https://urnik.fmf.uni-lj.si/teacher/30?day=2022-08-29&export=1
URL:https://urnik.fmf.uni-lj.si/teacher/30?day=2022-08-29&export=1
X-PUBLISHED-TTL:PT1H
X-WR-CALNAME:UL FMF urnik
X-WR-TIMEZONE:Europe/Ljubljana
BEGIN:VTIMEZONE
TZID:Europe/Ljubljana
BEGIN:DAYLIGHT
DTSTART:20260329T020000
RDATE:20260329T020000
RDATE:20270328T020000
TZNAME:CEST
TZOFFSETFROM:+0100
TZOFFSETTO:+0200
END:DAYLIGHT
BEGIN:STANDARD
DTSTART:20261025T030000
RDATE:20261025T030000
RDATE:20271031T030000
TZNAME:CET
TZOFFSETFROM:+0200
TZOFFSETTO:+0100
END:STANDARD
END:VTIMEZONE
BEGIN:VEVENT
SUMMARY:Rezervacija
DTSTART;TZID=Europe/Ljubljana:20220818T140000
DTEND;TZID=Europe/Ljubljana:20220818T170000
DTSTAMP:20260421T215555Z
UID:fmf-AFLABS-URNIK:rezervacija:9841
CATEGORIES:Reservation
COLOR:royalblue
DESCRIPTION:Predmeti: \nLetniki: \nIzvajalci: Arjana Žitnik\nProstori: 3.
 07
LOCATION:3.07
ORGANIZER:Arjana Žitnik
X-WR-TIMEZONE:Europe/Ljubljana
END:VEVENT
BEGIN:VEVENT
SUMMARY:Rezervacija
DTSTART;TZID=Europe/Ljubljana:20220819T140000
DTEND;TZID=Europe/Ljubljana:20220819T160000
DTSTAMP:20260421T215555Z
UID:fmf-AFLABS-URNIK:rezervacija:9859
CATEGORIES:Reservation
COLOR:royalblue
DESCRIPTION:Predmeti: \nLetniki: \nIzvajalci: Arjana Žitnik\nProstori: 3.
 05
LOCATION:3.05
ORGANIZER:Arjana Žitnik
X-WR-TIMEZONE:Europe/Ljubljana
END:VEVENT
BEGIN:VEVENT
SUMMARY:Rezervacija
DTSTART;TZID=Europe/Ljubljana:20220823T120000
DTEND;TZID=Europe/Ljubljana:20220823T150000
DTSTAMP:20260421T215555Z
UID:fmf-AFLABS-URNIK:rezervacija:9905
ATTENDEE:2. letnik (M)
ATTENDEE:2. letnik (PM)
ATTENDEE:3. letnik (FM)
CATEGORIES:Reservation
COLOR:royalblue
DESCRIPTION:Predmeti: Diskretna matematika 1 (FM-3\, MAT-2\, PM-2)\nLetnik
 i: 3. letnik (FM)\, 2. letnik (M)\, 2. letnik (PM)\nIzvajalci: Arjana Žit
 nik\nProstori: 2.01
LOCATION:2.01
ORGANIZER:Arjana Žitnik
X-WR-TIMEZONE:Europe/Ljubljana
END:VEVENT
BEGIN:VEVENT
SUMMARY:Rezervacija
DTSTART;TZID=Europe/Ljubljana:20220823T150000
DTEND;TZID=Europe/Ljubljana:20220823T170000
DTSTAMP:20260421T215555Z
UID:fmf-AFLABS-URNIK:rezervacija:9907
CATEGORIES:Reservation
COLOR:royalblue
DESCRIPTION:Predmeti: \nLetniki: \nIzvajalci: Arjana Žitnik\nProstori: 3.
 07
LOCATION:3.07
ORGANIZER:Arjana Žitnik
X-WR-TIMEZONE:Europe/Ljubljana
END:VEVENT
BEGIN:VEVENT
SUMMARY:Rezervacija
DTSTART;TZID=Europe/Ljubljana:20220824T100000
DTEND;TZID=Europe/Ljubljana:20220824T120000
DTSTAMP:20260421T215555Z
UID:fmf-AFLABS-URNIK:rezervacija:9921
ATTENDEE:3. letnik (FM)
ATTENDEE:3. letnik (IŠRM)
ATTENDEE:3. letnik (M)
ATTENDEE:4. letnik (PM)
CATEGORIES:Reservation
COLOR:royalblue
DESCRIPTION:Predmeti: Teorija kodiranja in kriptografija (FM-3\, IŠRM-3\,
  MAT-3\, PM-4)\nLetniki: 3. letnik (FM)\, 3. letnik (IŠRM)\, 3. letnik (M
 )\, 4. letnik (PM)\nIzvajalci: Arjana Žitnik\nProstori: 3.07
LOCATION:3.07
ORGANIZER:Arjana Žitnik
X-WR-TIMEZONE:Europe/Ljubljana
END:VEVENT
BEGIN:VEVENT
SUMMARY:Rezervacija
DTSTART;TZID=Europe/Ljubljana:20220830T150000
DTEND;TZID=Europe/Ljubljana:20220830T180000
DTSTAMP:20260421T215555Z
UID:fmf-AFLABS-URNIK:rezervacija:10040
CATEGORIES:Reservation
COLOR:royalblue
DESCRIPTION:Predmeti: \nLetniki: \nIzvajalci: Arjana Žitnik\nProstori: 3.
 06
LOCATION:3.06
ORGANIZER:Arjana Žitnik
X-WR-TIMEZONE:Europe/Ljubljana
END:VEVENT
BEGIN:VEVENT
SUMMARY:Rezervacija
DTSTART;TZID=Europe/Ljubljana:20220831T140000
DTEND;TZID=Europe/Ljubljana:20220831T170000
DTSTAMP:20260421T215555Z
UID:fmf-AFLABS-URNIK:rezervacija:10064
ATTENDEE:3. letnik (FM)
ATTENDEE:3. letnik (IŠRM)
ATTENDEE:3. letnik (M)
ATTENDEE:4. letnik (PM)
CATEGORIES:Reservation
COLOR:royalblue
DESCRIPTION:Predmeti: Teorija kodiranja in kriptografija (FM-3\, IŠRM-3\,
  MAT-3\, PM-4)\nLetniki: 3. letnik (FM)\, 3. letnik (IŠRM)\, 3. letnik (M
 )\, 4. letnik (PM)\nIzvajalci: Arjana Žitnik\nProstori: 2.01
LOCATION:2.01
ORGANIZER:Arjana Žitnik
X-WR-TIMEZONE:Europe/Ljubljana
END:VEVENT
BEGIN:VEVENT
SUMMARY:Rezervacija
DTSTART;TZID=Europe/Ljubljana:20220902T100000
DTEND;TZID=Europe/Ljubljana:20220902T130000
DTSTAMP:20260421T215555Z
UID:fmf-AFLABS-URNIK:rezervacija:10107
ATTENDEE:2. letnik (IŠRM)
CATEGORIES:Reservation
COLOR:royalblue
DESCRIPTION:Predmeti: Optimizacijske metode (IŠRM-2)\nLetniki: 2. letnik 
 (IŠRM)\nIzvajalci: Arjana Žitnik\nProstori: 2.03
LOCATION:2.03
ORGANIZER:Arjana Žitnik
X-WR-TIMEZONE:Europe/Ljubljana
END:VEVENT
BEGIN:VEVENT
SUMMARY:Rezervacija
DTSTART;TZID=Europe/Ljubljana:20220902T130000
DTEND;TZID=Europe/Ljubljana:20220902T170000
DTSTAMP:20260421T215555Z
UID:fmf-AFLABS-URNIK:rezervacija:10118
ATTENDEE:3. letnik (FM)
ATTENDEE:3. letnik (IŠRM)
ATTENDEE:3. letnik (M)
ATTENDEE:4. letnik (PM)
CATEGORIES:Reservation
COLOR:royalblue
DESCRIPTION:Predmeti: Teorija kodiranja in kriptografija (FM-3\, IŠRM-3\,
  MAT-3\, PM-4)\nLetniki: 3. letnik (FM)\, 3. letnik (IŠRM)\, 3. letnik (M
 )\, 4. letnik (PM)\nIzvajalci: Arjana Žitnik\nProstori: 3.06
LOCATION:3.06
ORGANIZER:Arjana Žitnik
X-WR-TIMEZONE:Europe/Ljubljana
END:VEVENT
BEGIN:VEVENT
SUMMARY:Rezervacija
DTSTART;TZID=Europe/Ljubljana:20220906T100000
DTEND;TZID=Europe/Ljubljana:20220906T130000
DTSTAMP:20260421T215555Z
UID:fmf-AFLABS-URNIK:rezervacija:10169
ATTENDEE:2. letnik (IŠRM)
ATTENDEE:2. letnik (M)
ATTENDEE:2. letnik (PM)
ATTENDEE:3. letnik (FM)
CATEGORIES:Reservation
COLOR:royalblue
DESCRIPTION:Predmeti: Kombinatorika (IŠRM-2)\, Diskretna matematika 1 (FM
 -3\, MAT-2\, PM-2)\nLetniki: 3. letnik (FM)\, 2. letnik (IŠRM)\, 2. letni
 k (M)\, 2. letnik (PM)\nIzvajalci: Arjana Žitnik\nProstori: 2.05
LOCATION:2.05
ORGANIZER:Arjana Žitnik
X-WR-TIMEZONE:Europe/Ljubljana
END:VEVENT
BEGIN:VEVENT
SUMMARY:Rezervacija
DTSTART;TZID=Europe/Ljubljana:20220907T100000
DTEND;TZID=Europe/Ljubljana:20220907T120000
DTSTAMP:20260421T215555Z
UID:fmf-AFLABS-URNIK:rezervacija:10196
CATEGORIES:Reservation
COLOR:royalblue
DESCRIPTION:Predmeti: \nLetniki: \nIzvajalci: Arjana Žitnik\nProstori: P.
 02
LOCATION:P.02
ORGANIZER:Arjana Žitnik
X-WR-TIMEZONE:Europe/Ljubljana
END:VEVENT
END:VCALENDAR
