BEGIN:VCALENDAR
VERSION:2.0
PRODID:-//AFLabs urnik izvoz - fmf//aflabs.si//SI
DTSTAMP:20260425T000449Z
NAME:UL FMF urnik
REFRESH-INTERVAL:PT1H
SOURCE:https://urnik.fmf.uni-lj.si/teacher/30?day=2023-09-25&export=1
URL:https://urnik.fmf.uni-lj.si/teacher/30?day=2023-09-25&export=1
X-PUBLISHED-TTL:PT1H
X-WR-CALNAME:UL FMF urnik
X-WR-TIMEZONE:Europe/Ljubljana
BEGIN:VTIMEZONE
TZID:Europe/Ljubljana
BEGIN:DAYLIGHT
DTSTART:20260329T020000
RDATE:20260329T020000
RDATE:20270328T020000
TZNAME:CEST
TZOFFSETFROM:+0100
TZOFFSETTO:+0200
END:DAYLIGHT
BEGIN:STANDARD
DTSTART:20261025T030000
RDATE:20261025T030000
RDATE:20271031T030000
TZNAME:CET
TZOFFSETFROM:+0200
TZOFFSETTO:+0100
END:STANDARD
END:VTIMEZONE
BEGIN:VEVENT
SUMMARY:Kombinatorika (IŠRM-2)\, Vaje (V)
DTSTART;TZID=Europe/Ljubljana:20231003T120000
DTEND;TZID=Europe/Ljubljana:20231003T150000
DTSTAMP:20260425T000449Z
UID:fmf-AFLABS-URNIK:premaknjeno-srecanje:54537
ATTENDEE:2. letnik (IŠRM)
CATEGORIES:Entry,Standard
COLOR:darkgreen
DESCRIPTION:Predmet: Kombinatorika (IŠRM-2)\, Vaje (V)\nLetniki: 2. letni
 k (IŠRM)\nIzvajalci: Arjana Žitnik\nProstor: 3.04
LOCATION:3.04
ORGANIZER:Arjana Žitnik
RELATED-TO:fmf-AFLABS-URNIK:srecanje:9224
X-WR-TIMEZONE:Europe/Ljubljana
END:VEVENT
BEGIN:VEVENT
SUMMARY:Kombinatorika (IŠRM-2)\, Vaje (V)
DTSTART;TZID=Europe/Ljubljana:20231010T120000
DTEND;TZID=Europe/Ljubljana:20231010T150000
DTSTAMP:20260425T000449Z
UID:fmf-AFLABS-URNIK:premaknjeno-srecanje:54538
ATTENDEE:2. letnik (IŠRM)
CATEGORIES:Entry,Standard
COLOR:darkgreen
DESCRIPTION:Predmet: Kombinatorika (IŠRM-2)\, Vaje (V)\nLetniki: 2. letni
 k (IŠRM)\nIzvajalci: Arjana Žitnik\nProstor: 3.04
LOCATION:3.04
ORGANIZER:Arjana Žitnik
RELATED-TO:fmf-AFLABS-URNIK:srecanje:9224
X-WR-TIMEZONE:Europe/Ljubljana
END:VEVENT
BEGIN:VEVENT
SUMMARY:Kombinatorika (IŠRM-2)\, Vaje (V)
DTSTART;TZID=Europe/Ljubljana:20231017T120000
DTEND;TZID=Europe/Ljubljana:20231017T150000
DTSTAMP:20260425T000449Z
UID:fmf-AFLABS-URNIK:premaknjeno-srecanje:54539
ATTENDEE:2. letnik (IŠRM)
CATEGORIES:Entry,Standard
COLOR:darkgreen
DESCRIPTION:Predmet: Kombinatorika (IŠRM-2)\, Vaje (V)\nLetniki: 2. letni
 k (IŠRM)\nIzvajalci: Arjana Žitnik\nProstor: 3.04
LOCATION:3.04
ORGANIZER:Arjana Žitnik
RELATED-TO:fmf-AFLABS-URNIK:srecanje:9224
X-WR-TIMEZONE:Europe/Ljubljana
END:VEVENT
BEGIN:VEVENT
SUMMARY:Kombinatorika (IŠRM-2)\, Vaje (V)
DTSTART;TZID=Europe/Ljubljana:20231024T120000
DTEND;TZID=Europe/Ljubljana:20231024T150000
DTSTAMP:20260425T000449Z
UID:fmf-AFLABS-URNIK:premaknjeno-srecanje:54540
ATTENDEE:2. letnik (IŠRM)
CATEGORIES:Entry,Standard
COLOR:darkgreen
DESCRIPTION:Predmet: Kombinatorika (IŠRM-2)\, Vaje (V)\nLetniki: 2. letni
 k (IŠRM)\nIzvajalci: Arjana Žitnik\nProstor: 3.04
LOCATION:3.04
ORGANIZER:Arjana Žitnik
RELATED-TO:fmf-AFLABS-URNIK:srecanje:9224
X-WR-TIMEZONE:Europe/Ljubljana
END:VEVENT
BEGIN:VEVENT
SUMMARY:Optimizacija 1 (MAT-3\, PM-4)\, Predavanja (P)
DTSTART;TZID=Europe/Ljubljana:20231004T140000
DTEND;TZID=Europe/Ljubljana:20231004T160000
DTSTAMP:20260425T000449Z
UID:fmf-AFLABS-URNIK:premaknjeno-srecanje:79914
ATTENDEE:3. letnik (M)
ATTENDEE:4. letnik (PM)
CATEGORIES:Entry,Standard
COLOR:darkgreen
DESCRIPTION:Predmet: Optimizacija 1 (MAT-3\, PM-4)\, Predavanja (P)\nLetni
 ki: 3. letnik (M)\, 4. letnik (PM)\nIzvajalci: Arjana Žitnik\nProstor: 3.
 05
LOCATION:3.05
ORGANIZER:Arjana Žitnik
RELATED-TO:fmf-AFLABS-URNIK:srecanje:9360
X-WR-TIMEZONE:Europe/Ljubljana
END:VEVENT
BEGIN:VEVENT
SUMMARY:Optimizacija 1 (MAT-3\, PM-4)\, Predavanja (P)
DTSTART;TZID=Europe/Ljubljana:20231011T140000
DTEND;TZID=Europe/Ljubljana:20231011T160000
DTSTAMP:20260425T000449Z
UID:fmf-AFLABS-URNIK:premaknjeno-srecanje:79915
ATTENDEE:3. letnik (M)
ATTENDEE:4. letnik (PM)
CATEGORIES:Entry,Standard
COLOR:darkgreen
DESCRIPTION:Predmet: Optimizacija 1 (MAT-3\, PM-4)\, Predavanja (P)\nLetni
 ki: 3. letnik (M)\, 4. letnik (PM)\nIzvajalci: Arjana Žitnik\nProstor: 3.
 05
LOCATION:3.05
ORGANIZER:Arjana Žitnik
RELATED-TO:fmf-AFLABS-URNIK:srecanje:9360
X-WR-TIMEZONE:Europe/Ljubljana
END:VEVENT
BEGIN:VEVENT
SUMMARY:Optimizacija 1 (MAT-3\, PM-4)\, Predavanja (P)
DTSTART;TZID=Europe/Ljubljana:20231018T140000
DTEND;TZID=Europe/Ljubljana:20231018T160000
DTSTAMP:20260425T000449Z
UID:fmf-AFLABS-URNIK:premaknjeno-srecanje:79916
ATTENDEE:3. letnik (M)
ATTENDEE:4. letnik (PM)
CATEGORIES:Entry,Standard
COLOR:darkgreen
DESCRIPTION:Predmet: Optimizacija 1 (MAT-3\, PM-4)\, Predavanja (P)\nLetni
 ki: 3. letnik (M)\, 4. letnik (PM)\nIzvajalci: Arjana Žitnik\nProstor: 3.
 05
LOCATION:3.05
ORGANIZER:Arjana Žitnik
RELATED-TO:fmf-AFLABS-URNIK:srecanje:9360
X-WR-TIMEZONE:Europe/Ljubljana
END:VEVENT
BEGIN:VEVENT
SUMMARY:Optimizacija 1 (MAT-3\, PM-4)\, Predavanja (P)
DTSTART;TZID=Europe/Ljubljana:20231025T140000
DTEND;TZID=Europe/Ljubljana:20231025T160000
DTSTAMP:20260425T000449Z
UID:fmf-AFLABS-URNIK:premaknjeno-srecanje:79917
ATTENDEE:3. letnik (M)
ATTENDEE:4. letnik (PM)
CATEGORIES:Entry,Standard
COLOR:darkgreen
DESCRIPTION:Predmet: Optimizacija 1 (MAT-3\, PM-4)\, Predavanja (P)\nLetni
 ki: 3. letnik (M)\, 4. letnik (PM)\nIzvajalci: Arjana Žitnik\nProstor: 3.
 05
LOCATION:3.05
ORGANIZER:Arjana Žitnik
RELATED-TO:fmf-AFLABS-URNIK:srecanje:9360
X-WR-TIMEZONE:Europe/Ljubljana
END:VEVENT
BEGIN:VEVENT
SUMMARY:Diskretna matematika 1 (FM-3\, MAT-2\, PM-2)\, Vaje (V)
DTSTART;TZID=Europe/Ljubljana:20231005T120000
DTEND;TZID=Europe/Ljubljana:20231005T140000
DTSTAMP:20260425T000449Z
UID:fmf-AFLABS-URNIK:premaknjeno-srecanje:16072
ATTENDEE:2. letnik (M)
ATTENDEE:2. letnik (PM)
ATTENDEE:3. letnik (FM)
CATEGORIES:Entry,Standard
COLOR:darkgreen
DESCRIPTION:Predmet: Diskretna matematika 1 (FM-3\, MAT-2\, PM-2)\, Vaje (
 V)\nLetniki: 3. letnik (FM)\, 2. letnik (M)\, 2. letnik (PM)\nIzvajalci: A
 rjana Žitnik\nProstor: 3.05
LOCATION:3.05
ORGANIZER:Arjana Žitnik
RELATED-TO:fmf-AFLABS-URNIK:srecanje:9608
X-WR-TIMEZONE:Europe/Ljubljana
END:VEVENT
BEGIN:VEVENT
SUMMARY:Diskretna matematika 1 (FM-3\, MAT-2\, PM-2)\, Vaje (V)
DTSTART;TZID=Europe/Ljubljana:20231012T120000
DTEND;TZID=Europe/Ljubljana:20231012T140000
DTSTAMP:20260425T000449Z
UID:fmf-AFLABS-URNIK:premaknjeno-srecanje:16073
ATTENDEE:2. letnik (M)
ATTENDEE:2. letnik (PM)
ATTENDEE:3. letnik (FM)
CATEGORIES:Entry,Standard
COLOR:darkgreen
DESCRIPTION:Predmet: Diskretna matematika 1 (FM-3\, MAT-2\, PM-2)\, Vaje (
 V)\nLetniki: 3. letnik (FM)\, 2. letnik (M)\, 2. letnik (PM)\nIzvajalci: A
 rjana Žitnik\nProstor: 3.05
LOCATION:3.05
ORGANIZER:Arjana Žitnik
RELATED-TO:fmf-AFLABS-URNIK:srecanje:9608
X-WR-TIMEZONE:Europe/Ljubljana
END:VEVENT
BEGIN:VEVENT
SUMMARY:Diskretna matematika 1 (FM-3\, MAT-2\, PM-2)\, Vaje (V)
DTSTART;TZID=Europe/Ljubljana:20231019T120000
DTEND;TZID=Europe/Ljubljana:20231019T140000
DTSTAMP:20260425T000449Z
UID:fmf-AFLABS-URNIK:premaknjeno-srecanje:16074
ATTENDEE:2. letnik (M)
ATTENDEE:2. letnik (PM)
ATTENDEE:3. letnik (FM)
CATEGORIES:Entry,Standard
COLOR:darkgreen
DESCRIPTION:Predmet: Diskretna matematika 1 (FM-3\, MAT-2\, PM-2)\, Vaje (
 V)\nLetniki: 3. letnik (FM)\, 2. letnik (M)\, 2. letnik (PM)\nIzvajalci: A
 rjana Žitnik\nProstor: 3.05
LOCATION:3.05
ORGANIZER:Arjana Žitnik
RELATED-TO:fmf-AFLABS-URNIK:srecanje:9608
X-WR-TIMEZONE:Europe/Ljubljana
END:VEVENT
BEGIN:VEVENT
SUMMARY:Diskretna matematika 1 (FM-3\, MAT-2\, PM-2)\, Vaje (V)
DTSTART;TZID=Europe/Ljubljana:20231026T120000
DTEND;TZID=Europe/Ljubljana:20231026T140000
DTSTAMP:20260425T000449Z
UID:fmf-AFLABS-URNIK:premaknjeno-srecanje:16075
ATTENDEE:2. letnik (M)
ATTENDEE:2. letnik (PM)
ATTENDEE:3. letnik (FM)
CATEGORIES:Entry,Standard
COLOR:darkgreen
DESCRIPTION:Predmet: Diskretna matematika 1 (FM-3\, MAT-2\, PM-2)\, Vaje (
 V)\nLetniki: 3. letnik (FM)\, 2. letnik (M)\, 2. letnik (PM)\nIzvajalci: A
 rjana Žitnik\nProstor: 3.05
LOCATION:3.05
ORGANIZER:Arjana Žitnik
RELATED-TO:fmf-AFLABS-URNIK:srecanje:9608
X-WR-TIMEZONE:Europe/Ljubljana
END:VEVENT
BEGIN:VEVENT
SUMMARY:Optimizacija 1 (MAT-3\, PM-4)\, Vaje (V)
DTSTART;TZID=Europe/Ljubljana:20231005T080000
DTEND;TZID=Europe/Ljubljana:20231005T100000
DTSTAMP:20260425T000449Z
UID:fmf-AFLABS-URNIK:premaknjeno-srecanje:79992
ATTENDEE:3. letnik (M)
ATTENDEE:4. letnik (PM)
CATEGORIES:Entry,Standard
COLOR:darkgreen
DESCRIPTION:Predmet: Optimizacija 1 (MAT-3\, PM-4)\, Vaje (V)\nLetniki: 3.
  letnik (M)\, 4. letnik (PM)\nIzvajalci: Arjana Žitnik\nProstor: 3.06
LOCATION:3.06
ORGANIZER:Arjana Žitnik
RELATED-TO:fmf-AFLABS-URNIK:srecanje:9361
X-WR-TIMEZONE:Europe/Ljubljana
END:VEVENT
BEGIN:VEVENT
SUMMARY:Optimizacija 1 (MAT-3\, PM-4)\, Vaje (V)
DTSTART;TZID=Europe/Ljubljana:20231012T080000
DTEND;TZID=Europe/Ljubljana:20231012T100000
DTSTAMP:20260425T000449Z
UID:fmf-AFLABS-URNIK:premaknjeno-srecanje:79993
ATTENDEE:3. letnik (M)
ATTENDEE:4. letnik (PM)
CATEGORIES:Entry,Standard
COLOR:darkgreen
DESCRIPTION:Predmet: Optimizacija 1 (MAT-3\, PM-4)\, Vaje (V)\nLetniki: 3.
  letnik (M)\, 4. letnik (PM)\nIzvajalci: Arjana Žitnik\nProstor: 3.06
LOCATION:3.06
ORGANIZER:Arjana Žitnik
RELATED-TO:fmf-AFLABS-URNIK:srecanje:9361
X-WR-TIMEZONE:Europe/Ljubljana
END:VEVENT
BEGIN:VEVENT
SUMMARY:Optimizacija 1 (MAT-3\, PM-4)\, Vaje (V)
DTSTART;TZID=Europe/Ljubljana:20231019T080000
DTEND;TZID=Europe/Ljubljana:20231019T100000
DTSTAMP:20260425T000449Z
UID:fmf-AFLABS-URNIK:premaknjeno-srecanje:79994
ATTENDEE:3. letnik (M)
ATTENDEE:4. letnik (PM)
CATEGORIES:Entry,Standard
COLOR:darkgreen
DESCRIPTION:Predmet: Optimizacija 1 (MAT-3\, PM-4)\, Vaje (V)\nLetniki: 3.
  letnik (M)\, 4. letnik (PM)\nIzvajalci: Arjana Žitnik\nProstor: 3.06
LOCATION:3.06
ORGANIZER:Arjana Žitnik
RELATED-TO:fmf-AFLABS-URNIK:srecanje:9361
X-WR-TIMEZONE:Europe/Ljubljana
END:VEVENT
BEGIN:VEVENT
SUMMARY:Optimizacija 1 (MAT-3\, PM-4)\, Vaje (V)
DTSTART;TZID=Europe/Ljubljana:20231026T080000
DTEND;TZID=Europe/Ljubljana:20231026T100000
DTSTAMP:20260425T000449Z
UID:fmf-AFLABS-URNIK:premaknjeno-srecanje:79995
ATTENDEE:3. letnik (M)
ATTENDEE:4. letnik (PM)
CATEGORIES:Entry,Standard
COLOR:darkgreen
DESCRIPTION:Predmet: Optimizacija 1 (MAT-3\, PM-4)\, Vaje (V)\nLetniki: 3.
  letnik (M)\, 4. letnik (PM)\nIzvajalci: Arjana Žitnik\nProstor: 3.06
LOCATION:3.06
ORGANIZER:Arjana Žitnik
RELATED-TO:fmf-AFLABS-URNIK:srecanje:9361
X-WR-TIMEZONE:Europe/Ljubljana
END:VEVENT
BEGIN:VEVENT
SUMMARY:Rezervacija
DTSTART;TZID=Europe/Ljubljana:20230830T140000
DTEND;TZID=Europe/Ljubljana:20230830T170000
DTSTAMP:20260425T000449Z
UID:fmf-AFLABS-URNIK:rezervacija:13010
CATEGORIES:Reservation
COLOR:royalblue
DESCRIPTION:Predmeti: \nLetniki: \nIzvajalci: Arjana Žitnik\nProstori: 3.
 05
LOCATION:3.05
ORGANIZER:Arjana Žitnik
X-WR-TIMEZONE:Europe/Ljubljana
END:VEVENT
BEGIN:VEVENT
SUMMARY:Rezervacija
DTSTART;TZID=Europe/Ljubljana:20230905T130000
DTEND;TZID=Europe/Ljubljana:20230905T160000
DTSTAMP:20260425T000449Z
UID:fmf-AFLABS-URNIK:rezervacija:13154
CATEGORIES:Reservation
COLOR:royalblue
DESCRIPTION:Predmeti: \nLetniki: \nIzvajalci: Arjana Žitnik\nProstori: 3.
 05
LOCATION:3.05
ORGANIZER:Arjana Žitnik
X-WR-TIMEZONE:Europe/Ljubljana
END:VEVENT
END:VCALENDAR
