BEGIN:VCALENDAR
VERSION:2.0
PRODID:-//AFLabs urnik izvoz - fmf//aflabs.si//SI
DTSTAMP:20260423T040025Z
NAME:UL FMF urnik
REFRESH-INTERVAL:PT1H
SOURCE:https://urnik.fmf.uni-lj.si/teacher/311?day=2023-10-02&export=1
URL:https://urnik.fmf.uni-lj.si/teacher/311?day=2023-10-02&export=1
X-PUBLISHED-TTL:PT1H
X-WR-CALNAME:UL FMF urnik
X-WR-TIMEZONE:Europe/Ljubljana
BEGIN:VTIMEZONE
TZID:Europe/Ljubljana
BEGIN:DAYLIGHT
DTSTART:20260329T020000
RDATE:20260329T020000
RDATE:20270328T020000
TZNAME:CEST
TZOFFSETFROM:+0100
TZOFFSETTO:+0200
END:DAYLIGHT
BEGIN:STANDARD
DTSTART:20261025T030000
RDATE:20261025T030000
RDATE:20271031T030000
TZNAME:CET
TZOFFSETFROM:+0200
TZOFFSETTO:+0100
END:STANDARD
END:VTIMEZONE
BEGIN:VEVENT
SUMMARY:Fizika (FFA - EM Farmacija) ()\, Vaje (V)\, [1]
DTSTART;TZID=Europe/Ljubljana:20231002T080000
DTEND;TZID=Europe/Ljubljana:20231002T100000
DTSTAMP:20260423T040025Z
UID:fmf-AFLABS-URNIK:premaknjeno-srecanje:23109
CATEGORIES:Entry,Standard
COLOR:darkgreen
DESCRIPTION:Predmet: Fizika (FFA - EM Farmacija) ()\, Vaje (V)\, [1]\nLetn
 iki: \nIzvajalci: Klemen Kovač\nProstor: F4
LOCATION:F4
ORGANIZER:Klemen Kovač
RELATED-TO:fmf-AFLABS-URNIK:srecanje:9071
X-WR-TIMEZONE:Europe/Ljubljana
END:VEVENT
BEGIN:VEVENT
SUMMARY:Fizika (FFA - EM Farmacija) ()\, Vaje (V)\, [1]
DTSTART;TZID=Europe/Ljubljana:20231009T080000
DTEND;TZID=Europe/Ljubljana:20231009T100000
DTSTAMP:20260423T040025Z
UID:fmf-AFLABS-URNIK:premaknjeno-srecanje:23110
CATEGORIES:Entry,Standard
COLOR:darkgreen
DESCRIPTION:Predmet: Fizika (FFA - EM Farmacija) ()\, Vaje (V)\, [1]\nLetn
 iki: \nIzvajalci: Klemen Kovač\nProstor: F4
LOCATION:F4
ORGANIZER:Klemen Kovač
RELATED-TO:fmf-AFLABS-URNIK:srecanje:9071
X-WR-TIMEZONE:Europe/Ljubljana
END:VEVENT
BEGIN:VEVENT
SUMMARY:Fizika (FFA - EM Farmacija) ()\, Vaje (V)\, [1]
DTSTART;TZID=Europe/Ljubljana:20231016T080000
DTEND;TZID=Europe/Ljubljana:20231016T100000
DTSTAMP:20260423T040025Z
UID:fmf-AFLABS-URNIK:premaknjeno-srecanje:23111
CATEGORIES:Entry,Standard
COLOR:darkgreen
DESCRIPTION:Predmet: Fizika (FFA - EM Farmacija) ()\, Vaje (V)\, [1]\nLetn
 iki: \nIzvajalci: Klemen Kovač\nProstor: F4
LOCATION:F4
ORGANIZER:Klemen Kovač
RELATED-TO:fmf-AFLABS-URNIK:srecanje:9071
X-WR-TIMEZONE:Europe/Ljubljana
END:VEVENT
BEGIN:VEVENT
SUMMARY:Fizika (FFA - EM Farmacija) ()\, Vaje (V)\, [1]
DTSTART;TZID=Europe/Ljubljana:20231023T080000
DTEND;TZID=Europe/Ljubljana:20231023T100000
DTSTAMP:20260423T040025Z
UID:fmf-AFLABS-URNIK:premaknjeno-srecanje:23112
CATEGORIES:Entry,Standard
COLOR:darkgreen
DESCRIPTION:Predmet: Fizika (FFA - EM Farmacija) ()\, Vaje (V)\, [1]\nLetn
 iki: \nIzvajalci: Klemen Kovač\nProstor: F4
LOCATION:F4
ORGANIZER:Klemen Kovač
RELATED-TO:fmf-AFLABS-URNIK:srecanje:9071
X-WR-TIMEZONE:Europe/Ljubljana
END:VEVENT
BEGIN:VEVENT
SUMMARY:Fizika (FFA - EM Farmacija) ()\, Vaje (V)\, [1]
DTSTART;TZID=Europe/Ljubljana:20231030T080000
DTEND;TZID=Europe/Ljubljana:20231030T100000
DTSTAMP:20260423T040025Z
UID:fmf-AFLABS-URNIK:premaknjeno-srecanje:23113
CATEGORIES:Entry,Standard
COLOR:darkgreen
DESCRIPTION:Predmet: Fizika (FFA - EM Farmacija) ()\, Vaje (V)\, [1]\nLetn
 iki: \nIzvajalci: Klemen Kovač\nProstor: F4
LOCATION:F4
ORGANIZER:Klemen Kovač
RELATED-TO:fmf-AFLABS-URNIK:srecanje:9071
X-WR-TIMEZONE:Europe/Ljubljana
END:VEVENT
BEGIN:VEVENT
SUMMARY:Fizika (FFA - EM Farmacija) ()\, Vaje (V)\, [1]
DTSTART;TZID=Europe/Ljubljana:20231106T080000
DTEND;TZID=Europe/Ljubljana:20231106T100000
DTSTAMP:20260423T040025Z
UID:fmf-AFLABS-URNIK:premaknjeno-srecanje:23114
CATEGORIES:Entry,Standard
COLOR:darkgreen
DESCRIPTION:Predmet: Fizika (FFA - EM Farmacija) ()\, Vaje (V)\, [1]\nLetn
 iki: \nIzvajalci: Klemen Kovač\nProstor: F4
LOCATION:F4
ORGANIZER:Klemen Kovač
RELATED-TO:fmf-AFLABS-URNIK:srecanje:9071
X-WR-TIMEZONE:Europe/Ljubljana
END:VEVENT
BEGIN:VEVENT
SUMMARY:Fizika (FFA - EM Farmacija) ()\, Vaje (V)\, [1]
DTSTART;TZID=Europe/Ljubljana:20231113T080000
DTEND;TZID=Europe/Ljubljana:20231113T100000
DTSTAMP:20260423T040025Z
UID:fmf-AFLABS-URNIK:premaknjeno-srecanje:23115
CATEGORIES:Entry,Standard
COLOR:darkgreen
DESCRIPTION:Predmet: Fizika (FFA - EM Farmacija) ()\, Vaje (V)\, [1]\nLetn
 iki: \nIzvajalci: Klemen Kovač\nProstor: F4
LOCATION:F4
ORGANIZER:Klemen Kovač
RELATED-TO:fmf-AFLABS-URNIK:srecanje:9071
X-WR-TIMEZONE:Europe/Ljubljana
END:VEVENT
BEGIN:VEVENT
SUMMARY:Fizika (FFA - EM Farmacija) ()\, Vaje (V)\, [1]
DTSTART;TZID=Europe/Ljubljana:20231120T080000
DTEND;TZID=Europe/Ljubljana:20231120T100000
DTSTAMP:20260423T040025Z
UID:fmf-AFLABS-URNIK:premaknjeno-srecanje:23116
CATEGORIES:Entry,Standard
COLOR:darkgreen
DESCRIPTION:Predmet: Fizika (FFA - EM Farmacija) ()\, Vaje (V)\, [1]\nLetn
 iki: \nIzvajalci: Klemen Kovač\nProstor: F4
LOCATION:F4
ORGANIZER:Klemen Kovač
RELATED-TO:fmf-AFLABS-URNIK:srecanje:9071
X-WR-TIMEZONE:Europe/Ljubljana
END:VEVENT
BEGIN:VEVENT
SUMMARY:Fizika (FFA - EM Farmacija) ()\, Vaje (V)\, [1]
DTSTART;TZID=Europe/Ljubljana:20231127T080000
DTEND;TZID=Europe/Ljubljana:20231127T100000
DTSTAMP:20260423T040025Z
UID:fmf-AFLABS-URNIK:premaknjeno-srecanje:23117
CATEGORIES:Entry,Standard
COLOR:darkgreen
DESCRIPTION:Predmet: Fizika (FFA - EM Farmacija) ()\, Vaje (V)\, [1]\nLetn
 iki: \nIzvajalci: Klemen Kovač\nProstor: F4
LOCATION:F4
ORGANIZER:Klemen Kovač
RELATED-TO:fmf-AFLABS-URNIK:srecanje:9071
X-WR-TIMEZONE:Europe/Ljubljana
END:VEVENT
BEGIN:VEVENT
SUMMARY:Fizika (FFA - EM Farmacija) ()\, Vaje (V)\, [1]
DTSTART;TZID=Europe/Ljubljana:20231204T080000
DTEND;TZID=Europe/Ljubljana:20231204T100000
DTSTAMP:20260423T040025Z
UID:fmf-AFLABS-URNIK:premaknjeno-srecanje:23118
CATEGORIES:Entry,Standard
COLOR:darkgreen
DESCRIPTION:Predmet: Fizika (FFA - EM Farmacija) ()\, Vaje (V)\, [1]\nLetn
 iki: \nIzvajalci: Klemen Kovač\nProstor: F4
LOCATION:F4
ORGANIZER:Klemen Kovač
RELATED-TO:fmf-AFLABS-URNIK:srecanje:9071
X-WR-TIMEZONE:Europe/Ljubljana
END:VEVENT
BEGIN:VEVENT
SUMMARY:Fizika (FFA - EM Farmacija) ()\, Vaje (V)\, [1]
DTSTART;TZID=Europe/Ljubljana:20231211T080000
DTEND;TZID=Europe/Ljubljana:20231211T100000
DTSTAMP:20260423T040025Z
UID:fmf-AFLABS-URNIK:premaknjeno-srecanje:23119
CATEGORIES:Entry,Standard
COLOR:darkgreen
DESCRIPTION:Predmet: Fizika (FFA - EM Farmacija) ()\, Vaje (V)\, [1]\nLetn
 iki: \nIzvajalci: Klemen Kovač\nProstor: F4
LOCATION:F4
ORGANIZER:Klemen Kovač
RELATED-TO:fmf-AFLABS-URNIK:srecanje:9071
X-WR-TIMEZONE:Europe/Ljubljana
END:VEVENT
BEGIN:VEVENT
SUMMARY:Fizika (FFA - EM Farmacija) ()\, Vaje (V)\, [1]
DTSTART;TZID=Europe/Ljubljana:20231218T080000
DTEND;TZID=Europe/Ljubljana:20231218T100000
DTSTAMP:20260423T040025Z
UID:fmf-AFLABS-URNIK:premaknjeno-srecanje:23120
CATEGORIES:Entry,Standard
COLOR:darkgreen
DESCRIPTION:Predmet: Fizika (FFA - EM Farmacija) ()\, Vaje (V)\, [1]\nLetn
 iki: \nIzvajalci: Klemen Kovač\nProstor: F4
LOCATION:F4
ORGANIZER:Klemen Kovač
RELATED-TO:fmf-AFLABS-URNIK:srecanje:9071
X-WR-TIMEZONE:Europe/Ljubljana
END:VEVENT
BEGIN:VEVENT
SUMMARY:Fizika (FFA - EM Farmacija) ()\, Vaje (V)\, [1]
DTSTART;TZID=Europe/Ljubljana:20231225T080000
DTEND;TZID=Europe/Ljubljana:20231225T100000
DTSTAMP:20260423T040025Z
UID:fmf-AFLABS-URNIK:premaknjeno-srecanje:23121
CATEGORIES:Entry,Standard
COLOR:darkgreen
DESCRIPTION:Predmet: Fizika (FFA - EM Farmacija) ()\, Vaje (V)\, [1]\nLetn
 iki: \nIzvajalci: Klemen Kovač\nProstor: F4
LOCATION:F4
ORGANIZER:Klemen Kovač
RELATED-TO:fmf-AFLABS-URNIK:srecanje:9071
X-WR-TIMEZONE:Europe/Ljubljana
END:VEVENT
BEGIN:VEVENT
SUMMARY:Fizika (FFA - EM Farmacija) ()\, Vaje (V)\, [1]
DTSTART;TZID=Europe/Ljubljana:20240101T080000
DTEND;TZID=Europe/Ljubljana:20240101T100000
DTSTAMP:20260423T040025Z
UID:fmf-AFLABS-URNIK:premaknjeno-srecanje:23122
CATEGORIES:Entry,Standard
COLOR:darkgreen
DESCRIPTION:Predmet: Fizika (FFA - EM Farmacija) ()\, Vaje (V)\, [1]\nLetn
 iki: \nIzvajalci: Klemen Kovač\nProstor: F4
LOCATION:F4
ORGANIZER:Klemen Kovač
RELATED-TO:fmf-AFLABS-URNIK:srecanje:9071
X-WR-TIMEZONE:Europe/Ljubljana
END:VEVENT
BEGIN:VEVENT
SUMMARY:Fizika (FFA - EM Farmacija) ()\, Vaje (V)\, [1]
DTSTART;TZID=Europe/Ljubljana:20240108T080000
DTEND;TZID=Europe/Ljubljana:20240108T100000
DTSTAMP:20260423T040025Z
UID:fmf-AFLABS-URNIK:premaknjeno-srecanje:23123
CATEGORIES:Entry,Standard
COLOR:darkgreen
DESCRIPTION:Predmet: Fizika (FFA - EM Farmacija) ()\, Vaje (V)\, [1]\nLetn
 iki: \nIzvajalci: Klemen Kovač\nProstor: F4
LOCATION:F4
ORGANIZER:Klemen Kovač
RELATED-TO:fmf-AFLABS-URNIK:srecanje:9071
X-WR-TIMEZONE:Europe/Ljubljana
END:VEVENT
BEGIN:VEVENT
SUMMARY:Fizika (FFA - EM Farmacija) ()\, Vaje (V)\, [1]
DTSTART;TZID=Europe/Ljubljana:20240115T080000
DTEND;TZID=Europe/Ljubljana:20240115T100000
DTSTAMP:20260423T040025Z
UID:fmf-AFLABS-URNIK:premaknjeno-srecanje:23124
CATEGORIES:Entry,Standard
COLOR:darkgreen
DESCRIPTION:Predmet: Fizika (FFA - EM Farmacija) ()\, Vaje (V)\, [1]\nLetn
 iki: \nIzvajalci: Klemen Kovač\nProstor: F4
LOCATION:F4
ORGANIZER:Klemen Kovač
RELATED-TO:fmf-AFLABS-URNIK:srecanje:9071
X-WR-TIMEZONE:Europe/Ljubljana
END:VEVENT
BEGIN:VEVENT
SUMMARY:Fizika (FFA - EM Farmacija) ()\, Vaje (V)\, [1]
DTSTART;TZID=Europe/Ljubljana:20240122T080000
DTEND;TZID=Europe/Ljubljana:20240122T100000
DTSTAMP:20260423T040025Z
UID:fmf-AFLABS-URNIK:premaknjeno-srecanje:23125
CATEGORIES:Entry,Standard
COLOR:darkgreen
DESCRIPTION:Predmet: Fizika (FFA - EM Farmacija) ()\, Vaje (V)\, [1]\nLetn
 iki: \nIzvajalci: Klemen Kovač\nProstor: F4
LOCATION:F4
ORGANIZER:Klemen Kovač
RELATED-TO:fmf-AFLABS-URNIK:srecanje:9071
X-WR-TIMEZONE:Europe/Ljubljana
END:VEVENT
BEGIN:VEVENT
SUMMARY:Rezervacija
DTSTART;TZID=Europe/Ljubljana:20231016T100000
DTEND;TZID=Europe/Ljubljana:20231016T110000
DTSTAMP:20260423T040025Z
UID:fmf-AFLABS-URNIK:rezervacija:13447
CATEGORIES:Reservation
COLOR:royalblue
DESCRIPTION:Predmeti: Fizika (FFA - EM Farmacija) ()\nLetniki: \nIzvajalci
 : Klemen Kovač\nProstori: 3.11
LOCATION:3.11
ORGANIZER:Klemen Kovač
X-WR-TIMEZONE:Europe/Ljubljana
END:VEVENT
BEGIN:VEVENT
SUMMARY:Rezervacija
DTSTART;TZID=Europe/Ljubljana:20231023T100000
DTEND;TZID=Europe/Ljubljana:20231023T110000
DTSTAMP:20260423T040025Z
UID:fmf-AFLABS-URNIK:rezervacija:13483
CATEGORIES:Reservation
COLOR:royalblue
DESCRIPTION:Predmeti: Fizika (FFA - EM Farmacija) ()\nLetniki: \nIzvajalci
 : Klemen Kovač\nProstori: 3.11
LOCATION:3.11
ORGANIZER:Klemen Kovač
X-WR-TIMEZONE:Europe/Ljubljana
END:VEVENT
BEGIN:VEVENT
SUMMARY:Rezervacija
DTSTART;TZID=Europe/Ljubljana:20231215T180000
DTEND;TZID=Europe/Ljubljana:20231215T200000
DTSTAMP:20260423T040025Z
UID:fmf-AFLABS-URNIK:rezervacija:13808
CATEGORIES:Reservation
COLOR:royalblue
DESCRIPTION:Predmeti: Fizika (FFA - EM Farmacija) ()\nLetniki: \nIzvajalci
 : Klemen Kovač\nProstori: 2.01\, 2.02\, 2.05
LOCATION:2.01\, 2.02\, 2.05
ORGANIZER:Klemen Kovač
X-WR-TIMEZONE:Europe/Ljubljana
END:VEVENT
BEGIN:VEVENT
SUMMARY:Rezervacija
DTSTART;TZID=Europe/Ljubljana:20231215T180000
DTEND;TZID=Europe/Ljubljana:20231215T200000
DTSTAMP:20260423T040025Z
UID:fmf-AFLABS-URNIK:rezervacija:13809
CATEGORIES:Reservation
COLOR:royalblue
DESCRIPTION:Predmeti: Fizika (FFA - EM Farmacija) ()\nLetniki: \nIzvajalci
 : Klemen Kovač\nProstori: VFP
LOCATION:VFP
ORGANIZER:Klemen Kovač
X-WR-TIMEZONE:Europe/Ljubljana
END:VEVENT
END:VCALENDAR
