BEGIN:VCALENDAR
VERSION:2.0
PRODID:-//AFLabs urnik izvoz - fmf//aflabs.si//SI
DTSTAMP:20260423T211343Z
NAME:UL FMF urnik
REFRESH-INTERVAL:PT1H
SOURCE:https://urnik.fmf.uni-lj.si/teacher/311?day=2026-04-13&export=1
URL:https://urnik.fmf.uni-lj.si/teacher/311?day=2026-04-13&export=1
X-PUBLISHED-TTL:PT1H
X-WR-CALNAME:UL FMF urnik
X-WR-TIMEZONE:Europe/Ljubljana
BEGIN:VTIMEZONE
TZID:Europe/Ljubljana
BEGIN:DAYLIGHT
DTSTART:20260329T020000
RDATE:20260329T020000
RDATE:20270328T020000
TZNAME:CEST
TZOFFSETFROM:+0100
TZOFFSETTO:+0200
END:DAYLIGHT
BEGIN:STANDARD
DTSTART:20261025T030000
RDATE:20261025T030000
RDATE:20271031T030000
TZNAME:CET
TZOFFSETFROM:+0200
TZOFFSETTO:+0100
END:STANDARD
END:VTIMEZONE
BEGIN:VEVENT
SUMMARY:Moderna fizika II (FIZ-2\, FIZ-3\, PEF-1\, PEF-2)\, Vaje (V)\, [1]
DTSTART;TZID=Europe/Ljubljana:20260216T100000
DTEND;TZID=Europe/Ljubljana:20260216T120000
DTSTAMP:20260423T211343Z
UID:fmf-AFLABS-URNIK:premaknjeno-srecanje:245117
ATTENDEE:1. letnik (Pedagoška fizika, 2. stopnja)
ATTENDEE:2. letnik (Fizika, 1. stopnja)
ATTENDEE:2. letnik (Pedagoška fizika, 2. stopnja)
ATTENDEE:3. letnik (Fizika, 1. stopnja)
CATEGORIES:Entry,Standard
COLOR:darkgreen
DESCRIPTION:Predmet: Moderna fizika II (FIZ-2\, FIZ-3\, PEF-1\, PEF-2)\, V
 aje (V)\, [1]\nLetniki: 2. letnik (Fizika\, 1. stopnja)\, 3. letnik (Fizik
 a\, 1. stopnja)\, 1. letnik (Pedagoška fizika\, 2. stopnja)\, 2. letnik (
 Pedagoška fizika\, 2. stopnja)\nIzvajalci: Klemen Kovač\nProstor: VFP
LOCATION:VFP
ORGANIZER:Klemen Kovač
RELATED-TO:fmf-AFLABS-URNIK:srecanje:17019
X-WR-TIMEZONE:Europe/Ljubljana
END:VEVENT
BEGIN:VEVENT
SUMMARY:Moderna fizika II (FIZ-2\, FIZ-3\, PEF-1\, PEF-2)\, Vaje (V)\, [1]
DTSTART;TZID=Europe/Ljubljana:20260223T100000
DTEND;TZID=Europe/Ljubljana:20260223T120000
DTSTAMP:20260423T211343Z
UID:fmf-AFLABS-URNIK:premaknjeno-srecanje:245118
ATTENDEE:1. letnik (Pedagoška fizika, 2. stopnja)
ATTENDEE:2. letnik (Fizika, 1. stopnja)
ATTENDEE:2. letnik (Pedagoška fizika, 2. stopnja)
ATTENDEE:3. letnik (Fizika, 1. stopnja)
CATEGORIES:Entry,Standard
COLOR:darkgreen
DESCRIPTION:Predmet: Moderna fizika II (FIZ-2\, FIZ-3\, PEF-1\, PEF-2)\, V
 aje (V)\, [1]\nLetniki: 2. letnik (Fizika\, 1. stopnja)\, 3. letnik (Fizik
 a\, 1. stopnja)\, 1. letnik (Pedagoška fizika\, 2. stopnja)\, 2. letnik (
 Pedagoška fizika\, 2. stopnja)\nIzvajalci: Klemen Kovač\nProstor: VFP
LOCATION:VFP
ORGANIZER:Klemen Kovač
RELATED-TO:fmf-AFLABS-URNIK:srecanje:17019
X-WR-TIMEZONE:Europe/Ljubljana
END:VEVENT
BEGIN:VEVENT
SUMMARY:Moderna fizika II (FIZ-2\, FIZ-3\, PEF-1\, PEF-2)\, Vaje (V)\, [1]
DTSTART;TZID=Europe/Ljubljana:20260302T100000
DTEND;TZID=Europe/Ljubljana:20260302T120000
DTSTAMP:20260423T211343Z
UID:fmf-AFLABS-URNIK:premaknjeno-srecanje:245119
ATTENDEE:1. letnik (Pedagoška fizika, 2. stopnja)
ATTENDEE:2. letnik (Fizika, 1. stopnja)
ATTENDEE:2. letnik (Pedagoška fizika, 2. stopnja)
ATTENDEE:3. letnik (Fizika, 1. stopnja)
CATEGORIES:Entry,Standard
COLOR:darkgreen
DESCRIPTION:Predmet: Moderna fizika II (FIZ-2\, FIZ-3\, PEF-1\, PEF-2)\, V
 aje (V)\, [1]\nLetniki: 2. letnik (Fizika\, 1. stopnja)\, 3. letnik (Fizik
 a\, 1. stopnja)\, 1. letnik (Pedagoška fizika\, 2. stopnja)\, 2. letnik (
 Pedagoška fizika\, 2. stopnja)\nIzvajalci: Klemen Kovač\nProstor: VFP
LOCATION:VFP
ORGANIZER:Klemen Kovač
RELATED-TO:fmf-AFLABS-URNIK:srecanje:17019
X-WR-TIMEZONE:Europe/Ljubljana
END:VEVENT
BEGIN:VEVENT
SUMMARY:Moderna fizika II (FIZ-2\, FIZ-3\, PEF-1\, PEF-2)\, Vaje (V)\, [1]
DTSTART;TZID=Europe/Ljubljana:20260309T100000
DTEND;TZID=Europe/Ljubljana:20260309T120000
DTSTAMP:20260423T211343Z
UID:fmf-AFLABS-URNIK:premaknjeno-srecanje:245120
ATTENDEE:1. letnik (Pedagoška fizika, 2. stopnja)
ATTENDEE:2. letnik (Fizika, 1. stopnja)
ATTENDEE:2. letnik (Pedagoška fizika, 2. stopnja)
ATTENDEE:3. letnik (Fizika, 1. stopnja)
CATEGORIES:Entry,Standard
COLOR:darkgreen
DESCRIPTION:Predmet: Moderna fizika II (FIZ-2\, FIZ-3\, PEF-1\, PEF-2)\, V
 aje (V)\, [1]\nLetniki: 2. letnik (Fizika\, 1. stopnja)\, 3. letnik (Fizik
 a\, 1. stopnja)\, 1. letnik (Pedagoška fizika\, 2. stopnja)\, 2. letnik (
 Pedagoška fizika\, 2. stopnja)\nIzvajalci: Klemen Kovač\nProstor: VFP
LOCATION:VFP
ORGANIZER:Klemen Kovač
RELATED-TO:fmf-AFLABS-URNIK:srecanje:17019
X-WR-TIMEZONE:Europe/Ljubljana
END:VEVENT
BEGIN:VEVENT
SUMMARY:Moderna fizika II (FIZ-2\, FIZ-3\, PEF-1\, PEF-2)\, Vaje (V)\, [1]
DTSTART;TZID=Europe/Ljubljana:20260316T100000
DTEND;TZID=Europe/Ljubljana:20260316T120000
DTSTAMP:20260423T211343Z
UID:fmf-AFLABS-URNIK:premaknjeno-srecanje:245121
ATTENDEE:1. letnik (Pedagoška fizika, 2. stopnja)
ATTENDEE:2. letnik (Fizika, 1. stopnja)
ATTENDEE:2. letnik (Pedagoška fizika, 2. stopnja)
ATTENDEE:3. letnik (Fizika, 1. stopnja)
CATEGORIES:Entry,Standard
COLOR:darkgreen
DESCRIPTION:Predmet: Moderna fizika II (FIZ-2\, FIZ-3\, PEF-1\, PEF-2)\, V
 aje (V)\, [1]\nLetniki: 2. letnik (Fizika\, 1. stopnja)\, 3. letnik (Fizik
 a\, 1. stopnja)\, 1. letnik (Pedagoška fizika\, 2. stopnja)\, 2. letnik (
 Pedagoška fizika\, 2. stopnja)\nIzvajalci: Klemen Kovač\nProstor: VFP
LOCATION:VFP
ORGANIZER:Klemen Kovač
RELATED-TO:fmf-AFLABS-URNIK:srecanje:17019
X-WR-TIMEZONE:Europe/Ljubljana
END:VEVENT
BEGIN:VEVENT
SUMMARY:Moderna fizika II (FIZ-2\, FIZ-3\, PEF-1\, PEF-2)\, Vaje (V)\, [1]
DTSTART;TZID=Europe/Ljubljana:20260323T100000
DTEND;TZID=Europe/Ljubljana:20260323T120000
DTSTAMP:20260423T211343Z
UID:fmf-AFLABS-URNIK:premaknjeno-srecanje:245122
ATTENDEE:1. letnik (Pedagoška fizika, 2. stopnja)
ATTENDEE:2. letnik (Fizika, 1. stopnja)
ATTENDEE:2. letnik (Pedagoška fizika, 2. stopnja)
ATTENDEE:3. letnik (Fizika, 1. stopnja)
CATEGORIES:Entry,Standard
COLOR:darkgreen
DESCRIPTION:Predmet: Moderna fizika II (FIZ-2\, FIZ-3\, PEF-1\, PEF-2)\, V
 aje (V)\, [1]\nLetniki: 2. letnik (Fizika\, 1. stopnja)\, 3. letnik (Fizik
 a\, 1. stopnja)\, 1. letnik (Pedagoška fizika\, 2. stopnja)\, 2. letnik (
 Pedagoška fizika\, 2. stopnja)\nIzvajalci: Klemen Kovač\nProstor: VFP
LOCATION:VFP
ORGANIZER:Klemen Kovač
RELATED-TO:fmf-AFLABS-URNIK:srecanje:17019
X-WR-TIMEZONE:Europe/Ljubljana
END:VEVENT
BEGIN:VEVENT
SUMMARY:Moderna fizika II (FIZ-2\, FIZ-3\, PEF-1\, PEF-2)\, Vaje (V)\, [1]
DTSTART;TZID=Europe/Ljubljana:20260330T100000
DTEND;TZID=Europe/Ljubljana:20260330T120000
DTSTAMP:20260423T211343Z
UID:fmf-AFLABS-URNIK:premaknjeno-srecanje:245123
ATTENDEE:1. letnik (Pedagoška fizika, 2. stopnja)
ATTENDEE:2. letnik (Fizika, 1. stopnja)
ATTENDEE:2. letnik (Pedagoška fizika, 2. stopnja)
ATTENDEE:3. letnik (Fizika, 1. stopnja)
CATEGORIES:Entry,Standard
COLOR:darkgreen
DESCRIPTION:Predmet: Moderna fizika II (FIZ-2\, FIZ-3\, PEF-1\, PEF-2)\, V
 aje (V)\, [1]\nLetniki: 2. letnik (Fizika\, 1. stopnja)\, 3. letnik (Fizik
 a\, 1. stopnja)\, 1. letnik (Pedagoška fizika\, 2. stopnja)\, 2. letnik (
 Pedagoška fizika\, 2. stopnja)\nIzvajalci: Klemen Kovač\nProstor: VFP
LOCATION:VFP
ORGANIZER:Klemen Kovač
RELATED-TO:fmf-AFLABS-URNIK:srecanje:17019
X-WR-TIMEZONE:Europe/Ljubljana
END:VEVENT
BEGIN:VEVENT
SUMMARY:Moderna fizika II (FIZ-2\, FIZ-3\, PEF-1\, PEF-2)\, Vaje (V)\, [1]
DTSTART;TZID=Europe/Ljubljana:20260413T100000
DTEND;TZID=Europe/Ljubljana:20260413T120000
DTSTAMP:20260423T211343Z
UID:fmf-AFLABS-URNIK:premaknjeno-srecanje:245124
ATTENDEE:1. letnik (Pedagoška fizika, 2. stopnja)
ATTENDEE:2. letnik (Fizika, 1. stopnja)
ATTENDEE:2. letnik (Pedagoška fizika, 2. stopnja)
ATTENDEE:3. letnik (Fizika, 1. stopnja)
CATEGORIES:Entry,Standard
COLOR:darkgreen
DESCRIPTION:Predmet: Moderna fizika II (FIZ-2\, FIZ-3\, PEF-1\, PEF-2)\, V
 aje (V)\, [1]\nLetniki: 2. letnik (Fizika\, 1. stopnja)\, 3. letnik (Fizik
 a\, 1. stopnja)\, 1. letnik (Pedagoška fizika\, 2. stopnja)\, 2. letnik (
 Pedagoška fizika\, 2. stopnja)\nIzvajalci: Klemen Kovač\nProstor: VFP
LOCATION:VFP
ORGANIZER:Klemen Kovač
RELATED-TO:fmf-AFLABS-URNIK:srecanje:17019
X-WR-TIMEZONE:Europe/Ljubljana
END:VEVENT
BEGIN:VEVENT
SUMMARY:Moderna fizika II (FIZ-2\, FIZ-3\, PEF-1\, PEF-2)\, Vaje (V)\, [1]
DTSTART;TZID=Europe/Ljubljana:20260420T100000
DTEND;TZID=Europe/Ljubljana:20260420T120000
DTSTAMP:20260423T211343Z
UID:fmf-AFLABS-URNIK:premaknjeno-srecanje:245125
ATTENDEE:1. letnik (Pedagoška fizika, 2. stopnja)
ATTENDEE:2. letnik (Fizika, 1. stopnja)
ATTENDEE:2. letnik (Pedagoška fizika, 2. stopnja)
ATTENDEE:3. letnik (Fizika, 1. stopnja)
CATEGORIES:Entry,Standard
COLOR:darkgreen
DESCRIPTION:Predmet: Moderna fizika II (FIZ-2\, FIZ-3\, PEF-1\, PEF-2)\, V
 aje (V)\, [1]\nLetniki: 2. letnik (Fizika\, 1. stopnja)\, 3. letnik (Fizik
 a\, 1. stopnja)\, 1. letnik (Pedagoška fizika\, 2. stopnja)\, 2. letnik (
 Pedagoška fizika\, 2. stopnja)\nIzvajalci: Klemen Kovač\nProstor: VFP
LOCATION:VFP
ORGANIZER:Klemen Kovač
RELATED-TO:fmf-AFLABS-URNIK:srecanje:17019
X-WR-TIMEZONE:Europe/Ljubljana
END:VEVENT
BEGIN:VEVENT
SUMMARY:Moderna fizika II (FIZ-2\, FIZ-3\, PEF-1\, PEF-2)\, Vaje (V)\, [1]
DTSTART;TZID=Europe/Ljubljana:20260504T100000
DTEND;TZID=Europe/Ljubljana:20260504T120000
DTSTAMP:20260423T211343Z
UID:fmf-AFLABS-URNIK:premaknjeno-srecanje:245126
ATTENDEE:1. letnik (Pedagoška fizika, 2. stopnja)
ATTENDEE:2. letnik (Fizika, 1. stopnja)
ATTENDEE:2. letnik (Pedagoška fizika, 2. stopnja)
ATTENDEE:3. letnik (Fizika, 1. stopnja)
CATEGORIES:Entry,Standard
COLOR:darkgreen
DESCRIPTION:Predmet: Moderna fizika II (FIZ-2\, FIZ-3\, PEF-1\, PEF-2)\, V
 aje (V)\, [1]\nLetniki: 2. letnik (Fizika\, 1. stopnja)\, 3. letnik (Fizik
 a\, 1. stopnja)\, 1. letnik (Pedagoška fizika\, 2. stopnja)\, 2. letnik (
 Pedagoška fizika\, 2. stopnja)\nIzvajalci: Klemen Kovač\nProstor: VFP
LOCATION:VFP
ORGANIZER:Klemen Kovač
RELATED-TO:fmf-AFLABS-URNIK:srecanje:17019
X-WR-TIMEZONE:Europe/Ljubljana
END:VEVENT
BEGIN:VEVENT
SUMMARY:Moderna fizika II (FIZ-2\, FIZ-3\, PEF-1\, PEF-2)\, Vaje (V)\, [1]
DTSTART;TZID=Europe/Ljubljana:20260511T100000
DTEND;TZID=Europe/Ljubljana:20260511T120000
DTSTAMP:20260423T211343Z
UID:fmf-AFLABS-URNIK:premaknjeno-srecanje:245127
ATTENDEE:1. letnik (Pedagoška fizika, 2. stopnja)
ATTENDEE:2. letnik (Fizika, 1. stopnja)
ATTENDEE:2. letnik (Pedagoška fizika, 2. stopnja)
ATTENDEE:3. letnik (Fizika, 1. stopnja)
CATEGORIES:Entry,Standard
COLOR:darkgreen
DESCRIPTION:Predmet: Moderna fizika II (FIZ-2\, FIZ-3\, PEF-1\, PEF-2)\, V
 aje (V)\, [1]\nLetniki: 2. letnik (Fizika\, 1. stopnja)\, 3. letnik (Fizik
 a\, 1. stopnja)\, 1. letnik (Pedagoška fizika\, 2. stopnja)\, 2. letnik (
 Pedagoška fizika\, 2. stopnja)\nIzvajalci: Klemen Kovač\nProstor: VFP
LOCATION:VFP
ORGANIZER:Klemen Kovač
RELATED-TO:fmf-AFLABS-URNIK:srecanje:17019
X-WR-TIMEZONE:Europe/Ljubljana
END:VEVENT
BEGIN:VEVENT
SUMMARY:Moderna fizika II (FIZ-2\, FIZ-3\, PEF-1\, PEF-2)\, Vaje (V)\, [1]
DTSTART;TZID=Europe/Ljubljana:20260518T100000
DTEND;TZID=Europe/Ljubljana:20260518T120000
DTSTAMP:20260423T211343Z
UID:fmf-AFLABS-URNIK:premaknjeno-srecanje:245128
ATTENDEE:1. letnik (Pedagoška fizika, 2. stopnja)
ATTENDEE:2. letnik (Fizika, 1. stopnja)
ATTENDEE:2. letnik (Pedagoška fizika, 2. stopnja)
ATTENDEE:3. letnik (Fizika, 1. stopnja)
CATEGORIES:Entry,Standard
COLOR:darkgreen
DESCRIPTION:Predmet: Moderna fizika II (FIZ-2\, FIZ-3\, PEF-1\, PEF-2)\, V
 aje (V)\, [1]\nLetniki: 2. letnik (Fizika\, 1. stopnja)\, 3. letnik (Fizik
 a\, 1. stopnja)\, 1. letnik (Pedagoška fizika\, 2. stopnja)\, 2. letnik (
 Pedagoška fizika\, 2. stopnja)\nIzvajalci: Klemen Kovač\nProstor: VFP
LOCATION:VFP
ORGANIZER:Klemen Kovač
RELATED-TO:fmf-AFLABS-URNIK:srecanje:17019
X-WR-TIMEZONE:Europe/Ljubljana
END:VEVENT
BEGIN:VEVENT
SUMMARY:Moderna fizika II (FIZ-2\, FIZ-3\, PEF-1\, PEF-2)\, Vaje (V)\, [1]
DTSTART;TZID=Europe/Ljubljana:20260525T100000
DTEND;TZID=Europe/Ljubljana:20260525T120000
DTSTAMP:20260423T211343Z
UID:fmf-AFLABS-URNIK:premaknjeno-srecanje:245129
ATTENDEE:1. letnik (Pedagoška fizika, 2. stopnja)
ATTENDEE:2. letnik (Fizika, 1. stopnja)
ATTENDEE:2. letnik (Pedagoška fizika, 2. stopnja)
ATTENDEE:3. letnik (Fizika, 1. stopnja)
CATEGORIES:Entry,Standard
COLOR:darkgreen
DESCRIPTION:Predmet: Moderna fizika II (FIZ-2\, FIZ-3\, PEF-1\, PEF-2)\, V
 aje (V)\, [1]\nLetniki: 2. letnik (Fizika\, 1. stopnja)\, 3. letnik (Fizik
 a\, 1. stopnja)\, 1. letnik (Pedagoška fizika\, 2. stopnja)\, 2. letnik (
 Pedagoška fizika\, 2. stopnja)\nIzvajalci: Klemen Kovač\nProstor: VFP
LOCATION:VFP
ORGANIZER:Klemen Kovač
RELATED-TO:fmf-AFLABS-URNIK:srecanje:17019
X-WR-TIMEZONE:Europe/Ljubljana
END:VEVENT
BEGIN:VEVENT
SUMMARY:Moderna fizika II (FIZ-2\, FIZ-3\, PEF-1\, PEF-2)\, Vaje (V)\, [1]
DTSTART;TZID=Europe/Ljubljana:20260601T100000
DTEND;TZID=Europe/Ljubljana:20260601T120000
DTSTAMP:20260423T211343Z
UID:fmf-AFLABS-URNIK:premaknjeno-srecanje:245130
ATTENDEE:1. letnik (Pedagoška fizika, 2. stopnja)
ATTENDEE:2. letnik (Fizika, 1. stopnja)
ATTENDEE:2. letnik (Pedagoška fizika, 2. stopnja)
ATTENDEE:3. letnik (Fizika, 1. stopnja)
CATEGORIES:Entry,Standard
COLOR:darkgreen
DESCRIPTION:Predmet: Moderna fizika II (FIZ-2\, FIZ-3\, PEF-1\, PEF-2)\, V
 aje (V)\, [1]\nLetniki: 2. letnik (Fizika\, 1. stopnja)\, 3. letnik (Fizik
 a\, 1. stopnja)\, 1. letnik (Pedagoška fizika\, 2. stopnja)\, 2. letnik (
 Pedagoška fizika\, 2. stopnja)\nIzvajalci: Klemen Kovač\nProstor: VFP
LOCATION:VFP
ORGANIZER:Klemen Kovač
RELATED-TO:fmf-AFLABS-URNIK:srecanje:17019
X-WR-TIMEZONE:Europe/Ljubljana
END:VEVENT
BEGIN:VEVENT
SUMMARY:Farmacija Fizika 2. izpit
DTSTART;TZID=Europe/Ljubljana:20260415T080000
DTEND;TZID=Europe/Ljubljana:20260415T100000
DTSTAMP:20260423T211343Z
UID:fmf-AFLABS-URNIK:rezervacija:27441
CATEGORIES:Reservation
COLOR:royalblue
DESCRIPTION:Predmeti: Fizika (FFA - EM Farmacija) ()\nLetniki: \nIzvajalci
 : Vitja Beltram\, Enej Caf\, Žiga Kos\, Klemen Kovač\, Rok Pintar\nProst
 ori: 1.02\, 3.12
LOCATION:1.02\, 3.12
ORGANIZER:Vitja Beltram, Enej Caf, Žiga Kos, Klemen Kovač, Rok Pintar
X-WR-TIMEZONE:Europe/Ljubljana
END:VEVENT
BEGIN:VEVENT
SUMMARY:Zagovor doktrata Klemen Kovač
DTSTART;TZID=Europe/Ljubljana:20260527T160000
DTEND;TZID=Europe/Ljubljana:20260527T190000
DTSTAMP:20260423T211343Z
UID:fmf-AFLABS-URNIK:rezervacija:27829
CATEGORIES:Reservation
COLOR:royalblue
DESCRIPTION:Predmeti: \nLetniki: \nIzvajalci: Klemen Kovač\nProstori: F1
LOCATION:F1
ORGANIZER:Klemen Kovač
X-WR-TIMEZONE:Europe/Ljubljana
END:VEVENT
BEGIN:VEVENT
SUMMARY:Vpogled kolokvija
DTSTART;TZID=Europe/Ljubljana:20260414T150000
DTEND;TZID=Europe/Ljubljana:20260414T160000
DTSTAMP:20260423T211343Z
UID:fmf-AFLABS-URNIK:rezervacija:28026
ATTENDEE:1. letnik (Pedagoška fizika, 2. stopnja)
ATTENDEE:2. letnik (Fizika, 1. stopnja)
ATTENDEE:2. letnik (Pedagoška fizika, 2. stopnja)
ATTENDEE:3. letnik (Fizika, 1. stopnja)
CATEGORIES:Reservation
COLOR:royalblue
DESCRIPTION:Predmeti: Moderna fizika II (FIZ-2\, FIZ-3\, PEF-1\, PEF-2)\nL
 etniki: 2. letnik (Fizika\, 1. stopnja)\, 3. letnik (Fizika\, 1. stopnja)\
 , 1. letnik (Pedagoška fizika\, 2. stopnja)\, 2. letnik (Pedagoška fizik
 a\, 2. stopnja)\nIzvajalci: Klemen Kovač\nProstori: MFP
LOCATION:MFP
ORGANIZER:Klemen Kovač
X-WR-TIMEZONE:Europe/Ljubljana
END:VEVENT
END:VCALENDAR
