BEGIN:VCALENDAR
VERSION:2.0
PRODID:-//AFLabs urnik izvoz - fmf//aflabs.si//SI
DTSTAMP:20260425T181836Z
NAME:UL FMF urnik
REFRESH-INTERVAL:PT1H
SOURCE:https://urnik.fmf.uni-lj.si/teacher/315?day=2022-07-04&export=1
URL:https://urnik.fmf.uni-lj.si/teacher/315?day=2022-07-04&export=1
X-PUBLISHED-TTL:PT1H
X-WR-CALNAME:UL FMF urnik
X-WR-TIMEZONE:Europe/Ljubljana
BEGIN:VTIMEZONE
TZID:Europe/Ljubljana
BEGIN:DAYLIGHT
DTSTART:20260329T020000
RDATE:20260329T020000
RDATE:20270328T020000
TZNAME:CEST
TZOFFSETFROM:+0100
TZOFFSETTO:+0200
END:DAYLIGHT
BEGIN:STANDARD
DTSTART:20261025T030000
RDATE:20261025T030000
RDATE:20271031T030000
TZNAME:CET
TZOFFSETFROM:+0200
TZOFFSETTO:+0100
END:STANDARD
END:VTIMEZONE
BEGIN:VEVENT
SUMMARY:Didaktika matematike 2 (PM-3\, PM-4)\, Predavanja (P)
DTSTART;TZID=Europe/Ljubljana:20220530T120000
DTEND;TZID=Europe/Ljubljana:20220530T140000
DTSTAMP:20260425T181836Z
UID:fmf-AFLABS-URNIK:premaknjeno-srecanje:14106
ATTENDEE:3. letnik (PM)
ATTENDEE:4. letnik (PM)
CATEGORIES:Entry,Standard
COLOR:darkgreen
DESCRIPTION:Predmet: Didaktika matematike 2 (PM-3\, PM-4)\, Predavanja (P)
 \nLetniki: 3. letnik (PM)\, 4. letnik (PM)\nIzvajalci: Damjan Kobal\nProst
 or: 3.05
LOCATION:3.05
ORGANIZER:Damjan Kobal
RELATED-TO:fmf-AFLABS-URNIK:srecanje:6882
X-WR-TIMEZONE:Europe/Ljubljana
END:VEVENT
BEGIN:VEVENT
SUMMARY:Matematika (ZF) ()\, Predavanja (P)
DTSTART;TZID=Europe/Ljubljana:20220531T080000
DTEND;TZID=Europe/Ljubljana:20220531T110000
DTSTAMP:20260425T181836Z
UID:fmf-AFLABS-URNIK:premaknjeno-srecanje:62137
CATEGORIES:Entry,Standard
COLOR:darkgreen
DESCRIPTION:Predmet: Matematika (ZF) ()\, Predavanja (P)\nLetniki: \nIzvaj
 alci: Damjan Kobal\nProstor: ZF
LOCATION:ZF
ORGANIZER:Damjan Kobal
RELATED-TO:fmf-AFLABS-URNIK:srecanje:7440
X-WR-TIMEZONE:Europe/Ljubljana
END:VEVENT
BEGIN:VEVENT
SUMMARY:Rezervacija
DTSTART;TZID=Europe/Ljubljana:20220614T090000
DTEND;TZID=Europe/Ljubljana:20220614T110000
DTSTAMP:20260425T181836Z
UID:fmf-AFLABS-URNIK:rezervacija:9315
ATTENDEE:3. letnik (PM)
ATTENDEE:4. letnik (PM)
CATEGORIES:Reservation
COLOR:royalblue
DESCRIPTION:Predmeti: Didaktika matematike 2 (PM-3\, PM-4)\nLetniki: 3. le
 tnik (PM)\, 4. letnik (PM)\nIzvajalci: Damjan Kobal\nProstori: 3.06
LOCATION:3.06
ORGANIZER:Damjan Kobal
X-WR-TIMEZONE:Europe/Ljubljana
END:VEVENT
END:VCALENDAR
