BEGIN:VCALENDAR
VERSION:2.0
PRODID:-//AFLabs urnik izvoz - fmf//aflabs.si//SI
DTSTAMP:20260419T190210Z
NAME:UL FMF urnik
REFRESH-INTERVAL:PT1H
SOURCE:https://urnik.fmf.uni-lj.si/teacher/315?day=2022-09-12&export=1
URL:https://urnik.fmf.uni-lj.si/teacher/315?day=2022-09-12&export=1
X-PUBLISHED-TTL:PT1H
X-WR-CALNAME:UL FMF urnik
X-WR-TIMEZONE:Europe/Ljubljana
BEGIN:VTIMEZONE
TZID:Europe/Ljubljana
BEGIN:DAYLIGHT
DTSTART:20260329T020000
RDATE:20260329T020000
RDATE:20270328T020000
TZNAME:CEST
TZOFFSETFROM:+0100
TZOFFSETTO:+0200
END:DAYLIGHT
BEGIN:STANDARD
DTSTART:20261025T030000
RDATE:20261025T030000
RDATE:20271031T030000
TZNAME:CET
TZOFFSETFROM:+0200
TZOFFSETTO:+0100
END:STANDARD
END:VTIMEZONE
BEGIN:VEVENT
SUMMARY:Simbolno računanje in dinamična geometrija (PM-4\, PM-5)\, Preda
 vanja (P)
DTSTART;TZID=Europe/Ljubljana:20221003T120000
DTEND;TZID=Europe/Ljubljana:20221003T140000
DTSTAMP:20260419T190210Z
UID:fmf-AFLABS-URNIK:premaknjeno-srecanje:103559
ATTENDEE:4. letnik (PM)
ATTENDEE:5. letnik (PM)
CATEGORIES:Entry,Standard
COLOR:darkgreen
DESCRIPTION:Predmet: Simbolno računanje in dinamična geometrija (PM-4\, 
 PM-5)\, Predavanja (P)\nLetniki: 4. letnik (PM)\, 5. letnik (PM)\nIzvajalc
 i: Andrej Bauer\, Damjan Kobal\nProstor: 3.10
LOCATION:3.10
ORGANIZER:Andrej Bauer, Damjan Kobal
RELATED-TO:fmf-AFLABS-URNIK:srecanje:8134
X-WR-TIMEZONE:Europe/Ljubljana
END:VEVENT
BEGIN:VEVENT
SUMMARY:Simbolno računanje in dinamična geometrija (PM-4\, PM-5)\, Preda
 vanja (P)
DTSTART;TZID=Europe/Ljubljana:20221010T120000
DTEND;TZID=Europe/Ljubljana:20221010T140000
DTSTAMP:20260419T190210Z
UID:fmf-AFLABS-URNIK:premaknjeno-srecanje:103560
ATTENDEE:4. letnik (PM)
ATTENDEE:5. letnik (PM)
CATEGORIES:Entry,Standard
COLOR:darkgreen
DESCRIPTION:Predmet: Simbolno računanje in dinamična geometrija (PM-4\, 
 PM-5)\, Predavanja (P)\nLetniki: 4. letnik (PM)\, 5. letnik (PM)\nIzvajalc
 i: Andrej Bauer\, Damjan Kobal\nProstor: 3.10
LOCATION:3.10
ORGANIZER:Andrej Bauer, Damjan Kobal
RELATED-TO:fmf-AFLABS-URNIK:srecanje:8134
X-WR-TIMEZONE:Europe/Ljubljana
END:VEVENT
BEGIN:VEVENT
SUMMARY:Simbolno računanje in dinamična geometrija (PM-4\, PM-5)\, Preda
 vanja (P)
DTSTART;TZID=Europe/Ljubljana:20221017T120000
DTEND;TZID=Europe/Ljubljana:20221017T140000
DTSTAMP:20260419T190210Z
UID:fmf-AFLABS-URNIK:premaknjeno-srecanje:103561
ATTENDEE:4. letnik (PM)
ATTENDEE:5. letnik (PM)
CATEGORIES:Entry,Standard
COLOR:darkgreen
DESCRIPTION:Predmet: Simbolno računanje in dinamična geometrija (PM-4\, 
 PM-5)\, Predavanja (P)\nLetniki: 4. letnik (PM)\, 5. letnik (PM)\nIzvajalc
 i: Andrej Bauer\, Damjan Kobal\nProstor: 3.10
LOCATION:3.10
ORGANIZER:Andrej Bauer, Damjan Kobal
RELATED-TO:fmf-AFLABS-URNIK:srecanje:8134
X-WR-TIMEZONE:Europe/Ljubljana
END:VEVENT
BEGIN:VEVENT
SUMMARY:Simbolno računanje in dinamična geometrija (PM-4\, PM-5)\, Vaje 
 (V)
DTSTART;TZID=Europe/Ljubljana:20221004T120000
DTEND;TZID=Europe/Ljubljana:20221004T140000
DTSTAMP:20260419T190210Z
UID:fmf-AFLABS-URNIK:premaknjeno-srecanje:103590
ATTENDEE:4. letnik (PM)
ATTENDEE:5. letnik (PM)
CATEGORIES:Entry,Standard
COLOR:darkgreen
DESCRIPTION:Predmet: Simbolno računanje in dinamična geometrija (PM-4\, 
 PM-5)\, Vaje (V)\nLetniki: 4. letnik (PM)\, 5. letnik (PM)\nIzvajalci: Dam
 jan Kobal\, Davorin Lešnik\nProstor: F8
LOCATION:F8
ORGANIZER:Damjan Kobal, Davorin Lešnik
RELATED-TO:fmf-AFLABS-URNIK:srecanje:8135
X-WR-TIMEZONE:Europe/Ljubljana
END:VEVENT
BEGIN:VEVENT
SUMMARY:Simbolno računanje in dinamična geometrija (PM-4\, PM-5)\, Vaje 
 (V)
DTSTART;TZID=Europe/Ljubljana:20221011T120000
DTEND;TZID=Europe/Ljubljana:20221011T140000
DTSTAMP:20260419T190210Z
UID:fmf-AFLABS-URNIK:premaknjeno-srecanje:103591
ATTENDEE:4. letnik (PM)
ATTENDEE:5. letnik (PM)
CATEGORIES:Entry,Standard
COLOR:darkgreen
DESCRIPTION:Predmet: Simbolno računanje in dinamična geometrija (PM-4\, 
 PM-5)\, Vaje (V)\nLetniki: 4. letnik (PM)\, 5. letnik (PM)\nIzvajalci: Dam
 jan Kobal\, Davorin Lešnik\nProstor: F8
LOCATION:F8
ORGANIZER:Damjan Kobal, Davorin Lešnik
RELATED-TO:fmf-AFLABS-URNIK:srecanje:8135
X-WR-TIMEZONE:Europe/Ljubljana
END:VEVENT
BEGIN:VEVENT
SUMMARY:Rezervacija
DTSTART;TZID=Europe/Ljubljana:20220909T090000
DTEND;TZID=Europe/Ljubljana:20220909T160000
DTSTAMP:20260419T190210Z
UID:fmf-AFLABS-URNIK:rezervacija:10250
CATEGORIES:Reservation
COLOR:royalblue
DESCRIPTION:Predmeti: \nLetniki: \nIzvajalci: Damjan Kobal\nProstori: VFP
LOCATION:VFP
ORGANIZER:Damjan Kobal
X-WR-TIMEZONE:Europe/Ljubljana
END:VEVENT
BEGIN:VEVENT
SUMMARY:Rezervacija
DTSTART;TZID=Europe/Ljubljana:20220910T090000
DTEND;TZID=Europe/Ljubljana:20220910T160000
DTSTAMP:20260419T190210Z
UID:fmf-AFLABS-URNIK:rezervacija:10266
CATEGORIES:Reservation
COLOR:royalblue
DESCRIPTION:Predmeti: \nLetniki: \nIzvajalci: Damjan Kobal\nProstori: VFP
LOCATION:VFP
ORGANIZER:Damjan Kobal
X-WR-TIMEZONE:Europe/Ljubljana
END:VEVENT
END:VCALENDAR
