BEGIN:VCALENDAR
VERSION:2.0
PRODID:-//AFLabs urnik izvoz - fmf//aflabs.si//SI
DTSTAMP:20260425T124437Z
NAME:UL FMF urnik
REFRESH-INTERVAL:PT1H
SOURCE:https://urnik.fmf.uni-lj.si/teacher/315?day=2023-01-30&export=1
URL:https://urnik.fmf.uni-lj.si/teacher/315?day=2023-01-30&export=1
X-PUBLISHED-TTL:PT1H
X-WR-CALNAME:UL FMF urnik
X-WR-TIMEZONE:Europe/Ljubljana
BEGIN:VTIMEZONE
TZID:Europe/Ljubljana
BEGIN:DAYLIGHT
DTSTART:20260329T020000
RDATE:20260329T020000
RDATE:20270328T020000
TZNAME:CEST
TZOFFSETFROM:+0100
TZOFFSETTO:+0200
END:DAYLIGHT
BEGIN:STANDARD
DTSTART:20261025T030000
RDATE:20261025T030000
RDATE:20271031T030000
TZNAME:CET
TZOFFSETFROM:+0200
TZOFFSETTO:+0100
END:STANDARD
END:VTIMEZONE
BEGIN:VEVENT
SUMMARY:Simbolno računanje in dinamična geometrija (PM-4\, PM-5)\, Preda
 vanja (P)
DTSTART;TZID=Europe/Ljubljana:20221226T120000
DTEND;TZID=Europe/Ljubljana:20221226T140000
DTSTAMP:20260425T124437Z
UID:fmf-AFLABS-URNIK:premaknjeno-srecanje:103571
ATTENDEE:4. letnik (PM)
ATTENDEE:5. letnik (PM)
CATEGORIES:Entry,Standard
COLOR:darkgreen
DESCRIPTION:Predmet: Simbolno računanje in dinamična geometrija (PM-4\, 
 PM-5)\, Predavanja (P)\nLetniki: 4. letnik (PM)\, 5. letnik (PM)\nIzvajalc
 i: Andrej Bauer\, Damjan Kobal\nProstor: 3.10
LOCATION:3.10
ORGANIZER:Andrej Bauer, Damjan Kobal
RELATED-TO:fmf-AFLABS-URNIK:srecanje:8134
X-WR-TIMEZONE:Europe/Ljubljana
END:VEVENT
BEGIN:VEVENT
SUMMARY:Simbolno računanje in dinamična geometrija (PM-4\, PM-5)\, Preda
 vanja (P)
DTSTART;TZID=Europe/Ljubljana:20230102T120000
DTEND;TZID=Europe/Ljubljana:20230102T140000
DTSTAMP:20260425T124437Z
UID:fmf-AFLABS-URNIK:premaknjeno-srecanje:103572
ATTENDEE:4. letnik (PM)
ATTENDEE:5. letnik (PM)
CATEGORIES:Entry,Standard
COLOR:darkgreen
DESCRIPTION:Predmet: Simbolno računanje in dinamična geometrija (PM-4\, 
 PM-5)\, Predavanja (P)\nLetniki: 4. letnik (PM)\, 5. letnik (PM)\nIzvajalc
 i: Andrej Bauer\, Damjan Kobal\nProstor: 3.10
LOCATION:3.10
ORGANIZER:Andrej Bauer, Damjan Kobal
RELATED-TO:fmf-AFLABS-URNIK:srecanje:8134
X-WR-TIMEZONE:Europe/Ljubljana
END:VEVENT
BEGIN:VEVENT
SUMMARY:Simbolno računanje in dinamična geometrija (PM-4\, PM-5)\, Preda
 vanja (P)
DTSTART;TZID=Europe/Ljubljana:20230109T120000
DTEND;TZID=Europe/Ljubljana:20230109T140000
DTSTAMP:20260425T124437Z
UID:fmf-AFLABS-URNIK:premaknjeno-srecanje:103573
ATTENDEE:4. letnik (PM)
ATTENDEE:5. letnik (PM)
CATEGORIES:Entry,Standard
COLOR:darkgreen
DESCRIPTION:Predmet: Simbolno računanje in dinamična geometrija (PM-4\, 
 PM-5)\, Predavanja (P)\nLetniki: 4. letnik (PM)\, 5. letnik (PM)\nIzvajalc
 i: Andrej Bauer\, Damjan Kobal\nProstor: 3.10
LOCATION:3.10
ORGANIZER:Andrej Bauer, Damjan Kobal
RELATED-TO:fmf-AFLABS-URNIK:srecanje:8134
X-WR-TIMEZONE:Europe/Ljubljana
END:VEVENT
BEGIN:VEVENT
SUMMARY:Simbolno računanje in dinamična geometrija (PM-4\, PM-5)\, Preda
 vanja (P)
DTSTART;TZID=Europe/Ljubljana:20230116T120000
DTEND;TZID=Europe/Ljubljana:20230116T140000
DTSTAMP:20260425T124437Z
UID:fmf-AFLABS-URNIK:premaknjeno-srecanje:103574
ATTENDEE:4. letnik (PM)
ATTENDEE:5. letnik (PM)
CATEGORIES:Entry,Standard
COLOR:darkgreen
DESCRIPTION:Predmet: Simbolno računanje in dinamična geometrija (PM-4\, 
 PM-5)\, Predavanja (P)\nLetniki: 4. letnik (PM)\, 5. letnik (PM)\nIzvajalc
 i: Andrej Bauer\, Damjan Kobal\nProstor: 3.10
LOCATION:3.10
ORGANIZER:Andrej Bauer, Damjan Kobal
RELATED-TO:fmf-AFLABS-URNIK:srecanje:8134
X-WR-TIMEZONE:Europe/Ljubljana
END:VEVENT
BEGIN:VEVENT
SUMMARY:Simbolno računanje in dinamična geometrija (PM-4\, PM-5)\, Vaje 
 (V)
DTSTART;TZID=Europe/Ljubljana:20221227T120000
DTEND;TZID=Europe/Ljubljana:20221227T140000
DTSTAMP:20260425T124437Z
UID:fmf-AFLABS-URNIK:premaknjeno-srecanje:103602
ATTENDEE:4. letnik (PM)
ATTENDEE:5. letnik (PM)
CATEGORIES:Entry,Standard
COLOR:darkgreen
DESCRIPTION:Predmet: Simbolno računanje in dinamična geometrija (PM-4\, 
 PM-5)\, Vaje (V)\nLetniki: 4. letnik (PM)\, 5. letnik (PM)\nIzvajalci: Dam
 jan Kobal\, Davorin Lešnik\nProstor: F8
LOCATION:F8
ORGANIZER:Damjan Kobal, Davorin Lešnik
RELATED-TO:fmf-AFLABS-URNIK:srecanje:8135
X-WR-TIMEZONE:Europe/Ljubljana
END:VEVENT
BEGIN:VEVENT
SUMMARY:Simbolno računanje in dinamična geometrija (PM-4\, PM-5)\, Vaje 
 (V)
DTSTART;TZID=Europe/Ljubljana:20230103T120000
DTEND;TZID=Europe/Ljubljana:20230103T140000
DTSTAMP:20260425T124437Z
UID:fmf-AFLABS-URNIK:premaknjeno-srecanje:103603
ATTENDEE:4. letnik (PM)
ATTENDEE:5. letnik (PM)
CATEGORIES:Entry,Standard
COLOR:darkgreen
DESCRIPTION:Predmet: Simbolno računanje in dinamična geometrija (PM-4\, 
 PM-5)\, Vaje (V)\nLetniki: 4. letnik (PM)\, 5. letnik (PM)\nIzvajalci: Dam
 jan Kobal\, Davorin Lešnik\nProstor: F8
LOCATION:F8
ORGANIZER:Damjan Kobal, Davorin Lešnik
RELATED-TO:fmf-AFLABS-URNIK:srecanje:8135
X-WR-TIMEZONE:Europe/Ljubljana
END:VEVENT
BEGIN:VEVENT
SUMMARY:Simbolno računanje in dinamična geometrija (PM-4\, PM-5)\, Vaje 
 (V)
DTSTART;TZID=Europe/Ljubljana:20230110T120000
DTEND;TZID=Europe/Ljubljana:20230110T140000
DTSTAMP:20260425T124437Z
UID:fmf-AFLABS-URNIK:premaknjeno-srecanje:103604
ATTENDEE:4. letnik (PM)
ATTENDEE:5. letnik (PM)
CATEGORIES:Entry,Standard
COLOR:darkgreen
DESCRIPTION:Predmet: Simbolno računanje in dinamična geometrija (PM-4\, 
 PM-5)\, Vaje (V)\nLetniki: 4. letnik (PM)\, 5. letnik (PM)\nIzvajalci: Dam
 jan Kobal\, Davorin Lešnik\nProstor: F8
LOCATION:F8
ORGANIZER:Damjan Kobal, Davorin Lešnik
RELATED-TO:fmf-AFLABS-URNIK:srecanje:8135
X-WR-TIMEZONE:Europe/Ljubljana
END:VEVENT
BEGIN:VEVENT
SUMMARY:Matematika (ZF) ()\, Predavanja (P)
DTSTART;TZID=Europe/Ljubljana:20230214T080000
DTEND;TZID=Europe/Ljubljana:20230214T110000
DTSTAMP:20260425T124437Z
UID:fmf-AFLABS-URNIK:premaknjeno-srecanje:62138
CATEGORIES:Entry,Standard
COLOR:darkgreen
DESCRIPTION:Predmet: Matematika (ZF) ()\, Predavanja (P)\nLetniki: \nIzvaj
 alci: Damjan Kobal\nProstor: ZF
LOCATION:ZF
ORGANIZER:Damjan Kobal
RELATED-TO:fmf-AFLABS-URNIK:srecanje:8506
X-WR-TIMEZONE:Europe/Ljubljana
END:VEVENT
BEGIN:VEVENT
SUMMARY:Matematika (ZF) ()\, Predavanja (P)
DTSTART;TZID=Europe/Ljubljana:20230221T080000
DTEND;TZID=Europe/Ljubljana:20230221T110000
DTSTAMP:20260425T124437Z
UID:fmf-AFLABS-URNIK:premaknjeno-srecanje:62139
CATEGORIES:Entry,Standard
COLOR:darkgreen
DESCRIPTION:Predmet: Matematika (ZF) ()\, Predavanja (P)\nLetniki: \nIzvaj
 alci: Damjan Kobal\nProstor: ZF
LOCATION:ZF
ORGANIZER:Damjan Kobal
RELATED-TO:fmf-AFLABS-URNIK:srecanje:8506
X-WR-TIMEZONE:Europe/Ljubljana
END:VEVENT
BEGIN:VEVENT
SUMMARY:Matematika (ZF) ()\, Predavanja (P)
DTSTART;TZID=Europe/Ljubljana:20230228T080000
DTEND;TZID=Europe/Ljubljana:20230228T110000
DTSTAMP:20260425T124437Z
UID:fmf-AFLABS-URNIK:premaknjeno-srecanje:62140
CATEGORIES:Entry,Standard
COLOR:darkgreen
DESCRIPTION:Predmet: Matematika (ZF) ()\, Predavanja (P)\nLetniki: \nIzvaj
 alci: Damjan Kobal\nProstor: ZF
LOCATION:ZF
ORGANIZER:Damjan Kobal
RELATED-TO:fmf-AFLABS-URNIK:srecanje:8506
X-WR-TIMEZONE:Europe/Ljubljana
END:VEVENT
BEGIN:VEVENT
SUMMARY:Didaktika matematike 2 (PM-3\, PM-4)\, Predavanja (P)
DTSTART;TZID=Europe/Ljubljana:20230215T100000
DTEND;TZID=Europe/Ljubljana:20230215T120000
DTSTAMP:20260425T124437Z
UID:fmf-AFLABS-URNIK:premaknjeno-srecanje:14123
ATTENDEE:3. letnik (PM)
ATTENDEE:4. letnik (PM)
CATEGORIES:Entry,Standard
COLOR:darkgreen
DESCRIPTION:Predmet: Didaktika matematike 2 (PM-3\, PM-4)\, Predavanja (P)
 \nLetniki: 3. letnik (PM)\, 4. letnik (PM)\nIzvajalci: Damjan Kobal\nProst
 or: F3
LOCATION:F3
ORGANIZER:Damjan Kobal
RELATED-TO:fmf-AFLABS-URNIK:srecanje:8276
X-WR-TIMEZONE:Europe/Ljubljana
END:VEVENT
BEGIN:VEVENT
SUMMARY:Didaktika matematike 2 (PM-3\, PM-4)\, Predavanja (P)
DTSTART;TZID=Europe/Ljubljana:20230222T100000
DTEND;TZID=Europe/Ljubljana:20230222T120000
DTSTAMP:20260425T124437Z
UID:fmf-AFLABS-URNIK:premaknjeno-srecanje:14124
ATTENDEE:3. letnik (PM)
ATTENDEE:4. letnik (PM)
CATEGORIES:Entry,Standard
COLOR:darkgreen
DESCRIPTION:Predmet: Didaktika matematike 2 (PM-3\, PM-4)\, Predavanja (P)
 \nLetniki: 3. letnik (PM)\, 4. letnik (PM)\nIzvajalci: Damjan Kobal\nProst
 or: F3
LOCATION:F3
ORGANIZER:Damjan Kobal
RELATED-TO:fmf-AFLABS-URNIK:srecanje:8276
X-WR-TIMEZONE:Europe/Ljubljana
END:VEVENT
BEGIN:VEVENT
SUMMARY:Didaktika matematike 2 (PM-3\, PM-4)\, Predavanja (P)
DTSTART;TZID=Europe/Ljubljana:20230301T100000
DTEND;TZID=Europe/Ljubljana:20230301T120000
DTSTAMP:20260425T124437Z
UID:fmf-AFLABS-URNIK:premaknjeno-srecanje:14125
ATTENDEE:3. letnik (PM)
ATTENDEE:4. letnik (PM)
CATEGORIES:Entry,Standard
COLOR:darkgreen
DESCRIPTION:Predmet: Didaktika matematike 2 (PM-3\, PM-4)\, Predavanja (P)
 \nLetniki: 3. letnik (PM)\, 4. letnik (PM)\nIzvajalci: Damjan Kobal\nProst
 or: F3
LOCATION:F3
ORGANIZER:Damjan Kobal
RELATED-TO:fmf-AFLABS-URNIK:srecanje:8276
X-WR-TIMEZONE:Europe/Ljubljana
END:VEVENT
BEGIN:VEVENT
SUMMARY:Matematika (ZF) ()\, Predavanja (P)
DTSTART;TZID=Europe/Ljubljana:20230216T090000
DTEND;TZID=Europe/Ljubljana:20230216T110000
DTSTAMP:20260425T124437Z
UID:fmf-AFLABS-URNIK:premaknjeno-srecanje:62229
CATEGORIES:Entry,Standard
COLOR:darkgreen
DESCRIPTION:Predmet: Matematika (ZF) ()\, Predavanja (P)\nLetniki: \nIzvaj
 alci: Damjan Kobal\nProstor: ZF
LOCATION:ZF
ORGANIZER:Damjan Kobal
RELATED-TO:fmf-AFLABS-URNIK:srecanje:8507
X-WR-TIMEZONE:Europe/Ljubljana
END:VEVENT
BEGIN:VEVENT
SUMMARY:Matematika (ZF) ()\, Predavanja (P)
DTSTART;TZID=Europe/Ljubljana:20230223T090000
DTEND;TZID=Europe/Ljubljana:20230223T110000
DTSTAMP:20260425T124437Z
UID:fmf-AFLABS-URNIK:premaknjeno-srecanje:62230
CATEGORIES:Entry,Standard
COLOR:darkgreen
DESCRIPTION:Predmet: Matematika (ZF) ()\, Predavanja (P)\nLetniki: \nIzvaj
 alci: Damjan Kobal\nProstor: ZF
LOCATION:ZF
ORGANIZER:Damjan Kobal
RELATED-TO:fmf-AFLABS-URNIK:srecanje:8507
X-WR-TIMEZONE:Europe/Ljubljana
END:VEVENT
BEGIN:VEVENT
SUMMARY:Matematika (ZF) ()\, Predavanja (P)
DTSTART;TZID=Europe/Ljubljana:20230302T090000
DTEND;TZID=Europe/Ljubljana:20230302T110000
DTSTAMP:20260425T124437Z
UID:fmf-AFLABS-URNIK:premaknjeno-srecanje:62231
CATEGORIES:Entry,Standard
COLOR:darkgreen
DESCRIPTION:Predmet: Matematika (ZF) ()\, Predavanja (P)\nLetniki: \nIzvaj
 alci: Damjan Kobal\nProstor: ZF
LOCATION:ZF
ORGANIZER:Damjan Kobal
RELATED-TO:fmf-AFLABS-URNIK:srecanje:8507
X-WR-TIMEZONE:Europe/Ljubljana
END:VEVENT
BEGIN:VEVENT
SUMMARY:Didaktika matematike 2 (PM-3\, PM-4)\, Predavanja (P)
DTSTART;TZID=Europe/Ljubljana:20230217T100000
DTEND;TZID=Europe/Ljubljana:20230217T120000
DTSTAMP:20260425T124437Z
UID:fmf-AFLABS-URNIK:premaknjeno-srecanje:14199
ATTENDEE:3. letnik (PM)
ATTENDEE:4. letnik (PM)
CATEGORIES:Entry,Standard
COLOR:darkgreen
DESCRIPTION:Predmet: Didaktika matematike 2 (PM-3\, PM-4)\, Predavanja (P)
 \nLetniki: 3. letnik (PM)\, 4. letnik (PM)\nIzvajalci: Damjan Kobal\nProst
 or: 3.12
LOCATION:3.12
ORGANIZER:Damjan Kobal
RELATED-TO:fmf-AFLABS-URNIK:srecanje:8277
X-WR-TIMEZONE:Europe/Ljubljana
END:VEVENT
BEGIN:VEVENT
SUMMARY:Didaktika matematike 2 (PM-3\, PM-4)\, Predavanja (P)
DTSTART;TZID=Europe/Ljubljana:20230224T100000
DTEND;TZID=Europe/Ljubljana:20230224T120000
DTSTAMP:20260425T124437Z
UID:fmf-AFLABS-URNIK:premaknjeno-srecanje:14200
ATTENDEE:3. letnik (PM)
ATTENDEE:4. letnik (PM)
CATEGORIES:Entry,Standard
COLOR:darkgreen
DESCRIPTION:Predmet: Didaktika matematike 2 (PM-3\, PM-4)\, Predavanja (P)
 \nLetniki: 3. letnik (PM)\, 4. letnik (PM)\nIzvajalci: Damjan Kobal\nProst
 or: 3.12
LOCATION:3.12
ORGANIZER:Damjan Kobal
RELATED-TO:fmf-AFLABS-URNIK:srecanje:8277
X-WR-TIMEZONE:Europe/Ljubljana
END:VEVENT
BEGIN:VEVENT
SUMMARY:Didaktika matematike 2 (PM-3\, PM-4)\, Predavanja (P)
DTSTART;TZID=Europe/Ljubljana:20230303T100000
DTEND;TZID=Europe/Ljubljana:20230303T120000
DTSTAMP:20260425T124437Z
UID:fmf-AFLABS-URNIK:premaknjeno-srecanje:14201
ATTENDEE:3. letnik (PM)
ATTENDEE:4. letnik (PM)
CATEGORIES:Entry,Standard
COLOR:darkgreen
DESCRIPTION:Predmet: Didaktika matematike 2 (PM-3\, PM-4)\, Predavanja (P)
 \nLetniki: 3. letnik (PM)\, 4. letnik (PM)\nIzvajalci: Damjan Kobal\nProst
 or: 3.12
LOCATION:3.12
ORGANIZER:Damjan Kobal
RELATED-TO:fmf-AFLABS-URNIK:srecanje:8277
X-WR-TIMEZONE:Europe/Ljubljana
END:VEVENT
BEGIN:VEVENT
SUMMARY:Rezervacija
DTSTART;TZID=Europe/Ljubljana:20230120T090000
DTEND;TZID=Europe/Ljubljana:20230120T160000
DTSTAMP:20260425T124437Z
UID:fmf-AFLABS-URNIK:rezervacija:10961
CATEGORIES:Reservation
COLOR:royalblue
DESCRIPTION:Predmeti: \nLetniki: \nIzvajalci: Damjan Kobal\nProstori: 2.05
LOCATION:2.05
ORGANIZER:Damjan Kobal
X-WR-TIMEZONE:Europe/Ljubljana
END:VEVENT
BEGIN:VEVENT
SUMMARY:Rezervacija
DTSTART;TZID=Europe/Ljubljana:20230121T090000
DTEND;TZID=Europe/Ljubljana:20230121T160000
DTSTAMP:20260425T124437Z
UID:fmf-AFLABS-URNIK:rezervacija:10982
CATEGORIES:Reservation
COLOR:royalblue
DESCRIPTION:Predmeti: \nLetniki: \nIzvajalci: Damjan Kobal\nProstori: 2.05
LOCATION:2.05
ORGANIZER:Damjan Kobal
X-WR-TIMEZONE:Europe/Ljubljana
END:VEVENT
END:VCALENDAR
